{"text_format":"1","workbook":"xlsx","n_sheets":41,"sheets":["COMPARISON","HOME","FullCheck","Results for Export","SNAPSHOT","REFINED_SNAPSHOT","DETAILED_BASIC_SNAPSHOT","DETAILED_REFINED_SNAPSHOT","GRAPHICS_DEFAULT","GRAPHICS_REFINED","ADDEVENTS","EVENTS","ADJUST","ADDITIONAL_IMPACT_INPUTS","CONSTRUCTION","ADDITIONAL_IMPACT_RESULTS","ASSUMS","EDUCATION","Regional Figures","SUBSCRIPTION","PARTI_SPORT","PARTI_EQUIP","PARTI_WEAR","SPECTATOR","CONS_EQUIP","CONS_WEAR","SPORT_GAMBLING","TV_SUBS","HEALTH","VOLUNTEER","TOURISM","CLASSIF","DETAILED_EMP","PARTICIPATION","TOTAL_PARTICPATION_BY_AGE","VOLUNTEERS DATA","POP","LAtoLEPandCSP","TOURISM DATA","INSTRUCTIONS","FAQ"],"not_rendered":{"charts":22,"images":95,"macros":1,"external_links":0,"defined_names":169,"comments":0,"pivot_tables":0},"unopened":[],"bounds":{"document_bytes":16777216,"sheet_cells":100000,"rows_first":2000,"rows_last":500,"rows_between":2000,"halvings":0,"cell_chars":16384,"cell_head_chars":4096},"cells_cut":0,"cells_raw":0,"read":"whole","date_system":"1900"}

{"sheet":"COMPARISON","index":0,"n_rows":109,"n_cols":9,"rows_kept":109,"cut":false,"hidden":true,"merged":[[82,3,83,3]]}
[null,{"$f":"\"Local area: \" & LocalAuthority","v":"Local area: Adur"}]
[null,"Control panel"]
[]
[]
[null,"ECONOMIC VALUE OF SPORT: RESULTS"]
[null,"Select your comparative area type:"]
[null,"Local authority"]
[null,"Select your comparative area:"]
[null,"Adur"]
[]
[]
[]
[]
[]
[]
[]
[]
[]
[]
[]
[]
[]
[]
[]
[]
[]
[]
[]
[]
[]
[]
[]
[]
[]
[]
[]
[]
[]
[]
[]
[]
[]
[]
[]
[]
[]
[]
[]
[]
[]
[]
[]
[]
[]
[]
[]
[]
[]
[]
[]
[]
[]
[]
[null,"Participation","How it is calculated?","Gross Value Added","Jobs"]
[null,"Sports services","Local area jobs in sports activities (SIC 93.1) multiplied by national expenditure per job. Includes all front-line staff (e.g. leisure centre receptionists) but not high level managers/civil servants.",5.5549703713369816,234]
[null,"Sportswear and equipment","Local area jobs in retail sale of sporting equipment in specialised stores (SIC 47.64) and manufacture of sports goods(SIC 32.3) multiplied by national expenditure per job multiplied by the national share of sportswear & equipment for participation",0.45450593791553939,9]
[null,"Sport education","Local area school age population multiplied by England expenditure per school age person plus user specified FE students in sports related course multiplied by England expenditure per student. Includes teachers and support staff.",4.5635401377909979,56]
[null,"Total participation",null,10.573016447043518,299]
[]
[null,"Non-Participation",null,"Gross Value Added","Jobs"]
[null,"Spectator sports","Local area jobs in sports activities (SIC 93.1) multiplied by national expenditure per job. Includes revenue from tickets and all employment associated with hosting events.",1.0253960991067284,"25*"]
[null,"Sportswear and equipment","Local area jobs in retail sale of sporting equipment in specialised stores (SIC 47.64) and manufacture of sports goods(SIC 32.3) multiplied by national expenditure per job multiplied by the national share of sportswear & equipment for non-participation",0.67465725159337875,13]
[null,"Sports broadcasting and gambling","Local area jobs in gambling and betting (SIC 92) and television programming and broadcasting activities (SIC 60.2) multiplied by national expenditure per job plus user input of online betting jobs. Includes betting shop staff and on-site bookmakers.",0.34637242441799226,9]
[null,"Total non-participation",null,2.0464257751180996,47]
[]
[null,"Wider impacts",null,null,null,"Wider value"]
[null,"Health","Participants in any sport by age group multiplied by national per participant value",null,null,13.969010071399692]
[null,"Volunteering","Number of volunteers multiplied by average annual replacement cost",null,null,6.7587237615857489]
[null,"Wider spending","Number of sports visits (based on regional sports visits as percentage of all visits data and LA total tourist visits) multiplied by LA average spend per visit. Includes all non-entry fee spending during trip.",null,null,5.9096712440689828E-2]
[]
[]
[]
[]
[]
[]
[null,"Participation","How it is calculated?","Gross Value Added","Jobs",null,"Gross Value Added (Diff from snapshot)","Jobs (Diff from snapshot)"]
[null,"Sport/class subscription fees","Local area jobs in sports activities (SIC 93.1) multiplied by national expenditure per job",4.1015843964269134,234,null,0,0]
[null,"Participation sport","Local area participation in participation sports multiplied by national expenditure per participant",1.4533859749100682,null,null,0,0]
[null,"Sports equipment","Local area jobs in retail sale of sporting equipment in specialised stores (SIC 47.64) and manufacture of sports goods (SIC 32.3) multiplied by national expenditure per job multiplied by the national share of sports equipment for participation",0.42609931679581814,8,null,0,0]
[null,"Sportswear","Local area jobs in retail sale of sporting equipment in specialised stores (SIC 47.64) and manufacture of sports goods (SIC 32.3) multiplied by national expenditure per job multiplied by the national share of sportswear for participation",2.8406621119721216E-2,1,null,0,0]
[null,"Sport education","Local area school age population multiplied by England expenditure per school age person plus user input FE students in sports related course multiplied by England expenditure per student",4.5635401377909979,56,null,0,0]
[null,"Total participation",null,10.573016447043518,299,null,0,0]
[]
[null,"Non-Participation",null,"Gross Value Added","Jobs",null,"Gross Value Added (Diff from snapshot)","Jobs (Diff from snapshot)"]
[null,"Spectator sports","Local area jobs in sports activities (SIC 93.1) multiplied by national expenditure per job",1.0253960991067284,"25*",null,0,0]
[null,"Sports equipment","Local area jobs in retail sale of sporting equipment in specialised stores (SIC 47.64) and manufacture of sports goods (SIC 32.3) multiplied by national expenditure per job multiplied by the national share of sports equipment for non-participation",0.5326241459947727,10,null,0,0]
[null,"Sportswear","Local area jobs in retail sale of sporting equipment in specialised stores (SIC 47.64) and manufacture of sports goods (SIC 32.3) multiplied by national expenditure per job multiplied by the national share of sportswear for non-participation",0.14203310559860607,3,null,0,0]
[null,"Sports gambling","Local area jobs in gambling and betting (SIC 92) multiplied by national expenditure per job plus user input of online betting jobs",0.17877151542545894,9,null,0,0]
[null,"TV/satellite subscriptions","Local area jobs in television programming and broadcasting activities (SIC 60.2) multiplied by national expenditure per job",0.16760090899253327,"",null,0,"N/A"]
[null,"Total non-participation",null,2.0464257751180996,47,null,0,0]
[]
[null,"Wider impacts",null,null,null,null,null,null,"Wider value"]
[null,"Health","Participants by age (assuming distribution of participants across sports is as in England) multiplied by national per participant value",null,null,null,null,null,13.969010071399692]
[null,"Health cost savings","Participants by age (assuming distribution of participants across sports is as in England) multiplied by national per participant health cost savings",null,null,null,null,null,2.1713354501554942]
[null,"Other health benefits (QALY's etc)","Participants by age (assuming distribution of participants across sports is as in England) multiplied by national per participant value of other health benefits",null,null,null,null,null,11.797674621244198]
[null,"Volunteering","Number of volunteers multiplied by average annual replacement cost",null,null,null,null,null,6.7587237615857489]
[null,"Wider spending","Number of sports visits (based on regional sports visits as percentage of all visits data and LA total visits) multiplied by LA average spend per visit",null,null,null,null,null,5.9096712440689828E-2]
[null,"Spectator wider spending","Number of sports visits (based on regional visits for the purpose of watching sport as percentage of all visits data and LA total visits) multiplied by LA average spend per visit",null,null,null,null,null,3.8017888561382003E-2]
[null,"Participation wider spending","Number of sports visits (based on regional sports visits for the purpose of participating in sport as percentage of all visits data and LA total visits) multiplied by LA average spend per visit",null,null,null,null,null,2.1078823879307828E-2]

{"sheet":"HOME","index":1,"n_rows":23,"n_cols":4,"rows_kept":23,"cut":false,"hidden":false,"merged":[[20,1,20,2],[15,1,15,2],[10,2,10,8],[11,2,12,8],[13,2,14,8],[16,1,16,8],[17,1,17,8]]}
[]
[null,null,"Economic Value of Sport - Local Model"]
[]
[null,"This model estimates the economic value of sport in your local area."]
[null,"Select your local area type:",null,"Select your local area:"]
[null,"Local authority",null,"Adur"]
[]
[null,"There are then three levels that can be used.",null," "]
[null,"The first two levels can be used to estimate the overall economic value of sport in your local area (for the year 2013)."]
[null,"Select the level you require:"]
[null,null,"Level 1 makes an initial, snapshot for 2013, estimate of the overall contribution that sport makes to the economy of your local area.  The model uses a consistent methodology suitable for any local area and supported by the available local area data and assumptions that are included in the model."]
[null,null,"Level 2 gives you the option to refine the snapshot for 2013 - to input local area data and assumptions that better capture your local knowledge."]
[]
[null,null,"Level 3 gives you the option to estimate the additional impact of a sport investment.  You need to consider and input what will be the effects of the investment (for example on participation or wider spending).  The model will then estimate the economic impacts."]
[]
[null,"The model measures economic value as follows:"]
[null,"Gross Value Added (GVA): This is a measure of output.  It shows the value added contributed by a sector, which is principally wages plus profits."]
[null,"Jobs: This is a measure of employment.  It shows the number of jobs contributed by a sector. Within the model every job, whether full- or part-time, is treated equally in the calculations."]
[]
[]
[null,"Model version control"]
[null,"Version:","Model Update PV2"]
[null,"Estimates for year:",2013]

{"sheet":"FullCheck","index":2,"n_rows":39,"n_cols":442,"rows_kept":39,"cut":false,"hidden":true,"merged":[]}
[]
[null,"GVA",null,"England","Local Authority","Local Authority","Local Authority","Local Authority","Local Authority","Local Authority","Local Authority","Local Authority","Local Authority","Local Authority","Local Authority","Local Authority","Local Authority","Local Authority","Local Authority","Local Authority","Local Authority","Local Authority","Local Authority","Local Authority","Local Authority","Local Authority","Local Authority","Local Authority","Local Authority","Local Authority","Local Authority","Local Authority","Local Authority","Local Authority","Local Authority","Local Authority","Local Authority","Local Authority","Local Authority","Local Authority","Local Authority","Local Authority","Local Authority","Local Authority","Local Authority","Local Authority","Local Authority","Local Authority","Local Authority","Local Authority","Local Authority","Local Authority","Local Authority","Local Authority","Local Authority","Local Authority","Local Authority","Local Authority","Local Authority","Local Authority","Local Authority","Local Authority","Local Authority","Local Authority","Local Authority","Local Authority","Local Authority","Local Authority","Local Authority","Local Authority","Local Authority","Local Authority","Local Authority","Local Authority","Local Authority","Local Authority","Local Authority","Local Authority","Local Authority","Local Authority","Local Authority","Local Authority","Local Authority","Local Authority","Local Authority","Local Authority","Local Authority","Local Authority","Local Authority","Local Authority","Local Authority","Local Authority","Local Authority","Local Authority","Local Authority","Local Authority","Local Authority","Local Authority","Local Authority","Local Authority","Local Authority","Local Authority","Local Authority","Local Authority","Local Authority","Local Authority","Local Authority","Local Authority","Local Authority","Local Authority","Local Authority","Local Authority","Local Authority","Local Authority","Local Authority","Local Authority","Local Authority","Local Authority","Local Authority","Local Authority","Local Authority","Local Authority","Local Authority","Local Authority","Local Authority","Local Authority","Local Authority","Local Authority","Local Authority","Local Authority","Local Authority","Local Authority","Local Authority","Local Authority","Local Authority","Local Authority","Local Authority","Local Authority","Local Authority","Local Authority","Local Authority","Local Authority","Local Authority","Local Authority","Local Authority","Local Authority","Local Authority","Local Authority","Local Authority","Local Authority","Local Authority","Local Authority","Local Authority","Local Authority","Local Authority","Local Authority","Local Authority","Local Authority","Local Authority","Local Authority","Local Authority","Local Authority","Local Authority","Local Authority","Local Authority","Local Authority","Local Authority","Local Authority","Local Authority","Local Authority","Local Authority","Local Authority","Local Authority","Local Authority","Local Authority","Local Authority","Local Authority","Local Authority","Local Authority","Local Authority","Local Authority","Local Authority","Local Authority","Local Authority","Local Authority","Local Authority","Local Authority","Local Authority","Local Authority","Local Authority","Local Authority","Local Authority","Local Authority","Local Authority","Local Authority","Local Authority","Local Authority","Local Authority","Local Authority","Local Authority","Local Authority","Local Authority","Local Authority","Local Authority","Local Authority","Local Authority","Local Authority","Local Authority","Local Authority","Local Authority","Local Authority","Local Authority","Local Authority","Local Authority","Local Authority","Local Authority","Local Authority","Local Authority","Local Authority","Local Authority","Local Authority","Local Authority","Local Authority","Local Authority","Local Authority","Local Authority","Local Authority","Local Authority","Local Authority","Local Authority","Local Authority","Local Authority","Local Authority","Local Authority","Local Authority","Local Authority","Local Authority","Local Authority","Local Authority","Local Authority","Local Authority","Local Authority","Local Authority","Local Authority","Local Authority","Local Authority","Local Authority","Local Authority","Local Authority","Local Authority","Local Authority","Local Authority","Local Authority","Local Authority","Local Authority","Local Authority","Local Authority","Local Authority","Local Authority","Local Authority","Local Authority","Local Authority","Local Authority","Local Authority","Local Authority","Local Authority","Local Authority","Local Authority","Local Authority","Local Authority","Local Authority","Local Authority","Local Authority","Local Authority","Local Authority","Local Authority","Local Authority","Local Authority","Local Authority","Local Authority","Local Authority","Local Authority","Local Authority","Local Authority","Local Authority","Local Authority","Local Authority","Local Authority","Local Authority","Local Authority","Local Authority","Local Authority","Local Authority","Local Authority","Local Authority","Local Authority","Local Authority","Local Authority","Local Authority","Local Authority","Local Authority","Local Authority","Local Authority","Local Authority","Local Authority","Local Authority","Local Authority","Local Authority","Local Authority","Local Authority","Local Authority","Local Authority","Local Authority","Local Authority","Local Authority","Local Authority","Local Authority","Local Authority","Local Authority","Local Authority","Local Authority","Local Authority","Local Authority","Local Authority","Local Authority","Local Authority","Local Authority","Local Authority","Local Authority","Local Authority","Local Authority","Local Authority","Local Authority","Local Authority","Local Authority","Local Authority","Local Authority","Local Authority","Local Authority","Local Authority","Local Authority","Local Authority","Local Authority","Local Authority","Local Authority","Local Authority","Local Authority","Local Authority","Local Authority","Local Authority","Local Authority","Local Authority","Local Authority","Local Authority","Local Authority","Local Authority","Local Authority","LEP","LEP","LEP","LEP","LEP","LEP","LEP","LEP","LEP","LEP","LEP","LEP","LEP","LEP","LEP","LEP","LEP","LEP","LEP","LEP","LEP","LEP","LEP","LEP","LEP","LEP","LEP","LEP","LEP","LEP","LEP","LEP","LEP","LEP","LEP","LEP","LEP","LEP","LEP","CSP","CSP","CSP","CSP","CSP","CSP","CSP","CSP","CSP","CSP","CSP","CSP","CSP","CSP","CSP","CSP","CSP","CSP","CSP","CSP","CSP","CSP","CSP","CSP","CSP","CSP","CSP","CSP","CSP","CSP","CSP","CSP","CSP","CSP","CSP","CSP","CSP","CSP","CSP","CSP","CSP","CSP","CSP","CSP","CSP","CSP"]
[null,null,null,"England","Adur","Allerdale","Amber Valley","Arun","Ashfield","Ashford","Aylesbury Vale","Babergh","Barking and Dagenham","Barnet","Barnsley","Barrow-in-Furness","Basildon","Basingstoke and Deane","Bassetlaw","Bath and North East Somerset","Bedford","Bexley","Birmingham","Blaby","Blackburn with Darwen","Blackpool","Bolsover","Bolton","Boston","Bournemouth","Bracknell Forest","Bradford","Braintree","Breckland","Brent","Brentwood","Brighton and Hove","Bristol","Broadland","Bromley","Bromsgrove","Broxbourne","Broxtowe","Buckinghamshire CC","Burnley","Bury","Calderdale","Cambridge","Cambridgeshire CC","Camden","Cannock Chase","Canterbury","Carlisle","Castle Point","Central Bedfordshire","Charnwood","Chelmsford","Cheltenham","Cherwell","Cheshire East","Cheshire West and Chester","Chesterfield","Chichester","Chiltern","Chorley","Christchurch","City of London","Colchester","Copeland","Corby","Cornwall","Cotswold","County Durham","Coventry","Craven","Crawley","Croydon","Cumbria CC","Dacorum","Darlington","Dartford","Daventry","Derby","Derbyshire CC","Derbyshire Dales","Devon CC","Doncaster","Dorset CC","Dover","Dudley","Ealing","East Cambridgeshire","East Devon","East Dorset","East Hampshire","East Hertfordshire","East Lindsey","East Northamptonshire","East Riding of Yorkshire","East Staffordshire","East Sussex CC","Eastbourne","Eastleigh","Eden","Elmbridge","Enfield","Epping Forest","Epsom and Ewell","Erewash","Essex CC","Exeter","Fareham","Fenland","Forest Heath","Forest of Dean","Fylde","Gateshead","Gedling","Gloucester","Gloucestershire CC","Gosport","Gravesham","Great Yarmouth","Greenwich","Guildford","Hackney","Halton","Hambleton","Hammersmith and Fulham","Hampshire CC","Harborough","Haringey","Harlow","Harrogate","Harrow","Hart","Hartlepool","Hastings","Havant","Havering","Herefordshire","Hertfordshire CC","Hertsmere","High Peak","Hillingdon","Hinckley and Bosworth","Horsham","Hounslow","Huntingdonshire","Hyndburn","Ipswich","Isle of Wight","Isles of Scilly","Islington","Kensington and Chelsea","Kent CC","Kettering","King`s Lynn and West Norfolk","Kingston upon Hull","Kingston upon Thames","Kirklees","Knowsley","Lambeth","Lancashire CC","Lancaster","Leeds","Leicester","Leicestershire CC","Lewes","Lewisham","Lichfield","Lincoln","Lincolnshire CC","Liverpool","Luton","Maidstone","Maldon","Malvern Hills","Manchester","Mansfield","Medway","Melton","Mendip","Merton","Mid Devon","Mid Suffolk","Mid Sussex","Middlesbrough","Milton Keynes","Mole Valley","New Forest","Newark and Sherwood","Newcastle upon Tyne","Newcastle-under-Lyme","Newham","Norfolk CC","North Devon","North Dorset","North East Derbyshire","North East Lincolnshire","North Hertfordshire","North Kesteven","North Lincolnshire","North Norfolk","North Somerset","North Tyneside","North Warwickshire","North West Leicestershire","North Yorkshire CC","Northampton","Northamptonshire CC","Northumberland","Norwich","Nottingham","Nottinghamshire CC","Nuneaton and Bedworth","Oadby and Wigston","Oldham","Oxford","Oxfordshire CC","Pendle","Peterborough","Plymouth","Poole","Portsmouth","Preston","Purbeck","Reading","Redbridge","Redcar and Cleveland","Redditch","Reigate and Banstead","Ribble Valley","Richmond upon Thames","Richmondshire","Rochdale","Rochford","Rossendale","Rother","Rotherham","Rugby","Runnymede","Rushcliffe","Rushmoor","Rutland","Ryedale","Salford","Sandwell","Scarborough","Sedgemoor","Sefton","Selby","Sevenoaks","Sheffield","Shepway","Shropshire","Slough","Solihull","Somerset CC","South Bucks","South Cambridgeshire","South Derbyshire","South Gloucestershire","South Hams","South Holland","South Kesteven","South Lakeland","South Norfolk","South Northamptonshire","South Oxfordshire","South Ribble","South Somerset","South Staffordshire","South Tyneside","Southampton","Southend-on-Sea","Southwark","Spelthorne","St Albans","St Edmundsbury","St Helens","Stafford","Staffordshire CC","Staffordshire Moorlands","Stevenage","Stockport","Stockton-on-Tees","Stoke-on-Trent","Stratford-on-Avon","Stroud","Suffolk CC","Suffolk Coastal","Sunderland","Surrey CC","Surrey Heath","Sutton","Swale","Swindon","Tameside","Tamworth","Tandridge","Taunton Deane","Teignbridge","Telford and Wrekin","Tendring","Test Valley","Tewkesbury","Thanet","Three Rivers","Thurrock","Tonbridge and Malling","Torbay","Torridge","Tower Hamlets","Trafford","Tunbridge Wells","Uttlesford","Vale of White Horse","Wakefield","Walsall","Waltham Forest","Wandsworth","Warrington","Warwick","Warwickshire CC","Watford","Waveney","Waverley","Wealden","Wellingborough","Welwyn Hatfield","West Berkshire","West Devon","West Dorset","West Lancashire","West Lindsey","West Oxfordshire","West Somerset","West Sussex CC","Westminster","Weymouth and Portland","Wigan","Wiltshire","Winchester","Windsor and Maidenhead","Wirral","Woking","Wokingham","Wolverhampton","Worcester","Worcestershire CC","Worthing","Wychavon","Wycombe","Wyre","Wyre Forest","York","Black Country","Buckinghamshire Thames Valley","Cheshire and Warrington","Coast to Capital","Cornwall and Isles of Scilly","Coventry and Warwickshire","Cumbria","Derby, Derbyshire, Nottingham and Nottinghamshire","Dorset","Enterprise M3","Gloucestershire","Greater Birmingham and Solihull","Greater Cambridge and Greater Peterborough","Greater Lincolnshire","Greater Manchester","Heart of the South West","Hertfordshire","Humber","Lancashire","Leeds City Region","Leicester and Leicestershire","Liverpool City Region","London Enterprise Panel","New Anglia","North Eastern","Northamptonshire","Oxfordshire","Sheffield City Region","Solent","South East","South East Midlands","Stoke-on-Trent and Staffordshire","Swindon and Wiltshire","Tees Valley","Thames Valley Berkshire","The Marches","West of England","Worcestershire","York North Yorkshire and East Riding","Active Cumbria","Active Devon","Active Dorset","Active Essex","Active Gloucestershire","Active Norfolk","Active Surrey ","Active Sussex","Birmingham Sport & Physical Activity Partnership","Black Country Be Active Partnership","Cornwall Sports Partnership","County Durham Sport","Coventry Solihull & Warwickshire Sport","Derbyshire Sports Partnership","Energize Shropshire Telford & Wrekin","Get Berkshire Active","Greater Sport","Herts Sports Partnership","Humber Sports Partnership","Kent Sport","Lancashire Sport Partnership","Leap (Bucks & MK Sport and Activity Partnership)","Leicestershire & Rutland Sport","Lincolnshire Sports Partnership","Living Sport","London","Merseyside Sport","North Yorkshire Sport","Northamptonshire Sport","Northumberland Sport","Oxfordshire Sports Partnership","Somerset Activity & Sports Partnership","South Yorkshire Sport","South & West Yorkshire Sport","Sport Across Staffordshire & Stoke On Trent","Sport Cheshire","Sport Hampshire & Isle of Wight","Sport Nottinghamshire","Sports Partnership Herefordshire & Worcestershire","Suffolk Sport","Teams Beds & Luton","Tees Valley Sport","Tyne & Wear Sport","Wesport","West Yorkshire Sport ","Wiltshire & Swindon Sport"]
[null,1,"Sport/class subscription fees",4646.3999999999996,4.1727101374054145,4.6962821318327093,7.9805064605130172,10.233452618351681,6.4573879312699756,9.9320020761056611,17.81731362854099,8.4723468189144153,10.82048788483077,25.067992460458385,20.038528150353756,3.427016690796842,15.500904198650529,18.531275439123664,7.8059824623705847,15.056661294287977,11.518583877400497,9.4560275357172117,67.223470920862127,13.549408583057884,20.165454694457345,14.406162755757093,1.0312781708416421,21.101537957221296,3.6808697790040155,22.259742672166528,14.072980577485179,34.254301089955469,10.5349031605977,7.2189471958914959,20.911148141065919,8.4564810009014657,39.728008304422644,37.919305050946534,6.3939246592181815,36.507247247794133,11.629644603491135,5.2198541262600049,6.7112410194771481,58.766989919960665,9.995465348157456,11.597912967465239,14.977332204223234,6.8223017455677866,36.11060179747043,27.86037643073729,3.1731636025896686,11.359925697271013,8.9800529953287622,5.283317398311798,18.73753107329199,20.87941650504002,14.834539842106702,12.169082415931378,19.276968885732238,39.014046493839977,49.05710929603628,8.6310049990438991,20.768355778949381,8.8531264512251742,8.3295544567978794,4.4106974075996392,14.231638757614665,18.721665255279046,3.8395279591334992,3.9188570491982406,39.728008304422644,15.707159832818858,38.331816319283192,18.356751440981231,3.9981861392629825,10.883951156882564,18.721665255279046,32.366268746414619,22.497729942360753,8.1708962766683975,6.6636435654383037,8.6627366350697947,31.906160024039121,76.282853006255621,4.8073428579233477,62.162274974731602,35.809151255224407,35.396639986887756,8.4723468189144153,13.723932581200316,15.834086376922446,7.139618105826754,9.0593820853935032,9.503624989756057,8.4088835468626222,13.343152948889555,7.7901166443576368,4.9660010380528306,22.910241210697404,26.146868085338873,45.360373699019313,9.7257464419373356,13.708066763187368,3.4111508727838933,28.257021881061,16.897096183789984,18.451946349058922,15.183587838391565,6.6001802933865106,120.99272816674407,16.643243095582811,7.2030813778785463,4.0140519572759308,17.341339088152537,4.5852214057420708,3.458748326822739,13.59700603709673,5.2991832163247468,8.0439697325648094,53.864452153959625,4.997732674078728,9.0276504493676075,7.9805064605130172,21.069806321195401,26.400721173546042,9.5194908077690066,9.1863086294970895,9.789209713989127,56.545775398147896,117.94649110825797,6.8857650176195797,21.196732865298987,7.5045319201245659,13.898456579342749,7.0761548337749609,9.6781489878984903,11.344059879258065,6.4097904772311303,8.9165897232769691,16.167268555194362,20.514502690742209,113.50406206463245,13.565274401070834,5.4737072144671783,18.007703444696372,8.9800529953287622,16.738438003660502,28.637801513371759,14.326833665692353,3.6650039609910672,13.834993307290956,12.169082415931378,0.39664545032370857,19.959199060289013,12.533996230229192,117.54984565793428,3.2207610566285134,6.568448657360614,21.212598683311935,25.448772092769143,35.23798180675827,5.9655475728685774,11.026743518999098,80.455563143661053,8.2978228207719837,68.936979266260551,24.354030649875707,73.633261398093254,4.8073428579233477,10.836353702843718,13.438347856967248,10.804622066817823,38.553937771464476,31.763367661922583,14.723479116016062,8.0757013685907069,5.3150490343376946,6.7588384735159943,36.935624334143746,10.995011882973202,23.417947387111752,4.1727101374054145,11.67724205752998,21.053940503182449,6.5208512033217678,6.9968257437102199,13.914322397355695,17.388936542191388,36.3327232496517,6.1242057529980602,25.512235364820935,11.851766055672412,57.085213210588137,7.2506788319173934,11.328194061245117,67.255202556888023,5.7592919387002484,3.9029912311852923,4.854940311962193,11.248864971180376,7.8694457344223769,2.2529461578386649,8.4882126369273632,6.9016308356325302,17.198546726036,15.104258748326821,9.5829540798207979,10.852219520856668,53.610599065752453,21.323659409402573,74.220296664572359,44.884399158630863,23.465544841150599,26.416586991558987,74.093370120468748,8.345420274810829,5.3943781244024365,10.788756248804873,12.359472232086759,77.758374081459834,4.7597454038845033,17.801447810528039,21.529915043570902,18.689933619253146,21.228464501324879,14.025383123446336,5.1563908542082117,16.167268555194362,12.200814051957275,14.422028573770044,3.3476876007321001,11.264730789193322,3.6808697790040155,22.323205944218319,6.4573879312699756,11.359925697271013,6.6160461113994593,6.4097904772311303,6.2669981151145961,13.612871855109677,11.10607260906384,16.389390007375638,24.972797552380694,8.2819570027590341,2.9193105143824951,7.932909006474171,12.026290053814844,14.898003114158495,8.059835550577759,5.140525036195263,15.040795476275029,3.4746141448356873,17.230278362061899,48.739792935777309,7.7266533723058428,32.604256016608844,8.0281039145518616,19.372163793809928,47.058016226404789,7.2506788319173934,3.8077963231076026,4.997732674078728,21.640975769661541,8.6151391810309494,0.88848580872510718,6.140071571011009,8.0122380965389137,8.7261999071215897,26.622842625727319,17.42066817821728,8.9800529953287622,14.199907121588769,9.9795995301445064,8.2502253667331367,18.467812167071873,13.755664217226213,12.756117682410467,12.645056956319827,16.040342011090775,7.4728002840986694,17.182680908023055,7.6949217362799471,77.805971535498685,5.4102439424153852,7.2665446499303412,15.072527112300925,15.31051438249515,16.183134373207309,14.422028573770044,8.0757013685907069,70.888474881853199,11.280596607206272,22.116950310049987,190.64366924358728,11.423388969322806,14.660015843964269,10.233452618351681,17.975971808670472,8.6627366350697947,4.712147949845658,15.738891468844754,13.644603491135573,10.566634796623596,11.502718059387549,4.3313683175348974,5.4737072144671783,5.283317398311798,6.50498538530882,5.3943781244024365,8.2502253667331367,15.738891468844754,8.0122380965389137,3.2366268746414617,19.08657906957686,35.729822165159668,6.5843144753735627,5.4419755784412818,11.312328243232168,22.228011036140629,17.357204906165489,12.771983500423417,28.098363700931515,19.657748518042997,11.645510421504085,55.101985958969593,11.915229327724205,5.4895730324801262,20.355844510612723,18.150495806812906,5.505438850493074,10.392110798481164,29.462824050045072,1.7611057994372661,7.7425191903187915,4.5376239517032264,6.9968257437102199,17.388936542191388,2.3957385199551995,81.04259841014013,64.399355314557326,4.6804163138197614,27.225743710219355,35.428371622913652,7.2348130139044438,22.815046302619713,16.833632911738192,26.860829895921547,26.511781899636681,21.14913541126014,13.31142131286366,60.194913541126013,4.3313683175348974,16.341792553336795,24.845871008277104,4.3155024995219495,8.8055289971863306,14.913868932171441,67.12827601278444,58.766989919960665,107.72890430791925,192.61103067719287,40.124653754746355,73.45873739995082,32.366268746414619,176.7928101182834,76.346316278307441,225.45327396399597,53.864452153959625,157.84902341082304,101.52536946485644,58.291015379572208,190.50087688147073,138.76244434124621,113.50406206463245,63.859917502117078,115.02718059387549,231.9582593493048,95.067981533586476,95.972333160324524,673.01213429125573,138.14367743874121,199.36986915070889,74.220296664572359,77.758374081459834,140.52355014068348,133.32046876280492,329.32678449476873,182.15545660665993,93.98910590870598,53.404343431584117,66.636435654383035,117.05800529953288,64.621476766738596,91.815488840932062,60.194913541126013,91.4347092086213,32.366268746414619,91.70442811484142,76.346316278307441,142.99861775070343,53.864452153959625,67.255202556888023,190.64366924358728,166.13098041358208,67.223470920862127,67.12827601278444,40.124653754746355,38.331816319283192,92.830901193760752,76.282853006255621,44.106974075996391,117.05800529953288,190.50087688147073,113.50406206463245,42.647318818805147,140.96779304504602,115.02718059387549,95.099713169612357,97.987292047968964,38.553937771464476,53.912049607998469,673.01213429125573,95.972333160324524,68.524467997923878,74.220296664572359,44.884399158630863,77.758374081459834,47.058016226404789,118.20034419646515,293.83494959980328,93.98910590870598,107.72890430791925,169.81185019258612,100.50995711202775,80.709416231868218,70.888474881853199,44.97959406670855,66.636435654383035,116.15365367279482,91.815488840932062,175.63460540333816,53.404343431584117]
[null,2,"Participation sport",1267.2,1.4808325724237512,2.3223718039118588,2.5407400101348148,3.3921635208240923,2.5046003209544523,2.5866759676252764,4.4076117441161982,1.9043225358583404,2.8091272337630824,9.7372533660258025,4.9612211808690008,1.3479954041659894,3.9375985575304027,3.8833468175366401,2.6550502259014728,5.5138406628293035,3.9654355476206598,5.1371318466309548,20.833594632008257,2.4137828169780819,3.0143414851871886,2.6943771071045113,1.3145946809751539,6.9044487887381534,1.1167945773442784,5.3622535735042218,2.9805714206961844,10.339182150577406,3.1520324040102179,2.5891570224952529,7.1619665816482918,1.9644343576870964,7.9245563997284192,10.880901860717525,2.7628504455206353,7.9055281489392932,2.4567071538870464,2.4732944250156788,2.7731516033010877,13.392460418385467,1.6450804427581356,4.6301342539428667,4.8854049612916173,4.0539118014591136,16.984844242668633,7.2332663856300083,2.0598448900308077,3.8408714447097139,2.7744355609440525,1.8604651066427762,5.3094179495796734,4.6181999272362964,4.598615848192984,3.0557480150956362,3.4015165733213704,9.5032647233044845,8.1709389620752564,2.3413382784889589,2.7559709114102517,2.6557749285589041,2.7515971887157997,1.208545161322605,0.22865314977409071,4.2631907092048706,1.546580267941458,1.3826010084457838,11.546177515854666,1.8331230033125578,11.778860154313653,7.3721571845725151,1.3805142470436618,2.5247024855827309,8.4692925102952721,11.608538677562743,3.3743855111028664,2.6001121584564939,2.2206902168490341,1.6454099060574663,5.811287875144532,23.58755814175975,1.7184830165361489,17.615760608806237,6.8778989874972369,9.2471946597864569,2.4237684662772101,6.8361512346442659,6.6607785636942358,2.1114360998254238,3.3021992315201865,2.1166236294860399,2.9438596611929446,3.5959784553710974,4.0893197188639787,1.656870575845697,7.0570912295630119,2.620185537370388,12.27745432555686,2.3588225664568085,2.7970093758808039,1.3614460207327472,2.2830387580038551,8.6102205188583252,2.7206479117506404,1.9615623761785321,3.0653988133499217,32.837382004811374,2.740861044454773,2.4876212890436613,2.3976701944755452,1.0633894854309307,1.8649805184163386,1.6252804657494311,5.0733136987327363,2.6781901801292274,3.254561926930057,15.226470672972654,1.7422187295980121,2.1335992511115527,2.5131829720441949,5.3836070826716851,3.0415277561076679,7.2028680799830846,3.2071713565363518,2.1065750243307861,4.2981615508740818,32.078322666906203,2.7736543882069014,6.6707731332113172,2.1864819626298915,3.408297886113373,6.2130277546480226,2.1708470399747868,2.7225751290166254,1.813370307511033,2.582966740988371,5.0785598949634307,4.1380336628087093,28.460761197795204,2.4720073284808919,2.2270160607075313,7.3504044034311908,2.3879946279678923,3.7148112483849167,6.3941572374472146,4.193063122138649,1.7762355599982114,2.7957995863195824,2.5277412755471067,6.30938009506435E-2,6.7333137185409662,4.6764674630137524,33.136761690892406,1.8358780585040142,3.3841916729214852,5.7254065544072361,4.5458563660184232,8.5720146616206616,3.0192100726456865,9.3392659764444215,27.861911536877496,3.4015169251523742,19.736617740548983,6.6845563632005014,17.607001196055744,2.4870998355577774,6.5383578189887706,2.7129062216641779,2.1103766705209388,16.650362702987646,11.990166727592785,3.7693585483221415,3.4517521892433964,1.5392776613378281,1.7498337597911189,14.300101306831056,2.3169315576447236,5.4231182242033462,1.0446937733982053,2.3744717808329878,5.4761647999281475,1.6672588769377421,2.3192039412904748,3.7042301778379634,3.2701815838324126,6.5277956584039032,2.4891856234550382,4.4645119916299656,2.6186580774592549,6.9742622536996191,2.9899803519896349,5.9058712939783113,19.313672287907622,2.3702465390042762,1.4939012391663813,2.3492544484972169,3.5426605582079698,3.3395391315247869,2.5050065586438932,3.4813204567208973,2.0662611048086572,5.1878063497858165,5.5081686623206361,1.4241162377352374,1.9168179790042075,13.845094631730316,5.4515374356024111,15.38318377236477,6.9082023887341775,3.1450236627144119,6.7743092303266375,18.802004713858892,2.6762841803667428,1.4290274942330736,4.599861510453076,4.3091355113097274,16.663214790519007,1.735886621875014,3.8914310067006177,6.7731435510923887,4.2001304193279951,4.875225439240741,3.5073299336208135,0.96605770848776495,4.0439580862542224,7.1893120889770303,2.9369978621127628,2.1996520034099234,3.9667529198714901,1.4837708725345438,6.5779565844932053,1.4388101183919839,4.3566729855321746,1.9072597851436826,1.6009314519635574,1.9098151560237238,5.9087790860646328,2.22171789870068,2.0252753937026493,3.2554227484686709,2.2874855690871589,1.0228301890310827,1.2022543287901475,5.4268430071312377,5.1064568528869732,2.1714075060207954,2.2336356653570411,6.513461856828088,2.1372355210395697,3.1124981009956016,14.91011660188939,2.2970536094889518,7.7940397920148925,2.8222773748179035,5.2075889354328897,11.430096560517086,2.0590134153413508,4.2287630247699024,2.219444957925468,6.6666846272555977,1.869542540367094,1.5027379469341093,3.0601216727660807,2.255709619866638,2.8530054074029847,1.8953215823807579,3.1642353181825156,2.9139428866439516,3.4584239226137057,2.5623374586894951,3.0962146675725344,5.5208403209327939,3.8974338325425593,7.646910265766441,2.3201022668522882,4.3044938312534109,2.3355347474516268,3.8033296016653755,2.8730844076879061,19.492147777059543,2.2162320233063215,1.7615568055444852,7.1544433481212231,4.8487645613353711,4.9366312076096159,3.0552429081404298,3.1263507669955533,15.997811801853571,3.2389302914511147,6.6329298595542836,29.039801291810647,2.6252857321075811,4.8854324807826712,2.8908274531747655,4.4778462674415813,4.8677032638201538,1.4575768863208103,2.3490654546058396,2.7470644603628895,3.0175570477195137,3.510993572503196,2.5089990486687488,3.237836888069225,2.0917064422225122,2.2735054505553856,2.1483747805068782,3.1553739358525532,3.0348451343872282,2.5727622118538163,1.4159933092444654,7.0300543665937063,6.3051838720673858,2.8706744064742917,2.1983786520122321,3.1634963806973104,6.6890746964087189,5.7743918882530449,6.290617145866948,9.2317047498652212,5.4561853238386417,3.8764801741983437,13.253841399141434,2.3476704610052783,2.3406312140514984,3.2520402693528934,3.7083464600075149,1.5155652055286395,2.643460467989827,3.8949648396111436,1.2321020195581867,2.0294899605133541,2.7575652632300498,2.266005557914371,2.624831007008082,0.61650073135046357,20.02733885153291,6.9366662317557681,1.4325769608103107,7.0968509738693566,10.569322877533535,3.4806185639046343,4.1744813144845567,7.800310007179827,2.7259647415728123,4.2659983776863335,5.4628735717335086,2.4897737767623132,13.838932712706265,2.4546279350692051,2.6004588696274209,4.2700603303690166,2.6627739246356121,2.3425071492284437,5.6830050138273105,23.179873547517793,13.392460418385467,23.130389009218383,49.674853971225282,11.609271316805311,20.625998583713947,11.608538677562743,49.163872085945265,18.809578652618672,40.741741449095102,15.226470672972654,41.890563409352758,34.220139127741398,23.674343717916518,65.6422433105067,38.391762932269529,28.460761197795204,19.806478798899114,33.570630129169196,67.792568059340297,23.268727370225164,36.333649622448114,211.54872879350319,35.311484089761187,45.971951684927632,15.38318377236477,16.663214790519007,41.318253490183061,36.660450276028257,90.72752401385911,39.591884012354392,24.428778984669162,15.047169144975117,16.378631294753667,22.182251413550343,15.443067027326796,28.24923350058824,13.838932712706265,26.585190875120645,11.608538677562743,26.961666371752447,18.809578652618672,39.890189773206487,15.226470672972654,19.313672287907622,29.039801291810647,40.22934957681818,20.833594632008257,23.179873547517793,11.609271316805311,11.778860154313653,25.833587519146842,23.58755814175975,11.305033364518087,22.182251413550343,65.6422433105067,28.460761197795204,14.081072244491878,38.559879915095756,33.570630129169196,19.920256076789371,24.291557559256248,16.650362702987646,20.876275249369254,211.54872879350319,36.333649622448114,19.528099645557628,15.38318377236477,6.9082023887341775,16.663214790519007,11.430096560517086,32.658015856320254,82.880310066767649,24.428778984669162,23.130389009218383,45.002129702626846,25.576313944185529,17.976966375514976,15.997811801853571,13.044212045522475,16.378631294753667,27.284889141879809,28.24923350058824,50.22229421044738,15.047169144975117]
[null,3,"Sports equipment",1267.2,0.42609931679581814,6.9725342748406609,0.73598972901095872,0.38736301526892564,0.61978082443028104,3.5637397404741162,2.9826952175707278,0.85219863359163628,0.71662157824751249,9.7421798340134806,1.7625017194736119,1.8593424732908435,5.4811866660552981,5.7910770782704395,1.0071438396992067,4.3772020725388598,4.4546746755926447,3.3119537805493149,18.593424732908431,3.5056352881837771,2.4210188454307855,2.8277500114631575,5.7910770782704395,5.6942363244532066,1.162089045806777,7.5148424962171569,2.8083818606997109,7.6891558530881747,5.3262414599477275,1.6075565133660414,4.8033013893346777,1.433243156495025,6.9531661240772156,13.034765463799348,3.7961575496354714,7.9022055114860832,0.67788527672061982,1.4719794580219174,2.86648631299005,6.5851712595717364,3.6412123435279016,8.5994589389701499,3.447530835893438,9.664707230959694,27.928873400889543,9.9552294924113891,0.81346233206474383,3.5443715897106696,3.3313219313127607,1.7625017194736119,1.5107157595488101,4.1060479618506118,6.7594846164427533,3.273217479022422,4.745196937044339,7.7859966069054058,17.315126782520977,4.4934109771195372,2.382282543903893,0.77472603053785127,4.4546746755926447,2.0142876793984135,5.8104452290338857,4.6870924847540012,0.69725342748406616,2.1498647347425375,17.024604521069282,2.6534366545921406,4.6677243339905541,5.7329726259800999,1.9174469255811819,8.870613049658397,8.7737722958411659,26.5731028474483,7.6697877023247276,1.6850291164198263,3.1763767252051904,1.8012380210005043,5.9653904351414555,23.416094273006554,3.6993167958182402,23.377357971479665,5.0357191984960332,11.678994910358108,1.1814571965702232,4.2803613187216287,6.9919024256041089,1.9949195286349672,3.8348938511623638,0.77472603053785127,1.0458801412260992,2.0142876793984135,3.1763767252051904,0.63914897519372738,3.8348938511623638,3.2538493282589753,7.1081113301847845,2.9245907652803882,3.0601678206245126,2.6534366545921406,2.5953322023018015,7.0306387271310014,1.6462928148929341,1.4526113072584714,0.9877756889357604,41.699628593699842,6.2171763950662564,2.9052226145169429,1.9174469255811819,0.79409418130129761,0.85219863359163628,1.4913476087853639,6.0622311889586866,0.48420376908615703,5.6942363244532066,16.850291164198268,0.19368150763446282,1.1039845935164383,4.1641524141409505,4.5902517309367692,4.570883580173323,4.7839332385712314,1.5300839103122563,0.85219863359163628,9.7034435324865882,25.856481269200788,0.75535787977440505,6.7013801641524147,4.7064606355174474,3.1763767252051904,3.4281626851299918,0.61978082443028104,1.1427208950433307,1.6462928148929341,2.8858544637534962,4.2803613187216287,3.1376404236782975,31.202090879911964,4.0285753587968269,1.433243156495025,7.2824246870558031,0.85219863359163628,2.6728048053555868,7.7278921546150672,12.376248337842174,0.58104452290338848,4.7258287862808928,2.4984914484845708,1.9368150763446283E-2,6.6432757118620751,4.9776147462056946,28.451813471502586,3.3700582328396527,3.2151130267320829,5.8685496813242235,5.7523407767435462,10.807428126003026,1.1039845935164383,3.8348938511623638,26.476262093631071,2.9052226145169429,13.790123343573752,4.299729469485075,14.70042642945573,0.63914897519372738,2.2660736393232148,0.92967123664542173,3.1376404236782975,15.436416158466688,15.087789444724654,3.9704709065064883,4.5515154294098767,2.2854417900866615,0.56167637213994215,16.598505204273465,1.8206061717639508,4.6483561832271079,0.69725342748406616,4.3772020725388598,6.0622311889586866,1.2782979503874548,1.1039845935164383,1.0071438396992067,3.2151130267320829,8.9674538034756299,1.1427208950433307,2.4984914484845708,1.2782979503874548,6.1978082443028102,1.7818698702370581,11.524049704250539,26.224476133706268,4.0673116603237194,1.162089045806777,0.25178595992480168,2.8083818606997109,1.723765417946719,0.71662157824751249,3.9317346049795958,1.8012380210005043,3.9898390572699345,4.0866798110871656,0.3292585629785868,2.9245907652803882,11.717731211885001,5.7329726259800999,15.881883626025953,3.6412123435279016,10.458801412260993,6.3527534504103809,9.7615479847769251,1.839974322527397,0.27115411068824796,4.0479435095602732,6.7788527672061987,16.056196982896967,2.4403869961942313,8.0184144160667614,8.4638818836260263,4.2803613187216287,5.0744555000229266,5.4230822137649586,0.3292585629785868,5.8685496813242235,5.016351047732587,0.79409418130129761,2.2854417900866615,1.3170342519143472,0.38736301526892564,3.0601678206245126,0.50357191984960337,5.4230822137649586,4.570883580173323,1.6269246641294877,0.77472603053785127,7.6697877023247276,2.0530239809253059,1.8593424732908435,1.6850291164198263,2.6728048053555868,1.5881883626025952,0.77472603053785127,4.0479435095602732,3.1763767252051904,1.7818698702370581,3.6024760420010087,4.396570223302307,2.7115411068824793,1.4526113072584714,20.181613095511025,1.2008253473336694,4.570883580173323,3.7186849465816869,3.7186849465816869,13.732018891283413,0.36799486450547936,1.9755513778715208,5.8104452290338858E-2,9.5291301756155722,2.4597551469576779,1.3945068549681323,1.5494520610757025,11.059214085927827,1.1814571965702232,1.3170342519143472,1.8012380210005043,0.52294007061304959,1.2395616488605621,0.87156678435508261,0.9877756889357604,7.2049520840020174,4.3578339217754136,9.5097620248521242,2.1304965839790913,2.3435462423770006,2.4403869961942313,1.839974322527397,2.1498647347425375,12.957292860745563,0.19368150763446282,1.9949195286349672,7.1855839332385703,3.5831078912375625,6.2365445458297035,2.8858544637534962,3.8736301526892563,16.501664450456232,2.0142876793984135,3.9317346049795958,23.164308313081758,1.6269246641294877,2.9826952175707278,1.8593424732908435,5.2294007061304963,3.7961575496354714,2.9633270668072811,1.1427208950433307,4.1641524141409505,2.8858544637534962,2.4791232977211242,2.1886010362694299,1.6850291164198263,0.50357191984960337,2.6728048053555868,0.69725342748406616,9.3935531202714468,0.89093493511852906,3.0989041221514051,1.0458801412260992,5.655500022926315,9.2386079141638771,3.2538493282589753,0.85219863359163628,1.1427208950433307,7.0693750286578938,2.8858544637534962,6.4883305057545053,7.6116832500343889,9.2967123664542157,1.8206061717639508,8.9287175019487375,5.558659269109083,4.570883580173323,2.1304965839790913,1.1233527442798843,0.87156678435508261,3.6993167958182402,4.2609931679581825,1.5881883626025952,5.8298133797973311,1.9755513778715208,4.299729469485075,1.5881883626025952,0.34862671374203308,17.72185794855335,33.371323765417948,1.5688202118391488,6.0622311889586866,11.601522307304323,2.4984914484845708,6.0041267366683471,4.6677243339905541,3.1957448759686367,1.5300839103122563,4.9582465954422483,2.3241780916135539,9.5872346279059109,1.9755513778715208,1.2589297996240083,2.4597551469576779,1.026511990462653,2.4791232977211242,6.6432757118620751,15.300839103122565,6.5851712595717364,34.3978357558806,39.14303269292494,17.04397267183273,14.661690127928834,26.5731028474483,39.530395708193858,23.474198725296894,34.920775826493646,16.850291164198268,35.71487000779495,46.561034435324864,22.176532624145992,70.693750286578918,48.672162868540511,31.202090879911964,16.443559998165895,31.72503095052501,59.014755376220833,17.411967536338206,28.626126828373604,228.29239304874133,42.726140584162493,29.575166215782474,15.881883626025953,16.056196982896967,46.193039570819387,31.550717593653992,95.659296620661181,41.002375166215778,19.193837406575266,16.83092301343482,10.4200651107341,24.19082030354441,10.187647301572746,30.930936769223713,9.5872346279059109,22.19590077490944,26.5731028474483,34.940143977257094,23.474198725296894,55.451015635746707,16.850291164198268,26.224476133706268,23.164308313081758,31.783135402815354,18.593424732908431,15.300839103122565,17.04397267183273,4.6677243339905541,18.380375074510521,23.416094273006554,7.0500068778944476,24.19082030354441,70.693750286578918,31.202090879911964,10.57501031684167,33.100169654729697,31.72503095052501,15.552625063047364,19.0001558989408,15.436416158466688,35.947287816956297,228.29239304874133,28.626126828373604,18.361006923747077,15.881883626025953,3.6412123435279016,16.056196982896967,13.732018891283413,34.649621715805395,77.453234903021681,19.193837406575266,34.3978357558806,40.634380301710301,16.114301435187308,12.724875051584208,16.501664450456232,9.9358613416479411,10.4200651107341,21.266229538264017,30.930936769223713,42.803613187216293,16.83092301343482]
[null,4,"Sportswear",84.48,2.8406621119721216E-2,0.46483561832271081,4.9065981934063925E-2,2.5824201017928379E-2,4.1318721628685412E-2,0.23758264936494108,0.1988463478380485,5.6813242239442431E-2,4.7774771883167498E-2,0.64947865560089868,0.11750011463157412,0.12395616488605624,0.36541244440368659,0.38607180521802925,6.7142922646613798E-2,0.29181347150259068,0.29697831170617639,0.22079691870328763,1.2395616488605623,0.23370901921225182,0.16140125636205238,0.18851666743087717,0.38607180521802925,0.37961575496354716,7.7472603053785144E-2,0.5009894997478106,0.18722545737998075,0.5126103902058784,0.35508276399651517,0.10717043422440277,0.32022009262231188,9.5549543766334996E-2,0.46354440827181442,0.86898436425329006,0.25307716997569812,0.52681370076573897,4.5192351781374665E-2,9.813196386812785E-2,0.19109908753266999,0.43901141730478244,0.24274748956852674,0.57329726259801006,0.22983538905956255,0.64431381539731303,1.8619248933926362,0.66368196616075936,5.4230822137649591E-2,0.23629143931404467,0.22208812875418404,0.11750011463157412,0.10071438396992068,0.27373653079004084,0.45063230776285024,0.21821449860149481,0.31634646246962267,0.51906644046036055,1.1543417855013987,0.29956073180796922,0.15881883626025953,5.1648402035856758E-2,0.29697831170617639,0.1342858452932276,0.38736301526892569,0.3124728323169334,4.6483561832271078E-2,0.14332431564950252,1.1349736347379522,0.17689577697280939,0.31118162226603696,0.38219817506533998,0.1278297950387455,0.59137420331056001,0.58491815305607775,1.7715401898298868,0.51131918015498201,0.11233527442798845,0.21175844834701271,0.12008253473336697,0.397692695676097,1.5610729515337707,0.246621119721216,1.5584905314319777,0.33571461323306895,0.77859966069054065,7.8763813104681557E-2,0.28535742124810859,0.46612682837360725,0.13299463524233116,0.25565959007749101,5.1648402035856758E-2,6.9725342748406638E-2,0.1342858452932276,0.21175844834701271,4.2609931679581825E-2,0.25565959007749101,0.21692328855059836,0.47387408867898578,0.19497271768535926,0.20401118804163418,0.17689577697280939,0.17302214682012013,0.46870924847540008,0.10975285432619561,9.6840753817231423E-2,6.5851712595717371E-2,2.7799752395799899,0.41447842633775051,0.19368150763446285,0.1278297950387455,5.2939612086753178E-2,5.6813242239442431E-2,9.9423173919024249E-2,0.40414874593057915,3.2280251272410479E-2,0.37961575496354716,1.1233527442798845,1.291210050896419E-2,7.3598972901095877E-2,0.27761016094273011,0.30601678206245131,0.30472557201155492,0.3189288825714155,0.10200559402081709,5.6813242239442431E-2,0.64689623549910591,1.7237654179467192,5.0357191984960338E-2,0.44675867761016097,0.31376404236782984,0.21175844834701271,0.22854417900866614,4.1318721628685412E-2,7.6181393002888731E-2,0.10975285432619561,0.19239029758356643,0.28535742124810859,0.20917602824521989,2.0801393919941309,0.26857169058645519,9.5549543766334996E-2,0.48549497913705347,5.6813242239442431E-2,0.17818698702370583,0.51519281030767117,0.82508322252281174,3.8736301526892572E-2,0.31505525241872623,0.16656609656563806,1.2912100508964191E-3,0.4428850474574717,0.33184098308037968,1.8967875647668393,0.2246705488559769,0.21434086844880554,0.3912366454216149,0.38348938511623643,0.72049520840020176,7.3598972901095877E-2,0.25565959007749101,1.7650841395754047,0.19368150763446285,0.9193415562382502,0.28664863129900503,0.98002842863038198,4.2609931679581825E-2,0.15107157595488102,6.1978082443028118E-2,0.20917602824521989,1.0290944105644459,1.0058526296483103,0.26469806043376592,0.30343436196065843,0.15236278600577746,3.7445091475996152E-2,1.1065670136182311,0.12137374478426337,0.30989041221514058,4.6483561832271078E-2,0.29181347150259068,0.40414874593057915,8.521986335916365E-2,7.3598972901095877E-2,6.7142922646613798E-2,0.21434086844880554,0.59783025356504194,7.6181393002888731E-2,0.16656609656563806,8.521986335916365E-2,0.41318721628685406,0.11879132468247054,0.76826998028336935,1.7482984089137514,0.27115411068824802,7.7472603053785144E-2,1.6785730661653449E-2,0.18722545737998075,0.11491769452978128,4.7774771883167498E-2,0.2621156403319731,0.12008253473336697,0.26598927048466231,0.2724453207391444,2.1950570865239123E-2,0.19497271768535926,0.78118208079233342,0.38219817506533998,1.0587922417350637,0.24274748956852674,0.69725342748406627,0.42351689669402542,0.65076986565179518,0.1226649548351598,1.8076940712549866E-2,0.26986290063735158,0.45192351781374662,1.0704131321931314,0.16269246641294879,0.5345609610711175,0.56425879224173503,0.28535742124810859,0.33829703333486177,0.36153881425099732,2.1950570865239123E-2,0.3912366454216149,0.33442340318217251,5.2939612086753178E-2,0.15236278600577746,8.780228346095649E-2,2.5824201017928379E-2,0.20401118804163418,3.3571461323306899E-2,0.36153881425099732,0.30472557201155492,0.10846164427529918,5.1648402035856758E-2,0.51131918015498201,0.13686826539502042,0.12395616488605624,0.11233527442798845,0.17818698702370583,0.10587922417350636,5.1648402035856758E-2,0.26986290063735158,0.21175844834701271,0.11879132468247054,0.24016506946673394,0.29310468155348712,0.18076940712549866,9.6840753817231423E-2,1.3454408730340686,8.005502315557797E-2,0.30472557201155492,0.24791232977211247,0.24791232977211247,0.91546792608556116,2.4532990967031962E-2,0.13170342519143474,3.8736301526892574E-3,0.63527534504103811,0.16398367646384521,9.2967123664542156E-2,0.10329680407171352,0.73728093906185532,7.8763813104681557E-2,8.780228346095649E-2,0.12008253473336697,3.4862671374203319E-2,8.2637443257370824E-2,5.8104452290338851E-2,6.5851712595717371E-2,0.48033013893346788,0.2905222614516943,0.63398413499014172,0.14203310559860607,0.1562364161584667,0.16269246641294879,0.1226649548351598,0.14332431564950252,0.86381952404970441,1.291210050896419E-2,0.13299463524233116,0.47903892888257144,0.2388738594158375,0.41576963638864689,0.19239029758356643,0.25824201017928383,1.1001109633637489,0.1342858452932276,0.2621156403319731,1.544287220872117,0.10846164427529918,0.1988463478380485,0.12395616488605624,0.34862671374203313,0.25307716997569812,0.19755513778715211,7.6181393002888731E-2,0.27761016094273011,0.19239029758356643,0.16527488651474165,0.14590673575129534,0.11233527442798845,3.3571461323306899E-2,0.17818698702370583,4.6483561832271078E-2,0.62623687468476319,5.9395662341235271E-2,0.20659360814342703,6.9725342748406638E-2,0.37703333486175433,0.61590719427759177,0.21692328855059836,5.6813242239442431E-2,7.6181393002888731E-2,0.47129166857719296,0.19239029758356643,0.4325553670503004,0.50744555000229263,0.61978082443028115,0.12137374478426337,0.59524783346324917,0.37057728460727224,0.30472557201155492,0.14203310559860607,7.4890182951992304E-2,5.8104452290338851E-2,0.246621119721216,0.28406621119721215,0.10587922417350636,0.38865422531982208,0.13170342519143474,0.28664863129900503,0.10587922417350636,2.3241780916135539E-2,1.1814571965702234,2.22475491769453,0.10458801412260994,0.40414874593057915,0.773434820486955,0.16656609656563806,0.40027511577788982,0.31118162226603696,0.2130496583979091,0.10200559402081709,0.3305497730294833,0.15494520610757029,0.63914897519372738,0.13170342519143474,8.3928653308267237E-2,0.16398367646384521,6.8434132697510211E-2,0.16527488651474165,0.4428850474574717,1.020055940208171,0.43901141730478244,2.2931890503920402,2.6095355128616631,1.1362648447888486,0.97744600852858932,1.7715401898298868,2.6353597138795912,1.5649465816864596,2.3280517217662431,1.1233527442798845,2.3809913338529967,3.1040689623549911,1.4784355082763998,4.7129166857719289,3.2448108579027011,2.0801393919941309,1.0962373332110598,2.1150020633683342,3.9343170250813886,1.1607978357558806,1.9084084552249072,15.21949286991609,2.8484093722775006,1.9716777477188319,1.0587922417350637,1.0704131321931314,3.0795359713879589,2.1033811729102667,6.3772864413774135,2.7334916777477192,1.2795891604383514,1.1220615342289881,0.69467100738227339,1.6127213535696272,0.67917648677151643,2.0620624512815811,0.63914897519372738,1.4797267183272962,1.7715401898298868,2.3293429318171399,1.5649465816864596,3.6967343757164475,1.1233527442798845,1.7482984089137514,1.544287220872117,2.1188756935210238,1.2395616488605623,1.020055940208171,1.1362648447888486,0.31118162226603696,1.2253583383007016,1.5610729515337707,0.47000045852629646,1.6127213535696272,4.7129166857719289,2.0801393919941309,0.7050006877894448,2.2066779769819798,2.1150020633683342,1.0368416708698243,1.2666770599293868,1.0290944105644459,2.3964858544637537,15.21949286991609,1.9084084552249072,1.2240671282498052,1.0587922417350637,0.24274748956852674,1.0704131321931314,0.91546792608556116,2.3099747810536937,5.1635489935347803,1.2795891604383514,2.2931890503920402,2.708958686780687,1.0742867623458208,0.84832500343894734,1.1001109633637489,0.66239075610986298,0.69467100738227339,1.4177486358842681,2.0620624512815811,2.8535742124810857,1.1220615342289881]
[null,5,"Sport education",4630.2913596498101,4.5541274226117219,7.5633725517842736,9.9199186162842352,10.202730741840604,10.326135268689043,10.866716981593973,15.765739626371422,7.4663311282023725,24.558091916622331,37.972377504320896,20.131295541269527,5.6752598732431814,15.940521380181687,14.339585295299262,9.2552618013029413,13.772044157331754,14.317663850594485,24.681895313085594,111.02111769322114,8.2215011509970122,15.678980518224993,11.603087241446666,6.3044554541829534,26.428116580765334,5.1620554666059704,12.552141257033052,10.102660777745074,57.481812426014876,12.974291127077541,10.224925263589229,31.055894421906448,6.2376526411387871,18.838328083694588,33.901441386564215,9.6474991076516243,31.223216588035591,7.8700161831120168,8.3733384233737738,8.4846647630200636,45.140364998891719,7.7756657705211776,17.150015522655959,18.920829916768557,7.9752044071793513,50.889305384533223,18.389681478291983,8.2196604596875567,11.118465318941219,8.3961626703020347,6.850014397835178,22.712095466879223,13.200016867679217,14.16605652654694,8.820477606255869,11.949234832187139,31.14157212860562,27.272511151754241,8.1101626997564935,8.2044783141468223,8.573918999203908,9.3156448749277931,3.5824237547275333,0.33314368502842384,14.313049714645214,5.5127975386470931,5.8820441179613399,41.59529102755242,6.5372404466034135,42.808395206319823,27.972884330559832,4.5900299945157359,9.2070660676322369,39.756647060621773,38.80870213777898,12.806204746068307,9.7294095160277738,8.497765127156363,7.0068998647367842,22.695499812264739,85.933041002911168,5.7403406345643129,56.911701609183666,26.679636301860103,31.768110372497347,8.7041987637811076,27.035354475711404,33.959646811681225,7.3892091416216648,9.7632206996052187,6.4586230013629731,9.55825499823165,12.724468623538327,9.7998080446429441,8.1405277319129983,27.058080726991438,9.9007716167350228,40.17399967387388,7.1968555939144601,10.285807693165196,4.0458582233235907,12.123570555800109,35.512816694584018,10.304683899283807,6.4957364744023733,9.1547198059402888,118.07837559101297,8.1915380443323453,8.6324504876371435,7.4926976193410759,4.8448427467367745,6.4279755227099198,5.7756042563760577,16.773182749270561,9.4610692414748137,10.835216202926143,49.073942068433311,6.8368554715078949,8.9421009425742586,7.601459395288229,26.866837679758497,10.82014353918473,25.124586245893635,11.47953395337149,7.3323607369196493,13.872733316420112,106.7822041400522,7.9765565582678679,25.847898210685077,7.3938232775709389,13.916180662366287,24.39527169218276,8.1597929842676855,8.6084170220888723,7.0237786119882273,9.4399332796784421,23.281041124013367,14.642780173899641,100.78393489085884,9.0845745218403025,7.6142005078668982,29.236359655703911,8.7242111278102747,11.06119257219472,25.108079126365201,14.549029810336611,7.4357235746016315,11.21432784356908,9.8194438982294177,0.16456363537617644,16.234001732601303,11.977415865109753,123.59836370400501,8.6304169173712904,11.18993883926578,21.658986639777645,15.384635400501812,40.597208304024662,12.996986767687053,26.409890598266809,99.677468423212517,10.766201433821438,63.253785579166902,31.017542958624404,58.493848389307871,7.6323802175251991,27.509865017752553,8.2646243109938151,6.7592561580381716,56.61526506655872,34.946467309440052,20.544110732999325,12.971333081816965,4.9714019042025503,5.911068691127368,43.572671184611345,8.4192112492604849,23.051965880044154,4.2470558309566,9.4667396561137291,18.759591020451921,6.7251228157373477,8.1808630380612382,12.026018075078049,13.19377246394159,23.527770237630452,6.9841282488560354,12.659165143506378,9.7512239931925375,23.045419775972967,9.771248880882661,34.334808619145669,64.940008512348342,7.3567273758046161,5.8030334580020115,7.5973310455577296,14.071315049874167,11.013942510914934,9.0204388859592974,14.773941648004042,6.5441631006262178,16.831462026349577,17.29233385935644,4.9842764724117812,8.3166449184207316,49.953968447437312,19.297990103197932,63.894100663719321,26.698891784762946,9.2849598544944492,24.641560984250567,65.491976133643902,10.69602779282334,4.6256065651743707,23.439628762018803,10.633849769547766,52.309528275697993,8.2569092406482447,17.018910867754659,19.695002531802235,11.683351862172591,15.559305989746679,12.119826683838426,3.4491738475403459,12.190913236040496,32.21814570143129,11.703909444415352,7.3888358639092102,11.67734662785211,5.1946990179673573,18.488724195462598,4.3722853160853887,20.293456912634898,6.8869274854293625,6.1619642621802004,6.2351769452479706,23.333464087003978,8.9813615228607606,5.9236383777807511,9.794409816704011,7.6852473683681222,3.182255370001799,4.1538449677559042,20.199938678014458,29.986191105466968,8.1657732760875561,9.6266395447383548,21.879853826926105,7.4234934937067916,9.8723110490723425,47.297205102627437,8.1604223551110522,24.70260302585233,13.955669080844705,18.50698697720475,43.567389653922788,5.6511208026023541,13.483164406054518,8.7964124264935215,22.549215543751785,6.3573530719007101,6.861822488877924,11.662871462067661,7.6152512804788222,10.447062951432807,8.0312136161495786,11.249374454361787,9.1791219046789791,13.188409563851872,8.4062268874956203,12.468974238226123,16.77525045913389,14.559576406792093,25.236384464518036,7.4039186013825704,13.688163874657938,9.0819378727264315,14.610005661176784,10.345712413989499,69.30540131714514,7.5089631681453364,7.426781391494317,24.802128005101959,17.994841663447723,21.383331256288752,9.6350151224472782,9.6826045057569718,59.814362634984377,10.145166627894653,23.335914302946232,95.031850494369394,7.393219297045313,19.517417871530096,11.85545857652529,18.601020793795421,19.313221986248415,6.8881935792156339,7.0288135787351713,9.1222886460348498,9.537362106922938,15.416561077722289,10.285568193208249,9.5821710902796351,6.770427784180991,11.102731047857016,8.1320850294546361,15.215442873867342,11.165668132193829,9.8365081485581722,4.867619109547956,25.434469898859266,21.95289361600922,10.341192327381592,7.7543850438927091,10.039094322564893,28.085585168018987,25.571680450353913,26.97563460392319,23.281791447628297,18.112502462910097,10.716831962830716,45.013512873373877,8.3581776909690202,8.8808933777938179,10.754688971474444,12.085808305198022,6.9050083123894002,9.1761980785472979,13.562941674583,4.1127583853325387,7.5466084935463584,9.4214501768706249,7.3490125603667487,8.4379748970363941,2.1633122431839871,63.274427108857381,16.450845257315752,4.9282478173181268,27.507330660582202,41.718547191700566,9.6029403281107868,12.60503925097672,27.599483665500152,8.4266462218557674,13.978955802049329,22.053762412332837,8.2330825048536056,46.460409342273813,8.0188139153532241,9.4330133426982616,15.149585570714033,8.2746572267805902,7.6243927565733456,14.954120151880909,104.64698844386511,45.140364998891719,76.526585743269948,155.27900384662607,41.759854662928589,72.986397203933706,38.80870213777898,176.06657812080562,56.003603491702989,134.43298277258722,49.073942068433311,185.68459944065248,114.90187257107766,84.594280474055438,244.65940190864259,130.01060194346687,100.78393489085884,77.562324064647285,126.95953618288416,269.35434123773325,86.329135977930477,123.51233118410163,809.38984021969918,124.75437114733271,162.42311191685511,63.894100663719321,52.309528275697993,149.67685714914109,118.75157883922711,327.99535627960938,158.96027926385125,90.688732573433896,60.319567985495979,61.230350109921304,76.396179822239318,54.761944277474264,87.054163113997319,46.460409342273813,91.966169326309668,38.80870213777898,86.443212289544078,56.003603491702989,147.85339487167244,49.073942068433311,64.940008512348342,95.031850494369394,122.28675486642585,111.02111769322114,104.64698844386511,41.759854662928589,42.808395206319823,91.493384181138438,85.933041002911168,40.119164103574619,76.396179822239318,244.65940190864259,100.78393489085884,55.90333742486964,146.65032958404916,126.95953618288416,68.668135236522161,89.511391347932275,56.61526506655872,67.908216252287886,809.38984021969918,123.51233118410163,64.908088599318219,63.894100663719321,26.698891784762946,52.309528275697993,43.567389653922788,117.44160103276106,325.78082242675492,90.688732573433896,76.526585743269948,148.9362044871622,90.133537117894463,61.103189516173451,59.814362634984377,57.573870050473033,61.230350109921304,92.915824925772327,87.054163113997319,208.33922139399397,60.319567985495979]
[null,9,"Spectator sports",1161.5999999999999,1.0431775343513536,1.1740705329581773,1.9951266151282543,2.5583631545879202,1.6143469828174939,2.4830005190264153,4.4543284071352476,2.1180867047286038,2.7051219712076926,6.2669981151145961,5.0096320375884389,0.8567541726992105,3.8752260496626323,4.6328188597809161,1.9514956155926462,3.7641653235719943,2.8796459693501242,2.3640068839293029,16.805867730215532,3.3873521457644711,5.0413636736143363,3.6015406889392731,0.25781954271041052,5.2753844893053241,0.92021744475100387,5.564935668041632,3.5182451443712948,8.5635752724888672,2.6337257901494251,1.804736798972874,5.2277870352664797,2.1141202502253664,9.9320020761056611,9.4798262627366334,1.5984811648045454,9.1268118119485333,2.9074111508727838,1.3049635315650012,1.677810254869287,14.691747479990166,2.498866337039364,2.8994782418663099,3.7443330510558086,1.7055754363919466,9.0276504493676075,6.9650941076843225,0.79329090064741714,2.8399814243177532,2.2450132488321906,1.3208293495779495,4.6843827683229975,5.2198541262600049,3.7086349605266755,3.0422706039828444,4.8192422214330595,9.7535116234599943,12.26427732400907,2.1577512497609748,5.1920889447373453,2.2132816128062935,2.0823886141994699,1.1026743518999098,3.5579096894036661,4.6804163138197614,0.9598819897833748,0.97971426229956016,9.9320020761056611,3.9267899582047145,9.5829540798207979,4.5891878602453078,0.99954653481574562,2.7209877892206409,4.6804163138197614,8.0915671866036547,5.6244324855901882,2.0427240691670994,1.6659108913595759,2.1656841587674487,7.9765400060097802,19.070713251563905,1.2018357144808369,15.540568743682901,8.9522878138061017,8.849159996721939,2.1180867047286038,3.430983145300079,3.9585215942306116,1.7849045264566885,2.2648455213483758,2.3759062474390142,2.1022208867156555,3.3357882372223888,1.9475291610894092,1.2415002595132076,5.7275603026743509,6.5367170213347183,11.340093424754828,2.4314366104843339,3.427016690796842,0.85278771819597332,7.06425547026525,4.2242740459474959,4.6129865872647304,3.7958969595978913,1.6500450733466276,30.248182041686018,4.1608107738957028,1.8007703444696366,1.0035129893189827,4.3353347720381343,1.1463053514355177,0.86468708170568476,3.3992515092741824,1.3247958040811867,2.0109924331412024,13.466113038489906,1.249433168519682,2.2569126123419019,1.9951266151282543,5.2674515802988502,6.6001802933865106,2.3798727019422516,2.2965771573742724,2.4473024284972817,14.136443849536974,29.486622777064493,1.7214412544048949,5.2991832163247468,1.8761329800311415,3.4746141448356873,1.7690387084437402,2.4195372469746226,2.8360149698145163,1.6024476193077826,2.2291474308192423,4.0418171387985904,5.1286256726855521,28.376015516158112,3.3913186002677085,1.3684268036167946,4.5019258611740929,2.2450132488321906,4.1846095009151254,7.1594503783429397,3.5817084164230883,0.91625099024776679,3.458748326822739,3.0422706039828444,9.9161362580927143E-2,4.9897997650722532,3.1334990575572981,29.387461414483571,0.80519026415712835,1.6421121643401535,5.3031496708279837,6.3621930231922859,8.8094954516895676,1.4913868932171443,2.7566858797497744,20.113890785915263,2.0744557051929959,17.234244816565138,6.0885076624689267,18.408315349523313,1.2018357144808369,2.7090884257109296,3.3595869642418119,2.7011555167044556,9.6384844428661189,7.9408419154806458,3.6808697790040155,2.0189253421476767,1.3287622585844237,1.6897096183789986,9.2339060835359366,2.7487529707433005,5.8544868467779381,1.0431775343513536,2.9193105143824951,5.2634851257956123,1.630212800830442,1.749206435927555,3.4785805993389238,4.347234135547847,9.083180812412925,1.5310514382495151,6.3780588412052337,2.962941513918103,14.271303302647034,1.8126697079793483,2.8320485153112793,16.813800639222006,1.4398229846750621,0.97574780779632309,1.2137350779905483,2.8122162427950941,1.9673614336055942,0.56323653945966623,2.1220531592318408,1.7254077089081326,4.2996366815089999,3.7760646870817052,2.3957385199551995,2.713054880214167,13.402649766438113,5.3309148523506433,18.55507416614309,11.221099789657716,5.8663862102876498,6.6041467478897466,18.523342530117187,2.0863550687027073,1.3485945311006091,2.6971890622012182,3.0898680580216897,19.439593520364959,1.1899363509711258,4.4503619526320097,5.3824787608927256,4.6724834048132866,5.3071161253312198,3.5063457808615839,1.2890977135520529,4.0418171387985904,3.0502035129893188,3.605507143442511,0.83692190018302504,2.8161826972983306,0.92021744475100387,5.5808014860545798,1.6143469828174939,2.8399814243177532,1.6540115278498648,1.6024476193077826,1.566749528778649,3.4032179637774194,2.7765181522659601,4.0973475018439096,6.2431993880951735,2.0704892506897585,0.72982762859562378,1.9832272516185427,3.0065725134537109,3.7245007785396238,2.0149588876444398,1.2851312590488158,3.7601988690687573,0.86865353620892183,4.3075695905154747,12.184948233944327,1.9316633430764607,8.1510640041522109,2.0070259786379654,4.8430409484524821,11.764504056601197,1.8126697079793483,0.95194908077690066,1.249433168519682,5.4102439424153852,2.1537847952577374,0.2221214521812768,1.5350178927527522,2.0030595241347284,2.1815499767803974,6.6557106564318298,4.35516704455432,2.2450132488321906,3.5499767803971922,2.4948998825361266,2.0625563416832842,4.6169530417679683,3.4389160543065533,3.1890294206026168,3.1612642390799568,4.0100855027726938,1.8682000710246673,4.2956702270057638,1.9237304340699868,19.451492883874671,1.3525609856038463,1.8166361624825853,3.7681317780752313,3.8276285956237874,4.0457835933018274,3.605507143442511,2.0189253421476767,17.7221187204633,2.820149151801568,5.5292375775124967,47.660917310896821,2.8558472423307015,3.6650039609910672,2.5583631545879202,4.4939929521676181,2.1656841587674487,1.1780369874614145,3.9347228672111885,3.4111508727838933,2.641658699155899,2.8756795148468872,1.0828420793837243,1.3684268036167946,1.3208293495779495,1.626246346327205,1.3485945311006091,2.0625563416832842,3.9347228672111885,2.0030595241347284,0.80915671866036543,4.7716447673942151,8.9324555412899169,1.6460786188433907,1.3604938946103204,2.8280820608080419,5.5570027590351572,4.3393012265413722,3.1929958751058543,7.0245909252328786,4.9144371295107492,2.9113776053760212,13.775496489742398,2.9788073319310513,1.3723932581200315,5.0889611276531808,4.5376239517032264,1.3763597126232685,2.5980276996202911,7.3657060125112679,0.44027644985931652,1.9356297975796979,1.1344059879258066,1.749206435927555,4.347234135547847,0.59893462998879987,20.260649602535032,16.099838828639331,1.1701040784549404,6.8064359275548387,8.8570929057284129,1.8087032534761109,5.7037615756549283,4.2084082279345481,6.7152074739803869,6.6279454749091702,5.287283852815035,3.3278553282159149,15.048728385281503,1.0828420793837243,4.0854481383341987,6.211467752069276,1.0788756248804874,2.2013822492965827,3.7284672330428603,16.78206900319611,14.691747479990166,26.932226076979813,48.152757669298218,10.031163438686589,18.364684349987705,8.0915671866036547,44.19820252957085,19.08657906957686,56.363318490998992,13.466113038489906,39.462255852705759,25.38134236621411,14.572753844893052,47.625219220367683,34.690611085311552,28.376015516158112,15.964979375529269,28.756795148468871,57.989564837326199,23.766995383396619,23.993083290081131,168.25303357281393,34.535919359685302,49.842467287677223,18.55507416614309,19.439593520364959,35.130887535170871,33.33011719070123,82.331696123692183,45.538864151664981,23.497276477176495,13.351085857896029,16.659108913595759,29.26450132488322,16.155369191684649,22.953872210233015,15.048728385281503,22.858677302155325,8.0915671866036547,22.926107028710355,19.08657906957686,35.749654437675858,13.466113038489906,16.813800639222006,47.660917310896821,41.53274510339552,16.805867730215532,16.78206900319611,10.031163438686589,9.5829540798207979,23.207725298440188,19.070713251563905,11.026743518999098,29.26450132488322,47.625219220367683,28.376015516158112,10.661829704701287,35.241948261261506,28.756795148468871,23.774928292403089,24.496823011992241,9.6384844428661189,13.478012401999617,168.25303357281393,23.993083290081131,17.13111699948097,18.55507416614309,11.221099789657716,19.439593520364959,11.764504056601197,29.550086049116288,73.45873739995082,23.497276477176495,26.932226076979813,42.45296254814653,25.127489278006937,20.177354057967055,17.7221187204633,11.244898516677138,16.659108913595759,29.038413418198704,22.953872210233015,43.908651350834539,13.351085857896029]
[null,10,"Sports equipment",1583.9999999999998,0.5326241459947727,8.7156678435508255,0.91998716126369839,0.48420376908615698,0.77472603053785127,4.4546746755926447,3.7283690219634087,1.0652482919895454,0.8957769728093905,12.17772479251685,2.2031271493420146,2.3241780916135535,6.8514833325691225,7.2388463478380469,1.2589297996240081,5.4715025906735741,5.5683433444908053,4.1399422256866432,23.241780916135539,4.382044110229721,3.0262735567884813,3.5346875143289465,7.2388463478380469,7.1177954055665076,1.4526113072584712,9.3935531202714468,3.5104773258746382,9.6114448163602173,6.6578018249346593,2.0094456417075515,6.0041267366683471,1.791553945618781,8.691457655096519,16.293456829749182,4.745196937044339,9.8777568893576024,0.84735659590077483,1.8399743225273968,3.583107891237562,8.2314640744646699,4.5515154294098767,10.749323673712686,4.3094135448667972,12.080884038699617,34.911091751111918,12.444036865514235,1.0168279150809298,4.4304644871383365,4.1641524141409505,2.2031271493420146,1.8883946994360123,5.1325599523132652,8.4493557705534403,4.0915218487780267,5.9314961713054233,9.7324957586317566,21.643908478151221,5.6167637213994217,2.9778531798798658,0.96840753817231395,5.5683433444908053,2.5178595992480162,7.263056536292356,5.8588656059424995,0.8715667843550825,2.6873309184281715,21.280755651336598,3.316795818240176,5.8346554174881922,7.166215782475124,2.3968086569764773,11.088266312072996,10.967215369801457,33.216378559310371,9.5872346279059091,2.106286395524783,3.9704709065064878,2.2515475262506301,7.4567380439268174,29.270117841258195,4.6241459947728005,29.221697464349578,6.2946489981200413,14.598743637947633,1.476821495712779,5.3504516484020348,8.7398780320051337,2.4936494107937088,4.7936173139529545,0.96840753817231395,1.3073501765326241,2.5178595992480162,3.9704709065064878,0.79893621899215905,4.7936173139529545,4.0673116603237194,8.8851391627309813,3.6557384566004854,3.8252097757806407,3.316795818240176,3.2441652528772522,8.7882984089137501,2.0578660186161675,1.815764134073089,1.2347196111697003,52.124535742124806,7.7714704938328207,3.631528268146178,2.3968086569764773,0.99261772662662195,1.0652482919895454,1.8641845109817043,7.5777889861983576,0.60525471135769637,7.1177954055665076,21.062863955247831,0.24210188454307849,1.3799807418955476,5.2051905176761881,5.737814663670961,5.7136044752166519,5.9799165482140397,1.9126048878903203,1.0652482919895454,12.129304415608233,32.320601586500985,0.94419734971800617,8.3767252051905157,5.8830757943968077,3.9704709065064878,4.2852033564124898,0.77472603053785127,1.428401118804163,2.0578660186161675,3.6073180796918702,5.3504516484020348,3.9220505295978718,39.002613599889948,5.0357191984960323,1.791553945618781,9.1030308588197535,1.0652482919895454,3.3410060066944829,9.659865193268832,15.470310422302715,0.7263056536292356,5.9072859828511159,3.1231143106057129,2.4210188454307852E-2,8.3040946398275928,6.2220184327571175,35.56476683937823,4.2125727910495661,4.0188912834151029,7.3356871016552789,7.1904259709294323,13.509285157503779,1.3799807418955476,4.7936173139529545,33.095327617038834,3.631528268146178,17.237654179467189,5.374661836856343,18.375533036819657,0.79893621899215905,2.8325920491540186,1.1620890458067767,3.9220505295978718,19.295520198083356,18.859736805905815,4.9630886331331094,5.6893942867623455,2.856802237608326,0.70209546517492771,20.748131505341828,2.2757577147049384,5.8104452290338848,0.8715667843550825,5.4715025906735741,7.5777889861983576,1.5978724379843181,1.3799807418955476,1.2589297996240081,4.0188912834151029,11.209317254344533,1.428401118804163,3.1231143106057129,1.5978724379843181,7.7472603053785116,2.2273373377963224,14.405062130313173,32.78059516713283,5.0841395754046488,1.4526113072584712,0.31473244990600202,3.5104773258746382,2.1547067724333986,0.8957769728093905,4.9146682562244948,2.2515475262506301,4.9872988215874177,5.1083497638589561,0.41157320372323347,3.6557384566004854,14.64716401485625,7.166215782475124,19.852354532532438,4.5515154294098767,13.073501765326242,7.9409418130129756,12.201934980971158,2.2999679031592457,0.33894263836030991,5.0599293869503414,8.4735659590077486,20.070246228621212,3.0504837452427895,10.023018020083452,10.57985235453253,5.3504516484020348,6.3430693750286569,6.7788527672061987,0.41157320372323347,7.3356871016552789,6.2704388096657331,0.99261772662662195,2.856802237608326,1.6462928148929339,0.48420376908615698,3.8252097757806407,0.62946489981200404,6.7788527672061987,5.7136044752166519,2.0336558301618597,0.96840753817231395,9.5872346279059091,2.5662799761566326,2.3241780916135535,2.106286395524783,3.3410060066944829,1.9852354532532439,0.96840753817231395,5.0599293869503414,3.9704709065064878,2.2273373377963224,4.5030950525012603,5.4957127791278815,3.3894263836030993,1.815764134073089,25.227016369388782,1.5010316841670868,5.7136044752166519,4.648356183227107,4.648356183227107,17.165023614104268,0.4599935806318492,2.4694392223394006,7.2630565362923546E-2,11.911412719519463,3.0746939336970973,1.743133568710165,1.9368150763446279,13.824017607409784,1.476821495712779,1.6462928148929339,2.2515475262506301,0.65367508826631204,1.5494520610757025,1.0894584804438532,1.2347196111697003,9.0061901050025206,5.4472924022192668,11.887202531065155,2.6631207299738633,2.9294328029712497,3.0504837452427895,2.2999679031592457,2.6873309184281715,16.196616075931953,0.24210188454307849,2.4936494107937088,8.9819799165482124,4.4788848640469521,7.7956806822871281,3.6073180796918702,4.842037690861571,20.62708056307029,2.5178595992480162,4.9146682562244948,28.955385391352188,2.0336558301618597,3.7283690219634087,2.3241780916135535,6.5367508826631209,4.745196937044339,3.7041588335091014,1.428401118804163,5.2051905176761881,3.6073180796918702,3.0989041221514051,2.7357512953367871,2.106286395524783,0.62946489981200404,3.3410060066944829,0.8715667843550825,11.741941400339307,1.1136686688981612,3.8736301526892558,1.3073501765326241,7.0693750286578929,11.548259892704845,4.0673116603237194,1.0652482919895454,1.428401118804163,8.8367187858223648,3.6073180796918702,8.1104131321931305,9.5146040625429844,11.62089045806777,2.2757577147049384,11.160896877435921,6.9483240863863527,5.7136044752166519,2.6631207299738633,1.4041909303498554,1.0894584804438532,4.6241459947728005,5.3262414599477266,1.9852354532532439,7.2872667247466634,2.4694392223394006,5.374661836856343,1.9852354532532439,0.43578339217754125,22.152322435691683,41.714154706772433,1.9610252647989359,7.5777889861983576,14.501902884130402,3.1231143106057129,7.5051584208354338,5.8346554174881922,3.9946810949607956,1.9126048878903203,6.1978082443028102,2.9052226145169424,11.984043284882386,2.4694392223394006,1.5736622495300103,3.0746939336970973,1.2831399880783163,3.0989041221514051,8.3040946398275928,19.126048878903202,8.2314640744646699,42.997294694850744,48.92879086615617,21.304965839790906,18.327112659911045,33.216378559310371,49.412994635242327,29.342748406621116,43.650969783117056,21.062863955247831,44.643587509743682,58.201293044156074,27.72066578018249,88.367187858223645,60.840203585675624,39.002613599889948,20.554449997707366,39.656288688156259,73.76844422027601,21.764959420422759,35.782658535467,285.36549131092664,53.407675730203124,36.968957769728085,19.852354532532438,20.070246228621212,57.741299463524228,39.438396992067496,119.57412077582649,51.252968957769724,23.992296758219076,21.038653766793523,13.025081388417624,30.238525379430506,12.73455912696593,38.663670961529633,11.984043284882386,27.744875968636798,33.216378559310371,43.67517997157136,29.342748406621116,69.313769544683382,21.062863955247831,32.78059516713283,28.955385391352188,39.728919253519187,23.241780916135539,19.126048878903202,21.304965839790906,5.8346554174881922,22.975468843138152,29.270117841258195,8.8125085973680584,30.238525379430506,88.367187858223645,39.002613599889948,13.218762896052088,41.375212068412118,39.656288688156259,19.440781328809205,23.750194873676001,19.295520198083356,44.934109771195374,285.36549131092664,35.782658535467,22.951258654683844,19.852354532532438,4.5515154294098767,20.070246228621212,17.165023614104268,43.31202714475674,96.816543628777097,23.992296758219076,42.997294694850744,50.792975377137871,20.142876793984129,15.906093814480258,20.62708056307029,12.419826677059929,13.025081388417624,26.582786922830024,38.663670961529633,53.50451648402035,21.038653766793523]
[null,11,"Sportswear",422.4,0.14203310559860607,2.3241780916135539,0.24532990967031956,0.12912100508964186,0.206593608143427,1.1879132468247053,0.99423173919024244,0.28406621119721215,0.23887385941583747,3.247393278004493,0.58750057315787052,0.61978082443028104,1.8270622220184325,1.930359026090146,0.33571461323306889,1.4590673575129531,1.4848915585308817,1.1039845935164381,6.1978082443028111,1.1685450960612591,0.80700628181026179,0.9425833371543858,1.930359026090146,1.8980787748177357,0.38736301526892569,2.5049474987390528,0.93612728689990377,2.5630519510293914,1.775413819982576,0.53585217112201378,1.6011004631115593,0.47774771883167494,2.3177220413590716,4.3449218212664489,1.2653858498784905,2.6340685038286944,0.22596175890687328,0.49065981934063913,0.95549543766334988,2.1950570865239118,1.2137374478426337,2.86648631299005,1.1491769452978129,3.2215690769865652,9.3096244669631787,3.3184098308037968,0.27115411068824796,1.1814571965702234,1.1104406437709204,0.58750057315787052,0.50357191984960337,1.3686826539502039,2.253161538814251,1.0910724930074738,1.5817323123481131,2.5953322023018015,5.7717089275069924,1.497803659039846,0.7940941813012975,0.25824201017928372,1.4848915585308817,0.67142922646613779,1.9368150763446284,1.5623641615846666,0.23241780916135538,0.71662157824751249,5.6748681736897613,0.8844788848640468,1.5559081113301847,1.9109908753266998,0.63914897519372738,2.9568710165527996,2.9245907652803886,8.8577009491494341,2.5565959007749095,0.56167637213994215,1.0587922417350635,0.60041267366683471,1.9884634783804849,7.8053647576688521,1.2331055986060802,7.7924526571598882,1.6785730661653446,3.8929983034527034,0.39381906552340779,1.4267871062405428,2.3306341418680359,0.66497317621165575,1.2782979503874548,0.25824201017928372,0.34862671374203308,0.67142922646613779,1.0587922417350635,0.2130496583979091,1.2782979503874548,1.0846164427529918,2.3693704433949287,0.97486358842679621,1.0200559402081708,0.8844788848640468,0.86511073410060069,2.3435462423770006,0.54876427163097796,0.48420376908615709,0.3292585629785868,13.89987619789995,2.0723921316887521,0.96840753817231418,0.63914897519372738,0.26469806043376587,0.28406621119721215,0.49711586959512122,2.0207437296528954,0.16140125636205235,1.8980787748177357,5.6167637213994217,6.456050254482093E-2,0.36799486450547941,1.3880508047136502,1.5300839103122563,1.5236278600577742,1.5946444128570774,0.5100279701040854,0.28406621119721215,3.2344811774955295,8.6188270897335943,0.25178595992480168,2.2337933880508047,1.568820211839149,1.0587922417350635,1.1427208950433307,0.206593608143427,0.38090696501444354,0.54876427163097796,0.96195148791783214,1.4267871062405428,1.0458801412260992,10.400696959970656,1.3428584529322756,0.47774771883167494,2.4274748956852674,0.28406621119721215,0.89093493511852906,2.5759640515383557,4.1254161126140581,0.19368150763446285,1.5752762620936311,0.83283048282819006,6.4560502544820939E-3,2.2144252372873585,1.6592049154018984,9.4839378238341965,1.1233527442798843,1.0717043422440276,1.9561832271080746,1.9174469255811821,3.6024760420010091,0.36799486450547941,1.2782979503874548,8.8254206978770213,0.96840753817231418,4.5967077811912516,1.433243156495025,4.9001421431519088,0.2130496583979091,0.75535787977440505,0.30989041221514052,1.0458801412260992,5.1454720528222282,5.0292631482415509,1.3234903021688291,1.5171718098032922,0.76181393002888709,0.18722545737998075,5.5328350680911553,0.60686872392131685,1.5494520610757028,0.23241780916135538,1.4590673575129531,2.0207437296528954,0.42609931679581819,0.36799486450547941,0.33571461323306889,1.0717043422440276,2.9891512678252097,0.38090696501444354,0.83283048282819006,0.42609931679581819,2.0659360814342698,0.59395662341235267,3.8413499014168462,8.7414920445687549,1.3557705534412396,0.38736301526892569,8.3928653308267223E-2,0.93612728689990377,0.57458847264890645,0.23887385941583747,1.3105782016598653,0.60041267366683471,1.3299463524233115,1.3622266036957218,0.1097528543261956,0.97486358842679621,3.9059104039616668,1.9109908753266998,5.2939612086753165,1.2137374478426337,3.4862671374203313,2.117584483470127,3.2538493282589753,0.61332477417579889,9.038470356274933E-2,1.3493145031867577,2.2596175890687329,5.3520656609656561,0.81346233206474383,2.6728048053555868,2.8212939612086756,1.4267871062405428,1.6914851666743087,1.8076940712549863,0.1097528543261956,1.9561832271080746,1.6721170159108625,0.26469806043376587,0.76181393002888709,0.43901141730478238,0.12912100508964186,1.0200559402081708,0.16785730661653445,1.8076940712549863,1.5236278600577742,0.54230822137649592,0.25824201017928372,2.5565959007749095,0.68434132697510197,0.61978082443028104,0.56167637213994215,0.89093493511852906,0.52939612086753174,0.25824201017928372,1.3493145031867577,1.0587922417350635,0.59395662341235267,1.2008253473336694,1.4655234077674353,0.90384703562749313,0.48420376908615709,6.7272043651703433,0.40027511577788982,1.5236278600577742,1.2395616488605621,1.2395616488605621,4.5773396304278045,0.12266495483515978,0.6585171259571736,1.9368150763446283E-2,3.17637672520519,0.81991838231922598,0.46483561832271075,0.51648402035856744,3.6864046953092764,0.39381906552340779,0.43901141730478238,0.60041267366683471,0.17431335687101654,0.41318721628685401,0.29052226145169424,0.3292585629785868,2.4016506946673388,1.4526113072584712,3.1699206749507081,0.71016552799303034,0.78118208079233331,0.81346233206474383,0.61332477417579889,0.71662157824751249,4.3190976202485221,6.456050254482093E-2,0.66497317621165575,2.3951946444128569,1.1943692970791873,2.0788481819432345,0.96195148791783214,1.2912100508964188,5.5005548168187453,0.67142922646613779,1.3105782016598653,7.7214361043605839,0.54230822137649592,0.99423173919024244,0.61978082443028104,1.7431335687101657,1.2653858498784905,0.98777568893576051,0.38090696501444354,1.3880508047136502,0.96195148791783214,0.82637443257370802,0.72953367875647657,0.56167637213994215,0.16785730661653445,0.89093493511852906,0.23241780916135538,3.1311843734238156,0.29697831170617633,1.0329680407171349,0.34862671374203308,1.8851666743087716,3.0795359713879589,1.0846164427529918,0.28406621119721215,0.38090696501444354,2.3564583428859645,0.96195148791783214,2.1627768352515018,2.5372277500114633,3.0989041221514055,0.60686872392131685,2.9762391673162454,1.8528864230363611,1.5236278600577742,0.71016552799303034,0.37445091475996151,0.29052226145169424,1.2331055986060802,1.4203310559860607,0.52939612086753174,1.9432711265991103,0.6585171259571736,1.433243156495025,0.52939612086753174,0.11620890458067769,5.9072859828511168,11.123774588472649,0.52294007061304959,2.0207437296528954,3.8671741024347748,0.83283048282819006,2.0013755788894492,1.5559081113301847,1.0652482919895456,0.5100279701040854,1.652748865147416,0.77472603053785138,3.1957448759686367,0.6585171259571736,0.41964326654133616,0.81991838231922598,0.34217066348755099,0.82637443257370802,2.2144252372873585,5.1002797010408543,2.1950570865239118,11.4659452519602,13.047677564308314,5.6813242239442427,4.8872300426429458,8.8577009491494341,13.176798569397954,7.8247329084322983,11.640258608831216,5.6167637213994217,11.904956669264982,15.520344811774955,7.3921775413819981,23.564583428859645,16.224054289513504,10.400696959970656,5.4811866660552981,10.57501031684167,19.671585125406942,5.8039891787794025,9.5420422761245351,76.097464349580434,14.242046861387498,9.858388738594158,5.2939612086753165,5.3520656609656561,15.397679856939794,10.516905864551331,31.886432206887061,13.667458388738593,6.3979458021917557,5.6103076711449402,3.4733550369113666,8.0636067678481353,3.3958824338575813,10.310312256407906,3.1957448759686367,7.3986335916364796,8.8577009491494341,11.646714659085697,7.8247329084322983,18.483671878582236,5.6167637213994217,8.7414920445687549,7.7214361043605839,10.594378467605118,6.1978082443028111,5.1002797010408543,5.6813242239442427,1.5559081113301847,6.1267916915035068,7.8053647576688521,2.3500022926314821,8.0636067678481353,23.564583428859645,10.400696959970656,3.5250034389472238,11.033389884909898,10.57501031684167,5.1842083543491215,6.3333852996469346,5.1454720528222282,11.982429272318768,76.097464349580434,9.5420422761245351,6.1203356412490253,5.2939612086753165,1.2137374478426337,5.3520656609656561,4.5773396304278045,11.549873905268466,25.817744967673892,6.3979458021917557,11.4659452519602,13.544793433903433,5.3714338117291023,4.2416250171947354,5.5005548168187453,3.3119537805493144,3.4733550369113666,7.08874317942134,10.310312256407906,14.267871062405428,5.6103076711449402]
[null,12,"Sports gambling",689.95873203370172,0.17877151542545894,0.89385757712729463,0.83426707198547501,1.5096261302594309,0.91372107884123455,0.6157685531321363,0.81440357027153509,0.21849851885333871,10.428338399818438,3.4959763016534193,2.4829377142424849,1.013038587410934,1.3904451199757915,0.69522255998789573,0.6157685531321363,0.75481306512971547,1.2514006079782125,2.7808902399515829,19.088825147096223,0.15890801371151905,1.6288071405430702,7.0316796067347171,0.37740653256485773,4.4295608822085928,0.85413057369941481,3.8336558307903967,0.71508606170183575,6.4755015587444005,0.47672404113455713,1.2712641096921524,3.6946113187928176,0.31781602742303811,5.8200060021843854,4.7672404113455711,0.11918101028363928,1.8274421576824691,0.29795252570909819,0.85413057369941481,1.0726290925527537,2.2445756936752064,0.99317508569699398,1.3904451199757915,1.489762628545491,0.79454006855759529,2.1452581851055075,7.5481306512971544,0.67535905827395593,1.1918101028363928,1.2116736045503327,0.65549555656001601,1.0924925942666934,1.5493531336873105,0.6157685531321363,0.6157685531321363,0.95344808226911426,1.9664866696800483,2.9000712502352228,1.2712641096921524,0.37740653256485773,0.27808902399515834,0.51645104456243685,0.17877151542545894,4.8069674147734514,1.013038587410934,0.73494956341577555,1.0329020891248737,2.1055311816776272,9.9317508569699411E-2,5.1049199404825494,4.4295608822085928,9.9317508569699411E-2,1.2514006079782125,3.2178872776582605,4.4096973804946531,0.85413057369941481,1.3507181165479119,0.85413057369941481,0.13904451199757917,2.3836202056727855,6.9720891015928981,0.27808902399515834,3.1781602742303812,2.9993887588049222,1.6883976456848897,0.75481306512971547,2.8802077485212827,3.3569317896558402,0.15890801371151905,0.63563205484607621,0.11918101028363928,0.31781602742303811,0.59590505141819639,2.9199347519491621,0.47672404113455713,2.2247121919612667,1.013038587410934,2.8206172433794632,0.69522255998789573,0.57604154970425658,0.15890801371151905,0.47672404113455713,3.8932463359322167,0.69522255998789573,0.49658754284849699,0.85413057369941481,9.0974837849844654,0.85413057369941481,0.35754303085091788,0.49658754284849699,0.65549555656001601,0.15890801371151905,0.27808902399515834,2.8802077485212827,0.83426707198547501,1.1322195976945733,2.4432107108146055,0.63563205484607621,0.53631454627637687,3.6747478170788779,2.3836202056727855,1.6883976456848897,3.039115762232802,1.8473056593964088,0.45686053942061727,7.1905876204462364,6.1576855313213628,0.19863501713939882,6.1974125347492421,1.5692166354012507,0.6157685531321363,11.282468973517853,0.23836202056727857,1.8075786559685292,1.1322195976945733,0.81440357027153509,2.4829377142424849,0.91372107884123455,15.116124804308249,0.79454006855759529,0.35754303085091788,3.3370682879419,0.43699703770667742,0.37740653256485773,2.6021187245261244,0.45686053942061727,0.55617804799031667,1.6883976456848897,1.1918101028363928,0,9.0180297781287067,5.6213709850449858,10.607109915243896,1.0726290925527537,1.0527655908388136,5.780278998756506,1.8075786559685292,4.0322908479297954,2.4432107108146055,4.4295608822085928,8.4221247267105088,1.6288071405430702,29.517163546914663,7.1309971153044174,3.3172047862279603,0.29795252570909819,3.2576142810861404,1.2514006079782125,0.97331158398305417,6.5946825690280404,14.619537261459753,4.0720178513576757,0.79454006855759529,0.11918101028363928,0.11918101028363928,11.779056516366349,1.1322195976945733,2.0658041782497474,0.17877151542545894,0.25822552228121842,1.5692166354012507,0.21849851885333871,0.13904451199757917,0.4171335359927375,3.3569317896558402,3.9131098376461564,0.23836202056727857,0.95344808226911426,0.49658754284849699,7.270041627301997,0.71508606170183575,9.4550268158353834,8.6406232455638481,0.4171335359927375,0.15890801371151905,0.27808902399515834,2.2048486902473265,0.6157685531321363,0.19863501713939882,1.2911276114060923,0.6157685531321363,2.2445756936752064,2.3836202056727855,0.17877151542545894,0.47672404113455713,4.2110623633552544,5.661097988472866,8.8988487678450667,2.6617092296679439,1.5493531336873105,10.507792406674197,5.3830089644777077,1.3507181165479119,0.27808902399515834,1.986350171393988,1.0527655908388136,3.4165222947976592,0.4171335359927375,1.5890801371151906,3.4761127999394792,0.89385757712729463,4.290516370211015,1.7479881508267097,0.11918101028363928,4.1911988616413147,2.6219822262400641,1.6288071405430702,0.37740653256485773,0.55617804799031667,9.9317508569699411E-2,0.93358458055517435,0.31781602742303811,2.0856676799636875,0.29795252570909819,0.31781602742303811,0.37740653256485773,2.3836202056727855,0.51645104456243685,1.1123560959806333,0.31781602742303811,0.83426707198547501,3.9727003427879763E-2,0.15890801371151905,4.052154349643736,4.3898338787807134,2.2048486902473265,0.79454006855759529,4.1911988616413147,0.35754303085091788,0.31781602742303811,8.4419882284244494,0.85413057369941481,1.1719466011224529,1.4698991268315511,1.3507181165479119,2.4630742125285452,0.29795252570909819,0.21849851885333871,0.35754303085091788,0.87399407541335483,9.9317508569699411E-2,0.57604154970425658,0.73494956341577555,0.39727003427879765,0.37740653256485773,0.19863501713939882,0.57604154970425658,0.53631454627637687,0.45686053942061727,0.21849851885333871,3.2178872776582605,3.7343383222206974,4.588468895920113,4.588468895920113,0.69522255998789573,1.5692166354012507,1.489762628545491,2.1651216868194472,0.87399407541335483,7.4090861392995748,1.6288071405430702,2.7411632365237035,3.6548843153649382,3.1781602742303812,21.909442390475686,0.27808902399515834,0.19863501713939882,6.8727715930231987,0.59590505141819639,6.6741365758838,7.7864926718644334,0.49658754284849699,1.4698991268315511,1.2116736045503327,1.4500356251176114,2.8206172433794632,1.0329020891248737,0.25822552228121842,0.63563205484607621,0.6157685531321363,1.3507181165479119,1.7281246491127695,0.49658754284849699,0.23836202056727857,2.7808902399515829,5.1247834421964891,1.0329020891248737,0.39727003427879765,2.1253946833915673,0.21849851885333871,3.0788427656606814,1.9664866696800483,0.27808902399515834,0.23836202056727857,0.55617804799031667,3.7740653256485772,7.8460831770062534,2.6021187245261244,3.1781602742303812,5.9590505141819641,1.1123560959806333,3.4363857965115994,1.3705816182618518,2.0658041782497474,0.33767952913697796,0.33767952913697796,0.31781602742303811,0.59590505141819639,0.55617804799031667,0.13904451199757917,0.25822552228121842,0.63563205484607621,0.33767952913697796,0.29795252570909819,0.29795252570909819,4.886421421629211,41.673626595845867,0.83426707198547501,3.9329733393600965,1.6486706422570101,0.21849851885333871,1.5692166354012507,5.0850564387686097,1.4500356251176114,0.39727003427879765,4.886421421629211,1.0329020891248737,2.6617092296679439,0.77467656684365527,0.27808902399515834,0.83426707198547501,0.69522255998789573,0.53631454627637687,1.6883976456848897,20.002546225937461,2.2445756936752064,10.805744932383295,15.771620360868265,2.1055311816776272,7.865946678720193,4.4096973804946531,22.862890472744805,6.3960475518886417,10.0112048638257,2.4432107108146055,25.643780712696383,7.8262196752923128,10.110522372395399,38.098196287336691,11.242741970089972,15.116124804308249,11.520830994085131,17.062747972274355,50.512884858549121,10.428338399818438,30.351430618900139,178.83110593060073,15.513394838587047,30.192522605188618,8.8988487678450667,3.4165222947976592,18.850463126528943,13.606498674048819,30.232249608616499,20.201181243076856,29.338392031489203,3.1185697690885612,11.302332475231793,8.8988487678450667,3.4363857965115994,8.6406232455638481,2.6617092296679439,8.1241722010014108,4.4096973804946531,8.7796677575614268,6.3960475518886417,14.698991268315512,2.4432107108146055,8.6406232455638481,7.7864926718644334,13.546908168906997,19.088825147096223,20.002546225937461,2.1055311816776272,5.1049199404825494,9.2166647952681053,6.9720891015928981,2.5226647176703647,8.8988487678450667,38.098196287336691,15.116124804308249,5.7405519953286257,12.692777595207582,17.062747972274355,6.1378220296074231,10.468065403246317,6.5946825690280404,3.7343383222206974,178.83110593060073,30.351430618900139,5.8994600090401441,8.8988487678450667,2.6617092296679439,3.4165222947976592,2.4630742125285452,16.307934907144642,61.576855313213635,29.338392031489203,10.805744932383295,15.374350326589466,15.890801371151904,3.5555668067952384,6.8727715930231987,6.4357745553165211,11.302332475231793,22.425893435038127,8.6406232455638481,45.268920406068986,3.1185697690885612]
[null,13,"TV/satellite subscriptions",4646.3999999999996,0.16760090899253327,0,0,0.16760090899253327,0,0,0.50280272697759987,0.33520181798506654,0,16.089687263283196,0.33520181798506654,0,0,14.916480900335463,0,0,2.8492154528730658,0.16760090899253327,22.793723622984526,0,0,0,0,0.16760090899253327,0,0,1.0056054539551997,2.0112109079103995,0.67040363597013308,0,44.414240883021314,0.67040363597013308,0.16760090899253327,1.3408072719402662,0.33520181798506654,1.5084081809327996,0,0,0,34.860989070446927,0,0,0,0,1.0056054539551997,300.00562709663456,0,0,0,0,2.1788118169029329,0,5.6984309057461315,0,0.16760090899253327,0.33520181798506654,0,0,0.33520181798506654,30.838567254626124,0,0,0.16760090899253327,1.843609998917866,0,0,0,0.33520181798506654,0,0.16760090899253327,0.50280272697759987,0.16760090899253327,0.67040363597013308,0.16760090899253327,2.8492154528730658,0,0,0.16760090899253327,0,0,0,0.33520181798506654,0.33520181798506654,0.16760090899253327,0,0,72.571193593766907,0.33520181798506654,0.16760090899253327,0,0.16760090899253327,0.33520181798506654,0,0,0,0,1.5084081809327996,0,0.16760090899253327,0.16760090899253327,1.173206362947733,1.3408072719402662,0,0.50280272697759987,0,10.22365544854453,0,0,0,0,0,0.16760090899253327,0,0,0,0.83800454496266641,0.33520181798506654,0,0.33520181798506654,1.5084081809327996,0.16760090899253327,43.073433611081057,0,0,596.9944378314035,17.095292717238397,0,4.5252245427983988,0,0.33520181798506654,3.0168163618655992,0.16760090899253327,0,0.16760090899253327,0,0.16760090899253327,0.16760090899253327,18.436099989178661,8.0448436316415979,0,46.257850881939184,0,0,2158.196905096851,0.33520181798506654,0.16760090899253327,0,0,0,17.26289362623093,9.0504490855967976,25.810539984850124,0,0.33520181798506654,0,1.5084081809327996,7.542040904663998,0,8.7152472676117316,0.50280272697759987,0,8.8828481766042628,0,0,0.33520181798506654,2.0112109079103995,0.33520181798506654,0,0,0.16760090899253327,1.173206362947733,5.5308299967535985,0.33520181798506654,0,13.408072719402663,0,0.16760090899253327,0,0,22.290920896006927,0,0.67040363597013308,0.33520181798506654,0,1.843609998917866,0.16760090899253327,0.33520181798506654,0,0.16760090899253327,0,2.6816145438805323,17.598095444215993,0,0.16760090899253327,0,0,0.33520181798506654,0,0,0,0.16760090899253327,0,0.16760090899253327,0,2.8492154528730658,0,0.16760090899253327,0,11.22926090249973,0,0,0,0,0,0.16760090899253327,0.67040363597013308,0.16760090899253327,0.67040363597013308,0,0.16760090899253327,0.16760090899253327,0,0,0.33520181798506654,0.83800454496266641,0,0.16760090899253327,0.16760090899253327,0,7.709641813656531,1.6760090899253328,0,0,0,1.0056054539551997,0.33520181798506654,0,0.16760090899253327,0,0,0,0,416.82346066443029,0.33520181798506654,0.33520181798506654,0,0,0,0,36.20179634238719,0,0.16760090899253327,0.16760090899253327,0.33520181798506654,0,0.16760090899253327,0.33520181798506654,0,0.16760090899253327,0.16760090899253327,0,0,0,5.3632290877610647,0,0.33520181798506654,0,0,0,0,0.16760090899253327,0.67040363597013308,5.8660318147386645,0.33520181798506654,2.5140136348879993,0.33520181798506654,0,8.7152472676117316,9.0504490855967976,0,1.5084081809327996,1.0056054539551997,0,0,0.50280272697759987,0.33520181798506654,2.0112109079103995,0.67040363597013308,0,3.1844172708581322,0.16760090899253327,0.67040363597013308,0,0,0,0,0,0,0,0,0,0.16760090899253327,0.16760090899253327,0,2.1788118169029329,2.6816145438805323,0.33520181798506654,0,0,55.811102694513579,4.8604263607834648,19.944508170111458,1.0056054539551997,0,0.50280272697759987,0.16760090899253327,2.5140136348879993,23.966929985932261,0.16760090899253327,0.16760090899253327,0.83800454496266641,0.67040363597013308,0,0.33520181798506654,0,0,0,2.1788118169029329,0,0,0,0,0,0,1.173206362947733,507.66315333838332,0,0.16760090899253327,1.0056054539551997,0.83800454496266641,0.33520181798506654,0.16760090899253327,0,0.33520181798506654,0,0,1.0056054539551997,0,0.67040363597013308,3.3520181798506656,0,0.16760090899253327,0,0.50280272697759987,34.860989070446927,0.50280272697759987,3.1844172708581322,0,1.0056054539551997,0.16760090899253327,0,0.33520181798506654,18.93890271615626,0.83800454496266641,23.799329076939724,3.6872199978357321,0,436.43276701655668,0.33520181798506654,18.436099989178661,0,0.50280272697759987,20.112109079103995,0,0.33520181798506654,3959.2362731306139,19.609306352126392,0.16760090899253327,0.16760090899253327,0.67040363597013308,37.207401796342388,2.3464127258954659,41.062222703170654,8.8828481766042628,9.0504490855967976,1.0056054539551997,0,4.3576236338058658,0.33520181798506654,1.6760090899253328,1.0056054539551997,2.8492154528730658,0.16760090899253327,0.33520181798506654,0.33520181798506654,13.575673628395196,0.83800454496266641,17.598095444215993,3.1844172708581322,2.8492154528730658,22.793723622984526,0.50280272697759987,0,0,1.3408072719402662,0,0.16760090899253327,4.3576236338058658,436.43276701655668,18.436099989178661,0,25.97814089384266,0.50280272697759987,36.704599069364789,0,0,1.6760090899253328,3959.2362731306139,0.33520181798506654,2.8492154528730658,0.16760090899253327,0,0.67040363597013308,0,37.207401796342388,56.146304512498645,9.0504490855967976,0.50280272697759987,17.430494535223463,0,1.173206362947733,2.0112109079103995,6.2012336327237314,0,0.16760090899253327,1.6760090899253328,18.93890271615626,1.0056054539551997]
[null,21,"Health cost savings",3232.9085628987696,3.6654437322309517,5.5549359183108997,6.3972052410524771,8.1056990292588136,6.3375758516060774,6.6841224845545453,10.941607026752694,4.6765142744360393,7.2972782129230289,23.978979035807164,12.805243875822468,3.3827557364027596,10.00554400547716,9.8042863335239474,6.3949622570398947,13.756870768883557,9.3344907402223747,13.412673356224532,55.675687578435614,6.3085535114750311,7.5016092259000837,7.5959679868298462,3.6282308058410386,17.303366092995468,3.0070338748889851,13.798286287425048,7.6033466633175202,26.740364928982199,8.0147224433106121,6.5998716991689896,18.275971027028032,4.7972125300469379,20.239169131540805,28.52735482706888,6.9947952625369885,19.998800884855669,6.0410291981411115,5.8582109426861901,6.6106860648342156,32.704403489200196,4.1832495219811463,11.47677747425427,12.579712490174808,10.532810932456911,41.931445736684907,18.233565559627063,5.3989827972976627,9.6053846167086032,6.9686914120785781,4.8071299074893838,13.614436133778247,11.366900147970625,11.466237133241551,7.5316838536994331,8.4252632957093088,22.748376320052156,20.673372901936251,5.9043097106668476,6.5356657887704186,6.1091504739129787,7.3871446689899711,2.7263050326874922,0.57563304570116536,10.548688734620104,3.9312287556976342,3.6638328244603287,31.100268098586206,4.5687094052074606,30.560833087126746,20.520576302655009,2.9217984178571341,7.5754574082552688,21.172261098089603,28.557002696343268,8.0028075895090733,6.8986300766966844,5.9121033768830236,4.0551734007740201,15.767115269555029,59.955342096741219,3.7552826477386203,44.625641136438055,20.589958939873391,22.607853714723642,6.2333020748621708,17.966665159898064,19.399547402526764,4.7159163978115588,7.2087339688952516,5.0050346949157447,8.0901677696810435,9.2052872367696654,8.5930968346390522,4.4961100691767406,17.501959902962756,7.5493348940780285,30.012553662445072,5.3604206174000639,7.5826902804913106,3.076921301267765,7.549127560844112,23.365489380056822,6.6350524897392962,5.1474378029424122,7.3552146902139315,81.822711676203824,8.0195060626174079,5.6592325124974971,5.8973315767910544,2.9989046485003592,4.4114498226405594,4.1059903539602196,13.100696278516146,6.6106871303642434,8.5135173302809619,38.199830255160833,4.2268562525712179,5.7273283036906593,5.7347679271310597,16.081224281552437,7.7699006991641717,21.186695769869594,7.0908760997486517,4.738800109477471,13.679163591800737,79.6772698234914,5.6075465148348407,20.108776175899933,5.2167072688187934,7.7885159254956564,18.155769398231392,4.6880794793922957,6.6696234268948089,4.5535032985976187,6.2373666944188271,12.806532386417917,9.5230756127759317,70.791725728388016,6.1150904932351677,5.6767083680824904,17.276699240915629,5.8118401763026517,8.9516028367283038,16.715225773237968,10.614312877041503,4.4696103969500101,7.215525240091484,6.6923140103696106,0.18702956442132937,17.364920234262044,11.52983663833254,83.937611372093642,4.8092117159741328,8.5346385906862139,14.102300638727188,11.561501068760482,21.580905028239656,7.2367986268862081,25.219475128731943,70.725082339046239,8.8645033272906471,50.617663855966939,17.559375341832684,42.835635506997477,6.3211313611698552,17.315545379911821,6.5048819059786203,5.3657249109045839,39.510191897399999,30.807844212242749,9.300267960956397,8.850241513388255,3.7000542678448309,4.2685629397778815,36.458168382376769,6.3601351874021788,13.9216418356788,2.775109748481293,6.0726085263561602,14.372972584080836,4.4458786616679236,5.7377266733502923,8.9281265903450997,7.8345709988490677,17.052430415774417,5.9348951888392714,10.885368279370867,6.5928181293693138,18.101130212575317,7.261911788685472,14.690170361698906,48.027402046483147,5.8937677054861188,3.8168085710159159,5.9169147594040892,9.0285867295158067,8.5059917967937171,6.2086506793453973,8.8631236971923855,5.1187129876265507,12.655785014129453,13.466620285550251,3.4300534268405984,4.9889670973051539,32.722637544818426,13.445120081299084,39.585486036888263,16.494411484994597,8.0199202781371675,17.901631297029439,46.892042644617653,6.6971911907455244,3.4621574848342722,11.532446180277674,10.638463257979865,41.272959147343691,4.271174310506197,9.7002827497535424,17.20874680694488,10.141756889826921,12.804078696801666,8.8404214985010796,2.496279989604,10.348696407579689,17.923220310932631,7.3535924023783439,5.4438575425779563,10.060059306906608,3.7811089169211409,16.27577234336125,3.6045888902654393,10.735188267940933,4.7923120475886423,4.3286196577921929,4.3724061948596571,14.877081081594786,5.7825273511282722,6.0016079369133335,7.9851780240017343,5.9682710914420189,2.5145608257936045,2.9783313932797615,14.202715378792927,13.037933243727412,5.4403871534263297,5.5593263040455039,15.673127734070682,5.2502156550166346,7.6833559628533505,38.088769715075372,5.7343894883733864,19.464527319102732,6.9895632705129112,13.154645789916064,28.895323136956272,4.7983023347610141,10.171073952583882,5.5543606041867015,17.379908587873352,5.0515646561426086,3.6918765072318136,7.1926814952316267,5.6424695725856306,7.0246953011961786,5.3299999967201686,7.8874000427291948,7.2582730319428199,9.0564783752405926,6.2935416198616796,7.8276311546284223,14.676536129839816,9.7598355288181899,20.496032501810934,5.7195337076754953,10.689715348040869,5.9484066938834692,9.3120510077672645,7.4065105819806449,49.942399468920058,5.5220807759218449,4.4932051915313203,16.783516811077359,12.087856174267106,12.651664326642328,7.5527641244713433,7.6115979750959308,39.564726443344178,7.2669546666385285,15.877288841793664,74.772564301097304,6.2425084913085662,11.73784427783378,7.3803513982550628,12.064928226253633,12.151785331785316,4.0051551051161152,5.6360406292332081,6.6392582347332123,7.2060842551508744,9.1636733279158804,6.1676149386997778,7.8001323113816721,5.5628718682364902,5.5636080495983133,5.360634064379223,8.2668764497707681,7.6409047355160844,6.4997567285878981,3.767997492229183,18.134950236579684,15.619695287077196,6.9225193674102048,5.671435909326739,7.709194641825456,16.736545369927615,14.483235947113515,16.624889056481379,24.254084489212456,13.754580626001351,9.6234621643679912,33.085998257553719,6.0395658796602811,5.7206942464440065,8.070008823927159,9.4050921904178786,3.7860379484837852,6.521217185782497,9.9856028179572309,3.0321083342486896,4.838864364170627,6.7576547994004814,5.4511275951585425,6.6126379090998624,1.567651696580795,49.961039942215187,18.041664822804698,3.7245610623298626,17.959521710649764,28.718248765406333,8.7348188187207114,10.379220610891004,19.37467451953151,6.641444153342964,11.097046995046828,13.829811141523777,6.2054744596152664,34.363554082206576,6.199044556626343,6.4966464968198796,10.855343653773513,6.4773318548103216,5.907983445274481,13.550123300300184,59.317645492262784,32.704403489200196,57.176329847989763,124.47203446093695,31.287297663007536,53.606574560208728,28.557002696343268,124.74901603838831,46.547896891975611,103.96525545668835,38.199830255160833,109.68155825681566,85.805666951422538,57.401902324108178,164.22318091722769,97.229467808927097,70.791725728388016,49.495970968398126,85.822659551776155,170.57108884778327,57.880450023036559,89.495372200247061,557.26316505556099,87.592128489827317,115.42861134518515,39.585486036888263,41.272959147343691,108.20547114531789,93.389561756144232,227.72123052501036,99.971833592421177,62.594063795562391,40.783176991659971,40.844273079086022,56.403476765305193,38.151276259794543,72.31991919795523,34.363554082206576,63.774720748081364,28.557002696343268,68.334144671970833,46.547896891975611,99.849423654792787,38.199830255160833,48.027402046483147,74.772564301097304,100.21276273620107,55.675687578435614,59.317645492262784,31.287297663007536,30.560833087126746,66.761220350124802,59.955342096741219,28.628200647018616,56.403476765305193,164.22318091722769,70.791725728388016,35.393670329670947,97.859253207772454,85.822659551776155,49.756833904974627,60.395010848830154,39.510191897399999,51.63172848643844,557.26316505556099,89.495372200247061,46.272760845118611,39.585486036888263,16.494411484994597,41.272959147343691,28.895323136956272,86.361053612366021,214.61624528565721,62.594063795562391,57.176329847989763,113.85019866050251,64.7936739416471,43.88662969498251,39.564726443344178,32.249194834957017,40.844273079086022,68.373366773063807,72.31991919795523,128.25519167329125,40.783176991659971]
[null,22,"Other health benefits (QALY's etc)",17827.511424297074,20.305769039188885,30.796986011677685,35.359335592102177,45.284783977593897,35.027874006766346,36.736526788773475,59.763468392846796,25.96252038378648,40.666603567507579,132.30776511621801,71.347650353108534,18.558020366309133,55.019009462561819,54.448238287906513,35.258759756792344,75.431225139998958,51.632773331483975,74.415659706839804,306.60994611407455,34.72603557967436,41.078572460085439,41.732924320214558,20.100952268584429,95.029111871822877,16.635018967581207,75.957527843795305,41.497503882283894,146.58218865443337,44.242315095628229,36.905726285835861,100.26522304448828,26.395331289822938,112.36927283894272,158.04878879719817,38.580974041039958,109.17779125209901,33.411737780914891,32.276240386052756,36.473958656409316,179.99133770466065,22.992394418494417,63.406071913264277,69.553910201240157,58.356194934300277,231.77025062314516,100.99956322970239,29.905274097016274,53.334054217687473,38.020628900391657,26.490571809381358,75.060098243217084,62.813904828831305,63.131279655364764,41.841630237317105,46.178421503539624,125.8515349621812,113.87285607066153,32.22237113967396,35.686940925320776,33.828197608796707,40.440952924396647,15.308024217267796,3.1650050285319282,58.410831323303363,21.509335160120845,20.147519984232925,169.48851473393498,25.149099339134672,168.13036907634515,113.9414669020635,16.15254658801592,41.814878003439588,115.93211497272033,156.60569779146439,44.384609063909558,37.88427120765698,32.530385679637071,22.32018025958725,88.228769251071071,330.50911602438185,20.536217269586693,246.43355116749154,112.53499073593727,125.15693117925241,34.122624542146596,98.44060428209508,107.52613610800138,25.711167038850398,39.874957632491352,27.786726509169434,44.273955845118032,50.170112684724153,47.321317103115845,24.861485781019411,96.685679264535452,41.622761561254976,164.73848419938528,29.727247680124179,42.052169442261366,16.926437773493436,41.074752307043163,128.71131558566967,36.88751414788841,28.37414683007972,40.237075646004044,451.94927841039214,44.629727091120671,30.853407560316679,32.782889219474235,16.51450133304483,24.365520100786672,22.779314354549552,71.835131438711798,36.651904502890631,46.871329734704915,210.40465084860435,23.250335243485296,31.650504537629232,31.815065084844072,89.110090559251958,42.648542311942158,117.67382100485418,38.456275337254091,26.154110502427141,75.302918277090313,439.7010978714074,30.665419901413966,111.42173339971674,28.615257480132616,43.607537840914105,99.918271637871356,26.025837520426421,36.361825241739098,25.005974578120448,34.616320517153454,70.226773680596622,52.668052356258997,389.57535162821745,33.646123496415846,31.022345660437356,95.998910332249807,32.042852921799671,49.072945191712066,91.802585888823316,59.060930014353204,24.581017270641269,39.79354526909691,37.162541979295327,1.0216774496885426,95.986886065032152,63.907928285782717,462.56855221765221,26.579223368119514,47.646479036787781,78.343353791747148,63.757930249254123,119.5828435902942,39.734467824733883,139.90513188971636,388.82894017427878,48.648038977408419,278.34468520021375,97.078976029711271,235.87096761721384,34.43942987052484,95.696755379506939,35.796130176996037,29.487501408126253,218.05810220252366,170.40554201871961,51.449466112575337,49.09901716478506,20.54750069041879,23.317756722540373,202.40200046595029,35.137361254875593,76.497346914997905,15.166313707702969,33.385380941319717,78.980804769993412,24.452391042452309,31.741568748311195,49.297009939097123,43.309412135756347,94.054675758834904,32.594843510959805,60.286118401136271,36.101349267128747,100.80666106795863,40.13715777888919,81.302403856592349,266.97790272256179,32.686924241258218,20.80081128742011,32.463596257986126,49.840970941145095,47.084006637514292,34.385057624332497,48.627381952905274,28.476756812509059,69.984195211776978,74.11939129365723,18.782193522591974,27.689644991039312,180.76493938432435,74.494905152312214,218.69927993806274,90.773879524511813,44.532605830923707,99.19779740145168,258.13897333720774,36.828423299800875,18.990039237434324,63.74711558345814,58.897678014588962,227.19060271494121,23.500102914092356,53.688134587018652,95.214873069155274,55.655679034379048,70.705267672700117,48.558180630596532,13.770831799438357,57.084826437556359,98.654644608480965,40.554889400042441,29.887467848486903,55.51678240562272,20.894891559708086,89.452961492405805,19.84474015700885,59.625757317641671,26.695641274733163,23.561983967195644,24.11953842720277,82.98745373892325,31.832832553182513,33.194235824859554,43.487765892344797,32.797006553482184,13.776756449317896,16.36982223436598,78.589252083906231,72.057011513992066,29.86388318428855,30.842694331596345,86.565332209664987,28.77229887730379,42.016647984821915,210.71007832689702,31.388448181862923,106.49841116032611,38.421215682781238,72.019910556872091,159.75641521360853,26.455052032843678,55.859069416167102,30.33845293893603,95.240927423482233,27.651886172151432,20.070008620494463,40.087677622096081,30.794289579471631,39.020295630621348,29.320939952967208,43.205724075214015,39.743006387368901,50.112153867454204,34.598098272745503,43.150644542280119,81.050877327714588,53.635314087751205,113.70714097865783,31.634991085420207,59.167926390580291,32.797308519573775,51.469911614758281,40.79088846257546,274.90172382486776,30.006694660053469,24.537360586051186,91.758420951535314,66.039147047395147,70.292127498179852,41.700657139758043,41.570947310592118,218.70447703716158,40.082467681690886,87.80350765578207,410.98897828367245,34.623434735256197,64.416956514118951,40.575881399293387,66.519236052622276,66.944045840092443,22.044718815336871,30.714219159258818,36.708361512683034,39.768591764506951,50.384831944814685,34.331443575310168,43.010572536185947,30.606124126068899,30.972773260229246,29.433040212726592,45.437663541385952,41.933902304772268,36.398969916958826,20.771972559695268,100.38875805420901,85.665384362085248,38.207786156013519,31.18258260584663,42.398396219108776,92.156798257975865,80.01337436464793,91.854152611003173,134.68221249259287,75.203153031444515,53.165972044933362,182.31007856026682,33.030896913924522,31.81256510165753,44.316046367692259,51.446293643413057,20.975025439824261,35.845035256318283,55.054451990108895,16.597100663815361,26.957472493643806,37.314220806548541,30.071520856777283,36.510382902489823,8.7078245605552311,275.71953132869567,99.724455476604405,20.533064872312913,99.148143247100705,156.35107367743461,48.087135963935204,57.06071539213464,106.66632166817993,36.296983745537702,61.156391383244383,76.577049858601541,34.304296482431788,189.69968430834706,34.257204252343342,36.039222174106328,59.944619670173481,35.814835963278419,32.739203299866801,74.925027573617498,327.08804001933657,179.99133770466065,314.9275440642873,685.66034091680456,170.51019218362353,296.25154546233028,156.60569779146439,687.84588676304122,256.77013805742683,572.71785148594176,210.40465084860435,604.03715025081942,474.46001979224906,316.52645509657395,906.31530363685749,537.80380936721428,389.57535162821745,273.4973859503329,471.64043695457877,941.02548713711712,319.17318719760721,493.2978506733109,3077.0414051161838,485.68237975972346,636.61958459924688,218.69927993806274,227.19060271494121,597.62585257790283,515.34870248930224,1254.8266393715646,551.00167205971684,345.19385132304757,222.87030973005687,224.14954503258997,310.27510476810943,209.55129546139977,398.70513657245635,189.69968430834706,352.37564622247731,156.60569779146439,378.04739415360569,256.77013805742683,551.02225603952945,210.40465084860435,266.97790272256179,410.98897828367245,552.8272883670237,306.60994611407455,327.08804001933657,170.51019218362353,168.13036907634515,368.27145601920239,330.50911602438185,156.88324310514076,310.27510476810943,906.31530363685749,389.57535162821745,195.15403215858586,539.06589913264997,471.64043695457877,274.04601346349557,332.94994364692508,218.05810220252366,285.45838521016384,3077.0414051161838,493.2978506733109,255.68996695794186,218.69927993806274,90.773879524511813,227.19060271494121,159.75641521360853,477.58017315486615,1183.8005990590234,345.19385132304757,314.9275440642873,628.6197848511174,357.33677073865942,242.36773666460618,218.70447703716158,178.14233768727641,224.14954503258997,377.71533599838983,398.70513657245635,706.22042590415731,222.87030973005687]
[null,23,"Volunteering",6964.1995253310033,4.6823472540626589,6.7136497614385116,9.4375139569486421,8.421832191820787,21.633137158114263,11.790482042250137,47.702141120404256,13.333938070540121,17.176550199423179,31.071985949226001,47.008328612214591,14.433611678486212,21.529328103078214,22.24626996616847,11.187314363901821,16.560524256902184,11.535659714531979,25.637956083539716,84.225168957468341,5.8564146330146887,37.694007589068043,24.800245011812727,10.375765034588895,45.284015965144476,5.7466958782520257,23.168001758319619,14.34980508058802,137.73830342882442,11.626223527580271,7.5543501781401794,21.154900245644427,10.256788353900944,24.123505305937726,50.896058604710028,16.171957750732776,55.509946065998179,28.821447273745175,5.4693040497311722,7.7232413263832527,106.39179813514443,8.4058253208299796,27.341896257209168,43.442602316534519,13.267246978569393,66.964975174920326,15.22624023373991,13.177272819311323,15.7220930759922,11.408494605025343,4.8137926650325715,55.083116496513014,10.305892722873036,37.115801860151635,16.410526006981229,29.026584290405381,52.337684732279129,47.575050260901563,13.37121953996048,13.897705433731275,13.120662337902079,16.406862751703869,4.5358429479536237,9.6356532160085273E-2,55.416646997332421,10.395889792220947,5.995285412716604,89.080398849709127,9.6564941655156424,35.828552473042421,34.092052261245051,12.662530736124689,11.945665256246579,20.19894616567484,64.865168234831543,7.6899965674624395,8.1167312080961729,7.8299228396890435,5.1857180057116006,27.044407809399512,132.37544255454512,6.4081282332679663,84.182203711361112,54.382329418605181,55.505111281502948,16.231025328690443,26.684504672167261,21.101097570135298,7.9101807706178553,11.19175384543213,23.213706949275899,15.461382650874555,14.568613261902472,21.455339661355918,6.5774137323660442,31.801508283777576,7.6288370921575979,66.953296730970607,8.1648150967255333,18.741506661525079,3.6694475569140095,15.997850241881336,68.604753861729691,8.4226523339576662,9.0236300806272123,33.050871264430398,241.60356489566084,9.831921750973061,11.450155265052512,7.9580481436355823,7.7366706505679019,7.3483730681998125,13.93039287384326,29.939057879466869,12.132888105920712,21.984727153851757,99.143087247112547,5.9707002712500401,6.4421885268393222,12.978903255612646,19.952439293407419,15.418001642377339,64.750602960063929,7.3775442859984723,7.9655821893095604,32.669408843632887,190.84843340728065,10.942388619708884,42.699603758371332,15.24381309885006,12.701030825439091,20.115928145239625,6.1050279449900478,8.0933615526252698,9.4158180328873247,23.05301829807231,19.540756708383142,21.369946135823685,99.772529456921035,9.4430334388941191,11.250248915015575,29.85057599798872,12.165660886298619,15.226818674861265,20.023595085122032,16.553798339564526,8.9314769878134328,18.215679279258328,18.377440590482053,0.37811986126759983,28.977561303017236,6.0609481124288944,184.58634107761648,11.933823591374802,49.762421326718098,30.572907781019449,17.590737283117605,74.5303550499479,11.728507891105988,13.267832920154172,149.14373453071551,18.681706359825451,147.52314528518329,15.293095731290821,72.690531251426052,16.101266480787391,12.006825611177153,14.327346521652185,11.585837757978906,101.70531709333815,60.155156871841974,26.634816985865399,19.367762336479654,16.044099827108305,11.438081389542313,44.033037654098699,22.240569859777381,61.906782822400395,11.638742257146246,16.583066697572356,23.550011535573635,7.0962682046242431,11.008427639473895,18.966795625803574,5.3328933981991584,34.675386068952086,7.9808556034892124,18.08142871746692,15.460261069289444,17.591894189081145,22.155722975702588,6.9716863814134111,134.4416372964769,9.4738868810046828,6.3735481563979652,12.699845384539469,15.332648530001256,7.2511807572643194,16.789442764448697,26.567748129615207,11.242096669029641,31.400695647893667,19.599652813156784,16.93644468288198,9.9275597384509044,77.759686844956576,33.699806662428891,105.57346264047561,40.379614055705957,20.388434580260167,155.71566166938138,109.26979367457984,19.796707993499442,2.5247736320241176,19.52943522170829,15.224648706072751,103.14220304338684,2.9116040801063376,6.5953994602537938,35.543542416142081,20.585350794730086,47.958067382405503,21.786124430056304,5.5950456162969537,16.470608794504304,21.673756421088598,12.755557665520326,11.881776312425636,43.848348092698785,15.520034407988417,22.068949430833946,8.2700656234222478,27.394084458990079,19.326651439669185,4.7098577537600992,7.4041491160069892,48.089972707618763,15.475755771181088,9.3836283503534457,18.892381791192971,4.5085270981463017,9.3290987619095542,8.0431478486700811,17.838394070453369,18.156358452456391,7.9693130237586418,12.20402121251438,41.236152114904101,20.148016598232275,22.166502490430634,149.20642977839614,11.484414026889366,38.931233229931607,9.2848273565439214,33.292988291785498,71.763474383601277,9.0092005288332526,21.275700942532968,8.7374424163941775,19.193551337341905,15.690695204852485,10.34742512194002,16.371427695510263,18.244074840746531,16.343473535983389,32.612316192266718,22.62805954993873,19.38013616940875,22.589890991697683,19.535866232798174,16.481601705673032,34.274452418085751,21.89429980152596,14.011123997311879,15.20459462378899,15.362394095444607,7.4334303727771962,20.915178525511081,19.404563723713149,112.584302662971,10.049200761369564,7.7138797301401416,31.845163239847377,18.497542328964332,28.474151047522,13.999884267168069,32.223592931814757,98.239164691430915,13.718573505457085,14.847860134837234,165.8193300594329,9.5544607346376687,16.330091676252106,17.268650658996858,18.062973441795563,39.4256640905948,6.3054925362664394,13.229332433657117,13.959548001792555,11.081289804773681,21.415749165059495,17.390057624203617,16.176341290881634,11.519373920749333,13.639522693559345,15.153567340471239,27.215483301200653,21.80006741930584,21.65669063400313,13.038399861780251,56.472357021130868,20.449420630393817,20.843709638493639,24.417709064795943,20.430155395474593,37.855742410771896,28.432892834758324,38.840217328302799,19.536979153701516,19.19726227330035,38.358672660063597,104.56746537479417,5.4299546042741156,26.792445173356377,20.184999956341258,25.867248004563361,9.5690990436109615,11.690605611336407,18.817689047678094,6.7779881579205599,9.5731900007287205,7.811205805612528,19.409148213852315,15.832755101495406,6.4269474800242969,80.514607378216581,13.89439054779662,6.2137776108497862,23.987052130547522,73.780112132278489,49.054075242852768,28.18805498686735,28.848667448015878,5.9936282995805454,15.051072743646271,20.597714793202869,33.931883234197826,112.91282390109768,7.3734429416904304,21.196339049153735,36.559794148004833,10.668507589767087,5.643296642032972,27.96484565760024,93.871470752584841,106.39179813514443,119.10999726648105,215.02049154108886,89.458518710976719,138.65951763603923,64.865168234831543,397.36089789850632,99.258463834552643,223.37021676034132,99.143087247112547,205.30362644684519,179.49088556920714,143.60571375295464,297.12816371898754,213.14591114510759,99.772529456921035,104.27481272441348,211.6379871315963,561.57490092087278,78.654528220807308,170.26120713737748,836.63511242278071,232.68080198790781,174.66823325096345,105.57346264047561,103.14220304338684,346.32120483982533,258.59856878894914,604.15976862937475,294.08465454117078,141.05845371049301,91.843085574074038,52.796086153405263,102.16205800982796,81.716928530814798,118.05082984684779,112.91282390109768,137.52604078633442,64.865168234831543,141.38243676150628,99.258463834552643,290.71334799838746,99.143087247112547,134.4416372964769,165.8193300594329,171.5914094151249,84.225168957468341,93.871470752584841,89.458518710976719,35.828552473042421,171.95250592782477,132.37544255454512,60.346982394991109,102.16205800982796,297.12816371898754,99.772529456921035,73.701904943394041,246.49312390001688,211.6379871315963,141.06718420409649,87.983626982716871,101.70531709333815,73.560374635174114,836.63511242278071,170.26120713737748,105.72453250255681,105.57346264047561,40.379614055705957,103.14220304338684,71.763474383601277,298.68706051683461,739.77720900809675,141.05845371049301,119.10999726648105,291.45839379825401,264.98545534396123,134.28277003692136,98.239164691430915,93.253593196910401,52.796086153405263,98.460066722215061,118.05082984684779,441.09014849126208,91.843085574074038]
[null,25,"Spectator wider spending",1768.8446974799999,3.8017888561382003E-2,4.4069784000000007,2.2127406999999999,4.5494278599999998,0.57576832842073011,4.1580136199999993,3.2136392199999997,2.6328294799999994,4.9348242000000004,5.8625799799999987,4.1229428799999992,1.0209829911573141,3.3453294200000001,4.6600747199999999,3.4042460999999999,8.1034895599999999,4.6356239999999991,4.650257579999999,34.368741299999996,2.1988953199999997,3.4789782399999996,11.615168219999999,0.89917811999999986,6.6509957599999989,2.5231380199999998,6.2271372399999994,1.2966751200000002,12.425195339999998,4.6143137799999989,4.4347215799999997,5.8787910800000001,1.4532963999999999,13.451206399999998,19.558845519999998,3.4684141399999997,7.9222340000000004,2.7232533599999997,1.4043943999999999,1.5279306799999999,10.85640628,3.6253881399999996,4.4976643999999997,6.6570808999999995,6.8559292199999984,18.026366679999995,12.93046642,2.8999164399999993,5.9900608999999996,4.17774716,1.5573965799999998,6.7434185199999996,3.83296832,6.0293140799999989,4.9331637800000001,3.21444112,11.036027000000001,14.77888278,3.9108419399999996,5.1136722399999996,1.35549254,3.05412712,2.4226269793670667,40.523947299999996,6.48365744,1.34950806,0.93761388070121665,34.943111479999999,3.4321623599999995,11.303326739999997,9.2534741999999994,3.7359692999999998,3.4117120599999997,8.2374483199999986,24.604108191157312,2.9931994,3.4222178599999995,2.4363343,2.1351630400000001,9.1259228199999995,30.725370919999996,5.8183149199999997,36.706626980000003,9.0915424199999979,19.666506286379231,3.90002746,6.8107579600000001,4.3238599800000008,2.3280236599999999,5.3721802800000003,1.1405366568414601,2.0707532799999999,4.4426645399999991,9.5573078599999999,1.9547802599999997,11.374079159999999,2.5618289199999995,18.323272039999999,6.0286530999999997,2.4289680200000001,3.1505831599999996,2.1754301999999996,7.4085804199999989,1.8517790000000001,1.4576623999999998,2.9938890399999996,37.206431385714275,7.9783069799999984,2.3180091199999997,1.59783352,2.6867588799999997,2.54740644,2.1355709799999998,5.8216353399999985,1.3288407243373495,3.8472082199999997,18.749137280000003,2.0180201599999998,2.5302084799999998,6.2277278999999997,9.313106239999998,4.5006083399999994,6.1041453399999996,3.4610063399999995,3.1484546799999995,6.2701043800000003,32.283020879999995,1.14604014,4.4419879,2.0705558799999997,5.2573365800000005,7.1076057199999987,1.6422276199999999,1.1646031199999998,3.1359897000000001,1.9974009799999997,4.9739086399999994,5.9776817599999994,24.348727139069766,1.3982113999999999,2.7018605199999999,6.1780903999999994,3.1745673599999997,2.6193649199999998,4.8118801199999988,4.9063452399999994,1.1465790953846153,5.7582971600000006,6.9091969399999993,2.7291806450512119,10.443033140000001,10.08098476,45.561156959999984,2.5261806600000001,6.5080126799999993,8.741293719999998,5.5672104799999991,10.835996239999998,1.1400535599999999,6.9043505799999991,29.778764416403572,4.2232003999999996,27.862478379999999,9.8561976799999975,16.859357905684146,1.6841578599999998,6.3826266799999996,3.1543415800000001,6.5317845199999995,30.611069659999991,19.261028659999997,3.6698682199999997,7.2890602199999988,1.4452403399999996,3.7584465799999998,34.339124220000002,2.9239730600000002,5.538238859999999,2.3748690399999997,2.7172818799999998,3.2902444200000001,2.5489695600000002,2.4473344400000001,2.8051553599999997,4.8894709199999991,7.7194582399999989,1.9408365999999999,5.44406006,3.6121359399999995,15.494465199999999,2.7029422999999997,7.7589364999999999,47.729430860000001,6.2320938999999997,1.1205188199999998,1.4978746199999997,5.5296905599999997,4.2911556600000003,2.7661690600000002,3.8714615399999999,7.6469933999999995,5.2940273399999995,4.7627939999999986,1.7969762599999999,2.3927289599999999,28.980455360000001,7.0361133399999991,19.33840640070121,13.841172719999999,16.115007219999999,15.8404262,15.097208152758078,2.4150242200000003,0.10855366568414603,4.3726628599999993,6.3315008599999993,17.607728059999996,1.6626503799999999,6.5414041200000002,11.35486148,2.7190436599999996,8.6005945600000011,4.9425851399999994,8.4666021501707078,5.475985399999999,3.7576571200000002,2.2958122799999998,1.8717088199999998,3.1750600200000001,3.8302219200000001,5.9766936399999997,1.9862192399999998,2.8626057999999994,2.2493704057142856,0.22182161708257775,3.2973168399999997,5.0415711599999993,2.7766761199999999,1.296478,1.7243133199999998,1.9801182999999998,1.6307351000000001,2.6511982799999996,2.9778887599999995,3.0317451462068963,9.9383531600000001,2.2686183799999999,8.2963531199999991,2.2629241199999997,2.8088876399999996,19.408490839999999,3.6013207599999997,10.995084879999999,1.3288865000000001,5.5881258999999996,13.440522640000001,1.4749020199999998,2.3382350399999994,1.5647482399999999,3.8354324599999998,4.4227475800000002,2.1116975,4.9141195999999994,10.498308420000001,3.3285539399999995,2.57146264,2.7508589799999998,0.98543609755102035,3.0702139399999999,2.4038272399999996,1.9895411999999999,9.493575980000001,3.1879202199999996,10.808416900000001,1.7396370999999999,1.5363677,2.4358553399999998,1.9062727799999999,4.0835628999999996,23.686677679999999,3.3231475399999999,3.0849181199999998,5.9978908999999998,1.7769477399999998,3.5751069999999996,5.0887288599999998,2.5371806600000002,26.425042179999998,4.7490622799999995,4.2870289999999986,26.060120459999993,2.0299076199999999,4.2908629890566043,2.5781250199999999,4.6327790399999991,3.3843154399999995,2.5571107599999996,1.8186804399999998,3.1751591399999999,4.39496106,3.3445419199999997,3.8820559800000001,3.3889355999999995,1.4520158199999997,4.1215771599999993,0.77163103906976749,2.5942368599999992,2.25948752,7.893673119999999,2.99177552,6.9239977199999991,3.4869362999999995,3.8880538799999997,2.2241220799999994,2.3252768399999999,8.3283787,4.5687499599999999,3.0212839799999993,7.2911432600000001,5.13750252,5.5846774199999993,17.66208288,2.59227922,5.7149045999999997,3.3431742399999997,4.1771545400000001,2.1770925800000001,1.8339056599999999,3.3411313199999997,2.7655920999999997,3.5298380200000006,1.0461675463853628,2.2068530999999996,2.9856502599999999,2.2092492999999997,21.312363788561377,24.946806719999994,2.98638366,5.9150167199999997,15.262404099999999,4.3344530199999998,4.2402606599999988,8.0475310799999988,2.5826454999999995,1.6098191199999998,6.2924851999999998,3.2809205000000001,18.434962659999997,2.7750134599999998,3.5829659399999993,4.8123724999999995,2.9050159799999999,3.2176674599999999,12.376940900000001,20.703738266206894,10.85640628,30.952412300000002,53.077415828561378,37.672292125051214,26.915557080000003,24.604108191157312,61.663005272758078,28.612687186379237,41.188503599999997,18.749137280000003,58.942694539999998,44.344410539999991,40.012221759999989,74.485101159999999,69.395684219999993,24.348727139069766,29.51652498,44.872910876403566,93.865243340000006,25.084820485684144,42.112245539999989,269.31806690905665,74.154473039999985,57.499964199999994,19.33840640070121,17.607728059999996,47.376688079999994,49.003967719999999,112.41125632571428,44.402982880701224,27.261784679999995,19.89518314,13.54905192,17.292758119999998,20.317308559999997,36.791794879999998,18.434962659999997,52.731475419999995,24.604108191157312,55.955161580000002,28.612687186379237,42.988588465714273,18.749137280000003,47.729430860000001,26.060120459999993,53.086842228561387,34.368741299999996,20.703738266206894,37.672292125051214,11.303326739999997,32.503682980000001,30.725370919999996,14.3396268,17.292758119999998,74.485101159999999,24.348727139069766,20.775231259999995,51.099395819999984,44.872910876403566,18.575864519999996,26.715555585684147,30.611069659999991,24.567770799999998,269.31806690905665,42.112245539999989,41.357396259999994,19.33840640070121,13.841172719999999,17.607728059999996,13.440522640000001,37.664547299999995,103.77367685999998,27.261784679999995,30.952412300000002,57.286388359999997,30.937634352758085,24.412644419999999,26.425042179999998,15.048910739999998,13.54905192,32.355464740000002,36.791794879999998,66.109129560000014,19.89518314]
[null,26,"Participation wider spending",1120.9248873600002,2.1078823879307828E-2,7.8597177999999994,0.89047019999999999,4.2368821199999989,0.34353235818961741,2.50047964,1.42125664,1.53532216,1.8520605999999999,2.3642357599999997,1.6306715599999999,0.54177824474131131,1.2193336399999999,1.7109404399999999,1.5892902,8.0099401199999996,1.8530015999999998,1.75882816,17.337614599999998,0.78576964000000005,1.2660882799999997,15.898207039999999,0.40122643999999996,2.4289811199999995,0.94462304000000008,8.5707274800000004,0.63482284,5.0121120799999996,1.6447553599999998,2.7900527599999996,2.6741117599999997,0.6367872,9.5904553999999997,10.066782640000001,3.2842492799999992,2.8029971999999996,1.0082433200000001,0.52001079999999988,0.81451175999999992,4.430290359999999,1.3151526799999997,1.8092273999999999,2.6299945999999998,3.64901184,8.1850309600000006,7.3591292399999997,1.1716040799999998,4.2702084000000005,2.9060245199999994,0.53484535999999994,3.2204064399999996,1.4823186399999999,2.3189031600000001,3.40801796,1.7794408399999999,5.2009067999999994,9.1710987599999996,1.5103820800000001,4.6815300799999999,0.50345907999999995,2.3946314399999999,1.4647159043963933,36.153934799999995,2.5174220800000002,1.80601272,0.46315393031602903,60.757254559999993,3.61477432,6.7977862799999995,4.3509334000000006,3.811893,2.4946333200000002,3.2117630399999997,40.094096444741318,1.251584,1.5461019199999999,0.96621959999999985,1.0634468799999999,4.0600036399999997,17.813759639999997,5.5641290400000001,40.157256160000003,3.4922480400000002,20.790754007556686,2.4023879199999998,2.3813121199999996,1.9522513599999998,1.0798501200000001,7.0974189599999997,0.63236471637923475,0.99478175999999985,1.63595208,14.426005520000002,0.70379871999999999,7.5015993200000004,1.3089488399999998,12.46802508,4.5341125999999994,0.86287083999999992,6.9467335199999996,0.92979999999999985,2.7348574399999999,0.87235280000000004,0.52476841818181807,1.05251308,15.582069057142855,4.3256493600000008,0.92689463999999988,0.58188543999999998,2.26348956,2.1610236799999996,1.62129276,2.1515402799999999,0.46645978120481923,1.7882562399999997,13.25736496,0.7258109199999998,0.94715635999999992,8.0707856000000007,4.4332392800000004,1.8594248799999999,2.3967968799999997,1.2090518799999999,1.9080743599999999,2.70649776,17.070408559999994,0.6332256799999999,1.8909578,0.79393855999999985,5.58281296,2.4315798399999999,0.70124843999999997,0.49099423999999997,2.2070293999999997,1.32074056,1.7160506799999997,4.7138749200000003,10.284339780465118,0.81992379999999998,2.9604532399999997,3.0742664,1.3125273200000001,1.07480044,2.1600892399999996,1.8415334800000001,0.39960652923076923,2.3297805199999999,11.894744680000001,2.4852023760343167,4.2556624799999998,8.2348141199999993,24.877904519999994,1.09524212,4.5801069600000002,3.3278084218181818,2.2166971600000003,4.3799758799999999,0.43240911999999998,3.2193903599999998,16.25219080997077,3.6172567999999998,13.851878759999998,3.9008823599999998,7.4932729516379233,0.91591311999999991,2.1887911599999996,1.3068965599999998,3.0894566400000003,24.08501832,12.576097519999999,1.6794518399999998,3.13835804,0.63228467999999993,2.0622985599999999,21.501516039999998,1.1289799199999999,2.3054101199999999,1.34865068,2.36673176,1.40247024,1.5068915199999999,1.1211442799999998,1.28911972,2.1432720399999998,3.2351834799999994,0.79935060000000002,5.1744635200000006,2.5145544800000001,9.7748818000000011,1.2587997999999998,2.7992871999999998,37.267418519999993,10.596712,1.2299542400000003,0.70060923999999991,2.7008217200000004,1.7887421200000002,1.1246525199999999,1.4453518799999998,9.6670679999999987,3.72661248,2.0988537999999997,0.69947132000000012,1.0488813199999998,35.713445120000003,2.9057946799999996,8.8261499703160258,14.642963439999999,7.1534374399999994,10.800052000000001,7.4832383393944353,0.85819803999999988,3.5886471637923481E-2,1.6679321199999999,5.1418057199999998,11.63114772,0.60704835999999984,2.7405010399999998,5.1041903599999996,2.8154649199999997,5.5953151199999995,2.2568710800000003,5.1478745867810565,2.8867152000000003,1.3591504399999998,1.0175501599999999,0.67694343999999995,1.2132872400000001,1.7331890400000001,2.9078614799999993,3.02540108,1.1107091999999996,0.77517289714285709,9.5215800418704102E-2,2.8081490800000002,1.9916635199999997,1.0781432399999999,0.63442900000000002,0.62590983999999983,0.76395919999999995,0.84601319999999991,3.4974151600000001,1.3000891199999995,1.046177044137931,16.77781732,3.71564936,4.3275822399999999,1.1100312400000001,1.2406678799999999,8.3060218799999994,2.9054369200000001,6.7922555600000001,0.69712280000000004,2.0232569999999996,15.004413679999999,0.64517483999999981,1.03275008,0.67397267999999988,1.5874663199999999,7.590550959999999,0.90680319999999981,2.6029527999999997,20.03382964,1.7217184799999998,1.81772548,1.5740563599999999,0.34223755836734687,2.7928902799999999,0.90332887999999989,0.71528379999999991,5.7393963599999998,1.6166926400000001,4.1264817999999996,0.7335642,0.56341779999999997,1.62251788,0.78825935999999996,1.8663154,11.73994516,2.7690694800000002,1.18389864,2.0577291999999998,0.79445907999999998,1.6967428,4.9228313200000002,1.14994212,16.798949359999998,3.5536551599999995,1.7361815999999999,10.771660738181815,1.08295724,1.454281838490566,1.1621882400000001,2.1036750799999999,1.18335148,1.1549821200000001,0.70805587999999997,1.61438288,3.5819671200000003,1.9193310400000001,2.6460255599999996,1.7380199999999999,1.1353506400000002,2.4856469199999998,0.2816581804651162,0.97074391999999987,1.1590738399999998,11.25752904,3.2764136399999995,3.0793250400000001,1.6712926000000001,1.7000807600000001,0.99024776000000003,1.03004648,3.2427269999999995,1.57896412,1.16109876,3.3988775199999997,2.22147484,2.8181622400000004,10.376806160000001,1.4236390399999999,4.3730397999999999,1.3711608799999999,2.0028208799999998,0.77698815999999993,0.81551331999999999,2.0802432399999997,2.1816526000000001,6.8336736399999998,0.49904040195395249,0.99052459999999998,2.1057983199999999,4.5147594,14.828550223879306,16.048947439999999,5.4821709199999997,2.1314924400000002,12.434646399999998,2.15067824,4.5628981199999998,2.8446585599999996,0.91486240000000008,0.63855464000000006,2.4600765999999998,1.7520166000000001,8.77419832,1.0305057199999998,1.7008514800000001,1.8603997999999999,1.3706483599999999,1.57384492,13.930476199999998,7.4665298841379304,4.430290359999999,16.593480399999997,31.792143922061122,63.242456936034309,14.72773956,40.094096444741318,36.097049979394434,32.176946407556684,20.760290199999996,13.25736496,27.562334879999998,23.016649479999998,28.231191919999997,36.86232072,71.523389240000014,10.284339780465118,14.975581341818183,33.416486129970771,55.18257328,10.548142111637924,22.178058679999996,141.52678427849057,54.066367879999994,37.917490999999998,8.8261499703160258,11.63114772,19.622112960000003,37.123716639999998,57.820845337142856,20.534103930316029,13.436687959999999,14.53832148,5.9923774400000003,11.50035684,13.425461519999999,23.390801560000003,8.77419832,57.145520640000001,40.094096444741318,56.518975560000001,32.176946407556684,18.169505617142853,13.25736496,37.267418519999993,10.771660738181815,36.887030703879311,17.337614599999998,7.4665298841379304,63.242456936034309,6.7977862799999995,16.750996560000001,17.813759639999997,8.7115866000000022,11.50035684,36.86232072,10.284339780465118,11.647772919999998,27.183314639999992,33.416486129970771,7.6654738399999998,11.394155311637924,24.08501832,10.925532,141.52678427849057,22.178058679999996,49.643921319999997,8.8261499703160258,14.642963439999999,11.63114772,15.004413679999999,15.420605,44.537293319999996,13.436687959999999,16.593480399999997,40.299864720000002,18.283290339394437,13.488073239999999,16.798949359999998,6.7528598799999999,5.9923774400000003,16.476741280000002,23.390801560000003,29.116688320000002,14.53832148]
[null,17,"Total direct economic value of sport",20399.930091683513,12.726383280719151,35.127170425942069,25.220931555924839,29.090449065318914,23.458610767312443,35.928074409739871,51.666342029975425,22.773113903559974,53.220214588598218,124.44706157099202,57.62944599891334,17.247322282536892,55.16983997104758,72.345084129480512,24.952489833502678,50.46110999537872,48.586833196137555,53.364230246762858,307.03917528859517,37.020886224195976,51.944647452418515,46.830384930359628,24.631908638691677,79.396375867032219,14.813603812792643,69.487061616511298,39.837361366808999,139.50184641637509,44.556620027801053,27.369055151061012,125.19439706343817,23.559002278057701,100.83639200393286,132.831650723319,30.916955711997691,109.03949874077092,26.958127600381722,22.126326643671952,28.315685462643973,186.54783141921524,32.557465694522065,60.456552294177072,53.153619477002323,46.963007621198983,190.17478002545786,394.38353430516554,17.076994091200977,39.743638700809363,32.435341197936189,20.640751365532786,58.718128432047855,56.347867658806976,61.534680869824868,36.377373513807278,53.142783387102952,112.34697446517451,145.54999395779066,34.419060426109255,43.946551041139038,55.465782251340869,34.800524069523888,15.820974541380942,38.723593462526622,57.255765663875792,14.441458901753975,18.893260074097526,150.02221208644659,35.470439702163482,119.976415185295,78.080520066407274,16.651631503975555,50.26283359788367,98.766808637623328,165.8710975835852,68.331036122855124,28.359187295380217,28.319538696296448,24.560656741272943,86.581392576255823,273.89890432755072,23.549280756418142,217.69366665304096,94.998220811192326,118.0664400830199,25.604075389742142,65.249586679989662,154.86970015780216,24.205814456309781,35.355349207286153,22.62698285925303,26.270218403667606,39.268357484830425,34.964106642696883,18.175368430722667,75.14015436746773,54.840281568076215,132.31744157250682,30.158249300773864,39.070987706381956,17.02935889240943,58.255447405312282,89.109653677949453,41.148163266812269,32.28559388263141,23.942080135402527,431.98182281108797,49.066100978890631,28.180306458349804,20.485754656050162,30.344751229366832,16.441717191033202,16.122081226922816,57.787874393636017,20.880645502073765,40.366686153057785,179.5654647747582,16.310329911766786,25.82213697449026,35.135228975511154,74.643898137512451,60.831412804361676,103.0167902911156,32.071619118503094,24.390634822175297,718.7522649279183,378.06629430422271,21.557750617040817,87.495881938071662,33.00230745987902,44.065917965569049,62.837409440027415,24.47670837341564,30.346856028011437,22.511883482191553,31.630555073981323,62.562182830817079,53.820011310717376,387.36253929469819,48.028283252670519,20.838987982221134,127.98973795558453,25.032595416663636,43.159390591912427,2248.5774262866339,70.239755467278144,16.056761028515506,45.515712993331618,35.371350635011254,0.77478984875458834,91.801918317297677,60.183877763996868,415.48738806689113,24.495529706238781,32.692708263551928,75.232077202590489,70.301146777753388,133.43071651059495,28.84190119005163,72.839862828860689,307.19585589147675,33.867643953951756,244.10546598653096,86.669917843609397,210.41576115726582,18.455557753444701,58.86758529849903,31.825696556940695,31.663469118811932,168.95923537284173,141.41062381340868,58.484790292889144,44.904597935046112,19.665294430460854,17.717073939267966,173.21547093621578,30.436733613490752,72.299067310931306,12.534130374369807,38.295575023368386,90.478231631506816,20.149433784207393,22.981106479775761,36.544417778791335,50.077106036009091,104.99194237387343,20.562744364983285,56.923623579900806,31.06866675161756,125.23803292660475,27.261618990599075,97.076295565660217,264.05626444046743,28.121598274034799,15.581718630242021,16.96058270180357,41.322117443159165,29.7092375391437,16.43931034139683,40.575752215486162,22.626512058759012,56.50270188811345,54.894147662139375,19.605992926234265,32.025626867623359,168.92457743908176,72.257577247873684,223.20609655260591,102.02351506180258,82.256352347325787,91.779193004287649,208.1618046222253,30.030737387949131,13.794254132229504,54.238836055206683,49.576651903893719,212.80655860348654,22.994237602278872,66.670433613277567,79.285939678906701,51.650315286299161,64.875536409907809,49.278041539071012,11.85243632596527,56.522014351423238,71.411792403048992,36.401599744732181,20.374525553521302,33.938932758771124,12.405386613289274,69.723359329095359,17.211121053514663,55.30687256619666,29.47503892299077,20.404300198048851,19.4147757126103,69.302092426774095,31.042634776905739,34.642865839896849,49.048972691584133,28.24237899708185,12.102649866335756,17.48416754927559,472.26230956682303,66.857585869611597,27.673980884691147,28.627033085199741,63.036419982490401,21.447123659880461,38.689893094303308,221.25712214815431,24.15211042411595,86.704351836202562,38.305091493117985,59.470215697874494,152.67293077187546,18.2142225834816,28.260584322906858,17.774543056437714,82.560909832871459,25.781089145556571,13.746652412088224,27.239080123863893,49.590445883006645,33.079315433974791,46.893864265401902,41.873969118656561,25.240236768884841,38.138416297352649,25.971214256260055,31.713463467553105,68.375918242725106,52.458722935462504,84.483811909814477,32.206582389152196,48.336713032363122,29.050462961746668,46.932740039388023,38.12383188212015,236.85137481945014,18.630063255245286,27.807627177790899,74.499517436001696,54.655145388911954,84.985165867331887,39.146199827719784,33.702538723241901,217.03616133379705,34.089013716147733,74.708265329142733,434.73256531305339,29.273280052590579,52.772315246632218,33.677032961410717,60.856779318438512,47.88978079381927,23.121674219007684,32.337929263542996,40.595743422636801,34.026495532500853,41.226347079968818,25.736695034022379,24.791657606786405,17.206709491454511,31.371291204192314,26.174749307396759,57.291030919861058,36.967577032964968,32.762058588178419,13.319476905196751,130.19976862335307,104.22957919752398,50.287557742065744,20.257527022496859,30.927389427157557,85.570385538173099,68.703776886259377,71.541439324982974,114.95250169641169,78.903812628580653,35.254763524056798,155.08032844286572,42.371317129000609,32.26213654815453,45.770232173759879,41.796838825200339,17.929840086998389,35.208891604975115,68.313058336732922,11.893986327081764,34.961478420702349,23.721888585935314,30.09301292119132,37.305628268389682,6.9962994416039352,237.62756532130877,741.6574935448549,17.20298580376236,88.801848171318895,129.97164480844481,29.804580561696092,63.113682749293346,74.06396164518884,54.647407879765012,56.171875768872852,71.97883014769269,34.554106954596278,164.61647042896141,21.897539965544233,36.74536953296559,61.18162105270342,19.747288610532568,28.247403346514592,58.572539613041911,272.7897795835533,186.54783141921524,336.78091754983188,568.40272043231994,150.79700193520119,233.16084850927299,165.8710975835852,573.83990195406363,239.18395348411644,578.48148019686732,179.5654647747582,568.97395742382673,410.92890445662857,250.01072724281951,1210.2971428843152,482.41459569200151,387.36253929469819,232.28996473041749,405.95102477254102,854.10882916834282,285.00289263625342,386.35726578903063,6605.2459575176508,481.09242577426448,566.34171402617358,223.20609655260591,212.80655860348654,545.1189681007213,421.62492809188888,1155.1729692684687,563.98680764468349,321.85640418849596,190.84828762859729,199.8200309913309,322.26308406624935,181.75071022688871,322.35637243968262,164.61647042896141,302.63727141959146,165.8710975835852,329.74166492012608,239.18395348411644,541.7117131646977,179.5654647747582,264.05626444046743,434.73256531305339,470.80126239946242,307.03917528859517,272.7897795835533,150.79700193520119,119.976415185295,292.63106420714746,273.89890432755072,127.93069891617137,322.26308406624935,1210.2971428843152,387.36253929469819,157.05788752782701,487.80631887953643,405.95102477254102,291.51991029137469,297.10554250258917,168.95923537284173,256.84521363873546,6605.2459575176508,386.35726578903063,227.49711705212366,223.20609655260591,102.02351506180258,212.80655860348654,152.67293077187546,443.1868813850341,1098.9290518119965,321.85640418849596,336.78091754983188,546.68909959186692,299.94099762651297,218.41661823796483,217.03616133379705,165.80961542278848,199.8200309913309,344.34178377907597,322.35637243968262,655.7421704269625,190.84828762859729]
[]
[]
[null,"Jobs",null,"England","Local Authority","Local Authority","Local Authority","Local Authority","Local Authority","Local Authority","Local Authority","Local Authority","Local Authority","Local Authority","Local Authority","Local Authority","Local Authority","Local Authority","Local Authority","Local Authority","Local Authority","Local Authority","Local Authority","Local Authority","Local Authority","Local Authority","Local Authority","Local Authority","Local Authority","Local Authority","Local Authority","Local Authority","Local Authority","Local Authority","Local Authority","Local Authority","Local Authority","Local Authority","Local Authority","Local Authority","Local Authority","Local Authority","Local Authority","Local Authority","Local Authority","Local Authority","Local Authority","Local Authority","Local Authority","Local Authority","Local Authority","Local Authority","Local Authority","Local Authority","Local Authority","Local Authority","Local Authority","Local Authority","Local Authority","Local Authority","Local Authority","Local Authority","Local Authority","Local Authority","Local Authority","Local Authority","Local Authority","Local Authority","Local Authority","Local Authority","Local Authority","Local Authority","Local Authority","Local Authority","Local Authority","Local Authority","Local Authority","Local Authority","Local Authority","Local Authority","Local Authority","Local Authority","Local Authority","Local Authority","Local Authority","Local Authority","Local Authority","Local Authority","Local Authority","Local Authority","Local Authority","Local Authority","Local Authority","Local Authority","Local Authority","Local Authority","Local Authority","Local Authority","Local Authority","Local Authority","Local Authority","Local Authority","Local Authority","Local Authority","Local Authority","Local Authority","Local Authority","Local Authority","Local Authority","Local Authority","Local Authority","Local Authority","Local Authority","Local Authority","Local Authority","Local Authority","Local Authority","Local Authority","Local Authority","Local Authority","Local Authority","Local Authority","Local Authority","Local Authority","Local Authority","Local Authority","Local Authority","Local Authority","Local Authority","Local Authority","Local Authority","Local Authority","Local Authority","Local Authority","Local Authority","Local Authority","Local Authority","Local Authority","Local Authority","Local Authority","Local Authority","Local Authority","Local Authority","Local Authority","Local Authority","Local Authority","Local Authority","Local Authority","Local Authority","Local Authority","Local Authority","Local Authority","Local Authority","Local Authority","Local Authority","Local Authority","Local Authority","Local Authority","Local Authority","Local Authority","Local Authority","Local Authority","Local Authority","Local Authority","Local Authority","Local Authority","Local Authority","Local Authority","Local Authority","Local Authority","Local Authority","Local Authority","Local Authority","Local Authority","Local Authority","Local Authority","Local Authority","Local Authority","Local Authority","Local Authority","Local Authority","Local Authority","Local Authority","Local Authority","Local Authority","Local Authority","Local Authority","Local Authority","Local Authority","Local Authority","Local Authority","Local Authority","Local Authority","Local Authority","Local Authority","Local Authority","Local Authority","Local Authority","Local Authority","Local Authority","Local Authority","Local Authority","Local Authority","Local Authority","Local Authority","Local Authority","Local Authority","Local Authority","Local Authority","Local Authority","Local Authority","Local Authority","Local Authority","Local Authority","Local Authority","Local Authority","Local Authority","Local Authority","Local Authority","Local Authority","Local Authority","Local Authority","Local Authority","Local Authority","Local Authority","Local Authority","Local Authority","Local Authority","Local Authority","Local Authority","Local Authority","Local Authority","Local Authority","Local Authority","Local Authority","Local Authority","Local Authority","Local Authority","Local Authority","Local Authority","Local Authority","Local Authority","Local Authority","Local Authority","Local Authority","Local Authority","Local Authority","Local Authority","Local Authority","Local Authority","Local Authority","Local Authority","Local Authority","Local Authority","Local Authority","Local Authority","Local Authority","Local Authority","Local Authority","Local Authority","Local Authority","Local Authority","Local Authority","Local Authority","Local Authority","Local Authority","Local Authority","Local Authority","Local Authority","Local Authority","Local Authority","Local Authority","Local Authority","Local Authority","Local Authority","Local Authority","Local Authority","Local Authority","Local Authority","Local Authority","Local Authority","Local Authority","Local Authority","Local Authority","Local Authority","Local Authority","Local Authority","Local Authority","Local Authority","Local Authority","Local Authority","Local Authority","Local Authority","Local Authority","Local Authority","Local Authority","Local Authority","Local Authority","Local Authority","Local Authority","Local Authority","Local Authority","Local Authority","Local Authority","Local Authority","Local Authority","Local Authority","Local Authority","Local Authority","Local Authority","Local Authority","Local Authority","Local Authority","Local Authority","Local Authority","Local Authority","Local Authority","Local Authority","Local Authority","Local Authority","Local Authority","Local Authority","Local Authority","Local Authority","Local Authority","Local Authority","Local Authority","Local Authority","Local Authority","Local Authority","Local Authority","Local Authority","Local Authority","Local Authority","Local Authority","Local Authority","Local Authority","Local Authority","Local Authority","Local Authority","Local Authority","Local Authority","Local Authority","Local Authority","Local Authority","Local Authority","Local Authority","Local Authority","Local Authority","Local Authority","Local Authority","Local Authority","Local Authority","Local Authority","Local Authority","Local Authority","Local Authority","LEP","LEP","LEP","LEP","LEP","LEP","LEP","LEP","LEP","LEP","LEP","LEP","LEP","LEP","LEP","LEP","LEP","LEP","LEP","LEP","LEP","LEP","LEP","LEP","LEP","LEP","LEP","LEP","LEP","LEP","LEP","LEP","LEP","LEP","LEP","LEP","LEP","LEP","LEP","CSP","CSP","CSP","CSP","CSP","CSP","CSP","CSP","CSP","CSP","CSP","CSP","CSP","CSP","CSP","CSP","CSP","CSP","CSP","CSP","CSP","CSP","CSP","CSP","CSP","CSP","CSP","CSP","CSP","CSP","CSP","CSP","CSP","CSP","CSP","CSP","CSP","CSP","CSP","CSP","CSP","CSP","CSP","CSP","CSP","CSP"]
[null,null,null,"England","Adur","Allerdale","Amber Valley","Arun","Ashfield","Ashford","Aylesbury Vale","Babergh","Barking and Dagenham","Barnet","Barnsley","Barrow-in-Furness","Basildon","Basingstoke and Deane","Bassetlaw","Bath and North East Somerset","Bedford","Bexley","Birmingham","Blaby","Blackburn with Darwen","Blackpool","Bolsover","Bolton","Boston","Bournemouth","Bracknell Forest","Bradford","Braintree","Breckland","Brent","Brentwood","Brighton and Hove","Bristol","Broadland","Bromley","Bromsgrove","Broxbourne","Broxtowe","Buckinghamshire CC","Burnley","Bury","Calderdale","Cambridge","Cambridgeshire CC","Camden","Cannock Chase","Canterbury","Carlisle","Castle Point","Central Bedfordshire","Charnwood","Chelmsford","Cheltenham","Cherwell","Cheshire East","Cheshire West and Chester","Chesterfield","Chichester","Chiltern","Chorley","Christchurch","City of London","Colchester","Copeland","Corby","Cornwall","Cotswold","County Durham","Coventry","Craven","Crawley","Croydon","Cumbria CC","Dacorum","Darlington","Dartford","Daventry","Derby","Derbyshire CC","Derbyshire Dales","Devon CC","Doncaster","Dorset CC","Dover","Dudley","Ealing","East Cambridgeshire","East Devon","East Dorset","East Hampshire","East Hertfordshire","East Lindsey","East Northamptonshire","East Riding of Yorkshire","East Staffordshire","East Sussex CC","Eastbourne","Eastleigh","Eden","Elmbridge","Enfield","Epping Forest","Epsom and Ewell","Erewash","Essex CC","Exeter","Fareham","Fenland","Forest Heath","Forest of Dean","Fylde","Gateshead","Gedling","Gloucester","Gloucestershire CC","Gosport","Gravesham","Great Yarmouth","Greenwich","Guildford","Hackney","Halton","Hambleton","Hammersmith and Fulham","Hampshire CC","Harborough","Haringey","Harlow","Harrogate","Harrow","Hart","Hartlepool","Hastings","Havant","Havering","Herefordshire","Hertfordshire CC","Hertsmere","High Peak","Hillingdon","Hinckley and Bosworth","Horsham","Hounslow","Huntingdonshire","Hyndburn","Ipswich","Isle of Wight","Isles of Scilly","Islington","Kensington and Chelsea","Kent CC","Kettering","King`s Lynn and West Norfolk","Kingston upon Hull","Kingston upon Thames","Kirklees","Knowsley","Lambeth","Lancashire CC","Lancaster","Leeds","Leicester","Leicestershire CC","Lewes","Lewisham","Lichfield","Lincoln","Lincolnshire CC","Liverpool","Luton","Maidstone","Maldon","Malvern Hills","Manchester","Mansfield","Medway","Melton","Mendip","Merton","Mid Devon","Mid Suffolk","Mid Sussex","Middlesbrough","Milton Keynes","Mole Valley","New Forest","Newark and Sherwood","Newcastle upon Tyne","Newcastle-under-Lyme","Newham","Norfolk CC","North Devon","North Dorset","North East Derbyshire","North East Lincolnshire","North Hertfordshire","North Kesteven","North Lincolnshire","North Norfolk","North Somerset","North Tyneside","North Warwickshire","North West Leicestershire","North Yorkshire CC","Northampton","Northamptonshire CC","Northumberland","Norwich","Nottingham","Nottinghamshire CC","Nuneaton and Bedworth","Oadby and Wigston","Oldham","Oxford","Oxfordshire CC","Pendle","Peterborough","Plymouth","Poole","Portsmouth","Preston","Purbeck","Reading","Redbridge","Redcar and Cleveland","Redditch","Reigate and Banstead","Ribble Valley","Richmond upon Thames","Richmondshire","Rochdale","Rochford","Rossendale","Rother","Rotherham","Rugby","Runnymede","Rushcliffe","Rushmoor","Rutland","Ryedale","Salford","Sandwell","Scarborough","Sedgemoor","Sefton","Selby","Sevenoaks","Sheffield","Shepway","Shropshire","Slough","Solihull","Somerset CC","South Bucks","South Cambridgeshire","South Derbyshire","South Gloucestershire","South Hams","South Holland","South Kesteven","South Lakeland","South Norfolk","South Northamptonshire","South Oxfordshire","South Ribble","South Somerset","South Staffordshire","South Tyneside","Southampton","Southend-on-Sea","Southwark","Spelthorne","St Albans","St Edmundsbury","St Helens","Stafford","Staffordshire CC","Staffordshire Moorlands","Stevenage","Stockport","Stockton-on-Tees","Stoke-on-Trent","Stratford-on-Avon","Stroud","Suffolk CC","Suffolk Coastal","Sunderland","Surrey CC","Surrey Heath","Sutton","Swale","Swindon","Tameside","Tamworth","Tandridge","Taunton Deane","Teignbridge","Telford and Wrekin","Tendring","Test Valley","Tewkesbury","Thanet","Three Rivers","Thurrock","Tonbridge and Malling","Torbay","Torridge","Tower Hamlets","Trafford","Tunbridge Wells","Uttlesford","Vale of White Horse","Wakefield","Walsall","Waltham Forest","Wandsworth","Warrington","Warwick","Warwickshire CC","Watford","Waveney","Waverley","Wealden","Wellingborough","Welwyn Hatfield","West Berkshire","West Devon","West Dorset","West Lancashire","West Lindsey","West Oxfordshire","West Somerset","West Sussex CC","Westminster","Weymouth and Portland","Wigan","Wiltshire","Winchester","Windsor and Maidenhead","Wirral","Woking","Wokingham","Wolverhampton","Worcester","Worcestershire CC","Worthing","Wychavon","Wycombe","Wyre","Wyre Forest","York","Black Country","Buckinghamshire Thames Valley","Cheshire and Warrington","Coast to Capital","Cornwall and Isles of Scilly","Coventry and Warwickshire","Cumbria","Derby, Derbyshire, Nottingham and Nottinghamshire","Dorset","Enterprise M3","Gloucestershire","Greater Birmingham and Solihull","Greater Cambridge and Greater Peterborough","Greater Lincolnshire","Greater Manchester","Heart of the South West","Hertfordshire","Humber","Lancashire","Leeds City Region","Leicester and Leicestershire","Liverpool City Region","London Enterprise Panel","New Anglia","North Eastern","Northamptonshire","Oxfordshire","Sheffield City Region","Solent","South East","South East Midlands","Stoke-on-Trent and Staffordshire","Swindon and Wiltshire","Tees Valley","Thames Valley Berkshire","The Marches","West of England","Worcestershire","York North Yorkshire and East Riding","Active Cumbria","Active Devon","Active Dorset","Active Essex","Active Gloucestershire","Active Norfolk","Active Surrey ","Active Sussex","Birmingham Sport & Physical Activity Partnership","Black Country Be Active Partnership","Cornwall Sports Partnership","County Durham Sport","Coventry Solihull & Warwickshire Sport","Derbyshire Sports Partnership","Energize Shropshire Telford & Wrekin","Get Berkshire Active","Greater Sport","Herts Sports Partnership","Humber Sports Partnership","Kent Sport","Lancashire Sport Partnership","Leap (Bucks & MK Sport and Activity Partnership)","Leicestershire & Rutland Sport","Lincolnshire Sports Partnership","Living Sport","London","Merseyside Sport","North Yorkshire Sport","Northamptonshire Sport","Northumberland Sport","Oxfordshire Sports Partnership","Somerset Activity & Sports Partnership","South Yorkshire Sport","South & West Yorkshire Sport","Sport Across Staffordshire & Stoke On Trent","Sport Cheshire","Sport Hampshire & Isle of Wight","Sport Nottinghamshire","Sports Partnership Herefordshire & Worcestershire","Suffolk Sport","Teams Beds & Luton","Tees Valley Sport","Tyne & Wear Sport","Wesport","West Yorkshire Sport ","Wiltshire & Swindon Sport"]
[null,1,"Sport/class subscription fees",244775,234,291,435,564,371,518,920,430,564,1441,1035,198,805,928,433,851,641,604,3645,661,959,708,97,1159,199,1143,706,1846,567,406,1162,431,1972,2020,379,1838,583,318,393,2987,482,672,822,450,2198,1453,217,629,487,296,995,1055,804,630,939,2008,2369,454,974,476,459,233,599,951,223,219,2122,726,2074,1065,223,555,1125,1820,1071,446,368,427,1561,4134,270,3302,1767,1848,451,851,931,383,512,481,470,701,492,274,1240,1191,2386,500,683,198,1264,1056,876,710,400,6367,802,401,265,762,267,210,773,330,468,2860,279,462,434,1095,1219,692,513,492,2518,6210,400,1153,401,716,550,490,582,340,476,879,1020,5876,664,319,1050,471,847,1450,767,225,688,608,19,1105,712,6237,209,412,1115,1242,1813,372,843,4483,484,3670,1285,3777,302,719,669,535,2285,1811,765,477,284,352,2121,551,1194,216,582,1098,339,386,729,855,1774,357,1241,599,2652,424,713,3583,336,223,298,612,464,197,495,371,927,853,456,529,2792,1108,3709,2144,1101,1374,3845,456,282,637,690,3908,269,898,1172,947,1080,726,253,837,803,719,230,630,214,1196,327,651,353,332,338,808,552,762,1168,437,163,378,722,828,423,305,892,232,842,2635,415,1672,449,1017,2421,385,333,299,1172,434,99,381,425,479,1180,852,492,731,519,470,993,731,845,619,842,406,869,437,4027,316,374,920,834,874,723,464,3596,601,1190,9093,582,809,543,929,560,255,749,678,562,621,283,361,305,363,312,472,777,438,193,1081,1740,391,316,599,1197,957,789,1545,1040,642,2829,590,324,977,905,291,540,1381,124,404,302,383,828,125,4183,2953,253,1421,1904,444,1117,1020,1225,1274,1102,654,3064,281,784,1205,289,461,853,3738,2987,5417,10029,2141,3894,1820,9353,3939,11018,2860,8268,5619,3393,10602,7333,5876,3463,6151,12407,4898,5476,36614,7180,10155,3709,3908,7527,7036,17387,9179,4902,2833,3436,5763,3314,4970,3064,4885,1820,4912,3939,7570,2860,3583,9093,8542,3645,3738,2141,2074,4912,4134,2294,5763,10602,5876,2348,7431,6151,4761,5061,2285,3096,36614,5476,3645,3709,2144,3908,2421,6244,15593,4902,5417,8892,5219,4085,3596,2402,3436,5937,4970,9349,2833]
[null,2,"Participation sport"]
[null,3,"Sports equipment",24689,8,136,14,8,12,69,58,17,14,190,34,36,107,113,20,85,87,65,362,68,47,55,113,111,23,146,55,150,104,31,94,28,135,254,74,154,13,29,56,128,71,168,67,188,544,194,16,69,65,34,29,80,132,64,92,152,337,88,46,15,87,39,113,91,14,42,332,52,91,112,37,173,171,518,149,33,62,35,116,456,72,455,98,228,23,83,136,39,75,15,20,39,62,12,75,63,138,57,60,52,51,137,32,28,19,812,121,57,37,15,17,29,118,9,111,328,4,22,81,89,89,93,30,17,189,504,15,131,92,62,67,12,22,32,56,83,61,608,78,28,142,17,52,151,241,11,92,49,0,129,97,554,66,63,114,112,211,22,75,516,57,269,84,286,12,44,18,61,301,294,77,89,45,11,323,35,91,14,85,118,25,22,20,63,175,22,49,25,121,35,225,511,79,23,5,55,34,14,77,35,78,80,6,57,228,112,309,71,204,124,190,36,5,79,132,313,48,156,165,83,99,106,6,114,98,15,45,26,8,60,10,106,89,32,15,149,40,36,33,52,31,15,79,62,35,70,86,53,28,393,23,89,72,72,268,7,38,1,186,48,27,30,215,23,26,35,10,24,17,19,140,85,185,42,46,48,36,42,252,4,39,140,70,122,56,75,322,39,77,451,32,58,36,102,74,58,22,81,56,48,43,33,10,52,14,183,17,60,20,110,180,63,17,22,138,56,126,148,181,35,174,108,89,42,22,17,72,83,31,114,38,84,31,7,345,650,31,118,226,49,117,91,62,30,97,45,187,38,25,48,20,48,129,298,128,670,763,332,286,518,770,457,680,328,696,907,432,1377,948,608,320,618,1150,339,558,4448,832,576,309,313,900,615,1864,799,374,328,203,471,198,603,187,432,518,681,457,1080,328,511,451,619,362,298,332,91,358,456,137,471,1377,608,206,645,618,303,370,301,700,4448,558,358,309,71,313,268,675,1509,374,670,792,314,248,322,194,203,414,603,834,328]
[null,4,"Sportswear",1646,1,9,1,1,1,5,4,1,1,13,2,2,7,8,1,6,6,4,24,5,3,4,8,7,2,10,4,10,7,2,6,2,9,17,5,10,1,2,4,9,5,11,4,13,36,13,1,5,4,2,2,5,9,4,6,10,22,6,3,1,6,3,8,6,1,3,22,3,6,7,2,12,11,35,10,2,4,2,8,30,5,30,7,15,2,6,9,3,5,1,1,3,4,1,5,4,9,4,4,3,3,9,2,2,1,54,8,4,2,1,1,2,8,1,7,22,0,1,5,6,6,6,2,1,13,34,1,9,6,4,4,1,1,2,4,6,4,41,5,2,9,1,3,10,16,1,6,3,0,9,6,37,4,4,8,7,14,1,5,34,4,18,6,19,1,3,1,4,20,20,5,6,3,1,22,2,6,1,6,8,2,1,1,4,12,1,3,2,8,2,15,34,5,2,0,4,2,1,5,2,5,5,0,4,15,7,21,5,14,8,13,2,0,5,9,21,3,10,11,6,7,7,0,8,7,1,3,2,1,4,1,7,6,2,1,10,3,2,2,3,2,1,5,4,2,5,6,4,2,26,2,6,5,5,18,0,3,0,12,3,2,2,14,2,2,2,1,2,1,1,9,6,12,3,3,3,2,3,17,0,3,9,5,8,4,5,21,3,5,30,2,4,2,7,5,4,1,5,4,3,3,2,1,3,1,12,1,4,1,7,12,4,1,1,9,4,8,10,12,2,12,7,6,3,1,1,5,6,2,8,3,6,2,0,23,43,2,8,15,3,8,6,4,2,6,3,12,3,2,3,1,3,9,20,9,45,51,22,19,35,51,30,45,22,46,60,29,92,63,41,21,41,77,23,37,297,55,38,21,21,60,41,124,53,25,22,14,31,13,40,12,29,35,45,30,72,22,34,30,41,24,20,22,6,24,30,9,31,92,41,14,43,41,20,25,20,47,297,37,24,21,5,21,18,45,101,25,45,53,21,17,21,13,14,28,40,56,22]
[null,5,"Sport education",58359,55,95,124,124,130,132,191,93,322,498,256,72,198,174,116,172,178,324,1390,103,198,146,79,333,65,157,123,731,161,127,408,77,229,423,120,410,99,104,106,548,98,216,241,99,632,241,103,135,106,85,282,166,176,110,145,393,344,102,100,104,118,45,4,178,70,74,519,82,552,350,58,112,522,490,159,126,103,88,285,1078,72,710,339,396,106,338,446,92,122,81,116,158,123,102,344,124,487,87,125,51,147,466,128,79,115,1466,102,105,93,60,80,73,216,119,135,612,83,108,94,353,131,330,145,93,182,1296,100,339,92,177,320,99,111,85,115,306,183,1251,113,96,384,109,134,330,181,94,139,119,2,213,157,1500,108,139,276,202,516,164,347,1257,136,805,389,734,93,361,103,85,710,441,255,157,62,74,550,106,280,53,118,246,84,102,146,170,285,85,154,122,297,122,451,806,92,72,95,179,137,113,188,81,210,223,62,104,635,242,802,344,115,309,822,134,58,296,129,635,104,211,246,146,189,153,43,148,423,151,92,142,66,243,56,256,85,78,76,297,112,72,123,93,40,53,255,375,104,120,276,94,120,602,99,309,169,232,543,69,167,110,281,79,86,146,96,130,101,136,116,165,105,161,204,181,331,90,170,113,184,129,867,94,92,313,232,268,121,121,742,126,301,1153,90,256,144,232,244,86,85,114,119,193,128,116,84,135,101,189,135,123,61,334,277,125,96,122,357,320,354,306,228,134,563,104,110,130,147,87,114,165,51,94,119,92,102,27,768,216,61,347,520,117,153,348,102,170,276,103,582,97,118,184,104,95,190,1310,548,965,1884,521,914,490,2209,699,1631,612,2324,1426,1061,3086,1622,1251,987,1601,3426,1083,1558,10625,1548,2096,802,635,1904,1441,3979,1973,1135,752,790,927,685,1086,582,1170,490,1078,699,1835,612,806,1153,1484,1390,1310,521,552,1145,1078,502,927,3086,1251,711,1779,1601,833,1123,710,843,10625,1558,826,802,344,635,543,1494,4144,1135,965,1807,1131,765,742,715,790,1199,1086,2650,752]
[null,9,"Spectator sports","48100*","25*","25*","100*","100*","100*","100*","200*","100*","100*","300*","200*","25*","200*","200*","100*","200*","100*","100*","700*","100*","200*","100*","25*","200*","25*","200*","100*","400*","100*","100*","200*","100*","400*","400*","100*","400*","100*","100*","100*","600*","100*","100*","200*","100*","400*","300*","25*","100*","100*","100*","200*","200*","200*","100*","200*","400*","500*","100*","200*","100*","100*","25*","100*","200*","25*","25*","400*","200*","400*","200*","25*","100*","200*","300*","200*","100*","100*","100*","300*","800*","25*","600*","400*","400*","100*","100*","200*","100*","100*","100*","100*","100*","100*","100*","200*","300*","500*","100*","100*","25*","300*","200*","200*","200*","100*","1300*","200*","100*","25*","200*","25*","25*","100*","100*","100*","600*","100*","100*","100*","200*","300*","100*","100*","100*","600*","1200*","100*","200*","100*","100*","100*","100*","100*","100*","100*","200*","200*","1200*","100*","100*","200*","100*","200*","300*","100*","25*","100*","100*","25*","200*","100*","1200*","25*","100*","200*","300*","400*","100*","100*","800*","100*","700*","300*","800*","25*","100*","100*","100*","400*","300*","200*","100*","100*","100*","400*","100*","200*","25*","100*","200*","100*","100*","100*","200*","400*","100*","300*","100*","600*","100*","100*","700*","100*","25*","100*","100*","100*","25*","100*","100*","200*","200*","100*","100*","600*","200*","800*","500*","200*","300*","800*","100*","100*","100*","100*","800*","25*","200*","200*","200*","200*","100*","100*","200*","100*","100*","25*","100*","25*","200*","100*","100*","100*","100*","100*","100*","100*","200*","300*","100*","25*","100*","100*","200*","100*","100*","200*","25*","200*","500*","100*","300*","100*","200*","500*","100*","25*","100*","200*","100*","25*","100*","100*","100*","300*","200*","100*","100*","100*","100*","200*","100*","100*","100*","200*","100*","200*","100*","800*","100*","100*","200*","200*","200*","100*","100*","700*","100*","200*","2000*","100*","200*","100*","200*","100*","25*","200*","100*","100*","100*","25*","100*","100*","100*","100*","100*","200*","100*","25*","200*","400*","100*","100*","100*","200*","200*","100*","300*","200*","100*","600*","100*","100*","200*","200*","100*","100*","300*","25*","100*","25*","100*","200*","25*","800*","700*","25*","300*","400*","100*","200*","200*","300*","300*","200*","100*","600*","25*","200*","300*","25*","100*","200*","700*","600*","1100*","2000*","400*","800*","300*","1800*","800*","2300*","600*","1600*","1100*","600*","2000*","1400*","1200*","700*","1200*","2400*","1000*","1000*","7000*","1400*","2100*","800*","800*","1500*","1400*","3400*","1900*","1000*","600*","700*","1200*","700*","1000*","600*","900*","300*","900*","800*","1500*","600*","700*","2000*","1700*","700*","700*","400*","400*","1000*","800*","500*","1200*","2000*","1200*","400*","1500*","1200*","1000*","1000*","400*","600*","7000*","1000*","700*","800*","500*","800*","500*","1200*","3000*","1000*","1100*","1800*","1000*","800*","700*","500*","700*","1200*","1000*","1800*","600*"]
[null,10,"Sports equipment",30862,10,170,18,9,15,87,73,21,17,237,43,45,133,141,25,107,108,81,453,85,59,69,141,139,28,183,68,187,130,39,117,35,169,317,92,192,17,36,70,160,89,209,84,235,680,242,20,86,81,43,37,100,165,80,116,190,422,109,58,19,108,49,142,114,17,52,415,65,114,140,47,216,214,647,187,41,77,44,145,570,90,569,123,284,29,104,170,49,93,19,25,49,77,16,93,79,173,71,75,65,63,171,40,35,24,1016,151,71,47,19,21,36,148,12,139,410,5,27,101,112,111,117,37,21,236,630,18,163,115,77,83,15,28,40,70,104,76,760,98,35,177,21,65,188,301,14,115,61,0,162,121,693,82,78,143,140,263,27,93,645,71,336,105,358,16,55,23,76,376,367,97,111,56,14,404,44,113,17,107,148,31,27,25,78,218,28,61,31,151,43,281,639,99,28,6,68,42,17,96,44,97,100,8,71,285,140,387,89,255,155,238,45,7,99,165,391,59,195,206,104,124,132,8,143,122,19,56,32,9,75,12,132,111,40,19,187,50,45,41,65,39,19,99,77,43,88,107,66,35,492,29,111,91,91,334,9,48,1,232,60,34,38,269,29,32,44,13,30,21,24,175,106,232,52,57,59,45,52,316,5,49,175,87,152,70,94,402,49,96,564,40,73,45,127,92,72,28,101,70,60,53,41,12,65,17,229,22,75,25,138,225,79,21,28,172,70,158,185,226,44,217,135,111,52,27,21,90,104,39,142,48,105,39,8,432,813,38,148,283,61,146,114,78,37,121,57,233,48,31,60,25,60,162,373,160,838,953,415,357,647,963,572,850,410,870,1134,540,1722,1185,760,400,773,1437,424,697,5560,1041,720,387,391,1125,768,2330,999,467,410,254,589,248,753,233,541,647,851,572,1350,410,639,564,774,453,373,415,114,448,570,172,589,1722,760,258,806,773,379,463,376,875,5560,697,447,387,89,391,334,844,1886,467,838,990,392,310,402,242,254,518,753,1042,410]
[null,11,"Sportswear",8230,3,45,5,3,4,23,19,6,5,63,11,12,36,38,7,28,29,22,121,23,16,18,38,37,8,49,18,50,35,10,31,9,45,85,25,51,4,10,19,43,24,56,22,63,181,65,5,23,22,11,10,27,44,21,31,51,112,29,15,5,29,13,38,30,5,14,111,17,30,37,12,58,57,173,50,11,21,12,39,152,24,152,33,76,8,28,45,13,25,5,7,13,21,4,25,21,46,19,20,17,17,46,11,9,6,271,40,19,12,5,6,10,39,3,37,109,1,7,27,30,30,31,10,6,63,168,5,44,31,21,22,4,7,11,19,28,20,203,26,9,47,6,17,50,80,4,31,16,0,43,32,185,22,21,38,37,70,7,25,172,19,90,28,95,4,15,6,20,100,98,26,30,15,4,108,12,30,5,28,39,8,7,7,21,58,7,16,8,40,12,75,170,26,8,2,18,11,5,26,12,26,27,2,19,76,37,103,24,68,41,63,12,2,26,44,104,16,52,55,28,33,35,2,38,33,5,15,9,3,20,3,35,30,11,5,50,13,12,11,17,10,5,26,21,12,23,29,18,9,131,8,30,24,24,89,2,13,0,62,16,9,10,72,8,9,12,3,8,6,6,47,28,62,14,15,16,12,14,84,1,13,47,23,41,19,25,107,13,26,150,11,19,12,34,25,19,7,27,19,16,14,11,3,17,5,61,6,20,7,37,60,21,6,7,46,19,42,49,60,12,58,36,30,14,7,6,24,28,10,38,13,28,10,2,115,217,10,39,75,16,39,30,21,10,32,15,62,13,8,16,7,16,43,99,43,223,254,111,95,173,257,152,227,109,232,302,144,459,316,203,107,206,383,113,186,1483,277,192,103,104,300,205,621,266,125,109,68,157,66,201,62,144,173,227,152,360,109,170,150,206,121,99,111,30,119,152,46,157,459,203,69,215,206,101,123,100,233,1483,186,119,103,24,104,89,225,503,125,223,264,105,83,107,65,68,138,201,278,109]
[null,12,"Sports gambling",34735,9,45,42,76,46,31,41,11,525,176,125,51,70,35,31,38,63,140,961,8,82,354,19,223,43,193,36,326,24,64,186,16,293,240,6,92,15,43,54,113,50,70,75,40,108,380,34,60,61,33,55,78,31,31,48,99,146,64,19,14,26,9,242,51,37,52,106,5,257,223,5,63,162,222,43,68,43,7,120,351,14,160,151,85,38,145,169,8,32,6,16,30,147,24,112,51,142,35,29,8,24,196,35,25,43,458,43,18,25,33,8,14,145,42,57,123,32,27,185,120,85,153,93,23,362,310,10,312,79,31,568,12,91,57,41,125,46,761,40,18,168,22,19,131,23,28,85,60,0,454,283,534,54,53,291,91,203,123,223,424,82,1486,359,167,15,164,63,49,332,736,205,40,6,6,593,57,104,9,13,79,11,7,21,169,197,12,48,25,366,36,476,435,21,8,14,111,31,10,65,31,113,120,9,24,212,285,448,134,78,529,271,68,14,100,53,172,21,80,175,45,216,88,6,211,132,82,19,28,5,47,16,105,15,16,19,120,26,56,16,42,2,8,204,221,111,40,211,18,16,425,43,59,74,68,124,15,11,18,44,5,29,37,20,19,10,29,27,23,11,162,188,231,231,35,79,75,109,44,373,82,138,184,160,1103,14,10,346,30,336,392,25,74,61,73,142,52,13,32,31,68,87,25,12,140,258,52,20,107,11,155,99,14,12,28,190,395,131,160,300,56,173,69,104,17,17,16,30,28,7,13,32,17,15,15,246,2098,42,198,83,11,79,256,73,20,246,52,134,39,14,42,35,27,85,1007,113,544,794,106,396,222,1151,322,504,123,1291,394,509,1918,566,761,580,859,2543,525,1528,9003,781,1520,448,172,949,685,1522,1017,1477,157,569,448,173,435,134,409,222,442,322,740,123,435,392,682,961,1007,106,257,464,351,127,448,1918,761,289,639,859,309,527,332,188,9003,1528,297,448,134,172,124,821,3100,1477,544,774,800,179,346,324,569,1129,435,2279,157]
[null,13,"TV/satellite subscriptions",0,0,0,0,0,0,0,0,0,0,0,0,0,0,0,0,0,0,0,0,0,0,0,0,0,0,0,0,0,0,0,0,0,0,0,0,0,0,0,0,0,0,0,0,0,0,0,0,0,0,0,0,0,0,0,0,0,0,0,0,0,0,0,0,0,0,0,0,0,0,0,0,0,0,0,0,0,0,0,0,0,0,0,0,0,0,0,0,0,0,0,0,0,0,0,0,0,0,0,0,0,0,0,0,0,0,0,0,0,0,0,0,0,0,0,0,0,0,0,0,0,0,0,0,0,0,0,0,0,0,0,0,0,0,0,0,0,0,0,0,0,0,0,0,0,0,0,0,0,0,0,0,0,0,0,0,0,0,0,0,0,0,0,0,0,0,0,0,0,0,0,0,0,0,0,0,0,0,0,0,0,0,0,0,0,0,0,0,0,0,0,0,0,0,0,0,0,0,0,0,0,0,0,0,0,0,0,0,0,0,0,0,0,0,0,0,0,0,0,0,0,0,0,0,0,0,0,0,0,0,0,0,0,0,0,0,0,0,0,0,0,0,0,0,0,0,0,0,0,0,0,0,0,0,0,0,0,0,0,0,0,0,0,0,0,0,0,0,0,0,0,0,0,0,0,0,0,0,0,0,0,0,0,0,0,0,0,0,0,0,0,0,0,0,0,0,0,0,0,0,0,0,0,0,0,0,0,0,0,0,0,0,0,0,0,0,0,0,0,0,0,0,0,0,0,0,0,0,0,0,0,0,0,0,0,0,0,0,0,0,0,0,0,0,0,0,0,0,0,0,0,0,0,0,0,0,0,0,0,0,0,0,0,0,0,0,0,0,0,0,0,0,0,0,0,0,0,0,0,0,0,0,0,0,0,0,0,0,0,0,0,0,0,0,0,0,0,0,0,0,0,0,0,0,0,0,0,0,0,0,0,0,0,0,0,0,0,0,0,0,0,0,0,0,0,0,0,0,0,0,0,0,0,0,0,0,0,0,0]
[null,21,"Health cost savings"]
[null,22,"Other health benefits (QALY's etc)"]
[null,23,"Volunteering"]
[null,25,"Spectator wider spending"]
[null,26,"Participation wider spending"]
[null,17,"Total direct economic value of sport",451396,345,816,739,885,679,965,1506,679,1548,2918,1706,441,1556,1637,733,1487,1212,1340,7656,1053,1564,1454,520,2209,393,2081,1110,3700,1128,779,2204,698,3252,3756,801,3147,832,642,802,4588,919,1502,1515,1188,4779,2888,421,1107,926,604,1610,1711,1561,1040,1577,3303,4252,952,1415,734,933,416,1246,1621,392,481,4027,1150,3524,2134,409,1289,2462,4205,1869,827,778,715,2574,7571,572,5978,2918,3332,757,1655,2106,687,964,708,755,1093,1026,533,2094,1833,3881,873,1096,419,1869,2281,1324,1088,708,11744,1467,775,506,1095,425,399,1547,616,1054,5064,504,754,1027,2005,1971,1522,930,753,4163,10352,649,2351,916,1188,1714,733,942,667,881,1731,1610,10700,1124,607,2177,747,1337,2610,1709,402,1256,1016,46,2315,1508,10940,570,870,2185,2131,3490,816,1711,8331,953,7374,2556,6236,468,1461,983,930,4524,4067,1630,1010,571,562,4521,907,2018,340,1039,1936,600,652,1049,1560,3119,612,1872,912,4235,774,2336,6878,758,389,520,1147,821,382,1052,676,1656,1608,643,908,4843,2131,6579,3311,2035,2840,6242,853,468,1342,1322,6344,545,1802,2230,1559,1948,1347,418,1699,1718,1092,485,969,331,1845,525,1392,789,611,573,1721,896,1185,1694,809,312,579,1490,1788,830,751,1807,510,1252,5204,719,2576,984,1709,4297,587,638,529,2189,745,311,744,1211,790,1660,1310,762,1083,780,943,1956,1468,1998,955,1412,820,1457,821,6736,602,808,1988,1611,2768,1107,894,6236,961,2231,13833,882,1493,943,1704,1242,571,1105,1138,961,1109,636,689,527,875,808,1298,1178,927,343,2062,2993,797,569,907,2309,2021,1708,2703,2247,1025,4626,1149,874,1435,1326,539,975,2095,289,913,580,815,1227,209,6912,7690,462,2579,3506,801,1859,2065,1865,1843,2080,1029,4874,544,1182,1858,506,810,1671,7545,4588,9802,16728,4048,6761,4205,16554,6971,17255,5064,15327,10942,6708,21256,13433,10700,6578,11449,23823,8405,11040,75030,13114,17397,6579,6344,14265,12191,31227,16186,9505,5211,6034,9586,5397,9088,4874,8510,4205,9136,6971,14507,5064,6878,13833,14048,7656,7545,4048,3524,8470,7571,3787,9586,21256,10700,4295,13058,11449,7706,8692,4524,6582,75030,11040,6416,6579,3311,6344,4297,11548,29836,9505,9802,15372,8982,6487,6236,4455,6034,10563,9088,18288,5211]

{"sheet":"Results for Export","index":3,"n_rows":204,"n_cols":12,"rows_kept":204,"cut":false,"hidden":true,"merged":[[139,6,139,9],[23,2,24,2],[77,2,78,2]]}
[{"$f":"\"Snapshot for \" & LocalAuthority","v":"Snapshot for Adur"}]
[{"$f":"SNAPSHOT!B23","v":"Participation"},{"$f":"SNAPSHOT!D23","v":"Gross Value Added"},{"$f":"SNAPSHOT!E23","v":"Jobs"}]
[{"$f":"SNAPSHOT!B24","v":"Sports services"},{"$f":"SNAPSHOT!D24","v":5.653542709829166},{"$f":"SNAPSHOT!E24","v":234}]
[{"$f":"SNAPSHOT!B25","v":"Sportswear and equipment"},{"$f":"SNAPSHOT!D25","v":0.45450593791553939},{"$f":"SNAPSHOT!E25","v":9}]
[{"$f":"SNAPSHOT!B26","v":"Sport education"},{"$f":"SNAPSHOT!D26","v":4.5541274226117219},{"$f":"SNAPSHOT!E26","v":55}]
[{"$f":"SNAPSHOT!B27","v":"Total participation"},{"$f":"SNAPSHOT!D27","v":10.662176070356427},{"$f":"SNAPSHOT!E27","v":298}]
[]
[{"$f":"SNAPSHOT!B29","v":"Non-Participation"},{"$f":"SNAPSHOT!D29","v":"Gross Value Added"},{"$f":"SNAPSHOT!E29","v":"Jobs"}]
[{"$f":"SNAPSHOT!B30","v":"Spectator sports"},{"$f":"SNAPSHOT!D30","v":1.0431775343513536},{"$f":"SNAPSHOT!E30","v":"25*"}]
[{"$f":"SNAPSHOT!B31","v":"Sportswear and equipment"},{"$f":"SNAPSHOT!D31","v":0.67465725159337875},{"$f":"SNAPSHOT!E31","v":13}]
[{"$f":"SNAPSHOT!B32","v":"Sports broadcasting and gambling"},{"$f":"SNAPSHOT!D32","v":0.34637242441799226},{"$f":"SNAPSHOT!E32","v":9}]
[{"$f":"SNAPSHOT!B33","v":"Total non-participation"},{"$f":"SNAPSHOT!D33","v":2.0642072103627247},{"$f":"SNAPSHOT!E33","v":47}]
[]
[null,{"$f":"SNAPSHOT!D20","v":"Gross Value Added:"},{"$f":"SNAPSHOT!D21","v":"Jobs:"}]
[{"$f":"SNAPSHOT!B20","v":"Total direct economic value of sport"},{"$f":"SNAPSHOT!E20","v":12.726383280719151},{"$f":"SNAPSHOT!E21","v":345}]
[]
[{"$f":"SNAPSHOT!B35","v":"Wider impacts"},null,null,{"$f":"SNAPSHOT!F35","v":"Wider value"}]
[{"$f":"SNAPSHOT!B36","v":"Health"},null,null,{"$f":"SNAPSHOT!F36","v":23.971212771419836}]
[{"$f":"SNAPSHOT!B37","v":"Volunteering"},null,null,{"$f":"SNAPSHOT!F37","v":4.6823472540626589}]
[{"$f":"SNAPSHOT!B38","v":"Wider spending"},null,null,{"$f":"SNAPSHOT!F38","v":5.9096712440689828E-2}]
[]
[{"$f":"\"Snapshot for \" & LocalAuthority","v":"Snapshot for Adur"}]
["Participation","Gross Value Added","Jobs"]
["Sport/class subscription fees",{"$f":"DETAILED_BASIC_SNAPSHOT!D24","v":4.1727101374054145},{"$f":"DETAILED_BASIC_SNAPSHOT!E24","v":234}]
["Participation sport",{"$f":"DETAILED_BASIC_SNAPSHOT!D25","v":1.4808325724237512}]
["Sports equipment",{"$f":"DETAILED_BASIC_SNAPSHOT!D26","v":0.42609931679581814},{"$f":"DETAILED_BASIC_SNAPSHOT!E26","v":8}]
["Sportswear",{"$f":"DETAILED_BASIC_SNAPSHOT!D27","v":2.8406621119721216E-2},{"$f":"DETAILED_BASIC_SNAPSHOT!E27","v":1}]
["Sport education",{"$f":"DETAILED_BASIC_SNAPSHOT!D28","v":4.5541274226117219},{"$f":"DETAILED_BASIC_SNAPSHOT!E28","v":55}]
["Total participation",{"$f":"DETAILED_BASIC_SNAPSHOT!D29","v":10.662176070356427},{"$f":"DETAILED_BASIC_SNAPSHOT!E29","v":298}]
[]
["Non-Participation",{"$f":"DETAILED_BASIC_SNAPSHOT!D31","v":"Gross Value Added"},{"$f":"DETAILED_BASIC_SNAPSHOT!E31","v":"Jobs"}]
["Spectator sports",{"$f":"DETAILED_BASIC_SNAPSHOT!D32","v":1.0431775343513536},{"$f":"DETAILED_BASIC_SNAPSHOT!E32","v":"25*"}]
["Sports equipment",{"$f":"DETAILED_BASIC_SNAPSHOT!D33","v":0.5326241459947727},{"$f":"DETAILED_BASIC_SNAPSHOT!E33","v":10}]
["Sportswear",{"$f":"DETAILED_BASIC_SNAPSHOT!D34","v":0.14203310559860607},{"$f":"DETAILED_BASIC_SNAPSHOT!E34","v":3}]
["Sports gambling",{"$f":"DETAILED_BASIC_SNAPSHOT!D35","v":0.17877151542545894},{"$f":"DETAILED_BASIC_SNAPSHOT!E35","v":9}]
["TV/satellite subscriptions",{"$f":"DETAILED_BASIC_SNAPSHOT!D36","v":0.16760090899253327},{"$f":"DETAILED_BASIC_SNAPSHOT!E36","v":0}]
["Total non-participation",{"$f":"DETAILED_BASIC_SNAPSHOT!D37","v":2.0642072103627247},{"$f":"DETAILED_BASIC_SNAPSHOT!E37","v":47}]
[]
[null,{"$f":"DETAILED_BASIC_SNAPSHOT!D20","v":"Gross Value Added:"},{"$f":"DETAILED_BASIC_SNAPSHOT!D21","v":"Jobs:"}]
["Total direct economic value of sport",{"$f":"DETAILED_BASIC_SNAPSHOT!E20","v":12.726383280719151},{"$f":"DETAILED_BASIC_SNAPSHOT!E21","v":345}]
[]
["Wider impacts",null,null,{"$f":"DETAILED_BASIC_SNAPSHOT!F39","v":"Wider value"}]
["Health",null,null,{"$f":"DETAILED_BASIC_SNAPSHOT!F40","v":23.971212771419836}]
["Health cost savings",null,null,{"$f":"DETAILED_BASIC_SNAPSHOT!F41","v":3.6654437322309517}]
["Other health benefits (QALY's etc)",null,null,{"$f":"DETAILED_BASIC_SNAPSHOT!F42","v":20.305769039188885}]
["Volunteering",null,null,{"$f":"DETAILED_BASIC_SNAPSHOT!F43","v":4.6823472540626589}]
["Wider spending",null,null,{"$f":"DETAILED_BASIC_SNAPSHOT!F44","v":5.9096712440689828E-2}]
["Spectator wider spending",null,null,{"$f":"DETAILED_BASIC_SNAPSHOT!F45","v":3.8017888561382003E-2}]
["Participation wider spending",null,null,{"$f":"DETAILED_BASIC_SNAPSHOT!F46","v":2.1078823879307828E-2}]
[]
[]
[]
[]
[]
[{"$f":"\"Refined snapshot for \" & LocalAuthority","v":"Refined snapshot for Adur"}]
[{"$f":"REFINED_SNAPSHOT!B10","v":"Participation"},{"$f":"REFINED_SNAPSHOT!D10","v":"Gross Value Added"},{"$f":"REFINED_SNAPSHOT!E10","v":"Jobs"}]
[{"$f":"REFINED_SNAPSHOT!B11","v":"Sports services"},{"$f":"REFINED_SNAPSHOT!D11","v":5.653542709829166},{"$f":"REFINED_SNAPSHOT!E11","v":234}]
[{"$f":"REFINED_SNAPSHOT!B12","v":"Sportswear and equipment"},{"$f":"REFINED_SNAPSHOT!D12","v":0.45450593791553939},{"$f":"REFINED_SNAPSHOT!E12","v":9}]
[{"$f":"REFINED_SNAPSHOT!B13","v":"Sport education"},{"$f":"REFINED_SNAPSHOT!D13","v":4.5541274226117219},{"$f":"REFINED_SNAPSHOT!E13","v":55}]
[{"$f":"REFINED_SNAPSHOT!B14","v":"Total participation"},{"$f":"REFINED_SNAPSHOT!D14","v":10.662176070356427},{"$f":"REFINED_SNAPSHOT!E14","v":298}]
[]
[{"$f":"REFINED_SNAPSHOT!B16","v":"Non-Participation"},{"$f":"REFINED_SNAPSHOT!D16","v":"Gross Value Added"},{"$f":"REFINED_SNAPSHOT!E16","v":"Jobs"}]
[{"$f":"REFINED_SNAPSHOT!B17","v":"Spectator sports"},{"$f":"REFINED_SNAPSHOT!D17","v":1.0431775343513539},{"$f":"REFINED_SNAPSHOT!E17","v":"25*"}]
[{"$f":"REFINED_SNAPSHOT!B18","v":"Sportswear and equipment"},{"$f":"REFINED_SNAPSHOT!D18","v":0.67465725159337875},{"$f":"REFINED_SNAPSHOT!E18","v":13}]
[{"$f":"REFINED_SNAPSHOT!B19","v":"Sports broadcasting and gambling"},{"$f":"REFINED_SNAPSHOT!D19","v":0.34637242441799226},{"$f":"REFINED_SNAPSHOT!E19","v":9}]
[{"$f":"REFINED_SNAPSHOT!B20","v":"Total non-participation"},{"$f":"REFINED_SNAPSHOT!D20","v":2.0642072103627251},{"$f":"REFINED_SNAPSHOT!E20","v":47}]
[]
[null,{"$f":"REFINED_SNAPSHOT!D7","v":"Gross Value Added:"},{"$f":"REFINED_SNAPSHOT!D8","v":"Jobs:"}]
[{"$f":"REFINED_SNAPSHOT!B7","v":"Total direct economic value of sport"},{"$f":"REFINED_SNAPSHOT!E7","v":12.726383280719151},{"$f":"REFINED_SNAPSHOT!E8","v":345}]
[]
[{"$f":"REFINED_SNAPSHOT!B22","v":"Wider impacts"},null,null,{"$f":"REFINED_SNAPSHOT!I22","v":"Wider value"}]
[{"$f":"REFINED_SNAPSHOT!B23","v":"Health"},null,null,{"$f":"REFINED_SNAPSHOT!I23","v":23.971212771419836}]
[{"$f":"REFINED_SNAPSHOT!B24","v":"Volunteering"},null,null,{"$f":"REFINED_SNAPSHOT!I24","v":4.6823472540626589}]
[{"$f":"REFINED_SNAPSHOT!B25","v":"Wider Spending"},null,null,{"$f":"REFINED_SNAPSHOT!I25","v":5.9096712440689828E-2}]
[]
[{"$f":"\"Refined snapshot for \" & LocalAuthority","v":"Refined snapshot for Adur"}]
["Participation","Gross Value Added","Jobs"]
["Sport/class subscription fees",{"$f":"DETAILED_REFINED_SNAPSHOT!D11","v":4.1727101374054145},{"$f":"DETAILED_REFINED_SNAPSHOT!E11","v":234}]
["Participation sport",{"$f":"DETAILED_REFINED_SNAPSHOT!D12","v":1.4808325724237512}]
["Sports equipment",{"$f":"DETAILED_REFINED_SNAPSHOT!D13","v":0.42609931679581814},{"$f":"DETAILED_REFINED_SNAPSHOT!E13","v":8}]
["Sportswear",{"$f":"DETAILED_REFINED_SNAPSHOT!D14","v":2.8406621119721216E-2},{"$f":"DETAILED_REFINED_SNAPSHOT!E14","v":1}]
["Sport education",{"$f":"DETAILED_REFINED_SNAPSHOT!D15","v":4.5541274226117219},{"$f":"DETAILED_REFINED_SNAPSHOT!E15","v":55}]
["Total participation",{"$f":"DETAILED_REFINED_SNAPSHOT!D16","v":10.662176070356427},{"$f":"DETAILED_REFINED_SNAPSHOT!E16","v":298}]
[]
["Non-Participation","Gross Value Added","Jobs"]
["Spectator sports",{"$f":"DETAILED_REFINED_SNAPSHOT!D19","v":1.0431775343513539},{"$f":"DETAILED_REFINED_SNAPSHOT!E19","v":"25*"}]
["Sports equipment",{"$f":"DETAILED_REFINED_SNAPSHOT!D20","v":0.5326241459947727},{"$f":"DETAILED_REFINED_SNAPSHOT!E20","v":10}]
["Sportswear",{"$f":"DETAILED_REFINED_SNAPSHOT!D21","v":0.14203310559860607},{"$f":"DETAILED_REFINED_SNAPSHOT!E21","v":3}]
["Sports gambling",{"$f":"DETAILED_REFINED_SNAPSHOT!D22","v":0.17877151542545894},{"$f":"DETAILED_REFINED_SNAPSHOT!E22","v":9}]
["TV/satellite subscriptions",{"$f":"DETAILED_REFINED_SNAPSHOT!D23","v":0.16760090899253327},{"$f":"DETAILED_REFINED_SNAPSHOT!E23","v":""}]
["Total non-participation",{"$f":"DETAILED_REFINED_SNAPSHOT!D24","v":2.0642072103627251},{"$f":"DETAILED_REFINED_SNAPSHOT!E24","v":47}]
[]
[null,"Gross Value Added","Jobs"]
["Total direct economic value of sport",{"$f":"DETAILED_REFINED_SNAPSHOT!E7","v":12.726383280719151},{"$f":"DETAILED_REFINED_SNAPSHOT!E8","v":345}]
[]
["Wider impacts",null,null,{"$f":"DETAILED_REFINED_SNAPSHOT!I26","v":"Wider value"}]
["Health",null,null,{"$f":"DETAILED_REFINED_SNAPSHOT!I27","v":23.971212771419836}]
["Health cost savings",null,null,{"$f":"DETAILED_REFINED_SNAPSHOT!I28","v":3.6654437322309517}]
["Other health benefits (QALY's etc)",null,null,{"$f":"DETAILED_REFINED_SNAPSHOT!I29","v":20.305769039188885}]
["Volunteering",null,null,{"$f":"DETAILED_REFINED_SNAPSHOT!I30","v":4.6823472540626589}]
["Wider spending",null,null,{"$f":"DETAILED_REFINED_SNAPSHOT!I31","v":5.9096712440689828E-2}]
["Spectator wider spending",null,null,{"$f":"DETAILED_REFINED_SNAPSHOT!I32","v":3.8017888561382003E-2}]
["Participation wider spending",null,null,{"$f":"DETAILED_REFINED_SNAPSHOT!I33","v":2.1078823879307828E-2}]
[]
[]
["Refined Assumptions "]
[{"$f":"ADJUST!B11","v":"TV & satellite subscriptions"},{"$f":"ADJUST!C11","v":"New baseline value"}]
[{"$f":"ADJUST!B12","v":"Sports TV subscriptions jobs "},{"$f":"ADJUST!C12","v":0}]
[]
[{"$f":"ADJUST!B14","v":"Sports gambling"},{"$f":"ADJUST!C14","v":"New baseline value"}]
[{"$f":"ADJUST!B15","v":"Online betting jobs"},{"$f":"ADJUST!C15","v":0}]
[{"$f":"ADJUST!B16","v":"Shop betting jobs"},{"$f":"ADJUST!C16","v":0}]
[]
[{"$f":"ADJUST!B18","v":"Sporting goods (Equipment and sportswear)"},{"$f":"ADJUST!C18","v":"New baseline value"}]
[{"$f":"ADJUST!B19","v":"Manufacture and retail of sporting goods jobs"},{"$f":"ADJUST!C19","v":0}]
[]
[{"$f":"ADJUST!B25","v":"Sports services"},{"$f":"ADJUST!C25","v":"New baseline value"}]
[{"$f":"ADJUST!B26","v":"Sports services jobs"},{"$f":"ADJUST!C26","v":0}]
[]
[{"$f":"ADJUST!B28","v":"Wider Spending"},{"$f":"ADJUST!C28","v":"New baseline value"}]
[{"$f":"ADJUST!B29","v":"Overnight visits"}]
[{"$f":"ADJUST!B30","v":"Spectator sports visits"},{"$f":"ADJUST!C30","v":0}]
[{"$f":"ADJUST!B31","v":"Participation sports visits"},{"$f":"ADJUST!C31","v":0}]
[]
[{"$f":"ADJUST!B33","v":"Average spend per spectating trip"},{"$f":"ADJUST!C33","v":0}]
[{"$f":"ADJUST!B34","v":"Average spend per participation trip"},{"$f":"ADJUST!C34","v":0}]
[{"$f":"ADJUST!B35","v":"Day Visits"}]
[{"$f":"ADJUST!B36","v":"Spectator sports visits "},{"$f":"ADJUST!C36","v":0}]
[{"$f":"ADJUST!B37","v":"Participation sports visits "},{"$f":"ADJUST!C37","v":0}]
[]
[{"$f":"ADJUST!B39","v":"Average spend per spectating trip"},{"$f":"ADJUST!C39","v":0}]
[{"$f":"ADJUST!B40","v":"Average spend per participation trip"},{"$f":"ADJUST!C40","v":0}]
[]
[{"$f":"ADJUST!B42","v":"Education"},{"$f":"ADJUST!C42","v":"New baseline value"}]
[{"$f":"ADJUST!B43","v":"Further education students on sport related courses"},{"$f":"ADJUST!C43","v":0}]
[{"$f":"ADJUST!B44","v":"Further education jobs for sports related courses"},{"$f":"ADJUST!C44","v":0}]
[]
["Events"]
[null,{"$f":"EVENTS!C15","v":"Expenditure"},{"$f":"EVENTS!D15","v":"Spectator sports visits"},{"$f":"EVENTS!E15","v":"Spectator sports day visits"},{"$f":"EVENTS!F15","v":"Spectator sports overnight visits"},null,{"$f":"EVENTS!H14","v":"Large sports club/venue"}]
[{"$f":"EVENTS!B16","v":"Recurring events"},{"$f":"EVENTS!C16","v":0},{"$f":"EVENTS!D16","v":0},{"$f":"EVENTS!E16","v":0},{"$f":"EVENTS!F16","v":0}]
[{"$f":"EVENTS!B17","v":"One off events"},{"$f":"EVENTS!C17","v":0},{"$f":"EVENTS!D17","v":0},{"$f":"EVENTS!E17","v":0},{"$f":"EVENTS!F17","v":0},null,{"$f":"EVENTS!H16","v":"GVA"},{"$f":"EVENTS!I16","v":0}]
[]
[]
[{"$f":"\"Impact assessment for \" & LocalAuthority","v":"Impact assessment for Adur"}]
[null,{"$f":"ADDITIONAL_IMPACT_RESULTS!D7","v":"Additional GVA"},{"$f":"ADDITIONAL_IMPACT_RESULTS!E7","v":"Additional jobs"}]
[{"$f":"ADDITIONAL_IMPACT_RESULTS!B8","v":"Construction"},{"$f":"ADDITIONAL_IMPACT_RESULTS!D8","v":0},{"$f":"ADDITIONAL_IMPACT_RESULTS!E8","v":0}]
[]
[{"$f":"ADDITIONAL_IMPACT_RESULTS!B10","v":"Participation"},{"$f":"ADDITIONAL_IMPACT_RESULTS!D10","v":"Additional GVA"},{"$f":"ADDITIONAL_IMPACT_RESULTS!E10","v":"Additional jobs"}]
[{"$f":"ADDITIONAL_IMPACT_RESULTS!B11","v":"Sports services"},{"$f":"ADDITIONAL_IMPACT_RESULTS!D11","v":0},{"$f":"ADDITIONAL_IMPACT_RESULTS!E11","v":0}]
[{"$f":"ADDITIONAL_IMPACT_RESULTS!B12","v":"Sportswear and equipment"},{"$f":"ADDITIONAL_IMPACT_RESULTS!D12","v":0},{"$f":"ADDITIONAL_IMPACT_RESULTS!E12","v":0}]
[{"$f":"ADDITIONAL_IMPACT_RESULTS!B13","v":"Total participation"},{"$f":"ADDITIONAL_IMPACT_RESULTS!D13","v":0},{"$f":"ADDITIONAL_IMPACT_RESULTS!E13","v":0}]
[]
[{"$f":"ADDITIONAL_IMPACT_RESULTS!B15","v":"Non-Participation"},{"$f":"ADDITIONAL_IMPACT_RESULTS!D15","v":"Additional GVA"},{"$f":"ADDITIONAL_IMPACT_RESULTS!E15","v":"Additional jobs"}]
[{"$f":"ADDITIONAL_IMPACT_RESULTS!B16","v":"Spectator sports"},{"$f":"ADDITIONAL_IMPACT_RESULTS!D16","v":0},{"$f":"ADDITIONAL_IMPACT_RESULTS!E16","v":0}]
[]
[{"$f":"ADDITIONAL_IMPACT_RESULTS!B18","v":"Wider impacts"},null,null,{"$f":"ADDITIONAL_IMPACT_RESULTS!F18","v":"Wider Impact"}]
[{"$f":"ADDITIONAL_IMPACT_RESULTS!B19","v":"Health"},null,null,{"$f":"ADDITIONAL_IMPACT_RESULTS!F19","v":0}]
[{"$f":"ADDITIONAL_IMPACT_RESULTS!B22","v":"Volunteering"},null,null,{"$f":"ADDITIONAL_IMPACT_RESULTS!F22","v":0}]
[{"$f":"ADDITIONAL_IMPACT_RESULTS!B23","v":"Wider Spending"},null,null,{"$f":"ADDITIONAL_IMPACT_RESULTS!F23","v":0}]
[]
[]
["Impact assessment Inputs"]
[{"$f":"ADDITIONAL_IMPACT_INPUTS!B10","v":"Participation"},{"$f":"ADDITIONAL_IMPACT_INPUTS!C10","v":"Additional Impact"}]
[{"$f":"ADDITIONAL_IMPACT_INPUTS!B11","v":"Expected additional participants"},{"$f":"ADDITIONAL_IMPACT_INPUTS!C11","v":0}]
[]
[{"$f":"ADDITIONAL_IMPACT_INPUTS!B13","v":"Estimated participant breakdown"},{"$f":"ADDITIONAL_IMPACT_INPUTS!C13","v":"Athletics"},"Badminton","Cricket","Golf","Squash","Tennis","Swimming","Football","Cycling","Health & fitness","Total"]
[{"$f":"ADDITIONAL_IMPACT_INPUTS!B14","v":"16-29"},{"$f":"ADDITIONAL_IMPACT_INPUTS!C14","v":0},{"$f":"ADDITIONAL_IMPACT_INPUTS!D14","v":0},{"$f":"ADDITIONAL_IMPACT_INPUTS!E14","v":0},{"$f":"ADDITIONAL_IMPACT_INPUTS!F14","v":0},{"$f":"ADDITIONAL_IMPACT_INPUTS!G14","v":0},{"$f":"ADDITIONAL_IMPACT_INPUTS!H14","v":0},{"$f":"ADDITIONAL_IMPACT_INPUTS!I14","v":0},{"$f":"ADDITIONAL_IMPACT_INPUTS!J14","v":0},{"$f":"ADDITIONAL_IMPACT_INPUTS!K14","v":0},{"$f":"ADDITIONAL_IMPACT_INPUTS!L14","v":0},{"$f":"ADDITIONAL_IMPACT_INPUTS!M14","v":0}]
[{"$f":"ADDITIONAL_IMPACT_INPUTS!B15","v":"30-49"},{"$f":"ADDITIONAL_IMPACT_INPUTS!C15","v":0},{"$f":"ADDITIONAL_IMPACT_INPUTS!D15","v":0},{"$f":"ADDITIONAL_IMPACT_INPUTS!E15","v":0},{"$f":"ADDITIONAL_IMPACT_INPUTS!F15","v":0},{"$f":"ADDITIONAL_IMPACT_INPUTS!G15","v":0},{"$f":"ADDITIONAL_IMPACT_INPUTS!H15","v":0},{"$f":"ADDITIONAL_IMPACT_INPUTS!I15","v":0},{"$f":"ADDITIONAL_IMPACT_INPUTS!J15","v":0},{"$f":"ADDITIONAL_IMPACT_INPUTS!K15","v":0},{"$f":"ADDITIONAL_IMPACT_INPUTS!L15","v":0},{"$f":"ADDITIONAL_IMPACT_INPUTS!M15","v":0}]
[{"$f":"ADDITIONAL_IMPACT_INPUTS!B16","v":"50-64"},{"$f":"ADDITIONAL_IMPACT_INPUTS!C16","v":0},{"$f":"ADDITIONAL_IMPACT_INPUTS!D16","v":0},{"$f":"ADDITIONAL_IMPACT_INPUTS!E16","v":0},{"$f":"ADDITIONAL_IMPACT_INPUTS!F16","v":0},{"$f":"ADDITIONAL_IMPACT_INPUTS!G16","v":0},{"$f":"ADDITIONAL_IMPACT_INPUTS!H16","v":0},{"$f":"ADDITIONAL_IMPACT_INPUTS!I16","v":0},{"$f":"ADDITIONAL_IMPACT_INPUTS!J16","v":0},{"$f":"ADDITIONAL_IMPACT_INPUTS!K16","v":0},{"$f":"ADDITIONAL_IMPACT_INPUTS!L16","v":0},{"$f":"ADDITIONAL_IMPACT_INPUTS!M16","v":0}]
[{"$f":"ADDITIONAL_IMPACT_INPUTS!B17","v":"65+"},{"$f":"ADDITIONAL_IMPACT_INPUTS!C17","v":0},{"$f":"ADDITIONAL_IMPACT_INPUTS!D17","v":0},{"$f":"ADDITIONAL_IMPACT_INPUTS!E17","v":0},{"$f":"ADDITIONAL_IMPACT_INPUTS!F17","v":0},{"$f":"ADDITIONAL_IMPACT_INPUTS!G17","v":0},{"$f":"ADDITIONAL_IMPACT_INPUTS!H17","v":0},{"$f":"ADDITIONAL_IMPACT_INPUTS!I17","v":0},{"$f":"ADDITIONAL_IMPACT_INPUTS!J17","v":0},{"$f":"ADDITIONAL_IMPACT_INPUTS!K17","v":0},{"$f":"ADDITIONAL_IMPACT_INPUTS!L17","v":0},{"$f":"ADDITIONAL_IMPACT_INPUTS!M17","v":0}]
[{"$f":"ADDITIONAL_IMPACT_INPUTS!B18","v":"Total"},{"$f":"ADDITIONAL_IMPACT_INPUTS!C18","v":0},{"$f":"ADDITIONAL_IMPACT_INPUTS!D18","v":0},{"$f":"ADDITIONAL_IMPACT_INPUTS!E18","v":0},{"$f":"ADDITIONAL_IMPACT_INPUTS!F18","v":0},{"$f":"ADDITIONAL_IMPACT_INPUTS!G18","v":0},{"$f":"ADDITIONAL_IMPACT_INPUTS!H18","v":0},{"$f":"ADDITIONAL_IMPACT_INPUTS!I18","v":0},{"$f":"ADDITIONAL_IMPACT_INPUTS!J18","v":0},{"$f":"ADDITIONAL_IMPACT_INPUTS!K18","v":0},{"$f":"ADDITIONAL_IMPACT_INPUTS!L18","v":0},{"$f":"ADDITIONAL_IMPACT_INPUTS!M18","v":0}]
[]
[{"$f":"ADDITIONAL_IMPACT_INPUTS!B20","v":"Participant share of total"},{"$f":"ADDITIONAL_IMPACT_INPUTS!C20","v":"Athletics"},"Badminton","Cricket","Golf","Squash","Tennis","Swimming","Football","Cycling","Health & fitness","Total"]
[{"$f":"ADDITIONAL_IMPACT_INPUTS!B21","v":"16-29"},{"$f":"ADDITIONAL_IMPACT_INPUTS!C21","v":0},{"$f":"ADDITIONAL_IMPACT_INPUTS!D21","v":0},{"$f":"ADDITIONAL_IMPACT_INPUTS!E21","v":0},{"$f":"ADDITIONAL_IMPACT_INPUTS!F21","v":0},{"$f":"ADDITIONAL_IMPACT_INPUTS!G21","v":0},{"$f":"ADDITIONAL_IMPACT_INPUTS!H21","v":0},{"$f":"ADDITIONAL_IMPACT_INPUTS!I21","v":0},{"$f":"ADDITIONAL_IMPACT_INPUTS!J21","v":0},{"$f":"ADDITIONAL_IMPACT_INPUTS!K21","v":0},{"$f":"ADDITIONAL_IMPACT_INPUTS!L21","v":0},{"$f":"ADDITIONAL_IMPACT_INPUTS!M21","v":0}]
[{"$f":"ADDITIONAL_IMPACT_INPUTS!B22","v":"30-49"},{"$f":"ADDITIONAL_IMPACT_INPUTS!C22","v":0},{"$f":"ADDITIONAL_IMPACT_INPUTS!D22","v":0},{"$f":"ADDITIONAL_IMPACT_INPUTS!E22","v":0},{"$f":"ADDITIONAL_IMPACT_INPUTS!F22","v":0},{"$f":"ADDITIONAL_IMPACT_INPUTS!G22","v":0},{"$f":"ADDITIONAL_IMPACT_INPUTS!H22","v":0},{"$f":"ADDITIONAL_IMPACT_INPUTS!I22","v":0},{"$f":"ADDITIONAL_IMPACT_INPUTS!J22","v":0},{"$f":"ADDITIONAL_IMPACT_INPUTS!K22","v":0},{"$f":"ADDITIONAL_IMPACT_INPUTS!L22","v":0},{"$f":"ADDITIONAL_IMPACT_INPUTS!M22","v":0}]
[{"$f":"ADDITIONAL_IMPACT_INPUTS!B23","v":"50-64"},{"$f":"ADDITIONAL_IMPACT_INPUTS!C23","v":0},{"$f":"ADDITIONAL_IMPACT_INPUTS!D23","v":0},{"$f":"ADDITIONAL_IMPACT_INPUTS!E23","v":0},{"$f":"ADDITIONAL_IMPACT_INPUTS!F23","v":0},{"$f":"ADDITIONAL_IMPACT_INPUTS!G23","v":0},{"$f":"ADDITIONAL_IMPACT_INPUTS!H23","v":0},{"$f":"ADDITIONAL_IMPACT_INPUTS!I23","v":0},{"$f":"ADDITIONAL_IMPACT_INPUTS!J23","v":0},{"$f":"ADDITIONAL_IMPACT_INPUTS!K23","v":0},{"$f":"ADDITIONAL_IMPACT_INPUTS!L23","v":0},{"$f":"ADDITIONAL_IMPACT_INPUTS!M23","v":0}]
[{"$f":"ADDITIONAL_IMPACT_INPUTS!B24","v":"65+"},{"$f":"ADDITIONAL_IMPACT_INPUTS!C24","v":0},{"$f":"ADDITIONAL_IMPACT_INPUTS!D24","v":0},{"$f":"ADDITIONAL_IMPACT_INPUTS!E24","v":0},{"$f":"ADDITIONAL_IMPACT_INPUTS!F24","v":0},{"$f":"ADDITIONAL_IMPACT_INPUTS!G24","v":0},{"$f":"ADDITIONAL_IMPACT_INPUTS!H24","v":0},{"$f":"ADDITIONAL_IMPACT_INPUTS!I24","v":0},{"$f":"ADDITIONAL_IMPACT_INPUTS!J24","v":0},{"$f":"ADDITIONAL_IMPACT_INPUTS!K24","v":0},{"$f":"ADDITIONAL_IMPACT_INPUTS!L24","v":0},{"$f":"ADDITIONAL_IMPACT_INPUTS!M24","v":0}]
[{"$f":"ADDITIONAL_IMPACT_INPUTS!B25","v":"Total"},{"$f":"ADDITIONAL_IMPACT_INPUTS!C25","v":0},{"$f":"ADDITIONAL_IMPACT_INPUTS!D25","v":0},{"$f":"ADDITIONAL_IMPACT_INPUTS!E25","v":0},{"$f":"ADDITIONAL_IMPACT_INPUTS!F25","v":0},{"$f":"ADDITIONAL_IMPACT_INPUTS!G25","v":0},{"$f":"ADDITIONAL_IMPACT_INPUTS!H25","v":0},{"$f":"ADDITIONAL_IMPACT_INPUTS!I25","v":0},{"$f":"ADDITIONAL_IMPACT_INPUTS!J25","v":0},{"$f":"ADDITIONAL_IMPACT_INPUTS!K25","v":0},{"$f":"ADDITIONAL_IMPACT_INPUTS!L25","v":0},{"$f":"ADDITIONAL_IMPACT_INPUTS!M25","v":0}]
[]
[{"$f":"ADDITIONAL_IMPACT_INPUTS!B27","v":"Volunteering"},{"$f":"ADDITIONAL_IMPACT_INPUTS!C27","v":"Additional Impact"}]
[{"$f":"ADDITIONAL_IMPACT_INPUTS!B28","v":"Expected additional volunteers"},{"$f":"ADDITIONAL_IMPACT_INPUTS!C28","v":0}]
[]
[{"$f":"ADDITIONAL_IMPACT_INPUTS!B30","v":"Wider spending"},{"$f":"ADDITIONAL_IMPACT_INPUTS!C30","v":"Additional Impact"}]
[{"$f":"ADDITIONAL_IMPACT_INPUTS!B31","v":"Overnight visits"}]
[{"$f":"ADDITIONAL_IMPACT_INPUTS!B32","v":"Spectator sports visits "},{"$f":"ADDITIONAL_IMPACT_INPUTS!C32","v":0}]
[{"$f":"ADDITIONAL_IMPACT_INPUTS!B33","v":"Participation sports visits"},{"$f":"ADDITIONAL_IMPACT_INPUTS!C33","v":0}]
[]
[{"$f":"ADDITIONAL_IMPACT_INPUTS!B35","v":"Average spend per spectating trip"},{"$f":"ADDITIONAL_IMPACT_INPUTS!C35","v":0}]
[{"$f":"ADDITIONAL_IMPACT_INPUTS!B36","v":"Average spend per participation trip"},{"$f":"ADDITIONAL_IMPACT_INPUTS!C36","v":0}]
[{"$f":"ADDITIONAL_IMPACT_INPUTS!B37","v":"Day Visits"}]
[{"$f":"ADDITIONAL_IMPACT_INPUTS!B38","v":"Spectator sports visits "},{"$f":"ADDITIONAL_IMPACT_INPUTS!C38","v":0}]
[{"$f":"ADDITIONAL_IMPACT_INPUTS!B39","v":"Participation sports visits "},{"$f":"ADDITIONAL_IMPACT_INPUTS!C39","v":0}]
[]
[{"$f":"ADDITIONAL_IMPACT_INPUTS!B41","v":"Average spend per spectating trip"},{"$f":"ADDITIONAL_IMPACT_INPUTS!C41","v":0}]
[{"$f":"ADDITIONAL_IMPACT_INPUTS!B42","v":"Average spend per participation trip"},{"$f":"ADDITIONAL_IMPACT_INPUTS!C42","v":0}]
[]
[{"$f":"ADDITIONAL_IMPACT_INPUTS!B47","v":"Construction"},{"$f":"ADDITIONAL_IMPACT_INPUTS!C47","v":"Additional Impact"}]
[{"$f":"ADDITIONAL_IMPACT_INPUTS!B48","v":"Value of Investment in construction projects"},{"$f":"ADDITIONAL_IMPACT_INPUTS!C48","v":0}]
[{"$f":"ADDITIONAL_IMPACT_INPUTS!B49","v":"Average Number of years to construction projects completion "},{"$f":"ADDITIONAL_IMPACT_INPUTS!C49","v":0}]
[]
["Events"]
[null,{"$f":"ADDEVENTS!C14","v":"Expenditure"},{"$f":"ADDEVENTS!D14","v":"Spectator sports visits"},{"$f":"ADDEVENTS!E14","v":"Spectator sports day visits"},{"$f":"ADDEVENTS!F14","v":"Spectator sports overnight visits"}]
[{"$f":"ADDEVENTS!B15","v":"Recurring events"},{"$f":"ADDEVENTS!C15","v":0},{"$f":"ADDEVENTS!D15","v":0},{"$f":"ADDEVENTS!E15","v":0},{"$f":"ADDEVENTS!F15","v":0}]
[{"$f":"ADDEVENTS!B16","v":"One off events"},{"$f":"ADDEVENTS!C16","v":0},{"$f":"ADDEVENTS!D16","v":0},{"$f":"ADDEVENTS!E16","v":0},{"$f":"ADDEVENTS!F16","v":0}]

{"sheet":"SNAPSHOT","index":4,"n_rows":40,"n_cols":7,"rows_kept":40,"cut":false,"hidden":true,"merged":[[19,1,20,1],[39,1,39,4],[4,6,4,11]]}
[null,{"$f":"LocalAreaTypeSelect & \": \" & LocalAuthority","v":"Local authority: Adur"}]
[]
[null,"Navigation:"]
[null,"Contextual:"]
[null,"ECONOMIC VALUE OF SPORT: RESULTS",null,null,null,null,"Level 1 makes an initial, snapshot for 2013, estimate of the overall contribution that sport makes to the economy of your local area.  The model uses a consistent methodology suitable for any local area and supported by the available local area data and assumptions that are included in the model. \nNote: Gross value added (GVA) is the value added contributed by a sector, which is principally wages plus profits"]
[null,{"$f":"HYPERLINK(GuidanceFileName,\"For guidance: see pages 12-28\")","v":"For guidance: see pages 12-28"}]
[]
[]
[]
[]
[]
[]
[]
[]
[]
[]
[]
[]
[]
[null,"Total direct economic value of sport",null,"Gross Value Added:",{"$f":"SUM(D27,D33)","v":12.726383280719151}]
[null,null,null,"Jobs:",{"$f":"SUM(E27,E33)","v":345}]
[]
[null,"Participation","How it is calculated?","Gross Value Added","Jobs"]
[null,"Sports services","Local area jobs in sports activities (SIC 93.1) multiplied by national expenditure per job. Includes all front-line staff (e.g. leisure centre receptionists) but not high level managers/civil servants.",{"$f":"(SUBSCRIPTION!B19+PARTI_SPORT!B21)/1000000","v":5.653542709829166},{"$f":"ROUND(PARTI_SPORT!B22+SubscriptEmpEst,0)","v":234}]
[null,"Sportswear and equipment","Local area jobs in retail sale of sporting equipment in specialised stores (SIC 47.64) and manufacture of sports goods(SIC 32.3) multiplied by national expenditure per job multiplied by the national share of sportswear & equipment for participation",{"$f":"(PARTI_WEAR!B20+PARTI_EQUIP!B20)/1000000","v":0.45450593791553939},{"$f":"ROUND(ParSpEquipEmpEst+ParSpWearEmpEst,0)","v":9}]
[null,"Sport education","Local area school age population multiplied by England expenditure per school age person plus user specified FE students in sports related course multiplied by England expenditure per student. Includes teachers and support staff.",{"$f":"EDUCATION!B34/1000000","v":4.5541274226117219},{"$f":"ROUND(EDUCATION!B35,0)","v":55}]
[null,"Total participation",null,{"$f":"SUM(D24:D26)","v":10.662176070356427},{"$f":"SUM(E24:E26)","v":298}]
[]
[null,"Non-Participation",null,"Gross Value Added","Jobs"]
[null,"Spectator sports","Local area jobs in sports activities (SIC 93.1) multiplied by national expenditure per job. Includes revenue from tickets and all employment associated with hosting events.",{"$f":"SPECTATOR!B17/1000000","v":1.0431775343513536},{"$f":"IF(SPECTATOR!B16>50,ROUND(SPECTATOR!B16,-2) &\"*\",\"25*\")","v":"25*"}]
[null,"Sportswear and equipment","Local area jobs in retail sale of sporting equipment in specialised stores (SIC 47.64) and manufacture of sports goods(SIC 32.3) multiplied by national expenditure per job multiplied by the national share of sportswear & equipment for non-participation",{"$f":"(CONS_EQUIP!B19+CONS_WEAR!B19)/1000000","v":0.67465725159337875},{"$f":"ROUND(ConsSpEquipEmpEst+ConsSpWearEmpEst,0)","v":13}]
[null,"Sports broadcasting and gambling","Local area jobs in gambling and betting (SIC 92) and television programming and broadcasting activities (SIC 60.2) multiplied by national expenditure per job plus user input of online betting jobs. Includes betting shop staff and on-site bookmakers.",{"$f":"(SPORT_GAMBLING!B32+TV_SUBS!B22)/1000000","v":0.34637242441799226},{"$f":"ROUND(GambleEmpEst,0)","v":9}]
[null,"Total non-participation",null,{"$f":"SUM(D30:D32)","v":2.0642072103627247},{"$f":"SUM(E30:E32)+LEFT(E30,LEN(E30)-1)","v":47}]
[]
[null,"Wider impacts",null,null,null,"Wider value"]
[null,"Health","Participants in any sport by age group multiplied by national per participant value",null,null,{"$f":"HEALTH!B26/1000000","v":23.971212771419836}]
[null,"Volunteering","The number of volunteers  and the average number of hours volunteers in each area from the Active People Survey are multiplied by national replacement wage rate to derive a local area estimate of the value of volunteer’s time. ",null,null,{"$f":"IF(VOLUNTEER!B15<>0,VOLUNTEER!B15/1000000,\"**\")","v":4.6823472540626589}]
[null,"Wider spending","Number of sports visits (based on regional sports visits as percentage of all visits data and LA total tourist visits) multiplied by LA average spend per visit. Includes all non-entry fee spending during trip.",null,null,{"$f":"(TOURISM!B25+TOURISM!C25)/1000000","v":5.9096712440689828E-2}]
[]
[null,"* Employment estimate directly from BRES and must be supressed by rounding to the nearest 100 (any value below 50 is set to 25).\n** The sample from the APS survey for volunteering in this area is too small to be disclosed. "]

{"sheet":"REFINED_SNAPSHOT","index":5,"n_rows":27,"n_cols":11,"rows_kept":27,"cut":false,"hidden":true,"merged":[[26,1,26,4],[6,1,7,1],[4,7,4,11]]}
[null,{"$f":"LocalAreaTypeSelect & \": \" & LocalAuthority","v":"Local authority: Adur"}]
[]
[null,"Navigation:"]
[null,"Contextual:"]
[null,"REFINED ECONOMIC VALUE OF SPORT: RESULTS",null,null,null,null,null,"Level 2 gives you the option to refine the snapshot for 2013 - to input local area data and assumptions that better capture your local knowledge.\nNote: Gross value added (GVA) is the value added contributed by a sector, which is principally wages plus profits"]
[null,{"$f":"HYPERLINK(GuidanceFileName,\"For guidance: see pages 29-42\")","v":"For guidance: see pages 29-42"}]
[null,"Total direct economic value of sport",null,"Gross Value Added:",{"$f":"SUM(D14,D20)","v":12.726383280719151}]
[null,null,null,"Jobs:",{"$f":"SUM(E14,E20)","v":345}]
[]
[null,"Participation","How it is calculated?","Gross Value Added","Jobs",null,"Gross Value Added (Diff from snapshot)","Jobs (Diff from snapshot)"]
[null,"Sports services","Local area jobs in sports activities (SIC 93.1) multiplied by national expenditure per job. Includes all front-line staff (e.g. leisure centre receptionists) but not high level managers/civil servants.",{"$f":"(SUBSCRIPTION!B22+PARTI_SPORT!B21)/1000000","v":5.653542709829166},{"$f":"ROUND(SUBSCRIPTION!B16+PARTI_SPORT!B22,0)","v":234},null,{"$f":"D11-SNAPSHOT!D24","v":0},{"$f":"E11-SNAPSHOT!E24","v":0}]
[null,"Sportswear and equipment","Local area jobs in retail sale of sporting equipment in specialised stores (SIC 47.64) and manufacture of sports goods(SIC 32.3) multiplied by national expenditure per job multiplied by the national share of sportswear & equipment for participation",{"$f":"(PARTI_EQUIP!B23+PARTI_WEAR!B23)/1000000","v":0.45450593791553939},{"$f":"ROUND(PARTI_EQUIP!B16+PARTI_WEAR!B16,0)","v":9},null,{"$f":"D12-SNAPSHOT!D25","v":0},{"$f":"E12-SNAPSHOT!E25","v":0}]
[null,"Sport education","Local area school age population multiplied by England expenditure per school age person plus user specified FE students in sports related course multiplied by England expenditure per student. Includes teachers and support staff.",{"$f":"EDUCATION!B39/1000000","v":4.5541274226117219},{"$f":"ROUND(EDUCATION!B40,0)","v":55},null,{"$f":"D13-SNAPSHOT!D26","v":0},{"$f":"E13-SNAPSHOT!E26","v":0}]
[null,"Total participation",null,{"$f":"SUM(D11:D13)","v":10.662176070356427},{"$f":"SUM(E11:E13)","v":298},null,{"$f":"D14-SNAPSHOT!D27","v":0},{"$f":"E14-SNAPSHOT!E27","v":0}]
[]
[null,"Non-Participation",null,"Gross Value Added","Jobs",null,"Gross Value Added (Diff from snapshot)","Jobs (Diff from snapshot)"]
[null,"Spectator sports","Local area jobs in sports activities (SIC 93.1) multiplied by national expenditure per job. Includes revenue from tickets and all employment associated with hosting events.",{"$f":"SPECTATOR!B22/1000000","v":1.0431775343513539},{"$f":"IF(OR(RecurrEventExp<>0,OneEventExp<>0),SPECTATOR!B23,SNAPSHOT!E30)","v":"25*"},null,{"$f":"D17-SNAPSHOT!D30","v":0},{"$f":"IF(E17=SNAPSHOT!E30,0,E17-LEFT(SNAPSHOT!E30,LEN(SNAPSHOT!E30)-1))","v":0}]
[null,"Sportswear and equipment","Local area jobs in retail sale of sporting equipment in specialised stores (SIC 47.64) and manufacture of sports goods(SIC 32.3) multiplied by national expenditure per job multiplied by the national share of sportswear & equipment for non-participation",{"$f":"(CONS_EQUIP!B22+CONS_WEAR!B22)/1000000","v":0.67465725159337875},{"$f":"ROUND(CONS_EQUIP!B16+CONS_WEAR!B16,0)","v":13},null,{"$f":"D18-SNAPSHOT!D31","v":0},{"$f":"E18-SNAPSHOT!E31","v":0}]
[null,"Sports broadcasting and gambling","Local area jobs in gambling and betting (SIC 92) and television programming and broadcasting activities (SIC 60.2) multiplied by national expenditure per job plus user input of online betting jobs. Includes betting shop staff and on-site bookmakers.",{"$f":"(SPORT_GAMBLING!B36+TV_SUBS!B25)/1000000","v":0.34637242441799226},{"$f":"IF(OR(ISBLANK(TVEmpFix),TVEmpFix=0),ROUND(SPORT_GAMBLING!B37,0),ROUND(SPORT_GAMBLING!B37,0)+ROUND(TVEmpFix,0))","v":9},null,{"$f":"D19-SNAPSHOT!D32","v":0},{"$f":"E19-SNAPSHOT!E32","v":0}]
[null,"Total non-participation",null,{"$f":"SUM(D17:D19)","v":2.0642072103627251},{"$f":"IF(E17=SNAPSHOT!E30,SUM(E17:E19)+LEFT(E17,LEN(E17)-1),SUM(E17:E19))","v":47},null,{"$f":"D20-SNAPSHOT!D33","v":0},{"$f":"E20-SNAPSHOT!E33","v":0}]
[]
[null,"Wider impacts",null,null,null,null,null,null,"Wider value",null,"Wider value (diff from snapshot)"]
[null,"Health","Participants by age (assuming distribution of participants across sports is as in England) multiplied by national per participant value",null,null,null,null,null,{"$f":"SNAPSHOT!F36","v":23.971212771419836},null,{"$f":"I23-SNAPSHOT!F36","v":0}]
[null,"Volunteering","The number of volunteers  and the average number of hours volunteers in each area from the Active People Survey are multiplied by national replacement wage rate to derive a local area estimate of the value of volunteer’s time. ",null,null,null,null,null,{"$f":"SNAPSHOT!F37","v":4.6823472540626589},null,{"$f":"IF(I24<>\"**\",I24-SNAPSHOT!F37,\"**\")","v":0}]
[null,"Wider Spending","Number of sports visits (based on regional sports visits as percentage of all visits data and LA total tourist visits) multiplied by LA average spend per visit. Includes all non-entry fee spending during trip.",null,null,null,null,null,{"$f":"(TOURISM!B29+TOURISM!C29)/1000000","v":5.9096712440689828E-2},null,{"$f":"I25-SNAPSHOT!F38","v":0}]
[]
[null,"* Employment estimate directly from BRES and must be supressed by rounding to the nearest 100 (any value below 50 is set to 25).\n** The sample from the APS survey for volunteering in this area is too small to be disclosed. "]

{"sheet":"DETAILED_BASIC_SNAPSHOT","index":6,"n_rows":48,"n_cols":7,"rows_kept":48,"cut":false,"hidden":true,"merged":[[19,1,20,1],[23,4,24,4],[4,6,4,11],[47,1,47,4]]}
[null,{"$f":"LocalAreaTypeSelect & \": \" & LocalAuthority","v":"Local authority: Adur"}]
[]
[null,"Navigation:"]
[null,"Contextual:"]
[null,"ECONOMIC VALUE OF SPORT: DETAILED RESULTS",null,null,null,null,"Level 1 makes an initial, snapshot for 2012, estimate of the overall contribution that sport makes to the economy of your local area.  The model uses a consistent methodology suitable for any local area and supported by the available local area data and assumptions that are included in the model. \nNote: Gross value added (GVA) is the value added contributed by a sector, which is principally wages plus profits"]
[null,{"$f":"HYPERLINK(GuidanceFileName,\"For guidance: see pages 12-28\")","v":"For guidance: see pages 12-28"}]
[]
[]
[]
[]
[]
[]
[]
[]
[]
[]
[]
[]
[]
[null,"Total direct economic value of sport",null,"Gross Value Added:",{"$f":"SUM(D29,D37)","v":12.726383280719151}]
[null,null,null,"Jobs:",{"$f":"SUM(E29,E37)","v":345}]
[]
[null,"Participation","How it is calculated?","Gross Value Added","Jobs"]
[null,"Sport/class subscription fees","Local area jobs in sports activities (SIC 93.1) multiplied by national expenditure per job",{"$f":"SUBSCRIPTION!B19/1000000","v":4.1727101374054145},{"$f":"ROUND(PARTI_SPORT!B22+SUBSCRIPTION!B14,0)","v":234}]
[null,"Participation sport","Local area participation in participation sports multiplied by national expenditure per participant",{"$f":"PARTI_SPORT!B21/1000000","v":1.4808325724237512}]
[null,"Sports equipment","Local area jobs in retail sale of sporting equipment in specialised stores (SIC 47.64) and manufacture of sports goods (SIC 32.3) multiplied by national expenditure per job multiplied by the national share of sports equipment for participation",{"$f":"PARTI_EQUIP!B20/1000000","v":0.42609931679581814},{"$f":"ROUND(ParSpEquipEmpEst,0)","v":8}]
[null,"Sportswear","Local area jobs in retail sale of sporting equipment in specialised stores (SIC 47.64) and manufacture of sports goods (SIC 32.3) multiplied by national expenditure per job multiplied by the national share of sportswear for participation",{"$f":"PARTI_WEAR!B20/1000000","v":2.8406621119721216E-2},{"$f":"ROUND(ParSpWearEmpEst,0)","v":1}]
[null,"Sport education","Local area school age population multiplied by England expenditure per school age person plus user input FE students in sports related course multiplied by England expenditure per student",{"$f":"EDUCATION!B34/1000000","v":4.5541274226117219},{"$f":"ROUND(EDUCATION!B35,0)","v":55}]
[null,"Total participation",null,{"$f":"SUM(D24:D28)","v":10.662176070356427},{"$f":"SUM(E24:E28)","v":298}]
[]
[null,"Non-Participation",null,"Gross Value Added","Jobs"]
[null,"Spectator sports","Local area jobs in sports activities (SIC 93.1) multiplied by national expenditure per job",{"$f":"SNAPSHOT!D30","v":1.0431775343513536},{"$f":"SNAPSHOT!E30","v":"25*"}]
[null,"Sports equipment","Local area jobs in retail sale of sporting equipment in specialised stores (SIC 47.64) and manufacture of sports goods (SIC 32.3) multiplied by national expenditure per job multiplied by the national share of sports equipment for non-participation",{"$f":"CONS_EQUIP!B19/1000000","v":0.5326241459947727},{"$f":"ROUND(ConsSpEquipEmpEst,0)","v":10}]
[null,"Sportswear","Local area jobs in retail sale of sporting equipment in specialised stores (SIC 47.64) and manufacture of sports goods (SIC 32.3) multiplied by national expenditure per job multiplied by the national share of sportswear for non-participation",{"$f":"CONS_WEAR!B19/1000000","v":0.14203310559860607},{"$f":"ROUND(ConsSpWearEmpEst,0)","v":3}]
[null,"Sports gambling","Local area jobs in gambling and betting (SIC 92) multiplied by national expenditure per job plus user input of online betting jobs",{"$f":"SPORT_GAMBLING!B32/1000000","v":0.17877151542545894},{"$f":"ROUND(GambleEmpEst,0)","v":9}]
[null,"TV/satellite subscriptions","Local area jobs in television programming and broadcasting activities (SIC 60.2) multiplied by national expenditure per job",{"$f":"TV_SUBS!B22/1000000","v":0.16760090899253327}]
[null,"Total non-participation",null,{"$f":"SUM(D32:D36)","v":2.0642072103627247},{"$f":"SUM(E32:E36)+LEFT(E32,LEN(E32)-1)","v":47}]
[]
[null,"Wider impacts",null,null,null,"Wider value"]
[null,"Health","Participants by age (assuming distribution of participants across sports is as in England) multiplied by national per participant value",null,null,{"$f":"HEALTH!B26/1000000","v":23.971212771419836}]
[null,"Health cost savings","Participants by age (assuming distribution of participants across sports is as in England) multiplied by national per participant health cost savings",null,null,{"$f":"HEALTH!B24/1000000","v":3.6654437322309517}]
[null,"Other health benefits (QALY's etc)","Participants by age (assuming distribution of participants across sports is as in England) multiplied by national per participant value of other health benefits",null,null,{"$f":"HEALTH!B25/1000000","v":20.305769039188885}]
[null,"Volunteering","The number of volunteers  and the average number of hours volunteers in each area from the Active People Survey are multiplied by national replacement wage rate to derive a local area estimate of the value of volunteer’s time. ",null,null,{"$f":"IF(VOLUNTEER!B15>30,VOLUNTEER!B15/1000000,\"**\")","v":4.6823472540626589}]
[null,"Wider spending","Number of sports visits (based on regional sports visits as percentage of all visits data and LA total visits) multiplied by LA average spend per visit",null,null,{"$f":"SUM(TOURISM!B25,TOURISM!C25)/1000000","v":5.9096712440689828E-2}]
[null,"Spectator wider spending","Number of sports visits (based on regional visits for the purpose of watching sport as percentage of all visits data and LA total visits) multiplied by LA average spend per visit",null,null,{"$f":"(TOURISM!B26+TOURISM!C26)/1000000","v":3.8017888561382003E-2}]
[null,"Participation wider spending","Number of sports visits (based on regional sports visits for the purpose of participating in sport as percentage of all visits data and LA total visits) multiplied by LA average spend per visit",null,null,{"$f":"SUM(TOURISM!B27,TOURISM!C27)/1000000","v":2.1078823879307828E-2}]
[]
[null,"* Employment estimate directly from BRES and must be supressed by rounding to the nearest 100 (any value below 50 is set to 25).\n** The sample from the APS survey for volunteering in this area is too small to be disclosed. "]

{"sheet":"DETAILED_REFINED_SNAPSHOT","index":7,"n_rows":35,"n_cols":11,"rows_kept":35,"cut":false,"hidden":true,"merged":[[34,1,34,4],[10,4,11,4],[6,1,7,1],[4,8,4,12]]}
[null,{"$f":"LocalAreaTypeSelect & \": \" & LocalAuthority","v":"Local authority: Adur"}]
[]
[null,"Navigation:"]
[null,"Contextual:"]
[null,"REFINED ECONOMIC VALUE OF SPORT: DETAILED RESULTS",null,null,null,null,null,null,"Level 2 gives you the option to refine the snapshot for 2012 - to input local area data and assumptions that better capture your local knowledge.\nNote: Gross value added (GVA) is the value added contributed by a sector, which is principally wages plus profits"]
[null,{"$f":"HYPERLINK(GuidanceFileName,\"For guidance: see pages 29-42\")","v":"For guidance: see pages 29-42"}]
[null,"Total direct economic value of sport",null,"Gross Value Added:",{"$f":"SUM(D16,D24)","v":12.726383280719151}]
[null,null,null,"Jobs:",{"$f":"SUM(E16,E24)","v":345}]
[]
[null,"Participation","How it is calculated?","Gross Value Added","Jobs",null,"Gross Value Added (Diff from snapshot)","Jobs (Diff from snapshot)"]
[null,"Sport/class subscription fees","Local area jobs in sports activities (SIC 93.1) multiplied by national expenditure per job",{"$f":"SUBSCRIPTION!B22/1000000","v":4.1727101374054145},{"$f":"ROUND(REFINED_SNAPSHOT!E11,0)","v":234},null,{"$f":"D11-DETAILED_BASIC_SNAPSHOT!D24","v":0},{"$f":"E11-DETAILED_BASIC_SNAPSHOT!E24","v":0}]
[null,"Participation sport","Local area participation in participation sports multiplied by national expenditure per participant",{"$f":"PARTI_SPORT!B21/1000000","v":1.4808325724237512},null,null,{"$f":"D12-DETAILED_BASIC_SNAPSHOT!D25","v":0},{"$f":"E12-DETAILED_BASIC_SNAPSHOT!E25","v":0}]
[null,"Sports equipment","Local area jobs in retail sale of sporting equipment in specialised stores (SIC 47.64) and manufacture of sports goods (SIC 32.3) multiplied by national expenditure per job multiplied by the national share of sports equipment for participation",{"$f":"PARTI_EQUIP!B23/1000000","v":0.42609931679581814},{"$f":"ROUND(PARTI_EQUIP!B16,0)","v":8},null,{"$f":"D13-DETAILED_BASIC_SNAPSHOT!D26","v":0},{"$f":"E13-DETAILED_BASIC_SNAPSHOT!E26","v":0}]
[null,"Sportswear","Local area jobs in retail sale of sporting equipment in specialised stores (SIC 47.64) and manufacture of sports goods (SIC 32.3) multiplied by national expenditure per job multiplied by the national share of sportswear for participation",{"$f":"PARTI_WEAR!B23/1000000","v":2.8406621119721216E-2},{"$f":"ROUND(PARTI_WEAR!B16,0)","v":1},null,{"$f":"D14-DETAILED_BASIC_SNAPSHOT!D27","v":0},{"$f":"E14-DETAILED_BASIC_SNAPSHOT!E27","v":0}]
[null,"Sport education","Local area school age population multiplied by England expenditure per school age person plus user input FE students in sports related course multiplied by England expenditure per student",{"$f":"EDUCATION!B39/1000000","v":4.5541274226117219},{"$f":"ROUND(EDUCATION!B40,0)","v":55},null,{"$f":"D15-DETAILED_BASIC_SNAPSHOT!D28","v":0},{"$f":"E15-DETAILED_BASIC_SNAPSHOT!E28","v":0}]
[null,"Total participation",null,{"$f":"SUM(D11:D15)","v":10.662176070356427},{"$f":"SUM(E11:E15)","v":298},null,{"$f":"D16-DETAILED_BASIC_SNAPSHOT!D29","v":0},{"$f":"E16-DETAILED_BASIC_SNAPSHOT!E29","v":0}]
[]
[null,"Non-Participation",null,"Gross Value Added","Jobs",null,"Gross Value Added (Diff from snapshot)","Jobs (Diff from snapshot)"]
[null,"Spectator sports","Local area jobs in sports activities (SIC 93.1) multiplied by national expenditure per job",{"$f":"REFINED_SNAPSHOT!D17","v":1.0431775343513539},{"$f":"REFINED_SNAPSHOT!E17","v":"25*"},null,{"$f":"D19-DETAILED_BASIC_SNAPSHOT!D32","v":0},{"$f":"IF(E19=DETAILED_BASIC_SNAPSHOT!E32,0,E19-LEFT(DETAILED_BASIC_SNAPSHOT!E32,LEN(DETAILED_BASIC_SNAPSHOT!E32)-1))","v":0}]
[null,"Sports equipment","Local area jobs in retail sale of sporting equipment in specialised stores (SIC 47.64) and manufacture of sports goods (SIC 32.3) multiplied by national expenditure per job multiplied by the national share of sports equipment for non-participation",{"$f":"CONS_EQUIP!B22/1000000","v":0.5326241459947727},{"$f":"ROUND(CONS_EQUIP!B16,0)","v":10},null,{"$f":"D20-DETAILED_BASIC_SNAPSHOT!D33","v":0},{"$f":"E20-DETAILED_BASIC_SNAPSHOT!E33","v":0}]
[null,"Sportswear","Local area jobs in retail sale of sporting equipment in specialised stores (SIC 47.64) and manufacture of sports goods (SIC 32.3) multiplied by national expenditure per job multiplied by the national share of sportswear for non-participation",{"$f":"CONS_WEAR!B22/1000000","v":0.14203310559860607},{"$f":"ROUND(CONS_WEAR!B16,0)","v":3},null,{"$f":"D21-DETAILED_BASIC_SNAPSHOT!D34","v":0},{"$f":"E21-DETAILED_BASIC_SNAPSHOT!E34","v":0}]
[null,"Sports gambling","Local area jobs in gambling and betting (SIC 92) multiplied by national expenditure per job plus user input of online betting jobs",{"$f":"SPORT_GAMBLING!B36/1000000","v":0.17877151542545894},{"$f":"ROUND(SPORT_GAMBLING!B37,0)","v":9},null,{"$f":"D22-DETAILED_BASIC_SNAPSHOT!D35","v":0},{"$f":"E22-DETAILED_BASIC_SNAPSHOT!E35","v":0}]
[null,"TV/satellite subscriptions","Local area jobs in television programming and broadcasting activities (SIC 60.2) multiplied by national expenditure per job",{"$f":"TV_SUBS!B25/1000000","v":0.16760090899253327},{"$f":"IF(OR(ISBLANK(TVEmpFix),TVEmpFix=0),\"\",TVEmpFix)","v":""},null,{"$f":"D23-DETAILED_BASIC_SNAPSHOT!D36","v":0},"N/A"]
[null,"Total non-participation",null,{"$f":"SUM(D19:D23)","v":2.0642072103627251},{"$f":"IF(RIGHT(E19,1)<>\"*\",SUM(E19:E23),SUM(E19:E23)+LEFT(E19,LEN(E19)-1))","v":47},null,{"$f":"D24-DETAILED_BASIC_SNAPSHOT!D37","v":0},{"$f":"E24-DETAILED_BASIC_SNAPSHOT!E37","v":0}]
[]
[null,"Wider impacts",null,null,null,null,null,null,"Wider value",null,"Wider value (Diff from snapshot)"]
[null,"Health","Participants by age (assuming distribution of participants across sports is as in England) multiplied by national per participant value",null,null,null,null,null,{"$f":"DETAILED_BASIC_SNAPSHOT!$F$40","v":23.971212771419836},null,{"$f":"I27-DETAILED_BASIC_SNAPSHOT!F40","v":0}]
[null,"Health cost savings","Participants by age (assuming distribution of participants across sports is as in England) multiplied by national per participant health cost savings",null,null,null,null,null,{"$f":"DETAILED_BASIC_SNAPSHOT!F41","v":3.6654437322309517},null,{"$f":"I28-DETAILED_BASIC_SNAPSHOT!F41","v":0}]
[null,"Other health benefits (QALY's etc)","Participants by age (assuming distribution of participants across sports is as in England) multiplied by national per participant value of other health benefits",null,null,null,null,null,{"$f":"DETAILED_BASIC_SNAPSHOT!F42","v":20.305769039188885},null,{"$f":"I29-DETAILED_BASIC_SNAPSHOT!F42","v":0}]
[null,"Volunteering","The number of volunteers  and the average number of hours volunteers in each area from the Active People Survey are multiplied by national replacement wage rate to derive a local area estimate of the value of volunteer’s time. ",null,null,null,null,null,{"$f":"DETAILED_BASIC_SNAPSHOT!$F$43","v":4.6823472540626589},null,{"$f":"IF(I30<>\"**\",I30-DETAILED_BASIC_SNAPSHOT!F43,\"**\")","v":0}]
[null,"Wider spending","Number of sports visits (based on regional sports visits as percentage of all visits data and LA total visits) multiplied by LA average spend per visit",null,null,null,null,null,{"$f":"I32+I33","v":5.9096712440689828E-2},null,{"$f":"I31-DETAILED_BASIC_SNAPSHOT!F44","v":0}]
[null,"Spectator wider spending","Number of sports visits (based on regional visits for the purpose of watching sport as percentage of all visits data and LA total visits) multiplied by LA average spend per visit",null,null,null,null,null,{"$f":"SUM(TOURISM!B30,TOURISM!C30)/1000000","v":3.8017888561382003E-2},null,{"$f":"I32-DETAILED_BASIC_SNAPSHOT!F45","v":0}]
[null,"Participation wider spending","Number of sports visits (based on regional sports visits for the purpose of participating in sport as percentage of all visits data and LA total visits) multiplied by LA average spend per visit",null,null,null,null,null,{"$f":"(TOURISM!B31+TOURISM!C31)/1000000","v":2.1078823879307828E-2},null,{"$f":"I33-DETAILED_BASIC_SNAPSHOT!F46","v":0}]
[]
[null,"* Employment estimate directly from BRES and must be supressed by rounding to the nearest 100 (any value below 50 is set to 25).\n** The sample from the APS survey for volunteering in this area is too small to be disclosed. "]

{"sheet":"GRAPHICS_DEFAULT","index":8,"n_rows":6,"n_cols":2,"rows_kept":6,"cut":false,"hidden":true,"merged":[[5,1,6,1],[38,1,39,1],[5,13,6,13]]}
[null,{"$f":"LocalAreaTypeSelect & \": \" & LocalAuthority","v":"Local authority: Adur"}]
[null,"Control panel"]
[]
[]
[null,{"$f":"\"Economic Value of Sport for \"& LocalAuthority","v":"Economic Value of Sport for Adur"}]
[null,{"$f":"\"Flowchart representation of key results from snapshot\"","v":"Flowchart representation of key results from snapshot"}]

{"sheet":"GRAPHICS_REFINED","index":9,"n_rows":6,"n_cols":2,"rows_kept":6,"cut":false,"hidden":true,"merged":[[5,1,6,1]]}
[null,{"$f":"LocalAreaTypeSelect & \": \" & LocalAuthority","v":"Local authority: Adur"}]
[null,"Control panel"]
[]
[]
[null,{"$f":"\"Economic value of Sport for \"& LocalAuthority","v":"Economic value of Sport for Adur"}]
[null,{"$f":"\"Flowchart representation of key results from refined snapshot\"","v":"Flowchart representation of key results from refined snapshot"}]

{"sheet":"ADDEVENTS","index":10,"n_rows":21,"n_cols":9,"rows_kept":21,"cut":false,"hidden":true,"merged":[]}
[null,{"$f":"LocalAreaTypeSelect & \": \" & LocalAuthority","v":"Local authority: Adur"}]
[]
[]
[]
[]
[null,{"$f":"\"Additional Impact for \" & LocalAuthority","v":"Additional Impact for Adur"}]
[null,"Contains full list of option for user to adjust "]
[null,"All users inputs are denoted by a yellow background"]
[null,"Note: Values for additional impacts will be reset if the local authority is changed"]
[null,"Spectator Sports","Additional Impact","Baseline Value"]
[null,"Spectator Sports Jobs",null,{"$f":"IF(OR(RecurrEventExp<>0,OneEventExp<>0),SPECTATOR!B23,SNAPSHOT!E30)","v":"25*"},{"$f":"HYPERLINK(GuidanceFileName,\"For guidance: see pages 49-50\")","v":"For guidance: see pages 49-50"}]
[null,"* Employment estimate directly from BRES and must be supressed by rounding to the nearest 100 (any value below 50 is set to 25). User inputs should be entered in as much detail as is available."]
[null,"Events"]
[null,null,"Expenditure","Spectator sports visits","Spectator sports day visits","Spectator sports overnight visits"]
[null,"Recurring events",0,{"$f":"SUM(E15:F15)","v":0}]
[null,"One off events",0,{"$f":"SUM(E16:F16)","v":0}]
[]
[null,"Recurring events",null,null,null,null,"Annual/one off events"]
[null,"(To add additional events write an event name in a new row and the table will be expanded)",null,null,null,null,"(To add additional events write an event name in a new row and the table will be expanded)"]
[null,"Event Name","Number of tickets sold","Average ticket price","Number of events per year",null,"Event Name","Number of tickets sold","Average ticket price"]
[null,"Event 1",0,0,0,null,"Event 1",0,0]

{"sheet":"EVENTS","index":11,"n_rows":23,"n_cols":9,"rows_kept":23,"cut":false,"hidden":true,"merged":[[7,1,7,4],[14,7,14,9],[6,1,6,7]]}
[null,{"$f":"LocalAreaTypeSelect & \": \" & LocalAuthority","v":"Local authority: Adur"}]
[]
[]
[]
[]
[null,{"$f":"\"Adjustment from Baseline for \" & LocalAuthority","v":"Adjustment from Baseline for Adur"}]
[null,"Contains full list of values that the user can adjust.  For comparison, we show the base estimates used to calculate the default results.\nAll users inputs are denoted by a yellow background"]
[null,"Note: Adjustments will be reset if the local authority is changed."]
[null,"* Employment estimate directly from BRES and must be supressed by rounding to the nearest 100. User inputs should be entered in as much detail as is available."]
[null,{"$f":"HYPERLINK(GuidanceFileName,\"For guidance: see pages 34-39\")","v":"For guidance: see pages 34-39"}]
[null,"Spectator Sports","New baseline value","Default baseline value","Difference from default"]
[null,"Spectator Sports Jobs",null,{"$f":"IF(SPECTATOR!B16<50,\"25*\",ROUND(SPECTATOR!B16,-2))","v":"25*"},{"$f":"IF(SpecEmpFix>0,SpecEmpFix-D12,\"N/A\")","v":"N/A"}]
[]
[null,"Events",null,null,null,null,null,"Large sports club/venue"]
[null,null,"Expenditure","Spectator sports visits","Spectator sports day visits","Spectator sports overnight visits",null,"If you have estimated the GVA of a professional sports club in your area, please enter the figure here, and also enter their ticket sales in the box below with an average price of zero."]
[null,"Recurring events",0,{"$f":"SUM(E16:F16)","v":0},null,null,null,"GVA"]
[null,"One off events",0,{"$f":"SUM(E17:F17)","v":0}]
[]
[null,"Recurring events",null,null,null,null,"Annual/One off events"]
[null,"(To add additional events write an event name in a new row and the table will be expanded)",null,null,null,null,"(To add additional events write an event name in a new row and the table will be expanded)"]
[]
[null,"Event Name","Number of tickets sold","Average ticket price","Number of events per year",null,"Event Name","Number of tickets sold","Average ticket price"]
[null,"Event 1",0,0,0,null,"Event 1",0,0]

{"sheet":"ADJUST","index":12,"n_rows":45,"n_cols":6,"rows_kept":45,"cut":false,"hidden":true,"merged":[[14,4,15,4],[7,1,7,4],[6,1,6,4],[42,5,44,5]]}
[null,{"$f":"LocalAreaTypeSelect & \": \" & LocalAuthority","v":"Local authority: Adur"}]
[]
[]
[]
[]
[null,{"$f":"\"Adjustment from Baseline for \" & LocalAuthority","v":"Adjustment from Baseline for Adur"}]
[null,"Contains full list of values that the user can adjust.  For comparison, we show the base estimates used to calculate the default results.\nAll users inputs are denoted by a yellow background"]
[null,"Note: Adjustments will be reset if the local area is changed."]
[null,"* Employment estimate directly from BRES and must be supressed by rounding to the nearest 100. User inputs should be entered in as much detail as is available. "]
[]
[null,"TV & satellite subscriptions","New baseline value","Default baseline value","Difference from default"]
[null,"Sports TV subscriptions jobs ",null,"N/A","N/A",{"$f":"HYPERLINK(GuidanceFileName,\"For guidance: see pages 32-33\")","v":"For guidance: see pages 32-33"}]
[]
[null,"Sports gambling","New baseline value","Default baseline value","Difference from default"]
[null,"Online betting jobs",null,0,{"$f":"IF(SUM(C15:C16)<>0,OnlineGambleEmpFix+ShopBettingAdjust-SUM(D15:D16),\"N/A\")","v":"N/A"},{"$f":"HYPERLINK(GuidanceFileName,\"For guidance: see pages 32-33\")","v":"For guidance: see pages 32-33"}]
[null,"Shop betting jobs",null,{"$f":"GambleEmpEst","v":9}]
[]
[null,"Sporting goods (Equipment and sportswear)","New baseline value","Default baseline value","Difference from default"]
[null,"Manufacture and retail of sporting goods jobs",null,{"$f":"SUM(ConsSpEquipEmpEst,ConsSpWearEmpEst,ParSpEquipEmpEst,ParSpWearEmpEst)","v":22.000000000000004},{"$f":"IF(SportGoodsEmpFix>0,SportGoodsEmpFix-D19,\"N/A\")","v":"N/A"},{"$f":"HYPERLINK(GuidanceFileName,\"For guidance: see page 31\")","v":"For guidance: see page 31"}]
[]
[null,"Spectator sports","New baseline value","Default baseline value","Difference from default"]
[null,"Number of tickets sold",null,0]
[null,"Average price per ticket",null,{"$f":"TicketPriceEst","v":12.5},{"$f":"IF(TicketPriceFix>0,TicketPriceFix-TicketPriceEst,\"N/A\")","v":"N/A"}]
[]
[null,"Sports services","New baseline value","Default baseline value","Difference from default"]
[null,"Sports services jobs",null,{"$f":"SubscriptEmpEst+PARTI_SPORT!B22","v":234.01089775974251},{"$f":"IF(SubscriptEmpFix>0,SubscriptEmpFix-D26,\"N/A\")","v":"N/A"},{"$f":"HYPERLINK(GuidanceFileName,\"For guidance: see pages 30-31\")","v":"For guidance: see pages 30-31"}]
[]
[null,"Wider Spending","New baseline value","Default baseline value","Difference from default",{"$f":"HYPERLINK(GuidanceFileName,\"For guidance: see page 40\")","v":"For guidance: see page 40"}]
[null,"Overnight visits"]
[null,"Spectator sports visits",null,{"$f":"SpectateTourVisitEst","v":11},{"$f":"IF(SpectateTourVisitFix>0,SpectateTourVisitFix-SpectateTourVisitEst,\"N/A\")","v":"N/A"},"Note: Derived from Spectators sports inputs"]
[null,"Participation sports visits",null,{"$f":"PartTourVisitEst","v":54.699999999999996},{"$f":"IF(PartTourVisitFix>0,PartTourVisitFix-PartTourVisitEst,\"N/A\")","v":"N/A"}]
[]
[null,"Average spend per spectating trip",null,{"$f":"SpecTourSpendEst","v":157.70666666666662},{"$f":"IF(SpecTourSpendFix>0,SpecTourSpendFix-SpecTourSpendEst,\"N/A\")","v":"N/A"}]
[null,"Average spend per participation trip",null,{"$f":"PartTourSpendEst","v":163.06666666666666},{"$f":"IF(PartTourSpendFix>0,PartTourSpendFix-PartTourSpendEst,\"N/A\")","v":"N/A"}]
[null,"Day Visits"]
[null,"Spectator sports visits ",null,{"$f":"SpectateDayTourVisitEst","v":1613.2999212115906},{"$f":"IF(SpectateDayTourVisitFix>0,SpectateDayTourVisitFix-SpectateDayTourVisitEst,\"N/A\")","v":"N/A"},"Note: Derived from Spectators sports inputs"]
[null,"Participation sports visits ",null,{"$f":"PartDayTourVisitEst","v":1144.9225247308061},{"$f":"IF(PartDayTourVisitFix>0,PartDayTourVisitFix-PartDayTourVisitEst,\"N/A\")","v":"N/A"}]
[]
[null,"Average spend per spectating trip",null,{"$f":"SpecDayTourSpendEst","v":22.49},{"$f":"IF(SpecDayTourSpendFix>0,SpecDayTourSpendFix-SpecDayTourSpendEst,\"N/A\")","v":"N/A"}]
[null,"Average spend per participation trip",null,{"$f":"PartDayTourSpendEst","v":10.62},{"$f":"IF(PartDayTourSpendFix>0,PartDayTourSpendFix-PartDayTourSpendEst,\"N/A\")","v":"N/A"}]
[]
[null,"Education","New baseline value","Default baseline value","Difference from default"]
[null,"Further education students on sport related courses",null,0,{"$f":"IF(FEEducationFix>0,FEEducationFix-0,\"N/A\")","v":"N/A"},{"$f":"HYPERLINK(GuidanceFileName,\"For guidance: see pages 31-32\")","v":"For guidance: see pages 31-32"}]
[null,"Further education jobs for sports related courses",null,0,{"$f":"IF(FEEducationStaffFix>0,FEEducationStaffFix-0,\"N/A\")","v":"N/A"}]
[null,"School sports premium",null,0,{"$f":"IF(PupilPremiumFix>0,PupilPremiumFix-D45,\"N/A\")","v":"N/A"}]

{"sheet":"ADDITIONAL_IMPACT_INPUTS","index":13,"n_rows":49,"n_cols":13,"rows_kept":49,"cut":false,"hidden":true,"merged":[[8,1,8,7],[47,3,48,5]]}
[null,{"$f":"LocalAreaTypeSelect & \": \" & LocalAuthority","v":"Local authority: Adur"}]
[]
[]
[]
[]
[null,{"$f":"\"Additional Impact for \" & LocalAuthority","v":"Additional Impact for Adur"}]
[null,"Contains full list of option for user to adjust "]
[null,"All users inputs are denoted by a yellow background"]
[null,"Note: Values for additional impacts will be reset if the local area is changed"]
[null,"Participation","Additional Impact","Baseline value",null,{"$f":"HYPERLINK(GuidanceFileName,\"For guidance: see pages 44-48\")","v":"For guidance: see pages 44-48"}]
[null,"Expected additional participants",null,{"$f":"SUM(HEALTH!B20:E20)","v":18421.876449010335},null,"Note: Participation drives the following modules: Health, sports services and sports equipment & sportswear. "]
[null,null,0]
[null,"Estimated participant breakdown","Athletics","Badminton","Cricket","Golf","Squash","Tennis","Swimming","Football","Cycling","Health & fitness","Total"]
[null,"16-29",null,null,null,null,null,null,null,null,null,null,{"$f":"SUM(B14:L14)","v":0}]
[null,"30-49",null,null,null,null,null,null,null,null,null,null,{"$f":"SUM(B15:L15)","v":0}]
[null,"50-64",null,null,null,null,null,null,null,null,null,null,0]
[null,"65+",null,null,null,null,null,null,null,null,null,null,0]
[null,"Total",{"$f":"SUM(C14:C17)","v":0},{"$f":"SUM(D14:D17)","v":0},0,0,0,0,0,0,0,0,{"$f":"SUM(AddPartEstColTotal)","v":0}]
[]
[null,"Participant share of total","Athletics","Badminton","Cricket","Golf","Squash","Tennis","Swimming","Football","Cycling","Health & fitness","Total"]
[null,"16-29",{"$f":"IF($M$18=0,0,C14/$M$18)","v":0},0,0,0,0,0,0,0,0,0,0]
[null,"30-49",{"$f":"IF($M$18=0,0,C15/$M$18)","v":0},0,0,0,0,0,0,0,0,0,0]
[null,"50-64",{"$f":"IF($M$18=0,0,C16/$M$18)","v":0},0,0,0,0,0,0,0,0,0,0]
[null,"65+",{"$f":"IF($M$18=0,0,C17/$M$18)","v":0},0,0,0,0,0,0,0,0,0,0]
[null,"Total",{"$f":"IF($M$18=0,0,C18/$M$18)","v":0},0,0,0,0,0,0,0,0,0,{"$f":"IF($M$18=0,0,M18/$M$18)","v":0}]
[]
[null,"Volunteering",{"$f":"C10","v":"Additional Impact"},"Baseline Value"]
[null,"Expected additional volunteers",null,{"$f":"IF(VOLUNTEER!B13>30,VOLUNTEER!B13,\"**\")","v":7661.2831922375753},{"$f":"HYPERLINK(GuidanceFileName,\"For guidance: see page 75\")","v":"For guidance: see page 75"}]
[]
[null,"Wider spending","Additional Impact","Baseline Value",{"$f":"HYPERLINK(GuidanceFileName,\"For guidance: see page 50\")","v":"For guidance: see page 50"}]
[null,"Overnight visits"]
[null,"Spectator sports visits ",null,{"$f":"TOURISM!B21","v":11},"Note: Derived from Spectators sports inputs"]
[null,"Participation sports visits",null,{"$f":"TOURISM!B22","v":54.699999999999996}]
[]
[null,"Average spend per spectating trip",null,{"$f":"TOURISM!B18","v":157.70666666666662}]
[null,"Average spend per participation trip",null,{"$f":"TOURISM!B19","v":163.06666666666666}]
[null,"Day Visits"]
[null,"Spectator sports visits ",null,{"$f":"TOURISM!C21","v":1613.2999212115906},"Note: Derived from Spectators sports inputs"]
[null,"Participation sports visits ",null,{"$f":"TOURISM!C22","v":1144.9225247308061}]
[]
[null,"Average spend per spectating trip",null,{"$f":"TOURISM!C18","v":22.49}]
[null,"Average spend per participation trip",null,{"$f":"TOURISM!C19","v":10.62}]
[null,"Education","Additional Impact","Baseline Value"]
[null,"Additional further education students on sport related courses",null,{"$f":"EDUCATION!B28","v":0}]
[null,"Additional further education staff for sports related courses",null,{"$f":"EDUCATION!B29","v":0}]
[]
[null,"Construction","Additional Impact"]
[null,"Value of Investment in construction projects",null,{"$f":"HYPERLINK(GuidanceFileName,\"For guidance: see page 44\")","v":"For guidance: see page 44"}]
[null,"Average Number of years to construction projects completion "]

{"sheet":"CONSTRUCTION","index":14,"n_rows":8,"n_cols":3,"rows_kept":8,"cut":false,"hidden":true,"merged":[[1,2,2,7],[12,0,12,1]]}
["Go back to CONTENTS sheet."]
["CONSTRUCTION",null,"Description: "]
["Participation sport module"]
[]
["Additional Impact","Value","Source"]
["Additional GVA",{"$f":"B7*ConstructionGVAMultiplierAssum","v":0},"Calculated"]
["Additional annual Investment",{"$f":"IF(ConstructionTimeAdd<>0,ConstructionInvestmentAdd/ConstructionTimeAdd,0)","v":0},"Calculated"]
["Additional jobs",{"$f":"B7/1000000*ConstructionEmpMultiplierAssum","v":0},"Calculated"]

{"sheet":"ADDITIONAL_IMPACT_RESULTS","index":15,"n_rows":23,"n_cols":7,"rows_kept":23,"cut":false,"hidden":true,"merged":[[4,6,4,11]]}
[null,{"$f":"LocalAreaTypeSelect & \": \" & LocalAuthority","v":"Local authority: Adur"}]
[]
[null,"Navigation:"]
[null,"Contextual:"]
[null,"ADDITIONAL IMPACT ASSESSMENT: RESULTS",null,null,null,null,"Level 3 gives you the option to estimate the additional impact of a sport investment.  You need to consider and input what will be the effects of the investment (for example on participation or tourism).  The model will then estimate the economic impacts.\nNote: Gross value added (GVA) is the value added contributed by a sector, which is principally wages plus profits"]
[null,{"$f":"HYPERLINK(GuidanceFileName,\"For guidance: see pages 43-54\")","v":"For guidance: see pages 43-54"}]
[null,null,null,"Additional GVA","Additional jobs"]
[null,"Construction","Total value of investment in the construction of sports facilities and number of years to construct the sports facilities",{"$f":"CONSTRUCTION!B6","v":0},{"$f":"CONSTRUCTION!B8","v":0}]
[]
[null,"Participation","How it is calculated?","Additional GVA","Additional jobs"]
[null,"Sports services","Additional participation in relevant sports, driving an increase in jobs (based on the baseline jobs per participant)",{"$f":"SUBSCRIPTION!B32+PARTI_SPORT!B27","v":0},{"$f":"SUBSCRIPTION!B29+PARTI_SPORT!B29","v":0}]
[null,"Sportswear and equipment","Additional participation driving an increase in jobs (based on the baseline jobs per participant)",{"$f":"PARTI_EQUIP!B32+PARTI_WEAR!B32","v":0},{"$f":"PARTI_EQUIP!B31+PARTI_EQUIP!B31","v":0}]
[null,"Total participation",null,{"$f":"SUM(D11:D12)","v":0},{"$f":"SUM(E11:E12)","v":0}]
[]
[null,"Non-Participation",null,"Additional GVA","Additional jobs"]
[null,"Spectator sports","Number of additional ticket sales and price of tickets of additional sporting events",{"$f":"SPECTATOR!B29","v":0},{"$f":"SPECTATOR!B28","v":0}]
[]
[null,"Wider impacts",null,null,null,"Wider Impact"]
[null,"Health","Additional Participants by sport and age (assuming distribution of participants across sports is as in England) multiplied by national per participant value",null,null,{"$f":"HEALTH!B47","v":0}]
[null,"Health cost savings","Additional Participants by sport and age (assuming distribution of participants across sports is as in England) multiplied by national per participant health cost savings",null,null,{"$f":"HEALTH!B48","v":0}]
[null,"Other health benefits (QALY's etc)","Participants by age (assuming distribution of participants across sports is as in England) multiplied by national per participant value of other health benefits",null,null,{"$f":"HEALTH!B49","v":0}]
[null,"Volunteering","Additional volunteers generated by baseline volunteers per participant multiplied by additional participants then multiplied by average annual replacement cost",null,null,{"$f":"VOLUNTEER!B20","v":0}]
[null,"Wider Spending","Number of additional overnight and day sports visits and/or additional spending generated by baseline sports visits",null,null,{"$f":"TOURISM!B39+TOURISM!C39","v":0}]

{"sheet":"ASSUMS","index":16,"n_rows":95,"n_cols":11,"rows_kept":95,"cut":false,"hidden":true,"merged":[]}
["Go back to HOME sheet."]
["ASSUMS"]
["Contains assumptions used throughout the model"]
["Retail categories","GVA (Source: National study)","Share of total national sports retail spending"]
["Consumption Sportswear share",0.4,{"$f":"B5/SUM($B$5:$B$8)","v":0.12578616352201261}]
["Consumption Sports equipment share",1.5,{"$f":"B6/SUM($B$5:$B$8)","v":0.47169811320754723}]
["Participation Sportswear share",0.08,{"$f":"B7/SUM($B$5:$B$8)","v":2.5157232704402517E-2}]
["Participation Sports equipment share",1.2,{"$f":"B8/SUM($B$5:$B$8)","v":0.37735849056603776}]
["Total Sports Retail",{"$f":"SUM(B5:B8)","v":3.1799999999999997},{"$f":"SUM(C5:C8)","v":1}]
[]
["Health assumptions","(Source: CASE Understanding the value of engagement in culture and sport)"]
["Discounted health cost savings associated with playing sport","Note: Orignial CASE data was on a 2009 price base. This has been rebased to 2013 Prices using the ONS GDP deflator "]
["Age Band","Athletics","Badminton","Cricket","Golf","Squash","Tennis","Swimming","Football","Cycling","Health/fitness"]
["16-29",2400.4583772391989,1502.8767123287671,2519.3361433087457,4358.1243414120127,3396.1959957850368,2426.6332982086406,3222.7871443624867,3570.6954689146469,3666.6701791359324,5881.7228661749205]
["30-49",3060.2845100105374,1915.1317175974709,3211.8809272918861,5556.7175974710217,4329.7681770284507,3094.0937829293994,4109.4625922023179,4552.2550052687038,4675.4952581664911,7499.114857744994]
["50-64",2488.798735511064,1605.395152792413,2620.7639620653317,4277.4183350895673,3469.2676501580609,2459.3519494204425,3338.3930453108533,3559.7892518440462,3582.6923076923076,5660.3266596417279]
["65+",677.27608008429922,446.06427818756583,714.35721812434133,1115.7060063224446,933.57218124341409,657.64488935721806,907.39726027397251,940.1159114857744,931.39093782929399,1452.7081138040041]
[]
["Discounted health economic values associated with playing sport"]
["Age Band","Athletics","Badminton","Cricket","Golf","Squash","Tennis","Swimming","Football","Cycling","Health/fitness"]
["16-29",15686.412012644889,9743.614330874605,16450.937829293991,28861.122233930451,22279.220231822972,15952.523709167544,21070.811380400421,23558.519494204425,24309.957850368806,39130.41622760801]
["30-49",20040.173867228659,12447.265542676501,21016.280295047418,36868.466807165438,28461.954689146467,20378.266596417281,26917.634351949418,30094.615384615383,31053.27186512118,49984.283456269754]
["50-64",13353.572181243413,8536.2961011591142,14048.298208640674,23357.845100105373,18703.071654373023,13290.316122233929,17921.095890410958,19338.904109589039,19593.018967334036,31105.621707060061]
["65+",6465.2054794520545,4187.987355110643,6812.0231822971546,11036.00105374078,8996.538461538461,6369.2307692307686,8673.7144362486815,9202.6659641728129,9238.6564805057951,14565.252897787144]
[]
["Factor for lifetime to per annum values ",21.27]
["Volunteer Assumtions","Source National study"]
["Equivilent wage rate  ",7.74]
["Participation assumptions","(Source: APS data for England)"]
[]
["Participation share","Athletics","Badminton","Cricket","Golf","Squash","Tennis","Swimming","Football","Cycling","Health/fitness"]
["16-29",{"$f":"PARTICIPATION!B400","v":4.0691503827649418E-2},{"$f":"PARTICIPATION!C400","v":9.2428006809311784E-3},{"$f":"PARTICIPATION!D400","v":4.6854276147519766E-3},{"$f":"PARTICIPATION!E400","v":3.6102333253385742E-3},{"$f":"PARTICIPATION!F400","v":3.5062299851553033E-3},{"$f":"PARTICIPATION!G400","v":6.9878738105328252E-3},{"$f":"PARTICIPATION!H400","v":3.8786326514390443E-2},{"$f":"PARTICIPATION!I400","v":7.0972555300704385E-2},{"$f":"PARTICIPATION!J400","v":3.0349231744023326E-2},{"$f":"PARTICIPATION!K400","v":0.12600519537882593}]
["30-49",{"$f":"PARTICIPATION!B401","v":6.1055109496547799E-2},{"$f":"PARTICIPATION!C401","v":9.7535687275923932E-3},{"$f":"PARTICIPATION!D401","v":3.4033507054904645E-3},{"$f":"PARTICIPATION!E401","v":8.4181964505213435E-3},{"$f":"PARTICIPATION!F401","v":5.3852573014227289E-3},{"$f":"PARTICIPATION!G401","v":6.5815481912450818E-3},{"$f":"PARTICIPATION!H401","v":6.5175829298488558E-2},{"$f":"PARTICIPATION!I401","v":3.0819773696193629E-2},{"$f":"PARTICIPATION!J401","v":5.2971546512780833E-2},{"$f":"PARTICIPATION!K401","v":0.1512925645396119}]
["50-64",{"$f":"PARTICIPATION!B402","v":1.4902022885509528E-2},{"$f":"PARTICIPATION!C402","v":6.3019291468640508E-3},{"$f":"PARTICIPATION!D402","v":7.8988525296560445E-4},{"$f":"PARTICIPATION!E402","v":1.3835462163310198E-2},{"$f":"PARTICIPATION!F402","v":2.9445934370542063E-3},{"$f":"PARTICIPATION!G402","v":5.4020367205145055E-3},{"$f":"PARTICIPATION!H402","v":3.6770662521739064E-2},{"$f":"PARTICIPATION!I402","v":5.5722570705533355E-3},{"$f":"PARTICIPATION!J402","v":2.5720708436421814E-2},{"$f":"PARTICIPATION!K402","v":7.0437949654536855E-2}]
["65+",{"$f":"PARTICIPATION!B403","v":1.5756280164260826E-3},{"$f":"PARTICIPATION!C403","v":2.7061859607254001E-3},{"$f":"PARTICIPATION!D403","v":1.6606975761458952E-4},{"$f":"PARTICIPATION!E403","v":1.5849765488813783E-2},{"$f":"PARTICIPATION!F403","v":5.2213411877450558E-4},{"$f":"PARTICIPATION!G403","v":3.3567719958512488E-3},{"$f":"PARTICIPATION!H403","v":1.7928859904791206E-2},{"$f":"PARTICIPATION!I403","v":6.9315344595930449E-4},{"$f":"PARTICIPATION!J403","v":8.1996778306511354E-3},{"$f":"PARTICIPATION!K403","v":3.6630123088725548E-2}]
["Total",{"$f":"SUM(B32:B35)","v":0.11822426422613282},{"$f":"SUM(C32:C35)","v":2.8004484516113023E-2},9.0447333308226342E-3,4.17136574279839E-2,1.2358214842406744E-2,2.2328230718143664E-2,0.15866167823940927,0.10805773951341065,0.1172411645238771,0.38436583266170027]
[]
["National Conumption and participation GVA assumptions","(Source: Sport England National study)"]
[null,"GVA (2010)","Consumer Expenditure (2010)",null,"GVA (2013)*","Consumer Expenditure (2013)*"]
["Sport education",4.9000000000000004,1.4,null,{"$f":"B40*$B$57/100","v":5.1744000000000003},{"$f":"C40*$B$57/100","v":1.4783999999999997}]
["Sport/class subscription fees",4.4000000000000004,"Not available",null,{"$f":"B41*$B$57/100","v":4.6463999999999999},"Not available"]
["Participation sport",1.2,"Not available",null,1.2671999999999999,"Not available"]
["Sports equipment",1.2,1.73,null,1.2671999999999999,1.8268799999999998]
["Sportswear",0.08,0.65,null,8.448E-2,0.68640000000000001]
[null,null,null,null,0,0]
["Spectator sports",1.1000000000000001,"Not available",null,1.1616,"Not available"]
["Sports equipment",1.5,2.16,null,1.5839999999999999,2.2809599999999999]
["Sportswear",0.4,3.1539999999999999,null,0.4224,3.3306239999999998]
["Sports Gambling",1.1000000000000001,4.9000000000000004,null,1.1616,5.1744000000000003]
["TV/satellite subscriptions",4.4000000000000004,2.2999999999999998,null,4.6463999999999999,2.4287999999999998]
[null,"Economic Value (2010)","Economic Value (2013)*"]
["Volunteering",2.7,{"$f":"B57*B52/100","v":2.8512}]
[]
[]
[null,"* Uses The 2012 GDP deflator to inflate national study figures from 2010 to 2012 prices"]
[]
["GDP Deflator 2013 (2010=100)",105.6,"Source: ONS BlueBook 2013 Gross Domestic Product (Expenditure) at market prices deflator: SA £m (YBGB)"]
[]
["Education assumptions","Source: Sport England National study"]
["Further education Share of education spending ",0.11]
["England Further education sports education students (2010)",33000]
[]
["Gambling assumptions","Source: Gambling Commission 2013/2014"]
["% Sport related gambling employment",0.43661519059349557]
[null,"% Sports Turnover","% Jobs"]
["Shop Sports Betting",0.5939763552751387,0.92168990741129631]
["Online Sports Betting",0.4060236447248613,7.8310092588703778E-2]
[]
["Sports activity Productivity assumption"]
[]
["England"]
["93.1 Sports Activities",{"$f":"DETAILED_EMP!T328","v":292856}]
["National study GVA",null,"%Share"]
["Sport/class subscription fees",{"$f":"E41","v":4.6463999999999999},{"$f":"B74/SUM($B$74:$B$76)","v":0.65671641791044777}]
["Participation sport",{"$f":"E42","v":1.2671999999999999},{"$f":"B75/SUM($B$74:$B$76)","v":0.17910447761194029}]
["Spectator sports",{"$f":"E46","v":1.1616},{"$f":"B76/SUM($B$74:$B$76)","v":0.16417910447761194}]
[]
["Productivity",{"$f":"SUM(B74:B76)*1000000000/B72","v":24159.313792444067}]
["Participants",{"$f":"PARTICIPATION!O330","v":14144418.993938368}]
["Participants per job",{"$f":"B79/B72","v":48.298204557660995}]
[]
["Tourism assumptions","Source: Visit England GBTS survey 2013"]
[]
["England","% Total overnight visits","%Total day visits","%Total day spending"]
["Spectator tourists",1.0999999999999999E-2,3.1E-2,3.7999999999999999E-2]
["Participation Tourist",5.4699999999999999E-2,2.1999999999999999E-2,1.6E-2]
[]
[]
["Construction Impact assumptions"]
[null,"per £1m Investment","Source"]
["Direct Employment effect of Construction (2013 Prices) Job Years",{"$f":"20.3128250682481/1.5","v":13.541883378832066},"Offpat paper on construction jobs, 2009"]
["Direct GVA effect of Construction (2013 Prices) £m",0.36840000000000001,"ONS UK Input output tables 2011"]
[]
[]
["Guidance document Filename",{"$f":"\"http://www.sportengland.org/media/334794/Economic-Value-of-Sport-local-model-guidance.pdf\"","v":"http://www.sportengland.org/media/334794/Economic-Value-of-Sport-local-model-guidance.pdf"}]

{"sheet":"EDUCATION","index":17,"n_rows":47,"n_cols":5,"rows_kept":47,"cut":false,"hidden":true,"merged":[[1,2,3,7]]}
["Go back to CONTENTS sheet."]
["EDUCATION",null,"Description: Take the Consumer expenditure figure from the national study and divides by the England schoolchildren population (age 5-15 from annual population survey) to estimate the sports education spending per child. This spending per child figure is then applied to the number of schoolchildren estimated from annual population survey data to get Local area sports education expenditure. GVA is calculated by applying the same ratio of GVA to consumer expenditure as at the national level."]
["Education module"]
[]
["England"]
["Indicator","Value","Source"]
["GVA",{"$f":"ASSUMS!E40*(1-FeEducationShareAssum)","v":4.6052160000000004},"National study"]
["Consumer expenditure",{"$f":"ASSUMS!F40*(1-FeEducationShareAssum)","v":1.3157759999999998},"National study"]
["Government expenditure",{"$f":"VLOOKUP(A5,RegionalStatistics,4,FALSE)/25000","v":2.8874},"Department for education"]
[]
[]
["School child population",{"$f":"VLOOKUP(A5,PopTable,8,FALSE)","v":6795108},"Mid year population estimates (age 5-15)"]
["Consumer Spending per child",{"$f":"B8*1000000000/B12","v":193.63577444243708},"Calculated"]
["Government spending per child",{"$f":"VLOOKUP(VLOOKUP(A5,RegionMapping,2,FALSE),RegionalStatistics,7,FALSE)","v":428.29139072847681},"Department for education"]
[]
["Further education spending on sport related courses",{"$f":"ASSUMS!F40*(FeEducationShareAssum)","v":0.16262399999999996},"National Study"]
["Average spending per Student ",{"$f":"B16*1000000000/FEStudentAssum","v":4927.9999999999991},"Calculated"]
[]
["Sports education jobs",{"$f":"VLOOKUP(A5,DetailEmpTable,19,FALSE)","v":57900.519999999975},"Department for education"]
["Consumer Expenditure per job",{"$f":"B8*1000000000/B19","v":22724.770002065619},"Calculated"]
["Government Expenditure per job",{"$f":"B9*1000000000/B19","v":49868.291338316158},"Calculated"]
[]
[{"$f":"LocalAuthority","v":"Adur"}]
["Indicator","Value","Source"]
["School child population",{"$f":"((VLOOKUP(A23,PopTable,8,FALSE)))","v":7236},"Mid year population estimates (age 5-15)"]
[{"$f":"VLOOKUP(LocalAuthority,RegionMapping,2,FALSE) & \" government expenditure per child\"","v":"South East government expenditure per child"},{"$f":"VLOOKUP(VLOOKUP(LocalAuthority,RegionMapping,2,FALSE),RegionalStatistics,7,FALSE)","v":380.79035973772812},"Department for education",{"$f":"VLOOKUP(LocalAuthority,RegionMapping,2,FALSE)","v":"South East"},{"$f":"VLOOKUP(\"North West\",RegionalStatistics,6,FALSE)","v":10734.652801073466}]
[]
["Further education students",{"$f":"FEEducationFix","v":0},"User input"]
["Further education staff",{"$f":"FEEducationStaffFix","v":0},"User input"]
["Pupil Premium adjustment",{"$f":"PupilPremiumFix","v":0},"User input"]
["Default estimate"]
["Consumer expenditure",{"$f":"B25*B13","v":1401148.4638654748},"Calculated"]
["Government expenditure",{"$f":"B25*B26","v":2755399.0430622008},"Calculated"]
["GVA",{"$f":"(B32+B33)*B7/(B8+B9)","v":4554127.4226117218},"Calculated"]
["Jobs",{"$f":"B33/B21","v":55.253528226364111},"Calculated"]
["Adjusted estimate"]
["Consumer expenditure",{"$f":"B25*B13+B28*B17","v":1401148.4638654748},"Calculated"]
["Government expenditure",{"$f":"B25*(B26+B30)","v":2755399.0430622008},"Calculated"]
["GVA",{"$f":"(B37+B38)*B7/(B8+B9)","v":4554127.4226117218},"Calculated"]
["Jobs",{"$f":"IF(B29>0,B35+B29,B38/B21)","v":55.253528226364111},"Calculated"]
[]
["Additional Impact","Value","Source"]
["Additional Further education students in sports related courses",{"$f":"FEEducationAdd","v":{"$error":"#NAME?"}},"User defined"]
[]
["Additional Expenditure",{"$f":"B43*B17","v":{"$error":"#NAME?"}},"Calculated"]
["Additional Impact",{"$f":"B45*B7/B8","v":{"$error":"#NAME?"}},"Calculated"]
["Additional Jobs",{"$f":"FEEducationStaffAdd","v":{"$error":"#NAME?"}},"User defined"]

{"sheet":"Regional Figures","index":18,"n_rows":12,"n_cols":8,"rows_kept":12,"cut":false,"hidden":true,"merged":[]}
["Region statistics"]
["region","School age population (5-15)","Total government education expenditure £m 2010-2011","Total government education expenditure £m 2011-2012","Total government education expenditure £m 2012-2013","Expenditure per school child","Sports expenditure per school child","Spending index (England =100)"]
["North East",311000,3889,3557,3597,{"$f":"E3*1000000/B3","v":11565.916398713827},{"$f":"F3/25","v":462.63665594855308},{"$f":"F3/$F$12*100","v":108.01913509437084}]
["North West",894300,10589,9716,9600,{"$f":"E4*1000000/B4","v":10734.652801073466},{"$f":"F4/25","v":429.38611204293863},{"$f":"F4/$F$12*100","v":100.25560198924377}]
["Yorkshire and The Humber",673100,7800,7520,7426,11032.536027336206,441.3014410934482,103.03766329340469]
["East Midlands",572100,6253,5800,6039,10555.846879916098,422.23387519664391,98.585655545975442]
["West Midlands",743700,8119,7784,7788,10471.964501815248,418.87858007260991,97.802241450649575]
["East",756800,7880,7416,7719,10199.524312896407,407.98097251585625,95.257803763443675]
["London",1078700,13729,13225,13246,12279.595809771021,491.18383239084085,114.68449822336864]
["South East",1128600,11457,10663,10744,9519.7589934432035,380.79035973772812,88.909179119861676]
["South West",636700,7047,6504,6597,10361.237631537615,414.44950526150461,96.768114940758281]
["England",6795000,{"$f":"SUM(C3:C11)","v":76763},{"$f":"SUM(D3:D11)","v":72185},{"$f":"SUM(E3:E11)","v":72756},10707.284768211921,428.29139072847681,{"$f":"F12/$F$12*100","v":100}]

{"sheet":"SUBSCRIPTION","index":19,"n_rows":32,"n_cols":3,"rows_kept":32,"cut":false,"hidden":true,"merged":[[1,2,3,7]]}
["Go back to CONTENTS sheet."]
["SUBSCRIPTION",null,"Description: Takes the National consumer expenditure figure for sports subscriptions from the Family expenditure survey (FES) and divides it by Employment estimate from BRES (9313 Fitness facilities) to get Expenditure per employee. This is then multiplied by the local area employment estimate from BRES to get a Local area expenditure estimate. Local area GVA is calculate by using the ratio between the national study figure for GVA and consumer expenditure from the FES. Users are able to replace the local area employment estimate with their own estimate if available in the FIXES sheet.    "]
["Sport/class subscription module"]
["England"]
["Indicator","Value","Source"]
["GVA",{"$f":"ASSUMS!E41","v":4.6463999999999999},"National study"]
["Consumer expenditure",5,"Family Expenditure survey"]
[]
["Employment",{"$f":"B6*1000000000/B11","v":192323.3432835821}]
["Expenditure per Job",{"$f":"B7*1000000000/B9","v":25997.884160257476},"Calculated"]
["GVA per Job",{"$f":"SportActProdAssum","v":24159.313792444067},"Calculated"]
[{"$f":"LocalAuthority","v":"Adur"}]
["Indicator","Value","Source"]
["Jobs (base estimate)",{"$f":"VLOOKUP(A12,DetailEmpTable,20,FALSE)*SubscriptGVAShareAssum","v":172.71641791044777},"BRES (93.1 Sports Activities)"]
[]
["Jobs (fix or base)",{"$f":"IF(SubscriptEmpFix>0,SubscriptEmpFix-PARTI_SPORT!B22,SubscriptEmpEst)","v":172.71641791044777},"Calculated"]
["Default estimate"]
["Consumer expenditure",{"$f":"B7/B6*B19","v":4490261.4254104411},"Calculated"]
["GVA",{"$f":"B11*SubscriptEmpEst","v":4172710.1374054146},"Calculated"]
["Adjusted estimate"]
["Consumer expenditure",{"$f":"B7/B6*B22","v":4490261.4254104411},"Calculated"]
["GVA",{"$f":"B16*B11","v":4172710.1374054146},"Calculated"]
[]
["Additional Impact","Value","Source"]
["Additional Participation sport participants",{"$f":"SUM(PartSportAddEst)","v":0},"User defined"]
["Baseline Participants estimate (Particiaption Sports)",{"$f":"VLOOKUP(LocalAuthority,ParticipantSportAPS,3,FALSE)","v":18465.131874276245},"Active People survey"]
["Baseline Participants per Job",{"$f":"B26/B16","v":106.91011368618288},"Calculated"]
[]
["Additional Jobs",{"$f":"B25/B27","v":0},"Calculated"]
["Additional Expenditure",{"$f":"B29*B10","v":0},"Calculated"]
[]
["Additional Impact",{"$f":"B30*B6/B7","v":0},"Calculated"]

{"sheet":"PARTI_SPORT","index":20,"n_rows":34,"n_cols":3,"rows_kept":34,"cut":false,"hidden":true,"merged":[[1,2,2,7]]}
["Go back to CONTENTS sheet."]
["PARTICIPATION SPORTS",null,"Description: Takes the GVA figure for participation sports from the national study and divides that by the participation estimate for participation sports to get a GVA per participant estimate. Local area GVA is calculated by multiplying the Local area participants from the active people’s survey by the national GVA per participant estimate. Consumer expenditure for the local area is then calculated by using the same ratio of GVA to consumer expenditure at the national level. "]
["Participation sport module"]
["England"]
["Indicator","Value","Source"]
["GVA",{"$f":"ASSUMS!E42","v":1.2671999999999999},"National study"]
["Consumer expenditure",1.9,"Family Expenditure survey"]
[]
["Participants estimate",{"$f":"VLOOKUP(A4,ParticipantSportAPS,2,FALSE)","v":14144418.993938368},"Active People Survey (At least 1x30 activity in participation sport)1"]
["GVA per participant",{"$f":"B6*1000000000/B9","v":89.5901062138404},"Calculated"]
["Consumer expenditure per participant",{"$f":"B7*1000000000/B9","v":134.32859991027206},"Calculated"]
["Employment",{"$f":"B6*1000000000/B14","v":52451.820895522389}]
["Participants per job",{"$f":"B9/B12","v":269.66497544694056}]
["Productitity assumption",{"$f":"SportActProdAssum","v":24159.313792444067}]
[]
[{"$f":"LocalAuthority","v":"Adur"}]
["Indicator","Value","Source"]
["Participants (base estimate)",{"$f":"VLOOKUP(A16,ParticipantSportAPS,2,FALSE)","v":16528.974403593056},"APS (At least 1x30 activity in participation sport)"]
[]
["Consumer expenditure",{"$f":"B7/B6*B21","v":2220313.9895873796},"Calculated"]
["GVA",{"$f":"B10*B18","v":1480832.5724237512},"Calculated"]
["Jobs",{"$f":"B21/B14","v":61.294479849294738}]
[]
["Additional Impact","Value","Source"]
["Additional Participation sport participants",{"$f":"SUM(PartSportAddEst)","v":0},"User defined"]
[]
["Additional Economic value",{"$f":"B25*B10","v":0},"Calculated"]
["Additional Expenditure",{"$f":"B11*B25","v":0},"Calculated"]
["Additional jobs",{"$f":"B27/B14","v":0}]
[]
[]
[]
["Notes:"]
["1) Participations sports is defined as the following sports:\n-Athletics\n-Badminton\n-Cricket\n-Squash\n-Golf\n-Tennis\n-Swimming\n-Football"]

{"sheet":"PARTI_EQUIP","index":21,"n_rows":33,"n_cols":8,"rows_kept":33,"cut":false,"hidden":true,"merged":[[1,7,3,17]]}
["Go back to CONTENTS sheet."]
["SPORTS EQUIPMENT (PARTICIPATION)",null,null,null,null,null,null,"Description: Takes the England values for GVA from the national study and employment data from BRES for SIC codes 3230 Manufacturing of sporting goods and 4764 Retail of sporting goods to get a productivity estimate.  A base estimate for local area employment is taken from BRES or the user can insert their own value for employment in the fixes sheet.  The local area employment value is multiplied by the productivity estimate to get a base estimate for local area GVA. Consumer expenditure then estimated as being in the same ratio to GVA from the England figure. All estimated values are weighted by the share of sports equipment for participation in all sporting goods outlined in the assumptions page. "]
["Sports equipment (for participation) module"]
["England"]
["Indicator","Value","Source"]
["GVA",{"$f":"ASSUMS!E43","v":1.2671999999999999},"National study"]
["Consumer expenditure",{"$f":"ASSUMS!F43","v":1.8268799999999998},"National study"]
[]
["Productivity ",{"$f":"B6*1000000000/((VLOOKUP(A4,DetailEmpTable,3,FALSE)+VLOOKUP(A4,DetailEmpTable,5,FALSE)+VLOOKUP(A4,DetailEmpTable,21,FALSE))*ParSpEquipShare)","v":51325.599523132645},"BRES (Manufacturing and Retail of sporting goods)"]
["Consumer expenditure per Job",{"$f":"B7*1000000000/((VLOOKUP(A4,DETAILED_EMP!A2:L328,3,FALSE)+VLOOKUP(A4,DETAILED_EMP!A2:L328,5,FALSE))*ParSpEquipShare)","v":81110.325531522758}]
[]
[{"$f":"LocalAuthority","v":"Adur"}]
["Indicator","Value","Source"]
["Jobs (base estimate)",{"$f":"((VLOOKUP(A12,DetailEmpTable,3,FALSE)+VLOOKUP(A12,DetailEmpTable,5,FALSE)+VLOOKUP(A12,DetailEmpTable,21,FALSE))*ParSpEquipShare)","v":8.3018867924528301},"BRES (Manufacturing and Retail of sporting goods)"]
[]
["Employment (fix or base)",{"$f":"IF(SportGoodsEmpFix>0,SportGoodsEmpFix*ParSpEquipShare,B14)","v":8.3018867924528301},"Calculated"]
[]
["Default estimate"]
["Consumer expenditure",{"$f":"B7/B6*B20","v":614293.18171397119},"Calculated"]
["GVA",{"$f":"B9*ParSpEquipEmpEst","v":426099.31679581816},"Calculated"]
["Adjusted estimate"]
["Consumer expenditure",{"$f":"B7/B6*B23","v":614293.18171397119},"Calculated"]
["GVA",{"$f":"B16*B9","v":426099.31679581816},"Calculated"]
[]
["Additional Impact","Value","Source"]
["Additional Participants",{"$f":"TotalParticipantAddEdited","v":0},"User defined"]
[]
["Participants (base)",{"$f":"VLOOKUP(A12,ParticipantSportAPS,3,FALSE)","v":18465.131874276245},"APS"]
["Partcipants per Job",{"$f":"B28/B16","v":2224.2090666741842},"Calculated"]
[]
["Additional Jobs",{"$f":"B26/B29","v":0},"Calculated"]
["Additional GVA",{"$f":"B31*B9","v":0},"Calculated"]
["Additional Consumer expenditure",{"$f":"B32*B19/B20","v":0},"Calculated"]

{"sheet":"PARTI_WEAR","index":22,"n_rows":33,"n_cols":8,"rows_kept":33,"cut":false,"hidden":true,"merged":[[1,7,3,17]]}
["Go back to CONTENTS sheet."]
["SPORTSWEAR (PARTICIPATION)",null,null,null,null,null,null,"Description: Takes the England values for GVA from the national study and employment data from BRES for SIC codes 3230 Manufacturing of sporting goods and 4764 Retail of sporting goods to get a productivity estimate.  A base estimate for local area employment is taken from BRES or the user can insert their own value for employment in the fixes sheet.  The local area employment value is multiplied by the productivity estimate to get a base estimate for local area GVA. Consumer expenditure then estimated as being in the same ratio to GVA from the England figure. All estimated values are weighted by the share of sportswear for participation in all sporting goods outlined in the assumptions page. "]
["Sportswear (for participation) module"]
["England"]
["Indicator","Value","Source"]
["GVA",{"$f":"ASSUMS!E44","v":8.448E-2},"National study"]
["Consumer expenditure",{"$f":"ASSUMS!F44","v":0.68640000000000001},"National study"]
[]
["Productivity ",{"$f":"B6*1000000000/((VLOOKUP(A4,DETAILED_EMP!A2:L328,3,FALSE)+VLOOKUP(A4,DETAILED_EMP!A2:L328,5,FALSE)+VLOOKUP(A4,DetailEmpTable,21,FALSE))*ParSpWearShare)","v":51325.599523132652},"BRES (Manufacturing and Retail of sporting goods)"]
["Consumer expenditure per Job",{"$f":"B7*1000000000/((VLOOKUP(A4,DETAILED_EMP!A2:L328,3,FALSE)+VLOOKUP(A4,DETAILED_EMP!A2:L328,5,FALSE))*ParSpEquipShare)","v":30474.977800861154}]
[]
[{"$f":"LocalAuthority","v":"Adur"}]
["Indicator","Value","Source"]
["Jobs",{"$f":"((VLOOKUP(A12,DetailEmpTable,3,FALSE)+VLOOKUP(A12,DetailEmpTable,5,FALSE)+VLOOKUP(A12,DetailEmpTable,21,FALSE))*ParSpWearShare)","v":0.55345911949685533},"BRES (Manufacturing and Retail of sporting goods)"]
[]
["Jobs (fix or base)",{"$f":"IF(SportGoodsEmpFix>0,SportGoodsEmpFix*ParSpWearShare,B14)","v":0.55345911949685533},"Calculated"]
[]
["Default estimate"]
["Consumer expenditure",{"$f":"B7/B6*B20","v":230803.79659773488},"Calculated"]
["GVA",{"$f":"B9*ParSpWearEmpEst","v":28406.621119721214},"Calculated"]
["Adjusted estimate"]
["Consumer expenditure",{"$f":"B7/B6*B23","v":230803.79659773488},"Calculated"]
["GVA",{"$f":"B16*B9","v":28406.621119721214},"Calculated"]
[]
["Additional Impact","Value","Source"]
["Additional Participants",{"$f":"TotalParticipantAddEdited","v":0},"User defined"]
[]
["Participants (base)",{"$f":"VLOOKUP(A12,ParticipantSportAPS,3,FALSE)","v":18465.131874276245},"APS"]
["Partcipants per Job",{"$f":"B28/B16","v":33363.136000112761},"Calculated"]
[]
["Additional Jobs",{"$f":"B26/B29","v":0},"Calculated"]
["Additional GVA",{"$f":"B31*B9","v":0},"Calculated"]
["Additional Consumer expenditure",{"$f":"B32*B19/B20","v":0},"Calculated"]

{"sheet":"SPECTATOR","index":23,"n_rows":29,"n_cols":8,"rows_kept":29,"cut":false,"hidden":true,"merged":[[1,7,3,17]]}
["Go back to CONTENTS sheet."]
["SPECTATOR SPORTS",null,null,null,null,null,null,"Description: Takes the England values for GVA from the national study and employment data from BRES for SIC code 9311 operation of sports facilities to get a productivity estimate.  A base estimate for local area employment is taken from BRES or the user can insert their own value for employment in the fixes sheet.  The local area employment value is multiplied by the productivity estimate to get a base estimate for local area GVA. Consumer expenditure then estimated as being in the same ratio to GVA from the England figure."]
["Spectator sports module"]
["England"]
["Indicator","Value","Source"]
["GVA",{"$f":"ASSUMS!E46","v":1.1616},"National study"]
["Consumer expenditure",0.8,"Family expenditure survey"]
[]
["Number of ticket sales",64000000]
["Average ticket price",{"$f":"B7*1000000000/B9","v":12.5}]
["Jobs",{"$f":"B6*1000000000/B12","v":48080.835820895525}]
["Productivity",{"$f":"SportActProdAssum","v":24159.313792444067}]
[{"$f":"LocalAuthority","v":"Adur"}]
["Indicator","Value","Source"]
["Default Baseline"]
["Jobs",{"$f":"VLOOKUP(LocalAuthority,DetailEmpTable,20,FALSE)*SpectatorGVAShareAssum","v":43.179104477611943},"BRES (93.1 Sport Activities)"]
["GVA",{"$f":"B16*B12","v":1043177.5343513536}]
["Consumer expenditure",{"$f":"B7/B6*B17","v":718441.82806567068}]
[]
["Refined Baseline"]
["Consumer expenditure",{"$f":"IF((RecurrEventExp+OneEventExp)<>0,(RecurrEventExp+OneEventExp),B18)","v":718441.82806567068},"Calculated"]
["GVA",{"$f":"B21*B6/B7+ProfFootballFix","v":1043177.5343513538},"Calculated"]
["Jobs",{"$f":"IF(SpecEmpFix<>0,SpecEmpFix,IF(B22<>B17,B22/B12,B16))","v":43.179104477611943}]
["% England Expenditure",{"$f":"B21/(B7*1000000000)","v":8.9805228508208835E-4}]
[]
["Additional Impact","Value","Source"]
["Additional Consumer Expenditure",{"$f":"AddRecurrEventExp+AddOneEventExp","v":0},"Calculated"]
["Additional Jobs",{"$f":"IF(SpecEmpAdd<>0,SpecEmpAdd,B29/B12)","v":0},"User defined"]
["Additional Impact",{"$f":"B27*B6/B7","v":0},"Calculated"]

{"sheet":"CONS_EQUIP","index":24,"n_rows":32,"n_cols":8,"rows_kept":32,"cut":false,"hidden":true,"merged":[[1,7,3,17]]}
["Go back to CONTENTS sheet."]
["SPORTS EQUIPMENT (CONSUMPTION)",null,null,null,null,null,null,"Description: Takes the England values for GVA from the national study and Job data from BRES for SIC codes 3230 Manufacturing of sporting goods and 4764 Retail of sporting goods to get a productivity estimate.  A base estimate for local area Job is taken from BRES or the user can insert their own value for Job in the fixes sheet.  The local area Job value is multiplied by the productivity estimate to get a base estimate for local area GVA. Consumer expenditure then estimated as being in the same ratio to GVA from the England figure. All estimated values are weighted by the share of sports equipment for consumption in all sporting goods outlined in the assumptions page. "]
["Sports equipment (for leisure) module"]
["England"]
["Indicator","Value","Source"]
["GVA",{"$f":"ASSUMS!E47","v":1.5839999999999999},"National study"]
["Consumer expenditure",{"$f":"ASSUMS!F47","v":2.2809599999999999},"National study"]
[]
["Productivity ",{"$f":"B6*1000000000/((VLOOKUP(A4,DETAILED_EMP!A2:L328,3,FALSE)+VLOOKUP(A4,DETAILED_EMP!A2:L328,5,FALSE)+VLOOKUP(A4,DetailEmpTable,21,FALSE))*ConsSpEquipShare)","v":51325.599523132638},"BRES (Manufacturing and Retail of sporting goods)"]
["Consumer expenditure per Job",{"$f":"B7*1000000000/((VLOOKUP(A4,DETAILED_EMP!A2:L328,3,FALSE)+VLOOKUP(A4,DETAILED_EMP!A2:L328,5,FALSE))*ConsSpEquipShare)","v":81016.556369058584},"BRES (Manufacturing and Retail of sporting goods)"]
[]
[{"$f":"LocalAuthority","v":"Adur"}]
["Indicator","Value","Source"]
["Job base",{"$f":"((VLOOKUP(A12,DetailEmpTable,3,FALSE)+VLOOKUP(A12,DetailEmpTable,5,FALSE)+VLOOKUP(A12,DetailEmpTable,21,FALSE))*ConsSpEquipShare)","v":10.377358490566039},"BRES (Manufacturing and Retail of sporting goods)"]
[]
["Job (fix or base)",{"$f":"IF(SportGoodsEmpFix>0,SportGoodsEmpFix*ConsSpEquipShare,B14)","v":10.377358490566039},"Calculated"]
["Default estimate"]
["Consumer expenditure",{"$f":"B7/B6*B19","v":766978.77023247257},"Calculated"]
["GVA",{"$f":"B9*ConsSpEquipEmpEst","v":532624.14599477267},"Calculated"]
["Adjusted estimate"]
["Consumer expenditure",{"$f":"B7/B6*B22","v":766978.77023247257},"Calculated"]
["GVA",{"$f":"B16*B9","v":532624.14599477267},"Calculated"]
[]
["Additional Impact","Value","Source"]
["Additional Participants",{"$f":"TotalParticipantAddEdited","v":0},"User defined"]
[]
["Participants (base)",{"$f":"VLOOKUP(A12,ParticipantSportAPS,3,FALSE)","v":18465.131874276245},"APS"]
["Partcipants per Job",{"$f":"B27/B16","v":1779.3672533393471},"Calculated"]
[]
["Additional Jobs",{"$f":"B25/B28","v":0},"Calculated"]
["Additional GVA",{"$f":"B30*B9","v":0},"Calculated"]
["Additional Consumer expenditure",{"$f":"B31*B18/B19","v":0},"Calculated"]

{"sheet":"CONS_WEAR","index":25,"n_rows":32,"n_cols":8,"rows_kept":32,"cut":false,"hidden":true,"merged":[[1,7,3,17]]}
["Go back to CONTENTS sheet."]
["SPORTSWEAR (PARTICIPATION)",null,null,null,null,null,null,"Description: Takes the England values for GVA from the national study and Jobs data from BRES for SIC codes 3230 Manufacturing of sporting goods and 4764 Retail of sporting goods to get a productivity estimate.  A base estimate for local area Jobs is taken from BRES or the user can insert their own value for Jobs in the fixes sheet.  The local area Jobs value is multiplied by the productivity estimate to get a base estimate for local area GVA. Consumer expenditure then estimated as being in the same ratio to GVA from the England figure. All estimated values are weighted by the share of sportswear for consumption in all sporting goods outlined in the assumptions page. "]
["Sportswear (for leisure) module"]
["England"]
["Indicator","Value","Source"]
["GVA",{"$f":"ASSUMS!E48","v":0.4224},"National study"]
["Consumer expenditure",{"$f":"ASSUMS!F48","v":3.3306239999999998},"National study"]
[]
["Productivity ",{"$f":"B6*1000000000/((VLOOKUP(A4,DETAILED_EMP!A2:L328,3,FALSE)+VLOOKUP(A4,DETAILED_EMP!A2:L328,5,FALSE)+VLOOKUP(A4,DetailEmpTable,21,FALSE))*ConsSpWearShare)","v":51325.599523132638},"BRES (Manufacturing and Retail of sporting goods)"]
["Consumer expenditure per Job",{"$f":"B7*1000000000/((VLOOKUP(A4,DETAILED_EMP!A2:L328,3,FALSE)+VLOOKUP(A4,DETAILED_EMP!A2:L328,5,FALSE))*ConsSpWearShare)","v":443621.90761807415},"BRES (Manufacturing and Retail of sporting goods)"]
[]
[{"$f":"LocalAuthority","v":"Adur"}]
["Indicator","Value","Source"]
["Jobs base",{"$f":"((VLOOKUP(A12,DetailEmpTable,3,FALSE)+VLOOKUP(A12,DetailEmpTable,5,FALSE)+VLOOKUP(A12,DetailEmpTable,21,FALSE))*ConsSpWearShare)","v":2.7672955974842774},"BRES (Manufacturing and Retail of sporting goods)"]
[]
["Jobs (fix or base)",{"$f":"IF(SportGoodsEmpFix>0,SportGoodsEmpFix*ConsSpWearShare,B14)","v":2.7672955974842774},"Calculated"]
["Default estimate"]
["Consumer expenditure",{"$f":"B7/B6*B19","v":1119931.0376450089},"Calculated"]
["GVA",{"$f":"B9*ConsSpWearEmpEst","v":142033.10559860608},"Calculated"]
["Adjusted estimate"]
["Consumer expenditure",{"$f":"B7/B6*B22","v":1119931.0376450089},"Calculated"]
["GVA",{"$f":"B16*B9","v":142033.10559860608},"Calculated"]
[]
["Additional Impact","Value","Source"]
["Additional Participants",{"$f":"TotalParticipantAddEdited","v":0},"User defined"]
[]
["Participants (base)",{"$f":"VLOOKUP(A12,ParticipantSportAPS,3,FALSE)","v":18465.131874276245},"APS"]
["Partcipants per Job",{"$f":"B27/B16","v":6672.6272000225508},"Calculated"]
[]
["Additional Jobs",{"$f":"B25/B28","v":0},"Calculated"]
["Additional GVA",{"$f":"B30*B9","v":0},"Calculated"]
["Additional Consumer expenditure",{"$f":"B31*B18/B19","v":0},"Calculated"]

{"sheet":"SPORT_GAMBLING","index":26,"n_rows":37,"n_cols":3,"rows_kept":37,"cut":false,"hidden":true,"merged":[[1,2,3,13]]}
["Go back to CONTENTS sheet."]
["SPORTS GAMBLING",null,"Description: Takes the England values for GVA and consumer expenditure from the national study and population data from the annual population survey to calculate per capita figures. Then as a base estimate uses the local area population from the annual population survey to get an estimate for local area GVA. An estimate for Jobs is derived from applying a productivity estimate for the closest sector in ABS and BRES which is Gambling and Betting services. The user can insert their own value for Jobs in the fixes sheet which is then applied to the productivity estimate to get GVA and consumer expenditure figures."]
["Sports Gambling"]
["England"]
["Indicator","Value","Source"]
["Shop betting"]
["GVA",{"$f":"ASSUMS!E49*ShopGamblingExpAssum","v":0.68996293428760114},"National study"]
["Consumer expenditure",{"$f":"ASSUMS!F49*ShopGamblingExpAssum","v":3.0734712527356778},"National study"]
["Gambling Jobs",{"$f":"VLOOKUP(A4,DetailEmpTable,14,FALSE)","v":86315},"BRES Gambling and Betting services"]
["Sports Gambling Jobs",{"$f":"B9*GambleSportAssum*ShopGamblingEmpAssum","v":34735.211556550297},"Calculated"]
["Productivity",{"$f":"B7*1000000000/B10","v":19863.501713939881},"Calculated"]
["Expenditure per Job",{"$f":"B8*1000000000/B10","v":88482.871271186727},"Calculated"]
[]
["Online Betting"]
["GVA",{"$f":"ASSUMS!E49*OnlineGamblingExpAssum","v":0.47163706571239888}]
["Consumer expenditure",{"$f":"ASSUMS!F49*OnlineGamblingExpAssum","v":2.1009287472643225}]
["Gambling Jobs",{"$f":"VLOOKUP(A4,DetailEmpTable,14,FALSE)","v":86315}]
["Sports Gambling Jobs",{"$f":"B9*GambleSportAssum*OnlineGamblingEmpAssum","v":2951.2286195272804}]
["Productivity",{"$f":"B15*1000000000/B18","v":159810.41339587726}]
["Expenditure per Job",{"$f":"B16*1000000000/B18","v":711882.75058163516}]
[]
[{"$f":"LocalAuthority","v":"Adur"}]
["Indicator","Value","Source"]
["Jobs",{"$f":"VLOOKUP(A22,DetailEmpTable,14,FALSE)*GambleSportAssum","v":9.6055341930569025},"Calculated"]
[]
["Shop Betting Jobs Estimate",{"$f":"ROUND(B24*ShopGamblingEmpAssum,0)","v":9},"Calculated"]
[]
["Online Betting Jobs",{"$f":"OnlineGambleEmpFix","v":0},"User defined"]
["Shop Betting Adjusted",{"$f":"IF(ShopBettingFix>0,ShopBettingFix,GambleEmpEst)","v":9},"Calculated/User defined"]
["Default estimate"]
["Consumer expenditure",{"$f":"B12*B26","v":796345.84144068055},"Calculated"]
["GVA",{"$f":"B26*B11","v":178771.51542545893},"Calculated"]
["Jobs",{"$f":"GambleEmpEst","v":9},"Calculated"]
["Adjusted estimate"]
["Consumer expenditure",{"$f":"B12*B29+B20*B28","v":796345.84144068055},"Calculated"]
["GVA",{"$f":"B11*B29+B28*B19","v":178771.51542545893},"Calculated"]
["Jobs",{"$f":"SUM(B28:B29)","v":9},"Calculated"]

{"sheet":"TV_SUBS","index":27,"n_rows":25,"n_cols":3,"rows_kept":25,"cut":false,"hidden":true,"merged":[[1,2,3,6]]}
["Go back to CONTENTS sheet."]
["TV & SATELLITE SUBSCRIPTIONS",null,"Description: Takes the England values for GVA and consumer expenditure from the national study and population data from the annual population survey to calculate per capita figures. Then as a base estimate uses the local area population from the annual population survey to get an estimate for local area GVA. An estimate for employment is derived from applying a productivity estimate for the closest sector in ABS and BRES which is Programming and broadcasting services. The user can insert their own value for employment in the fixes sheet which is then applied to the productivity estimate to get GVA and consumer expenditure figures."]
["TV & satellite subscriptions"]
["England"]
["Indicator","Value","Source"]
["GVA",{"$f":"ASSUMS!E50","v":4.6463999999999999},"National study"]
["Consumer expenditure",{"$f":"ASSUMS!F50","v":2.4287999999999998},"National study"]
["Jobs",{"$f":"VLOOKUP(A4,DetailEmpTable,13,FALSE)","v":27723},"BRES Programming and broadcasting services"]
[]
["Productivity",{"$f":"B6*1000000000/B8","v":167600.90899253328},"Calculated"]
["Expenditure per Job",{"$f":"B7*1000000000/B8","v":87609.566064278755},"Calculated"]
[]
[]
[]
[{"$f":"LocalAuthority","v":"Adur"}]
["Indicator","Value","Source"]
["Jobs",{"$f":"VLOOKUP(A15,DetailEmpTable,13,FALSE)","v":1},"BRES Programming and broadcasting services"]
[]
["Jobs (fix or base)",{"$f":"IF(TVEmpFix>0,TVEmpFix,TVEmpEst)","v":1},"Calculated"]
["Default estimate"]
["Consumer expenditure",{"$f":"B17*B11","v":87609.566064278755},"Calculated"]
["GVA",{"$f":"B17*B10","v":167600.90899253328},"Calculated"]
["Adjusted estimate"]
["Consumer expenditure",{"$f":"B19*B11","v":87609.566064278755},"Calculated"]
["GVA",{"$f":"B19*B10","v":167600.90899253328},"Calculated"]

{"sheet":"HEALTH","index":28,"n_rows":49,"n_cols":13,"rows_kept":49,"cut":false,"hidden":true,"merged":[[28,1,28,8],[15,1,15,4],[1,1,3,7],[4,1,4,4]]}
["Go back to CONTENTS sheet."]
["HEALTH","Description: Takes the national level estimate of weighted average economic benefits and health savings by age band and multiplies them by the participation estimates by age band to calculate the lifetime economic benefits and health cost savings by age band. The Lifetime figures are aggregated across age bands and then converted to a per annum figure using an assumed ratio (see ASSUMS sheet).     "]
["Health module"]
[]
["England","Values",null,null,null,null,"Source"]
[null,"16-29","30-49","50-64","65+"]
["Weighted average health savings per participant",{"$f":"PARTICIPATION!L388","v":4177.5552094168734},{"$f":"PARTICIPATION!L389","v":5311.4973389673542},{"$f":"PARTICIPATION!L390","v":4189.8899410924178},{"$f":"PARTICIPATION!L391","v":1147.3660825855256},null,"Active People Survey/CASE"]
["Weighted average economic value of health per participant",{"$f":"PARTICIPATION!L394","v":27646.015419370367},{"$f":"PARTICIPATION!L395","v":35211.064147626683},{"$f":"PARTICIPATION!L396","v":22857.853356172636},{"$f":"PARTICIPATION!L397","v":11352.67807164507},null,"Active People Survey/CASE"]
["Participants",{"$f":"VLOOKUP($A$5,HealthParticipantsTable,COLUMN(B9)-COLUMN($B$9)+2,FALSE)","v":5251977.4855808094},{"$f":"VLOOKUP($A$5,HealthParticipantsTable,COLUMN(C9)-COLUMN($B$9)+2,FALSE)","v":6187629.5309988772},{"$f":"VLOOKUP($A$5,HealthParticipantsTable,COLUMN(D9)-COLUMN($B$9)+2,FALSE)","v":2861511.9854115783},{"$f":"VLOOKUP($A$5,HealthParticipantsTable,COLUMN(E9)-COLUMN($B$9)+2,FALSE)","v":1715704.5041673719},null,"Active People Survey/Annual population survey"]
["Lifetime health savings",{"$f":"B7*B9","v":21940425904.628242},{"$f":"C7*C9","v":32865577788.416355},{"$f":"D7*D9","v":11989420283.991365},{"$f":"E7*E9","v":1968541155.8208592},null,"Calculated"]
["Lifetime economic value",{"$f":"B8*B9","v":145196250548.55307},{"$f":"C8*C9","v":217873020337.75067},{"$f":"D8*D9","v":65408021339.468269},{"$f":"E8*E9","v":19477840901.883602},null,"Calculated"]
[]
["Health savings per annum",{"$f":"SUM(B10:E10)/PerAnnumConvFactor","v":3232908562.8987694}]
["Economic value per annum",{"$f":"SUM(B11:E11)/PerAnnumConvFactor","v":21060419987.195843}]
[]
[{"$f":"LocalAuthority","v":"Adur"},"Values",null,null,null,null,"Source"]
[null,"16-29","30-49","50-64","65+"]
["Weighted average health savings per participant",{"$f":"B7","v":4177.5552094168734},{"$f":"C7","v":5311.4973389673542},4189.8899410924178,1147.3660825855256,null,"Active People Survey/CASE"]
["Weighted average economic value of health per participant",{"$f":"B8","v":27646.015419370367},35211.064147626683,22857.853356172636,11352.67807164507,null,"Active People Survey/CASE"]
["Participants",{"$f":"VLOOKUP($A$16,HealthParticipantsTable,COLUMN(B20)-COLUMN($B$20)+2,FALSE)","v":4731.7169049192062},{"$f":"VLOOKUP($A$16,HealthParticipantsTable,COLUMN(C20)-COLUMN($B$20)+2,FALSE)","v":7761.7951344787707},{"$f":"VLOOKUP($A$16,HealthParticipantsTable,COLUMN(D20)-COLUMN($B$20)+2,FALSE)","v":3342.0349685346791},{"$f":"VLOOKUP($A$16,HealthParticipantsTable,COLUMN(E20)-COLUMN($B$20)+2,FALSE)","v":2586.3294410776775},null,"Active People Survey/Annual population survey"]
["Lifetime health savings",{"$f":"B18*B20","v":19767008.605631113},{"$f":"C18*C20","v":41226754.202393748},{"$f":"D18*D20","v":14002758.697442567},{"$f":"E18*E20","v":2967466.6790849068},null,"Calculated"]
["Lifetime economic value",{"$f":"B19*B20","v":130813118.51349181},{"$f":"C19*C20","v":273301066.38086867},{"$f":"D19*D20","v":76391745.221966729},{"$f":"E19*E20","v":29361765.531772602},null,"Calculated"]
[]
["Health cost savings savings per annum",{"$f":"SUM(B21:E21)/PerAnnumConvFactor","v":3665443.7322309515},{"$f":"B24/1000000","v":3.6654437322309517}]
["Other Health Benefits (QUALY's etc)",{"$f":"B26-B24","v":20305769.039188884},{"$f":"B25/1000000","v":20.305769039188885}]
["Economic value per annum",{"$f":"SUM(B22:E22)/PerAnnumConvFactor","v":23971212.771419834},{"$f":"B26/1000000","v":23.971212771419836}]
[]
[]
["Additional Impact","Values",null,null,null,null,null,null,null,null,null,null,"Source "]
["Estimated Participant breakdown","Athletics","Badminton","Cricket","Golf","Squash","Tennis","Swimming","Football","Cycling","Health & fitness"]
["16-29",{"$f":"AddPartEst","v":0},0,0,0,0,0,0,0,0,0,null,"User defined"]
["30-49",0,0,0,0,0,0,0,0,0,0,null,"User defined"]
["50-64",0,0,0,0,0,0,0,0,0,0,null,"User defined"]
["65+",0,0,0,0,0,0,0,0,0,0,null,"User defined"]
[]
["Estimated Economic value of additional participants","Athletics","Badminton","Cricket","Golf","Squash","Tennis","Swimming","Football","Cycling","Health & fitness"]
["16-29",{"$f":"AddPartEst*HealthValueAssum/PerAnnumConvFactor","v":0},0,0,0,0,0,0,0,0,0,null,"Calculated"]
["30-49",0,0,0,0,0,0,0,0,0,0,null,"Calculated"]
["50-64",0,0,0,0,0,0,0,0,0,0,null,"Calculated"]
["65+",0,0,0,0,0,0,0,0,0,0,null,"Calculated"]
[]
["Estimated Health savings of additional participants","Athletics","Badminton","Cricket","Golf","Squash","Tennis","Swimming","Football","Cycling","Health & fitness"]
["16-29",{"$f":"AddPartEst*HealthCostAssum/PerAnnumConvFactor","v":0},0,0,0,0,0,0,0,0,0,null,"Calculated"]
["30-49",0,0,0,0,0,0,0,0,0,0,null,"Calculated"]
["50-64",0,0,0,0,0,0,0,0,0,0,null,"Calculated"]
["65+",0,0,0,0,0,0,0,0,0,0,null,"Calculated"]
["Total Additional impact",{"$f":"SUM(B37:K40)","v":0}]
["Health Cost savings",{"$f":"SUM(B43:K46)","v":0}]
["QUALY's",{"$f":"B47-B48","v":0}]

{"sheet":"VOLUNTEER","index":29,"n_rows":20,"n_cols":3,"rows_kept":20,"cut":false,"hidden":true,"merged":[[1,2,2,8]]}
["Go back to CONTENTS sheet."]
["VOLUNTEERING",null,"Description: Take the economic value of volunteering from the national study and the number of volunteers from the Active People Survey to calculate the Economic value generated per volunteer. The local area value is calculated by multiplying the economic value per volunteer by the number of volunteers in the local area from the Active People survey."]
["Volunteering module"]
["England"]
["Indicator","Value","Source"]
["Economic Value",{"$f":"B8*VolunWageRate/1000000000","v":6.9641995253310034},"National study"]
["Volunteers",{"$f":"VLOOKUP(A4,VolunTable,5,FALSE)","v":6630430.1032645311},"Active People Survey"]
["Volunteer Hours",{"$f":"VLOOKUP(A4,VolunTable,7,FALSE)","v":899767380.53372133},"Active People Survey"]
["Value per volunteer",{"$f":"B6*1000000000/B7","v":1050.3390303295919},"Calculated"]
[]
[{"$f":"LocalAuthority","v":"Adur"}]
["Indicator","Value"]
["Volunteer",{"$f":"IF(VLOOKUP(A11,VolunTable,3,FALSE)>=30,VLOOKUP(A11,VolunTable,5,FALSE),0)","v":7661.2831922375753},"Active People Survey"]
["Volunteer Hours",{"$f":"VLOOKUP(A11,VolunTable,7,FALSE)","v":604954.4255894908},"Active People Survey"]
["Economic Value",{"$f":"B14*VolunWageRate","v":4682347.2540626591},"Calculated"]
[]
["Additional Impact","Value","Source"]
["Additional Volunteers",{"$f":"VolunteersAdd","v":0},"User defined"]
["Average hours",{"$f":"B14/B13","v":78.962545882970574},"Active People Survey"]
["Additional Imapct ",{"$f":"B19*B18*VolunWageRate","v":0},"Calculated"]

{"sheet":"TOURISM","index":30,"n_rows":39,"n_cols":4,"rows_kept":39,"cut":false,"hidden":true,"merged":[]}
["Go back to CONTENTS sheet."]
["TOURISM"]
["Tourism module"]
[]
[{"$f":"LocalAuthority","v":"Adur"}]
["Indicator","Value",null,"Source"]
["Tourist Visits",{"$f":"VLOOKUP($A$5,TourismTable,9,FALSE)*1000","v":1000},{"$f":"VLOOKUP($A$5,TourismTable,12,FALSE)*1000000","v":52041.932942309373},"Visit England"]
["Tourist Spending",{"$f":"IF(OR(VLOOKUP($A$5,TourismTable,10,FALSE)=\" *\",VLOOKUP($A$5,TourismTable,10,FALSE)=\"-\"),0,VLOOKUP($A$5,TourismTable,10,FALSE)*1000000)","v":166666.66666666666},{"$f":"VLOOKUP($A$5,TourismTable,13,FALSE)*1000000","v":1022757.1428571427},"Visit England"]
[null,"Overnight","Day Visit"]
["Spectator Sports Tourists visits",{"$f":"B7*SpectateTourShareAssum","v":11},{"$f":"C7*SpectateDayTourVisitShareAssum","v":1613.2999212115906},"TNS"]
["Participation Tourists visits",{"$f":"B7*PartTourShareAssum","v":54.699999999999996},{"$f":"C7*PartDayTourVisitShareAssum","v":1144.9225247308061},"TNS"]
["Total Sports Tourist Visits",{"$f":"SUM(SpectateTourVisitEst,PartTourVisitEst)","v":65.699999999999989},{"$f":"SUM(C10:C11)","v":2758.2224459423969},"TNS"]
["Spectator Sports tourism expenditure",{"$f":"B8*SpectateTourShareAssum","v":1833.333333333333},{"$f":"C8*SpectateDayTourSpendShareAssum","v":38864.771428571425},"TNS"]
["Participation sports tourism expenditure",{"$f":"PartTourShareAssum*B8","v":9116.6666666666661},{"$f":"C8*PartDayTourSpendShareAssum","v":16364.114285714284},"TNS"]
[]
["Spectator Average Spend per Tourist",{"$f":"B13/SpectateTourVisitEst-8.96","v":157.70666666666662},{"$f":"22.49","v":22.49},"Calculated"]
["Participation Average Spend per Tourist",{"$f":"IF(TourVisitEst=0,0,B14/PartTourVisitEst)-3.6","v":163.06666666666666},10.62]
["SpectatorAverage Spend (Base or Fix)",{"$f":"IF(SpecTourSpendFix>0,SpecTourSpendFix,SpecTourSpendEst)","v":157.70666666666662},{"$f":"IF(SpecDayTourSpendFix>0,SpecDayTourSpendFix,SpecDayTourSpendEst)","v":22.49},"Calculated"]
["Participation Average Spend (Base or Fix)",{"$f":"IF(PartTourSpendFix>0,PartTourSpendFix,PartTourSpendEst)","v":163.06666666666666},{"$f":"IF(PartDayTourSpendFix>0,PartDayTourSpendFix,PartDayTourSpendEst)","v":10.62}]
["Sports Tourist Visits (Base/Fix) "]
["Spectator Sports Tourist Visits (Base/Fix) ",{"$f":"IF(SpectateTourVisitFix>0,SpectateTourVisitFix,SpectateTourVisitEst)","v":11},{"$f":"IF(SpectateDayTourVisitFix>0,SpectateDayTourVisitFix,SpectateDayTourVisitEst)","v":1613.2999212115906},"Calculated"]
["Participation Sports Tourist Visits (Base/Fix) ",{"$f":"IF(PartTourVisitFix>0,PartTourVisitFix,PartTourVisitEst)","v":54.699999999999996},{"$f":"IF(PartDayTourVisitFix>0,PartDayTourVisitFix,PartDayTourVisitEst)","v":1144.9225247308061},"Calculated"]
[]
["Default estimate"]
["Sport Tourism Expenditure",{"$f":"SUM(B26:B27)","v":10654.519999999999},{"$f":"SUM(C26:C27)","v":48442.192440689832}]
["Spectator Sports Tourism",{"$f":"SpectateTourVisitEst*SpecTourSpendEst","v":1734.7733333333329},{"$f":"SpectateDayTourVisitEst*SpecDayTourSpendEst","v":36283.115228048671}]
["Participation Tourism",{"$f":"PartTourSpendEst*PartTourVisitEst","v":8919.746666666666},{"$f":"PartDayTourVisitEst*PartDayTourSpendEst","v":12159.077212641159}]
["Adjusted estimate"]
["Sport Tourism Expenditure",{"$f":"SUM(B30:B31)","v":10654.519999999999},{"$f":"SUM(C30:C31)","v":48442.192440689832}]
["Spectator Sports Tourism",{"$f":"B18*B21","v":1734.7733333333329},{"$f":"C18*C21","v":36283.115228048671}]
["Participation Tourism",{"$f":"B19*B22","v":8919.746666666666},{"$f":"C22*C19","v":12159.077212641159}]
["Additional Impact","Value",null,"Source"]
["Total visits including additional impact",{"$f":"B34+B35","v":0},{"$f":"C34+C35","v":0},"User defined"]
["Additional Spectator Sports tourists",{"$f":"SpecSportVisitAdd","v":0},{"$f":"SpecSportDayVisitAdd","v":0}]
["Additional Participation sports tourists",{"$f":"PartSportVisitAdd","v":0},{"$f":"PartSportDayVisitAdd","v":0}]
["Spectator Average Spend per Tourist",{"$f":"IF(SpecTouristSpendAdd>0,SpecTouristSpendAdd,B18)","v":157.70666666666662},{"$f":"IF(SpecTouristDaySpendAdd>0,SpecTouristDaySpendAdd,C18)","v":22.49},"User defined"]
["Participation Average Spend per Tourist",{"$f":"IF(PartTouristSpendAdd>0,PartTouristSpendAdd,B19)","v":163.06666666666666},{"$f":"IF(PartTouristSpendAdd>0,PartTouristSpendAdd,C19)","v":10.62}]
[]
["Additional impact",{"$f":"B34*B36+B35*B37","v":0},{"$f":"C34*C36+C35*C37","v":0},"Calculated"]

{"sheet":"CLASSIF","index":31,"n_rows":444,"n_cols":21,"rows_kept":444,"cut":false,"hidden":true,"merged":[]}
["Go back to CONTENTS sheet."]
["CLASSIFICATIONS"]
["[to be hidden] List of classifications"]
[null,"Age Bands",null,"Local Authority","Regions","Area types",null,null,"Broad Sports category",null,"Individual Sports Category","Adjustment List","Additional Impact List",null,"FlowChartSwitchList","Debug Check zero values",null,null,"Debug Check",null,439]
[null,null,null,null,null,null,null,null,"(Still to be confirmed)",null,"(Still to be confirmed)",null,null,null,"GVA",null,null,null,{"$f":"IF(MIN(DETAILED_BASIC_SNAPSHOT!D24:E29,DETAILED_BASIC_SNAPSHOT!D32:E35,DETAILED_BASIC_SNAPSHOT!D37:E37,DETAILED_BASIC_SNAPSHOT!D21:E21,DETAILED_BASIC_SNAPSHOT!F40:F46)<=0,1,0)","v":0}]
[1,"16-29 ",1,"England","England","Local authority","LA","A","Agriculture, forestry and fishing",32,"Other manufacturing",{"$f":"ADJUST!B12","v":"Sports TV subscriptions jobs "},{"$f":"ADDITIONAL_IMPACT_INPUTS!B11","v":"Expected additional participants"},1,"Jobs"]
[2,"30-49",2,"Adur","South East","LEP","LEP","B","Mining and quarrying",3230,"Manufacture of sports goods",{"$f":"ADJUST!B15","v":"Online betting jobs"},{"$f":"ADDITIONAL_IMPACT_INPUTS!B28","v":"Expected additional volunteers"},2]
[3,"50-64",3,"Allerdale","North West","CSP","CSP","C"," Manufacturing",47,"Retail trade, except of motor vehicles and motorcycles",{"$f":"ADJUST!B16","v":"Shop betting jobs"},{"$f":"ADDITIONAL_IMPACT_INPUTS!B32","v":"Spectator sports visits "},3]
[4,"65+",4,"Amber Valley","East Midlands","England","England","D","Electricity, gas, steam and air conditioning supply",4764,"Retail sale of sporting equipment in specialised stores",{"$f":"ADJUST!B19","v":"Manufacture and retail of sporting goods jobs"},{"$f":"ADDITIONAL_IMPACT_INPUTS!B33","v":"Participation sports visits"},4]
[null,null,5,"Arun","South East",null,null,"E","Water supply; sewerage, waste management and remediation activities",93,"Sports activities and amusement and recreation activities",{"$f":"ADJUST!B22","v":"Number of tickets sold"},{"$f":"ADDITIONAL_IMPACT_INPUTS!B35","v":"Average spend per spectating trip"},5]
[null,null,6,"Ashfield","East Midlands",null,null,"F","Construction",9311,"Operation of sports facilities",{"$f":"ADJUST!B23","v":"Average price per ticket"},{"$f":"ADDITIONAL_IMPACT_INPUTS!B36","v":"Average spend per participation trip"},6]
[null,null,7,"Ashford","South East","North West",null,"G","Wholesale and retail trade; repair of motor vehicles and motorcycles",9312,"Activities of sport clubs",{"$f":"ADJUST!B26","v":"Sports services jobs"},{"$f":"ADDITIONAL_IMPACT_INPUTS!B38","v":"Spectator sports visits "},7]
[null,null,8,"Aylesbury Vale","South East",null,null,"H","Transportation and storage",9313,"Fitness facilities",{"$f":"ADJUST!B30","v":"Spectator sports visits"},{"$f":"ADDITIONAL_IMPACT_INPUTS!B39","v":"Participation sports visits "},8]
[null,null,9,"Babergh","East",null,null,"I","Accommodation and food service activities",9319,"Other sports activities",{"$f":"ADJUST!B31","v":"Participation sports visits"},{"$f":"ADDITIONAL_IMPACT_INPUTS!B41","v":"Average spend per spectating trip"},9]
[null,null,10,"Barking and Dagenham","London",null,null,"J","Information and communication",93191,"Activities of racehorse owners",{"$f":"ADJUST!B33","v":"Average spend per spectating trip"},{"$f":"ADDITIONAL_IMPACT_INPUTS!B42","v":"Average spend per participation trip"},10]
[null,null,11,"Barnet","London",null,null,"K","Financial and insurance activities",93199,"Other sports activities (not including activities of racehorse owners) nec",{"$f":"ADJUST!B34","v":"Average spend per participation trip"},{"$f":"ADDITIONAL_IMPACT_INPUTS!B44","v":"Additional further education students on sport related courses"},11]
[null,null,12,"Barnsley","Yorkshire and the Humber",null,null,"L","Real estate activities",null,null,{"$f":"ADJUST!B36","v":"Spectator sports visits "},{"$f":"ADDITIONAL_IMPACT_INPUTS!B45","v":"Additional further education staff for sports related courses"},12]
[null,null,13,"Barrow-in-Furness","North West",null,null,"M","Professional, scientific and technical activities",null,null,{"$f":"ADJUST!B37","v":"Participation sports visits "},{"$f":"ADDITIONAL_IMPACT_INPUTS!B48","v":"Value of Investment in construction projects"},13]
[null,null,14,"Basildon","East",null,null,"N","Administrative and support service activities",null,null,{"$f":"ADJUST!B39","v":"Average spend per spectating trip"},{"$f":"ADDITIONAL_IMPACT_INPUTS!B49","v":"Average Number of years to construction projects completion "},14]
[null,null,15,"Basingstoke and Deane","South East",null,null,"O","Public administration and defence; compulsory social security",null,null,{"$f":"ADJUST!B40","v":"Average spend per participation trip"},null,15]
[null,null,16,"Bassetlaw","East Midlands",null,null,"P","Education",null,null,{"$f":"ADJUST!B43","v":"Further education students on sport related courses"},null,16]
[null,null,17,"Bath and North East Somerset","South West",null,null,"Q","Human health and social work activities",null,null,{"$f":"ADJUST!B44","v":"Further education jobs for sports related courses"},null,17]
[null,null,18,"Bedford","East",null,null,"R","Arts, entertainment and recreation"]
[null,null,19,"Bexley","London",null,null,"S","Other service activities"]
[null,null,20,"Birmingham","West Midlands",null,null,"T","Activities of households as employers;undifferentiated goods-and services-producing activities of households for own use"]
[null,null,21,"Blaby","East Midlands",null,null,"U"," Activities of extraterritorial organisations and bodies"]
[null,null,22,"Blackburn with Darwen","North West"]
[null,null,23,"Blackpool","North West"]
[null,null,24,"Bolsover","East Midlands"]
[null,null,25,"Bolton","North West"]
[null,null,26,"Boston","East Midlands"]
[null,null,27,"Bournemouth","South West"]
[null,null,28,"Bracknell Forest","South East"]
[null,null,29,"Bradford","Yorkshire and the Humber"]
[null,null,30,"Braintree","East"]
[null,null,31,"Breckland","East"]
[null,null,32,"Brent","London"]
[null,null,33,"Brentwood","East"]
[null,null,34,"Brighton and Hove","South East"]
[null,null,35,"Bristol","South West"]
[null,null,36,"Broadland","East"]
[null,null,37,"Bromley","London"]
[null,null,38,"Bromsgrove","West Midlands"]
[null,null,39,"Broxbourne","East"]
[null,null,40,"Broxtowe","East Midlands"]
[null,null,41,"Buckinghamshire CC","South East"]
[null,null,42,"Burnley","North West"]
[null,null,43,"Bury","North West"]
[null,null,44,"Calderdale","Yorkshire and the Humber"]
[null,null,45,"Cambridge","East"]
[null,null,46,"Cambridgeshire CC","East"]
[null,null,47,"Camden","London"]
[null,null,48,"Cannock Chase","West Midlands"]
[null,null,49,"Canterbury","South East"]
[null,null,50,"Carlisle","North West"]
[null,null,51,"Castle Point","East"]
[null,null,52,"Central Bedfordshire","East"]
[null,null,53,"Charnwood","East Midlands"]
[null,null,54,"Chelmsford","East"]
[null,null,55,"Cheltenham","South West"]
[null,null,56,"Cherwell","South East"]
[null,null,57,"Cheshire East","North West"]
[null,null,58,"Cheshire West and Chester","North West"]
[null,null,59,"Chesterfield","East Midlands"]
[null,null,60,"Chichester","South East"]
[null,null,61,"Chiltern","South East"]
[null,null,62,"Chorley","North West","North West",{"$f":"IF(F67<>E67,1,0)","v":0}]
[null,null,63,"Christchurch","South West"]
[null,null,64,"City of London","London"]
[null,null,65,"Colchester","East"]
[null,null,66,"Copeland","North West"]
[null,null,67,"Corby","East Midlands"]
[null,null,68,"Cornwall","South West"]
[null,null,69,"Cotswold","South West"]
[null,null,70,"County Durham","North East"]
[null,null,71,"Coventry","West Midlands"]
[null,null,72,"Craven","Yorkshire and the Humber"]
[null,null,73,"Crawley","South East"]
[null,null,74,"Croydon","London"]
[null,null,75,"Cumbria CC","North West"]
[null,null,76,"Dacorum","East"]
[null,null,77,"Darlington","North East"]
[null,null,78,"Dartford","South East"]
[null,null,79,"Daventry","East Midlands"]
[null,null,80,"Derby","East Midlands"]
[null,null,81,"Derbyshire CC","East Midlands"]
[null,null,82,"Derbyshire Dales","East Midlands"]
[null,null,83,"Devon CC","South West"]
[null,null,84,"Doncaster","Yorkshire and the Humber"]
[null,null,85,"Dorset CC","South West"]
[null,null,86,"Dover","South East"]
[null,null,87,"Dudley","West Midlands"]
[null,null,88,"Ealing","London"]
[null,null,89,"East Cambridgeshire","East"]
[null,null,90,"East Devon","South West"]
[null,null,91,"East Dorset","South West"]
[null,null,92,"East Hampshire","South East"]
[null,null,93,"East Hertfordshire","East"]
[null,null,94,"East Lindsey","East Midlands"]
[null,null,95,"East Northamptonshire","East Midlands"]
[null,null,96,"East Riding of Yorkshire","Yorkshire and the Humber"]
[null,null,97,"East Staffordshire","West Midlands"]
[null,null,98,"East Sussex CC","South East"]
[null,null,99,"Eastbourne","South East"]
[null,null,100,"Eastleigh","South East"]
[null,null,101,"Eden","North West"]
[null,null,102,"Elmbridge","South East"]
[null,null,103,"Enfield","London"]
[null,null,104,"Epping Forest","East"]
[null,null,105,"Epsom and Ewell","South East"]
[null,null,106,"Erewash","East Midlands"]
[null,null,107,"Essex CC","East"]
[null,null,108,"Exeter","South West"]
[null,null,109,"Fareham","South East"]
[null,null,110,"Fenland","East"]
[null,null,111,"Forest Heath","East"]
[null,null,112,"Forest of Dean","South West"]
[null,null,113,"Fylde","North West"]
[null,null,114,"Gateshead","North East"]
[null,null,115,"Gedling","East Midlands"]
[null,null,116,"Gloucester","South West"]
[null,null,117,"Gloucestershire CC","South West"]
[null,null,118,"Gosport","South East"]
[null,null,119,"Gravesham","South East"]
[null,null,120,"Great Yarmouth","East"]
[null,null,121,"Greenwich","London"]
[null,null,122,"Guildford","South East"]
[null,null,123,"Hackney","London"]
[null,null,124,"Halton","North West"]
[null,null,125,"Hambleton","Yorkshire and the Humber"]
[null,null,126,"Hammersmith and Fulham","London"]
[null,null,127,"Hampshire CC","South East"]
[null,null,128,"Harborough","East Midlands"]
[null,null,129,"Haringey","London"]
[null,null,130,"Harlow","East"]
[null,null,131,"Harrogate","Yorkshire and the Humber"]
[null,null,132,"Harrow","London"]
[null,null,133,"Hart","South East"]
[null,null,134,"Hartlepool","North East"]
[null,null,135,"Hastings","South East"]
[null,null,136,"Havant","South East"]
[null,null,137,"Havering","London"]
[null,null,138,"Herefordshire","West Midlands"]
[null,null,139,"Hertfordshire CC","East"]
[null,null,140,"Hertsmere","East"]
[null,null,141,"High Peak","East Midlands"]
[null,null,142,"Hillingdon","London"]
[null,null,143,"Hinckley and Bosworth","East Midlands"]
[null,null,144,"Horsham","South East"]
[null,null,145,"Hounslow","London"]
[null,null,146,"Huntingdonshire","East"]
[null,null,147,"Hyndburn","North West"]
[null,null,148,"Ipswich","East"]
[null,null,149,"Isle of Wight","South East"]
[null,null,150,"Isles of Scilly","South West"]
[null,null,151,"Islington","London"]
[null,null,152,"Kensington and Chelsea","London"]
[null,null,153,"Kent CC","South East"]
[null,null,154,"Kettering","East Midlands"]
[null,null,155,"King`s Lynn and West Norfolk","East"]
[null,null,156,"Kingston upon Hull","Yorkshire and the Humber"]
[null,null,157,"Kingston upon Thames","London"]
[null,null,158,"Kirklees","Yorkshire and the Humber"]
[null,null,159,"Knowsley","North West"]
[null,null,160,"Lambeth","London"]
[null,null,161,"Lancashire CC","North West"]
[null,null,162,"Lancaster","North West"]
[null,null,163,"Leeds","Yorkshire and the Humber"]
[null,null,164,"Leicester","East Midlands"]
[null,null,165,"Leicestershire CC","East Midlands"]
[null,null,166,"Lewes","South East"]
[null,null,167,"Lewisham","London"]
[null,null,168,"Lichfield","West Midlands"]
[null,null,169,"Lincoln","East Midlands"]
[null,null,170,"Lincolnshire CC","East Midlands"]
[null,null,171,"Liverpool","North West"]
[null,null,172,"Luton","East"]
[null,null,173,"Maidstone","South East"]
[null,null,174,"Maldon","East"]
[null,null,175,"Malvern Hills","West Midlands"]
[null,null,176,"Manchester","North West"]
[null,null,177,"Mansfield","East Midlands"]
[null,null,178,"Medway","South East"]
[null,null,179,"Melton","East Midlands"]
[null,null,180,"Mendip","South West"]
[null,null,181,"Merton","London"]
[null,null,182,"Mid Devon","South West"]
[null,null,183,"Mid Suffolk","East"]
[null,null,184,"Mid Sussex","South East"]
[null,null,185,"Middlesbrough","North East"]
[null,null,186,"Milton Keynes","South East"]
[null,null,187,"Mole Valley","South East"]
[null,null,188,"New Forest","South East"]
[null,null,189,"Newark and Sherwood","East Midlands"]
[null,null,190,"Newcastle upon Tyne","North East"]
[null,null,191,"Newcastle-under-Lyme","West Midlands"]
[null,null,192,"Newham","London"]
[null,null,193,"Norfolk CC","East"]
[null,null,194,"North Devon","South West"]
[null,null,195,"North Dorset","South West"]
[null,null,196,"North East Derbyshire","East Midlands"]
[null,null,197,"North East Lincolnshire","Yorkshire and the Humber"]
[null,null,198,"North Hertfordshire","East"]
[null,null,199,"North Kesteven","East Midlands"]
[null,null,200,"North Lincolnshire","Yorkshire and the Humber"]
[null,null,201,"North Norfolk","East"]
[null,null,202,"North Somerset","South West"]
[null,null,203,"North Tyneside","North East"]
[null,null,204,"North Warwickshire","West Midlands"]
[null,null,205,"North West Leicestershire","East Midlands"]
[null,null,206,"North Yorkshire CC","Yorkshire and the Humber"]
[null,null,207,"Northampton","East Midlands"]
[null,null,208,"Northamptonshire CC","East Midlands"]
[null,null,209,"Northumberland","North East"]
[null,null,210,"Norwich","East"]
[null,null,211,"Nottingham","East Midlands"]
[null,null,212,"Nottinghamshire CC","East Midlands"]
[null,null,213,"Nuneaton and Bedworth","West Midlands"]
[null,null,214,"Oadby and Wigston","East Midlands"]
[null,null,215,"Oldham","North West"]
[null,null,216,"Oxford","South East"]
[null,null,217,"Oxfordshire CC","South East"]
[null,null,218,"Pendle","North West"]
[null,null,219,"Peterborough","East"]
[null,null,220,"Plymouth","South West"]
[null,null,221,"Poole","South West"]
[null,null,222,"Portsmouth","South East"]
[null,null,223,"Preston","North West"]
[null,null,224,"Purbeck","South West"]
[null,null,225,"Reading","South East"]
[null,null,226,"Redbridge","London"]
[null,null,227,"Redcar and Cleveland","North East"]
[null,null,228,"Redditch","West Midlands"]
[null,null,229,"Reigate and Banstead","South East"]
[null,null,230,"Ribble Valley","North West"]
[null,null,231,"Richmond upon Thames","London"]
[null,null,232,"Richmondshire","Yorkshire and the Humber"]
[null,null,233,"Rochdale","North West"]
[null,null,234,"Rochford","East"]
[null,null,235,"Rossendale","North West"]
[null,null,236,"Rother","South East"]
[null,null,237,"Rotherham","Yorkshire and the Humber"]
[null,null,238,"Rugby","West Midlands"]
[null,null,239,"Runnymede","South East"]
[null,null,240,"Rushcliffe","East Midlands"]
[null,null,241,"Rushmoor","South East"]
[null,null,242,"Rutland","East Midlands"]
[null,null,243,"Ryedale","Yorkshire and the Humber"]
[null,null,244,"Salford","North West"]
[null,null,245,"Sandwell","West Midlands"]
[null,null,246,"Scarborough","Yorkshire and the Humber"]
[null,null,247,"Sedgemoor","South West"]
[null,null,248,"Sefton","North West"]
[null,null,249,"Selby","Yorkshire and the Humber"]
[null,null,250,"Sevenoaks","South East"]
[null,null,251,"Sheffield","Yorkshire and the Humber"]
[null,null,252,"Shepway","South East"]
[null,null,253,"Shropshire","West Midlands"]
[null,null,254,"Slough","South East"]
[null,null,255,"Solihull","West Midlands"]
[null,null,256,"Somerset CC","South West"]
[null,null,257,"South Bucks","South East"]
[null,null,258,"South Cambridgeshire","East"]
[null,null,259,"South Derbyshire","East Midlands"]
[null,null,260,"South Gloucestershire","South West"]
[null,null,261,"South Hams","South West"]
[null,null,262,"South Holland","East Midlands"]
[null,null,263,"South Kesteven","East Midlands"]
[null,null,264,"South Lakeland","North West"]
[null,null,265,"South Norfolk","East"]
[null,null,266,"South Northamptonshire","East Midlands"]
[null,null,267,"South Oxfordshire","South East"]
[null,null,268,"South Ribble","North West"]
[null,null,269,"South Somerset","South West"]
[null,null,270,"South Staffordshire","West Midlands"]
[null,null,271,"South Tyneside","North East"]
[null,null,272,"Southampton","South East"]
[null,null,273,"Southend-on-Sea","East"]
[null,null,274,"Southwark","London"]
[null,null,275,"Spelthorne","South East"]
[null,null,276,"St Albans","East"]
[null,null,277,"St Edmundsbury","East"]
[null,null,278,"St Helens","North West"]
[null,null,279,"Stafford","West Midlands"]
[null,null,280,"Staffordshire CC","West Midlands"]
[null,null,281,"Staffordshire Moorlands","West Midlands"]
[null,null,282,"Stevenage","East"]
[null,null,283,"Stockport","North West"]
[null,null,284,"Stockton-on-Tees","North East"]
[null,null,285,"Stoke-on-Trent","West Midlands"]
[null,null,286,"Stratford-on-Avon","West Midlands"]
[null,null,287,"Stroud","South West"]
[null,null,288,"Suffolk CC","East"]
[null,null,289,"Suffolk Coastal","East"]
[null,null,290,"Sunderland","North East"]
[null,null,291,"Surrey CC","South East"]
[null,null,292,"Surrey Heath","South East"]
[null,null,293,"Sutton","London"]
[null,null,294,"Swale","South East"]
[null,null,295,"Swindon","South West"]
[null,null,296,"Tameside","North West"]
[null,null,297,"Tamworth","West Midlands"]
[null,null,298,"Tandridge","South East"]
[null,null,299,"Taunton Deane","South West"]
[null,null,300,"Teignbridge","South West"]
[null,null,301,"Telford and Wrekin","West Midlands"]
[null,null,302,"Tendring","East"]
[null,null,303,"Test Valley","South East"]
[null,null,304,"Tewkesbury","South West"]
[null,null,305,"Thanet","South East"]
[null,null,306,"Three Rivers","East"]
[null,null,307,"Thurrock","East"]
[null,null,308,"Tonbridge and Malling","South East"]
[null,null,309,"Torbay","South West"]
[null,null,310,"Torridge","South West"]
[null,null,311,"Tower Hamlets","London"]
[null,null,312,"Trafford","North West"]
[null,null,313,"Tunbridge Wells","South East"]
[null,null,314,"Uttlesford","East"]
[null,null,315,"Vale of White Horse","South East"]
[null,null,316,"Wakefield","Yorkshire and the Humber"]
[null,null,317,"Walsall","West Midlands"]
[null,null,318,"Waltham Forest","London"]
[null,null,319,"Wandsworth","London"]
[null,null,320,"Warrington","North West"]
[null,null,321,"Warwick","West Midlands"]
[null,null,322,"Warwickshire CC","West Midlands"]
[null,null,323,"Watford","East"]
[null,null,324,"Waveney","East"]
[null,null,325,"Waverley","South East"]
[null,null,326,"Wealden","South East"]
[null,null,327,"Wellingborough","East Midlands"]
[null,null,null,"Welwyn Hatfield","East"]
[null,null,null,"West Berkshire","South East"]
[null,null,null,"West Devon","South West"]
[null,null,null,"West Dorset","South West"]
[null,null,null,"West Lancashire","North West"]
[null,null,null,"West Lindsey","East Midlands"]
[null,null,null,"West Oxfordshire","South East"]
[null,null,null,"West Somerset","South West"]
[null,null,null,"West Sussex CC","South East"]
[null,null,null,"Westminster","London"]
[null,null,null,"Weymouth and Portland","South West"]
[null,null,null,"Wigan","North West"]
[null,null,null,"Wiltshire","South West"]
[null,null,null,"Winchester","South East"]
[null,null,null,"Windsor and Maidenhead","South East"]
[null,null,null,"Wirral","North West"]
[null,null,null,"Woking","South East"]
[null,null,null,"Wokingham","South East"]
[null,null,null,"Wolverhampton","West Midlands"]
[null,null,null,"Worcester","West Midlands"]
[null,null,null,"Worcestershire CC","West Midlands"]
[null,null,null,"Worthing","South East"]
[null,null,null,"Wychavon","West Midlands"]
[null,null,null,"Wycombe","South East"]
[null,null,null,"Wyre","North West"]
[null,null,null,"Wyre Forest","West Midlands"]
[null,null,null,"York","Yorkshire and the Humber"]
[null,null,null,"Black Country","West Midlands",null,null,"?","East Midlands"]
[null,null,null,"Buckinghamshire Thames Valley","South East"]
[null,null,null,"Cheshire and Warrington","North West"]
[null,null,null,"Coast to Capital","South East",null,null,"?","East Midlands","South East"]
[null,null,null,"Cornwall and Isles of Scilly","South West"]
[null,null,null,"Coventry and Warwickshire","West Midlands"]
[null,null,null,"Cumbria","North West"]
[null,null,null,"Derby, Derbyshire, Nottingham and Nottinghamshire","East Midlands"]
[null,null,null,"Dorset","South West"]
[null,null,null,"Enterprise M3","South East"]
[null,null,null,"Gloucestershire","South West"]
[null,null,null,"Greater Birmingham and Solihull","West Midlands"]
[null,null,null,"Greater Cambridge and Greater Peterborough","East"]
[null,null,null,"Greater Lincolnshire","East Midlands"]
[null,null,null,"Greater Manchester","North West"]
[null,null,null,"Heart of the South West","South West"]
[null,null,null,"Hertfordshire","East"]
[null,null,null,"Humber","Yorkshire and the Humber"]
[null,null,null,"Lancashire","North West"]
[null,null,null,"Leeds City Region","Yorkshire and the Humber"]
[null,null,null,"Leicester and Leicestershire","East Midlands"]
[null,null,null,"Liverpool City Region","North West"]
[null,null,null,"London Enterprise Panel","London"]
[null,null,null,"New Anglia","East"]
[null,null,null,"North Eastern","North East"]
[null,null,null,"Northamptonshire","East Midlands"]
[null,null,null,"Oxfordshire","South East"]
[null,null,null,"Sheffield City Region","Yorkshire and the Humber"]
[null,null,null,"Solent","South East"]
[null,null,null,"South East","South East"]
[null,null,null,"South East Midlands","East"]
[null,null,null,"Stoke-on-Trent and Staffordshire","West Midlands"]
[null,null,null,"Swindon and Wiltshire","South West"]
[null,null,null,"Tees Valley","North East"]
[null,null,null,"Thames Valley Berkshire","South East"]
[null,null,null,"The Marches","West Midlands"]
[null,null,null,"West of England","South West"]
[null,null,null,"Worcestershire","West Midlands"]
[null,null,null,"York North Yorkshire and East Riding","Yorkshire and the Humber"]
[null,null,null,"Active Cumbria","North West"]
[null,null,null,"Active Devon","South West"]
[null,null,null,"Active Dorset","South West"]
[null,null,null,"Active Essex","East"]
[null,null,null,"Active Gloucestershire","South West"]
[null,null,null,"Active Norfolk","East"]
[null,null,null,"Active Surrey ","South East"]
[null,null,null,"Active Sussex","South East"]
[null,null,null,"Birmingham Sport & Physical Activity Partnership","West Midlands"]
[null,null,null,"Black Country Be Active Partnership","West Midlands"]
[null,null,null,"Cornwall Sports Partnership","South West"]
[null,null,null,"County Durham Sport","North East"]
[null,null,null,"Coventry Solihull & Warwickshire Sport","West Midlands"]
[null,null,null,"Derbyshire Sports Partnership","East Midlands"]
[null,null,null,"Energize Shropshire Telford & Wrekin","West Midlands"]
[null,null,null,"Get Berkshire Active","South East"]
[null,null,null,"Greater Sport","North West"]
[null,null,null,"Herts Sports Partnership","East"]
[null,null,null,"Humber Sports Partnership","Yorkshire and the Humber"]
[null,null,null,"Kent Sport","South East"]
[null,null,null,"Lancashire Sport Partnership","North West"]
[null,null,null,"Leap (Bucks & MK Sport and Activity Partnership)","South East"]
[null,null,null,"Leicestershire & Rutland Sport","East Midlands"]
[null,null,null,"Lincolnshire Sports Partnership","East Midlands"]
[null,null,null,"Living Sport","East"]
[null,null,null,"London","London"]
[null,null,null,"Merseyside Sport","North West"]
[null,null,null,"North Yorkshire Sport","Yorkshire and the Humber"]
[null,null,null,"Northamptonshire Sport","East Midlands"]
[null,null,null,"Northumberland Sport","North East"]
[null,null,null,"Oxfordshire Sports Partnership","South East"]
[null,null,null,"Somerset Activity & Sports Partnership","South West"]
[null,null,null,"South Yorkshire Sport","Yorkshire and the Humber"]
[null,null,null,"South & West Yorkshire Sport","Yorkshire and the Humber"]
[null,null,null,"Sport Across Staffordshire & Stoke On Trent","West Midlands"]
[null,null,null,"Sport Cheshire","North West"]
[null,null,null,"Sport Hampshire & Isle of Wight","South East"]
[null,null,null,"Sport Nottinghamshire","East Midlands"]
[null,null,null,"Sports Partnership Herefordshire & Worcestershire","West Midlands"]
[null,null,null,"Suffolk Sport","East"]
[null,null,null,"Teams Beds & Luton","East"]
[null,null,null,"Tees Valley Sport","North East"]
[null,null,null,"Tyne & Wear Sport","North East"]
[null,null,null,"Wesport","South West"]
[null,null,null,"West Yorkshire Sport ","Yorkshire and the Humber"]
[null,null,null,"Wiltshire & Swindon Sport","South West"]

{"sheet":"DETAILED_EMP","index":32,"n_rows":443,"n_cols":21,"rows_kept":443,"cut":false,"hidden":true,"merged":[]}
["local authority: district / unitary","32 : Other manufacturing","3230 : Manufacture of sports goods","47 : Retail trade, except of motor vehicles and motorcycles","4764 : Retail sale of sporting equipment in specialised stores","93 : Sports activities and amusement and recreation activities","9311 : Operation of sports facilities","9312 : Activities of sport clubs","9313 : Fitness facilities","9319 : Other sports activities","93191 : Activities of racehorse owners","93199 : Other sports activities (not including activities of racehorse owners) nec","60200 : Television programming and broadcasting activities","92 : Gambling and betting activities","85510 : Sports and recreation education","85200 : Primary education","85310 : General secondary education","Total School education","Sports Education estimate","931 : Sports activities","77210 : Renting and leasing of recreational and sports goods"]
["Adur",258,0,2671,19,326,200,58,1,4,0,4,1,22,4,927,715,1642,65.680000000000007,263,3]
["Allerdale",61,48,4388,304,525,105,165,5,21,0,21,0,112,3,1333,1176,2509,100.36,296,8]
["Amber Valley",168,22,4133,13,627,343,91,2,68,0,68,0,104,5,3287,1923,5210,208.4,503,3]
["Arun",175,1,6157,12,916,272,251,75,47,24,24,1,189,17,1874,1361,3235,129.4,645,7]
["Ashfield",158,9,3819,22,426,319,73,4,11,0,11,0,114,6,1707,1262,2969,118.76,407,1]
["Ashford",422,40,6197,130,730,291,196,119,21,3,17,0,78,0,2150,1461,3611,144.44,626,14]
["Aylesbury Vale",152,3,6461,132,1323,645,246,126,106,4,101,3,101,8,3595,1913,5508,220.32,1123,19]
["Babergh",222,4,4174,40,614,163,318,36,16,0,16,2,28,22,1824,1305,3129,125.16,534,0]
["Barking and Dagenham",19,0,4248,35,854,258,402,19,3,0,3,0,1305,11,3321,1666,4987,199.48,682,2]
["Barnet",106,18,15716,458,1668,457,372,519,233,2,231,96,437,94,6246,4218,10464,418.56,1580,27]
["Barnsley",133,8,6948,83,1433,522,550,98,93,2,91,2,310,28,3897,1552,5449,217.96,1263,0]
["Barrow-in-Furness",397,31,3197,57,278,55,94,52,15,0,15,0,127,7,968,806,1774,70.959999999999994,216,8]
["Basildon",220,48,9943,217,1041,346,406,176,48,0,48,0,174,14,3192,2060,5252,210.08,977,18]
["Basingstoke and Deane",589,2,7709,198,1322,510,354,245,59,16,43,89,87,144,3653,1763,5416,216.64,1168,99]
["Bassetlaw",150,12,5616,40,611,289,109,68,26,11,15,0,78,4,1967,1108,3075,123,492,0]
["Bath and North East Somerset",167,0,9204,218,973,446,359,54,89,3,86,0,95,82,3080,2836,5916,236.64,949,8]
["Bedford",89,18,6814,212,767,344,176,112,94,0,94,17,157,33,4194,1714,5908,236.32,726,0]
["Bexley",58,0,7864,161,689,345,149,89,12,1,11,1,348,38,3530,2722,6252,250.08,596,10]
["Birmingham",2604,9,41414,940,4794,929,2233,638,437,0,437,136,2388,70,19974,10383,30357,1214.28,4237,11]
["Blaby",54,0,5752,169,907,539,181,112,23,0,23,0,20,4,1199,323,1522,60.88,854,12]
["Blackburn with Darwen",423,10,5286,115,1362,110,1104,37,20,0,20,0,203,4,2988,1515,4503,180.12,1271,0]
["Blackpool",102,0,6556,144,2245,769,47,73,19,0,19,0,879,0,2135,1525,3660,146.4,908,2]
["Bolsover",45,12,2358,287,88,30,23,9,4,1,3,0,46,9,1806,773,2579,103.16,65,0]
["Bolton",402,0,11992,292,1519,156,790,368,16,0,16,1,553,26,3930,3364,7294,291.76,1330,2]
["Boston",17,1,3418,59,237,95,104,27,6,0,6,0,106,16,1162,488,1650,66,232,0]
["Bournemouth",54,3,10032,349,1439,818,516,46,22,0,22,0,479,17,2302,1113,3415,136.6,1403,36]
["Bracknell Forest",9,0,5647,144,1126,300,381,161,45,12,33,6,90,23,2196,1303,3499,139.96,887,1]
["Bradford",314,12,17971,382,2469,769,998,200,192,19,173,12,810,154,10929,5289,16218,648.72,2159,3]
["Braintree",116,9,5214,131,864,240,291,112,21,1,20,4,60,1,2870,1579,4449,177.96,664,135]
["Breckland",247,11,5106,48,496,254,93,0,108,4,104,0,159,22,2145,892,3037,121.48,455,24]
["Brent",27,0,10821,197,1487,451,760,82,24,0,24,265,461,24,4885,2073,6958,278.32,1318,51]
["Brentwood",30,1,2550,55,609,188,192,136,17,1,16,4,40,16,1528,1682,3210,128.4,533,18]
["Brighton and Hove",243,0,14420,341,3339,738,1309,392,65,0,65,1,729,41,4847,2246,7093,283.72000000000003,2504,18]
["Bristol",414,12,19878,627,2521,1429,459,283,218,1,217,8,597,119,6783,4136,10919,436.76,2390,34]
["Broadland",56,7,4311,37,655,121,129,149,4,0,4,2,14,35,1662,1169,2831,113.24,403,152]
["Bromley",27,4,12948,363,2497,920,817,468,97,0,97,9,228,81,4670,2757,7427,297.08,2301,41]
["Bromsgrove",57,8,2458,27,849,294,168,102,169,3,166,0,37,15,1642,1869,3511,140.44,733,0]
["Broxbourne",76,2,7364,68,371,256,61,2,11,0,11,0,108,4,1454,842,2296,91.84,329,6]
["Broxtowe",41,0,4395,147,506,292,85,15,30,0,30,0,135,20,1627,891,2518,100.72,423,1]
["Burnley",163,60,3831,128,812,144,65,17,404,0,404,0,125,4,1226,623,1849,73.959999999999994,630,0]
["Bury",296,6,8004,437,776,226,387,67,51,0,51,0,173,9,3347,2317,5664,226.56,731,1]
["Calderdale",290,8,6641,169,1172,615,223,56,51,0,51,0,186,95,4050,2644,6694,267.76,944,1]
["Cambridge",44,4,8854,355,510,42,166,188,33,8,25,0,100,43,1745,2782,4527,181.08,430,140]
["Camden",317,0,16863,451,2007,540,269,444,503,5,498,1790,945,119,3146,1639,4785,191.4,1756,63]
["Cannock Chase",105,16,4612,26,249,60,68,64,8,0,8,0,85,21,1168,873,2041,81.64,200,0]
["Canterbury",53,4,7996,172,893,478,182,47,10,0,10,0,148,88,2742,1615,4357,174.28,716,7]
["Carlisle",75,0,6437,172,616,103,365,84,14,0,14,0,152,21,1786,1217,3003,120.12,566,0]
["Castle Point",82,2,2897,80,366,111,35,182,6,0,6,0,82,1,2475,1215,3690,147.6,333,9]
["Central Bedfordshire",248,0,9240,72,1575,707,222,193,60,3,57,13,137,73,3897,2898,6795,271.8,1181,6]
["Charnwood",120,23,5988,180,1474,550,316,65,385,2,383,0,194,61,2993,1377,4370,174.8,1316,9]
["Chelmsford",80,3,8699,316,1141,297,364,243,31,0,31,34,76,30,4139,3213,7352,294.08,935,30]
["Cheltenham",123,3,8053,161,770,402,297,33,36,1,35,0,77,10,1761,1976,3737,149.47999999999999,767,5]
["Cherwell",90,0,8968,236,1348,448,171,83,513,6,506,1,119,64,2036,1534,3570,142.80000000000001,1215,9]
["Cheshire East",577,40,16938,338,2811,930,1115,319,95,4,91,2,246,125,5593,2869,8462,338.48,2459,24]
["Cheshire West and Chester",489,254,18342,634,3452,1809,389,204,691,5,686,0,362,54,5630,3573,9203,368.12,3092,6]
["Chesterfield",314,51,5299,121,570,264,215,45,19,0,19,0,159,34,2437,1437,3874,154.96,544,60]
["Chichester",321,0,6453,118,1650,729,270,233,77,6,70,2,47,1,2125,1247,3372,134.88,1309,5]
["Chiltern",50,0,3231,36,625,353,127,63,15,0,15,184,36,4,2218,1320,3538,141.52000000000001,558,4]
["Chorley",340,15,3538,215,730,230,170,110,16,1,15,0,65,35,1465,920,2385,95.4,525,0]
["Christchurch",131,11,2322,19,328,177,55,3,44,0,44,0,22,5,568,508,1076,43.04,278,74]
["City of London",17,0,5542,201,964,161,26,688,22,2,20,1,602,1,110,356,466,18.64,897,99]
["Colchester",129,17,9378,204,1380,371,700,73,36,0,36,11,126,53,3355,2202,5557,222.28,1180,21]
["Copeland",30,9,2013,27,356,153,26,1,63,0,63,0,91,4,1177,701,1878,75.12,242,0]
["Corby",94,32,3406,79,257,149,69,0,29,0,29,0,129,0,1181,874,2055,82.2,247,0]
["Cornwall",573,102,25974,683,3011,568,1699,45,192,0,192,0,264,82,7914,5313,13227,529.08000000000004,2504,94]
["Cotswold",548,1,4137,129,1019,221,206,409,154,13,141,2,12,32,1437,1520,2957,118.28,990,7]
["County Durham",34,2,16756,233,2604,1022,1047,142,205,9,196,0,639,80,7205,3949,11154,446.16,2416,6]
["Coventry",275,5,14445,289,1223,394,438,101,223,0,223,1,554,24,5411,3959,9370,374.8,1157,2]
["Craven",55,1,2259,98,589,196,48,1,7,0,7,3,13,3,1029,1049,2078,83.12,252,0]
["Crawley",130,0,7548,456,937,367,205,106,8,0,8,1,157,23,1764,1012,2776,111.04,686,2]
["Croydon",46,0,14274,412,1280,324,617,208,31,0,31,4,402,38,4869,3917,8786,351.44,1180,41]
["Dacorum",368,218,6463,133,1539,672,398,313,35,4,31,17,108,3,2767,1738,4505,180.2,1418,45]
["Darlington",25,0,5030,87,530,189,226,75,25,2,23,0,169,0,1245,841,2086,83.44,515,0]
["Dartford",40,7,10349,146,467,160,147,79,33,0,33,0,106,37,1565,1235,2800,112,420,11]
["Daventry",29,1,3318,88,648,124,312,2,108,4,103,1,17,14,1687,753,2440,97.6,546,4]
["Derby",439,0,11581,285,2062,522,1166,308,15,0,15,0,299,157,4676,2746,7422,296.88,2011,23]
["Derbyshire Dales",129,37,2949,129,468,141,107,2,54,0,54,0,34,11,1996,758,2754,110.16,303,25]
["Doncaster",158,12,12259,248,2727,1395,545,253,65,17,48,2,375,444,5295,3214,8509,340.36,2257,0]
["Dover",31,3,3201,49,551,297,186,5,45,0,45,0,94,25,1853,1459,3312,132.47999999999999,534,9]
["Dudley",366,11,13415,208,978,508,221,97,39,0,39,0,360,7,5514,2772,8286,331.44,865,2]
["Ealing",77,3,12768,249,1076,305,252,386,55,0,55,433,419,53,5085,2660,7745,309.8,998,109]
["East Cambridgeshire",42,1,2380,67,530,271,49,20,110,57,53,2,21,29,939,868,1807,72.28,450,35]
["East Devon",262,0,5888,168,735,104,423,5,40,0,40,1,79,77,1832,1179,3011,120.44,571,30]
["East Dorset",102,1,3267,36,648,280,221,83,14,0,14,0,16,16,1770,415,2185,87.4,599,3]
["East Hampshire",113,3,4314,48,671,390,74,23,43,0,43,1,41,45,2301,1103,3404,136.16,530,3]
["East Hertfordshire",79,0,5239,95,943,450,219,126,45,3,42,2,74,42,3235,1962,5197,207.88,841,9]
["East Lindsey",132,6,4868,66,739,233,176,9,73,1,72,0,366,22,2162,1421,3583,143.32,491,92]
["East Northamptonshire",29,0,2231,25,316,194,64,0,55,3,52,0,60,9,1696,801,2497,99.88,313,8]
["East Riding of Yorkshire",104,2,11267,192,1759,928,377,75,63,17,47,0,278,85,5839,3849,9688,387.52,1444,4]
["East Staffordshire",40,0,4895,168,1776,606,661,71,311,0,311,0,127,12,1899,1273,3172,126.88,1648,0]
["Eastbourne",231,3,5854,145,864,206,140,252,15,0,15,0,88,7,1685,1063,2748,109.92,613,3]
["Eastleigh",1867,0,7274,140,1177,231,384,116,134,0,134,1,72,28,1999,1623,3622,144.88,864,18]
["Eden",43,0,1900,132,273,127,26,7,55,4,51,1,21,10,1069,424,1493,59.72,215,5]
["Elmbridge",62,1,5677,95,1942,514,724,412,131,5,125,7,59,113,2771,1157,3928,157.12,1781,38]
["Enfield",44,0,11408,259,1107,795,60,160,49,0,49,8,486,24,6444,2872,9316,372.64,1065,104]
["Epping Forest",76,3,4168,58,1355,460,401,245,57,8,49,0,87,10,2637,1268,3905,156.19999999999999,1163,24]
["Epsom and Ewell",3,0,3028,75,1204,273,439,182,63,0,63,3,62,27,1673,1159,2832,113.28,957,0]
["Erewash",165,1,3612,50,482,259,58,12,87,0,87,0,107,12,3017,1267,4284,171.36,416,0]
["Exeter",182,14,8813,307,1054,319,537,79,114,0,114,0,106,1,1930,991,2921,116.84,1049,0]
["Fareham",213,0,5272,133,557,263,156,17,17,0,17,0,45,7,2200,833,3033,121.32,454,17]
["Fenland",42,23,3096,28,280,190,48,4,11,0,11,0,63,1,1912,581,2493,99.72,253,48]
["Forest Heath",57,5,2393,21,1176,279,238,2,574,141,433,0,83,410,854,329,1183,47.32,1093,15]
["Forest of Dean",82,0,1810,41,316,164,68,6,51,2,49,0,20,37,1330,882,2212,88.48,289,3]
["Fylde",42,1,2853,74,433,80,116,11,12,0,12,1,36,7,938,822,1760,70.400000000000006,218,2]
["Gateshead",13,1,11398,310,939,263,485,51,59,0,59,0,361,0,2498,1259,3757,150.28,857,2]
["Gedling",97,0,3573,25,354,195,63,68,9,0,9,0,104,6,1746,1257,3003,120.12,334,0]
["Gloucester",613,18,6777,268,514,8,285,162,52,0,52,0,142,2,1943,1505,3448,137.91999999999999,507,8]
["Gosport",54,0,2469,10,480,105,159,2,50,0,50,2,80,5,1370,927,2297,91.88,315,0]
["Gravesham",167,0,3652,56,610,248,176,28,117,0,117,0,68,0,1970,857,2827,113.08,569,1]
["Great Yarmouth",14,0,5006,119,703,342,125,0,36,0,36,2,460,4,1495,1101,2596,103.84,503,96]
["Greenwich",33,1,7817,229,1543,461,760,88,19,0,19,9,297,18,4973,2368,7341,293.64,1328,7]
["Guildford",64,14,7488,212,2146,799,536,127,201,2,199,1,212,19,2843,1855,4698,187.92,1664,10]
["Hackney",69,0,6403,93,800,455,81,34,31,0,31,257,379,12,1728,1919,3647,145.88,600,154]
["Halton",335,0,4833,48,777,411,104,33,30,0,30,0,232,2,1696,1229,2925,117,579,31]
["Hambleton",24,0,3182,42,758,433,84,0,100,2,98,0,57,57,1651,927,2578,103.12,617,2]
["Hammersmith and Fulham",145,5,15423,436,3732,1491,888,996,190,0,190,3562,900,27,2802,1322,4124,164.96,3564,60]
["Harborough",93,2,2847,15,505,208,108,79,39,2,37,0,25,26,1468,776,2244,89.76,434,22]
["Haringey",32,0,8965,339,1489,1063,100,150,23,0,23,27,775,35,3461,2062,5523,220.92,1336,7]
["Harlow",169,0,4631,240,525,336,21,103,13,0,13,0,196,46,1366,1605,2971,118.84,473,3]
["Harrogate",152,1,7923,163,1477,314,318,188,56,7,49,2,77,36,3050,2071,5121,204.84,876,0]
["Harrow",11,0,7526,170,574,249,163,20,15,0,15,18,1412,27,3816,2338,6154,246.16,446,7]
["Hart",30,0,2611,32,708,363,214,6,27,3,24,1,29,46,1635,965,2600,104,610,0]
["Hartlepool",2,0,3682,59,729,292,342,0,81,0,81,0,226,13,1713,1167,2880,115.2,715,0]
["Hastings",170,1,3959,80,564,185,123,88,8,0,8,1,141,21,1268,321,1589,63.56,404,4]
["Havant",377,10,5289,139,739,323,210,8,22,0,22,0,103,0,2286,1308,3594,143.76,562,0]
["Havering",109,1,10143,196,1145,608,194,188,29,4,25,1,311,24,4006,2529,6535,261.39999999999998,1019,24]
["Herefordshire",291,2,8274,131,1515,625,526,15,127,23,103,1,114,39,2933,1987,4920,196.8,1293,29]
["Hertsmere",159,0,3898,196,1092,101,539,169,45,2,44,48,100,63,1788,1639,3427,137.08000000000001,855,12]
["High Peak",103,0,3060,63,394,196,107,20,21,3,18,0,44,44,2125,1336,3461,138.44,345,11]
["Hillingdon",44,0,12612,364,1245,546,194,359,37,1,36,276,417,0,4772,2715,7487,299.48,1135,12]
["Hinckley and Bosworth",96,14,3288,22,611,405,93,5,62,2,60,0,55,1,1636,1220,2856,114.24,566,8]
["Horsham",206,5,5705,131,1206,687,208,73,87,0,87,0,48,35,2437,2065,4502,180.08,1055,2]
["Hounslow",40,0,10456,399,2363,385,818,487,116,0,116,12877,326,128,3834,1818,5652,226.08,1805,0]
["Huntingdonshire",376,279,6150,93,997,648,206,21,28,0,28,2,57,6,2231,1734,3965,158.6,903,267]
["Hyndburn",121,0,3990,30,233,18,208,4,2,0,2,1,69,0,1418,901,2319,92.76,231,0]
["Ipswich",32,7,7130,232,952,485,243,134,11,0,11,0,211,4,3247,1673,4920,196.8,872,5]
["Isle of Wight",342,28,6667,91,1424,332,405,14,15,0,15,0,149,57,2191,1204,3395,135.80000000000001,767,10]
["Isles of Scilly",3,0,87,0,26,18,3,0,4,0,4,0,0,1,49,73,122,4.88,25,1]
["Islington",42,0,8831,268,1496,512,367,312,67,3,64,103,1127,60,2504,1597,4101,164.04,1258,75]
["Kensington and Chelsea",20,0,21627,221,921,201,66,452,71,21,50,54,704,15,2713,926,3639,145.56,790,36]
["Kettering",173,105,4048,69,446,82,89,26,5,0,5,0,135,12,1275,1286,2561,102.44,203,0]
["King`s Lynn and West Norfolk",87,8,6636,101,475,247,107,39,21,0,21,2,132,33,2176,1165,3341,133.63999999999999,414,57]
["Kingston upon Hull",243,0,12196,302,1704,532,550,156,99,0,99,0,724,70,4586,1987,6573,262.92,1337,1]
["Kingston upon Thames",121,1,10108,282,2701,520,773,245,66,0,66,9,226,63,2956,1635,4591,183.64,1604,14]
["Kirklees",424,150,15642,406,2539,1161,877,108,74,10,65,45,505,83,7925,4607,12532,501.28,2221,2]
["Knowsley",193,0,4961,57,686,134,160,67,15,0,15,0,305,17,2075,925,3000,120,376,0]
["Lambeth",40,0,8041,172,1234,412,126,107,49,0,49,52,554,34,4374,1733,6107,244.28,695,26]
["Lancaster",205,0,5331,144,728,173,258,73,19,0,19,0,204,1,2253,1301,3554,142.16,523,6]
["Leeds",1130,20,31005,691,5879,732,2205,493,915,8,907,53,3692,264,14443,7327,21770,870.8,4345,1]
["Leicester",400,22,13240,197,1657,579,796,129,31,1,30,0,893,74,6070,3052,9122,364.88,1535,3]
["Lewes",60,0,3585,25,470,123,158,5,17,0,17,2,37,4,1640,941,2581,103.24,303,8]
["Lewisham",19,1,7076,116,778,424,97,143,20,0,20,12,407,36,3781,2103,5884,235.36,683,0]
["Lichfield",46,0,4314,38,1351,330,292,131,94,21,73,2,156,15,1450,979,2429,97.16,847,10]
["Lincoln",34,0,7182,141,691,207,317,120,37,0,37,0,122,5,1500,1163,2663,106.52,681,21]
["Liverpool",479,57,24169,715,2647,554,1181,185,83,0,83,1,1828,35,7404,4094,11498,459.92,2002,7]
["Luton",176,0,6312,205,977,299,498,122,10,0,10,7,510,10,4345,1989,6334,253.36,928,0]
["Maidstone",198,18,6590,196,719,52,232,156,69,6,62,33,100,43,2477,1541,4018,160.72,509,21]
["Maldon",215,78,2166,19,402,20,229,33,53,0,53,2,14,34,961,674,1635,65.400000000000006,335,21]
["Malvern Hills",78,5,2421,24,515,278,66,15,66,6,61,0,16,11,1201,1382,2583,103.32,426,0]
["Manchester",362,9,28744,833,2863,844,669,435,380,0,380,80,1473,49,7877,5190,13067,522.67999999999995,2328,15]
["Mansfield",249,16,5100,68,718,286,252,134,22,3,19,0,141,0,1688,1048,2736,109.44,693,10]
["Medway",140,8,9714,227,1698,585,676,164,52,0,52,1,259,1,4875,2842,7717,308.68,1476,5]
["Melton",74,28,1707,8,418,107,133,0,24,12,12,0,23,2,670,566,1236,49.44,263,0]
["Mendip",297,13,6097,166,755,318,317,62,39,0,39,0,33,22,3458,1229,4687,187.48,736,47]
["Merton",40,0,8312,300,1378,404,390,442,91,1,90,133,196,4,3828,1877,5705,228.2,1327,13]
["Mid Devon",75,0,2603,53,508,190,113,25,84,53,31,0,28,20,1020,1017,2037,81.48,411,13]
["Mid Suffolk",117,0,2247,30,463,295,58,30,58,0,58,4,18,9,1697,957,2654,106.16,441,27]
["Mid Sussex",60,6,5724,43,1118,605,144,103,26,0,26,2,51,37,2693,2194,4887,195.48,877,3]
["Middlesbrough",9,0,5750,166,1153,97,953,42,5,0,5,0,419,7,2213,2084,4297,171.88,1096,0]
["Milton Keynes",209,1,15109,462,2874,807,1037,325,122,2,120,11,489,4,5386,2805,8191,327.64,2290,0]
["Mole Valley",101,5,3193,32,495,92,189,47,58,13,45,1,29,24,1696,1082,2778,111.12,386,22]
["New Forest",254,3,6623,80,1986,1032,432,80,65,0,65,2,120,44,3445,1615,5060,202.4,1608,46]
["Newark and Sherwood",72,0,5028,51,778,282,405,13,47,9,39,0,61,48,1819,897,2716,108.64,747,15]
["Newcastle upon Tyne",205,2,16405,315,3782,1156,1756,440,246,0,246,1,910,57,4903,1954,6857,274.27999999999997,3598,3]
["Newcastle-under-Lyme",229,2,6113,90,540,122,296,18,21,1,19,0,89,5,1459,1106,2565,102.6,457,0]
["Newham",22,1,14880,592,759,20,598,81,16,0,16,16,1184,6,5230,2923,8153,326.12,714,2]
["North Devon",70,6,5136,197,428,159,167,1,35,0,35,0,52,14,1801,904,2705,108.2,363,7]
["North Dorset",218,3,2523,24,255,148,70,12,16,3,14,1,19,14,1916,1397,3313,132.52000000000001,246,33]
["North East Derbyshire",41,1,1878,11,428,199,87,3,17,0,17,0,35,11,2242,936,3178,127.12,306,1]
["North East Lincolnshire",38,1,7148,142,1290,318,219,147,25,0,25,0,277,43,2697,1721,4418,176.72,709,2]
["North Hertfordshire",464,2,5600,33,573,191,149,52,104,6,98,2,76,79,2398,1043,3441,137.63999999999999,496,54]
["North Kesteven",101,2,3211,32,182,25,46,52,19,0,19,0,24,1,1886,1084,2970,118.8,142,3]
["North Lincolnshire",65,1,6032,202,750,208,298,17,12,2,10,0,162,24,2762,1734,4496,179.84,535,0]
["North Norfolk",34,6,4756,24,823,258,135,8,34,0,34,0,76,7,1360,1124,2484,99.36,435,63]
["North Somerset",184,1,8578,184,1182,668,219,134,63,0,63,1,280,12,2905,1863,4768,190.72,1084,21]
["North Tyneside",7,0,7884,211,1004,437,358,98,59,2,56,0,297,5,1669,582,2251,90.04,952,0]
["North Warwickshire",27,0,1625,17,633,233,316,5,50,0,50,1,22,2,855,770,1625,65,604,0]
["North West Leicestershire",118,2,3227,29,751,406,52,166,60,0,60,0,60,7,1624,806,2430,97.2,684,120]
["Northampton",287,3,9658,293,1503,381,637,281,46,0,46,0,708,2,3213,1700,4913,196.52,1344,0]
["Northumberland",458,1,11093,183,2879,1215,1219,104,292,9,283,0,333,39,3670,3071,6741,269.64,2829,4]
["Norwich",120,0,11221,531,1606,101,1222,55,102,0,102,67,194,0,2153,1158,3311,132.44,1479,9]
["Nottingham",1155,2,21570,317,1744,707,657,256,45,2,43,0,1314,75,4357,2890,7247,289.88,1665,9]
["Nuneaton and Bedworth",26,0,5032,94,595,172,240,65,50,0,50,0,169,2,2236,890,3126,125.04,526,1]
["Oadby and Wigston",27,3,2274,4,343,145,178,10,8,2,5,0,35,6,1037,388,1425,57,340,7]
["Oldham",390,38,9145,170,763,51,463,29,137,0,137,0,248,6,4145,2598,6743,269.72000000000003,680,1]
["Oxford",98,31,7924,312,827,318,271,178,12,0,12,1,131,4,2692,2219,4911,196.44,779,7]
["Pendle",172,96,3107,12,334,221,51,5,23,0,23,1,51,0,1349,634,1983,79.319999999999993,300,18]
["Peterborough",105,5,12106,264,1243,301,401,157,263,6,257,4,198,15,2701,2073,4774,190.96,1122,145]
["Plymouth",781,6,12095,415,1476,567,504,239,47,0,47,0,434,49,4423,2739,7162,286.48,1357,16]
["Poole",128,1,8164,217,1227,498,454,164,63,15,47,1,111,22,1854,1909,3763,150.52000000000001,1178,3]
["Portsmouth",90,1,10719,257,1717,288,646,156,248,0,248,1,537,50,3555,1526,5081,203.24,1338,4]
["Preston",57,6,7373,272,1136,159,655,63,7,0,7,0,218,13,2448,1225,3673,146.91999999999999,884,2]
["Purbeck",42,0,1145,17,355,21,195,68,42,0,42,0,16,7,627,357,984,39.36,325,0]
["Reading",59,2,12283,279,1126,264,710,32,13,2,11,2,524,90,2858,1362,4220,168.8,1019,22]
["Redbridge",10,0,8298,259,857,518,122,121,8,0,8,5,327,78,4761,3110,7871,314.83999999999997,769,0]
["Redcar and Cleveland",3,0,5170,39,919,427,347,18,118,0,118,0,203,12,1908,1106,3014,120.56,909,2]
["Redditch",339,3,4227,68,217,139,54,10,8,0,8,1,47,1,1399,317,1716,68.64,211,47]
["Reigate and Banstead",221,4,4885,64,960,322,307,28,53,0,53,1,70,64,2511,1278,3789,151.56,710,0]
["Ribble Valley",36,0,1753,20,286,129,75,10,18,0,18,0,12,11,1182,750,1932,77.28,232,0]
["Richmond upon Thames",23,1,6908,157,1569,482,345,437,144,3,141,46,117,80,3668,1810,5478,219.12,1407,0]
["Richmondshire",19,0,1371,23,697,19,230,83,74,7,67,10,40,86,912,472,1384,55.36,407,3]
["Rochdale",259,63,5786,214,849,352,227,124,13,0,13,0,260,4,4035,1950,5985,239.4,716,3]
["Rochford",145,64,2244,166,545,41,101,256,19,0,19,0,37,6,1418,933,2351,94.04,417,6]
["Rossendale",397,12,2011,72,412,106,44,245,9,0,9,0,39,0,1165,706,1871,74.84,404,0]
["Rother",53,6,2749,26,442,221,151,4,18,1,17,6,46,12,1378,1346,2724,108.96,395,8]
["Rotherham",104,11,9327,385,1553,366,386,75,30,0,30,2,299,36,4186,2527,6713,268.52,858,0]
["Rugby",50,19,3691,87,827,276,250,130,44,0,44,0,64,28,1825,1629,3454,138.16,700,0]
["Runnymede",69,43,2571,51,1964,30,737,36,231,9,223,1,139,7,1828,855,2683,107.32,1033,2]
["Rushcliffe",77,13,3005,40,1617,408,859,130,176,1,175,0,41,15,1768,1582,3350,134,1574,34]
["Rushmoor",90,31,4320,105,587,293,87,91,51,0,51,0,104,12,1638,542,2180,87.2,522,2]
["Rutland",8,2,1506,80,192,38,132,2,12,0,12,0,4,11,713,1367,2080,83.2,184,0]
["Ryedale",28,11,1637,28,975,85,220,4,191,16,176,0,19,65,842,1131,1973,78.92,500,1]
["Salford",158,7,7840,193,833,381,207,73,97,0,97,2487,507,3,4277,2498,6775,271,758,9]
["Sandwell",362,6,11312,157,1085,461,403,40,34,0,34,2,550,54,4761,2744,7505,300.2,939,1]
["Scarborough",15,1,5123,91,1069,194,202,92,20,0,20,2,277,0,2014,1216,3230,129.19999999999999,508,0]
["Sedgemoor",125,0,4599,175,433,244,55,1,24,0,24,0,99,27,2060,1005,3065,122.6,324,11]
["Sefton",412,3,11717,222,1165,422,368,97,62,0,62,0,524,23,5697,1396,7093,283.72000000000003,948,2]
["Selby",104,82,2002,58,273,157,38,18,6,0,6,0,45,25,1451,1234,2685,107.4,219,0]
["Sevenoaks",181,16,4591,51,1131,349,386,19,332,0,332,0,40,40,2129,1519,3648,145.91999999999999,1086,8]
["Sheffield",1638,35,24799,1006,3743,1287,1215,390,181,0,181,216,1055,112,8213,4168,12381,495.24,3072,1]
["Shepway",78,1,4131,61,632,106,345,35,2,0,2,0,108,11,1948,955,2903,116.12,487,0]
["Shropshire",384,13,12044,214,2627,705,596,71,684,12,671,1,146,89,4911,3951,8862,354.48,2055,9]
["Slough",115,0,6550,183,563,364,78,52,12,0,12,1,185,3,2454,1414,3868,154.72,506,9]
["Solihull",31,6,10045,186,1390,279,389,355,198,3,195,2,170,41,4192,2590,6782,271.27999999999997,1221,0]
["South Bucks",25,1,2981,7,561,249,106,72,30,1,28,1,38,85,1138,719,1857,74.28,457,11]
["South Cambridgeshire",227,6,3804,72,339,108,102,1,30,8,22,2,28,18,1232,1580,2812,112.48,240,24]
["South Derbyshire",31,0,1928,2,384,177,97,15,27,0,27,0,44,27,3051,955,4006,160.24,315,1]
["South Gloucestershire",496,6,14528,360,1426,774,338,141,112,3,109,1,109,62,4005,2498,6503,260.12,1364,126]
["South Hams",214,4,3981,105,563,258,242,13,30,0,30,1,12,20,969,968,1937,77.48,543,18]
["South Holland",31,0,3133,69,95,19,33,0,4,0,4,0,72,7,1251,733,1984,79.36,56,3]
["South Kesteven",74,0,5807,78,590,118,173,37,60,10,51,0,93,4,2320,1801,4121,164.84,387,2]
["South Lakeland",308,176,5980,388,748,280,175,4,47,0,47,0,49,33,1678,1419,3097,123.88,505,7]
["South Norfolk",154,4,4030,33,596,143,324,58,26,0,26,32,46,44,1996,1231,3227,129.08000000000001,550,24]
["South Northamptonshire",90,1,1628,9,1952,240,1220,93,125,8,117,0,25,49,2161,1357,3518,140.72,1678,58]
["South Oxfordshire",217,2,5869,76,1171,480,387,42,189,5,183,2,72,13,2344,1379,3723,148.91999999999999,1098,15]
["South Ribble",132,0,4137,27,693,215,33,222,97,0,97,0,68,25,1440,1018,2458,98.32,566,0]
["South Somerset",155,0,6566,59,907,301,479,55,60,10,50,0,58,25,3015,1685,4700,188,895,5]
["South Staffordshire",55,13,2553,32,701,226,360,8,34,7,28,0,27,63,1112,1160,2272,90.88,629,0]
["South Tyneside",5,0,4422,51,762,345,158,16,2,2,0,0,402,12,1734,984,2718,108.72,520,0]
["Southampton",279,17,11738,355,1298,391,564,142,67,0,67,1,466,13,3173,2260,5433,217.32,1164,0]
["Southend-on-Sea",552,76,7567,143,1170,382,330,141,14,0,14,4,574,8,3365,2128,5493,219.72,867,6]
["Southwark",36,0,9525,412,1090,422,155,93,135,0,135,35,574,10,4932,2326,7258,290.32,804,79]
["Spelthorne",54,0,4099,108,826,291,242,216,48,5,42,2,88,45,1365,958,2323,92.92,797,2]
["St Albans",46,2,7348,86,1130,489,287,197,38,15,22,15,196,27,2735,2073,4808,192.32,1011,33]
["St Edmundsbury",96,6,5886,117,744,244,134,48,45,6,40,2,186,11,2315,1104,3419,136.76,471,3]
["St Helens",185,3,6669,65,1218,242,774,34,33,0,33,0,272,4,2885,1498,4383,175.32,1083,27]
["Stafford",107,20,5323,91,800,124,258,86,18,0,18,52,109,36,1520,1132,2652,106.08,485,0]
["Staffordshire Moorlands",24,0,2497,7,2806,188,114,14,26,0,26,0,205,15,1147,1253,2400,96,341,3]
["Stevenage",27,0,4948,94,528,248,103,49,58,0,58,9,342,3,1506,802,2308,92.32,458,9]
["Stockport",355,7,12488,354,1502,165,429,167,190,0,190,6,458,16,4240,3455,7695,307.8,950,10]
["Stockton-on-Tees",153,0,8315,185,1044,93,366,170,336,2,334,0,398,22,3700,1605,5305,212.2,965,0]
["Stoke-on-Trent",153,27,11966,294,1474,472,351,128,69,0,69,0,2742,3,3452,2193,5645,225.8,1020,1]
["Stratford-on-Avon",247,28,5376,96,1077,423,301,90,95,6,90,3,36,31,2191,1230,3421,136.84,909,25]
["Stroud",253,11,4009,85,618,268,197,13,32,0,32,2,25,20,2271,841,3112,124.48,509,104]
["Suffolk Coastal",32,8,5431,54,893,281,374,14,42,3,39,4,75,42,2255,1745,4000,160,711,42]
["Sunderland",122,2,10493,200,1467,399,749,130,117,0,117,0,835,15,3897,2300,6197,247.88,1394,1]
["Surrey Heath",68,0,4070,84,865,287,374,20,39,2,37,1,61,72,1433,697,2130,85.2,720,0]
["Sutton",17,1,6827,143,939,436,180,237,72,0,72,4,185,13,3050,1932,4982,199.28,924,10]
["Swale",126,71,4869,24,651,338,136,144,27,0,27,0,152,5,1797,1667,3464,138.56,645,1]
["Swindon",411,21,11001,249,1392,560,265,204,104,1,103,0,182,32,3615,1841,5456,218.24,1133,0]
["Tameside",340,27,7688,169,746,239,186,75,46,0,46,0,354,8,3496,1956,5452,218.08,546,0]
["Tamworth",78,0,3988,153,305,176,61,50,11,0,11,0,130,48,931,513,1444,57.76,297,0]
["Tandridge",54,4,2889,49,1282,543,346,14,89,4,85,0,32,36,1993,945,2938,117.52,992,6]
["Taunton Deane",406,6,6723,173,865,451,283,50,76,1,75,0,80,14,2081,1965,4046,161.84,860,36]
["Teignbridge",357,21,6289,125,714,421,189,10,46,6,41,0,77,4,1666,1352,3018,120.72,666,3]
["Telford and Wrekin",104,0,7186,127,899,432,186,84,23,0,23,0,170,1,2905,2132,5037,201.48,725,1]
["Tendring",63,2,4959,99,497,142,128,2,2,0,2,0,215,12,2838,1733,4571,182.84,273,12]
["Test Valley",369,1,5471,84,859,79,109,26,131,0,131,1,63,223,2647,896,3543,141.72,345,2]
["Tewkesbury",135,4,2525,3,340,78,113,118,24,6,18,1,30,9,1113,1071,2184,87.36,333,19]
["Thanet",119,0,5978,138,581,232,82,79,17,1,16,0,349,15,2726,1835,4561,182.44,410,0]
["Three Rivers",133,10,2458,26,361,159,104,66,11,0,11,13,642,142,1765,856,2621,104.84,340,0]
["Thurrock",26,0,12294,485,568,120,319,79,2,0,2,16,128,13,2793,1678,4471,178.84,520,0]
["Tonbridge and Malling",72,1,7390,44,1078,525,325,84,58,8,50,2,50,33,2224,1793,4017,160.68,992,1]
["Torbay",121,7,6221,149,555,257,234,11,3,0,3,0,266,6,1699,1398,3097,123.88,505,4]
["Torridge",68,11,2219,34,231,100,93,6,5,0,5,0,27,14,1101,628,1729,69.16,204,9]
["Tower Hamlets",53,0,8152,205,1377,626,202,316,60,0,60,333,384,16,4653,2839,7492,299.68,1203,87]
["Trafford",440,3,15520,472,2417,674,1040,176,362,0,362,29,247,43,3546,2482,6028,241.12,2252,2]
["Tunbridge Wells",71,1,6845,152,543,182,82,103,49,0,49,119,35,15,2324,1303,3627,145.08000000000001,415,15]
["Uttlesford",101,0,2776,35,399,259,43,10,31,0,31,6,31,31,2697,1364,4061,162.44,343,9]
["Vale of White Horse",338,1,3991,58,853,379,190,6,138,23,115,0,69,58,2116,1643,3759,150.36000000000001,713,0]
["Wakefield",143,78,12610,284,1933,551,556,206,88,1,87,3,471,26,6166,4025,10191,407.64,1401,3]
["Walsall",414,21,11334,127,1191,217,692,80,106,0,106,1,981,18,4403,2686,7089,283.56,1094,1]
["Waltham Forest",82,0,7607,294,830,375,306,104,21,0,21,15,325,59,4389,3116,7505,300.2,805,41]
["Wandsworth",74,0,11654,267,1990,587,410,383,390,0,390,143,397,44,4833,1341,6174,246.96,1771,126]
["Warrington",215,63,10736,415,1796,154,408,97,580,2,578,1,745,6,3017,2094,5111,204.44,1239,2]
["Warwick",193,2,6386,91,1257,119,374,111,131,3,128,1,139,52,2303,1244,3547,141.88,734,1]
["Watford",132,30,8281,206,836,327,406,12,6,1,5,4,171,10,1328,673,2001,80.040000000000006,751,51]
["Waveney",290,116,5433,60,400,218,93,28,7,0,7,0,259,29,1979,1075,3054,122.16,346,60]
["Waverley",162,4,5574,80,1381,601,363,153,167,5,161,2,42,36,3009,1875,4884,195.36,1283,26]
["Wealden",76,12,4564,39,1484,855,208,12,69,6,63,0,42,50,2606,1375,3981,159.24,1144,7]
["Wellingborough",28,0,2964,40,393,113,123,39,71,27,44,0,40,5,1531,860,2391,95.64,347,5]
["Welwyn Hatfield",86,0,12603,188,680,497,30,109,19,0,19,0,75,44,1771,1048,2819,112.76,655,3]
["West Berkshire",201,0,7572,206,2031,803,576,107,370,104,267,13,69,278,3101,2562,5663,226.52,1857,14]
["West Devon",96,22,1855,37,134,14,66,3,29,0,29,0,17,9,1008,519,1527,61.08,111,23]
["West Dorset",279,137,4785,164,531,328,128,3,28,2,26,0,33,35,1928,1776,3704,148.16,488,0]
["West Lancashire",406,2,3983,100,470,103,63,112,9,1,8,0,80,1,1978,685,2663,106.52,286,0]
["West Lindsey",228,180,2417,42,470,169,139,82,52,0,52,0,43,42,1500,987,2487,99.48,441,0]
["West Oxfordshire",653,0,4275,59,1267,261,795,8,33,3,30,0,37,21,1789,1018,2807,112.28,1096,23]
["West Somerset",22,0,1332,18,154,64,62,1,24,1,23,0,38,50,595,322,917,36.68,151,0]
["Westminster",91,3,57102,1664,5289,529,1994,983,553,14,539,3029,5214,93,3717,1877,5594,223.76,4059,56]
["Weymouth and Portland",20,1,3197,72,303,163,104,16,11,0,11,0,105,5,1004,370,1374,54.96,295,8]
["Wigan",317,6,11279,307,2220,1013,414,145,143,0,143,1,492,42,4356,3000,7356,294.24,1716,0]
["Wiltshire",807,134,18776,360,2388,1061,702,49,421,58,363,6,207,184,7622,6594,14216,568.64,2233,105]
["Winchester",539,0,9022,94,652,124,201,27,104,2,101,5,27,110,2367,2217,4584,183.36,456,35]
["Windsor and Maidenhead",242,0,6368,305,3078,806,372,101,158,14,144,2,196,34,2661,3209,5870,234.8,1438,5]
["Wirral",315,1,10505,240,1372,348,632,64,16,6,10,1,637,103,4270,3329,7599,303.95999999999998,1061,0]
["Woking",39,0,4554,164,1862,396,1081,199,17,1,16,0,181,27,1641,753,2394,95.76,1693,1]
["Wokingham",364,0,4652,45,2053,526,407,661,77,0,77,2,49,39,2933,1876,4809,192.36,1671,34]
["Wolverhampton",462,0,9934,254,1457,595,597,113,29,3,26,0,611,2,3571,2020,5591,223.64,1333,2]
["Worcester",73,1,5357,118,883,541,212,76,10,0,10,0,129,146,1571,1140,2711,108.44,839,1]
["Worthing",64,4,5417,88,420,46,118,91,17,0,17,0,98,2,1539,979,2518,100.72,273,10]
["Wychavon",146,16,4555,40,1163,411,478,87,54,1,52,4,35,52,1903,762,2665,106.6,1030,9]
["Wycombe",140,1,8827,119,1862,464,866,135,101,1,100,20,105,88,2976,1756,4732,189.28,1566,7]
["Wyre",84,0,3716,52,504,26,215,21,11,0,11,0,86,2,1618,539,2157,86.28,272,1]
["Wyre Forest",529,6,4559,122,628,253,73,26,202,10,193,1,68,2,1627,868,2495,99.8,555,0]
["York",138,16,12404,326,1372,323,402,156,60,7,53,0,211,4,3075,1894,4969,198.76,940,1]
["England",{"$f":"SUM(B2:B327)","v":60350},{"$f":"SUM(C2:C327)","v":4479},2360934,55208,354361,117681,111298,37127,26750,1179,25567,27723,86315,11278,{"$f":"SUM(P2:P327)","v":900770},{"$f":"SUM(Q2:Q327)","v":546743},{"$f":"SUM(R2:R327)","v":1447513},{"$f":"SUM(S2:S327)","v":57900.519999999975},{"$f":"SUM(G328:J328)","v":292856},{"$f":"SUM(U2:U327)","v":5740}]
["Black Country",{"$f":"MMULT(LAtoLEPConv,B2:T327)","v":1604},38,45995,746,4711,1781,1913,330,208,3,205,3,2502,81,18249,10222,28471,1138.8400000000001,4231,{"$f":"MMULT(LAtoLEPConv,U2:U327)","v":6}]
["Buckinghamshire Thames Valley",367,5,21500,294,4371,1711,1345,396,252,6,244,208,280,185,9927,5708,15635,625.4,3704,41]
["Cheshire and Warrington",1281,357,46016,1387,8059,2893,1912,620,1366,11,1355,3,1353,185,14240,8536,22776,911.04,6790,32]
["Coast to Capital",1942,29,85949,1865,15603,5321,4619,1558,642,47,595,19,1973,353,32588,21141,53729,2149.16,12140,127]
["Cornwall and Isles of Scilly",576,102,26061,683,3037,586,1702,45,196,0,196,0,264,83,7963,5386,13349,533.96,2529,95]
["Coventry and Warwickshire",818,54,36555,674,5612,1617,1919,502,593,9,585,6,984,139,14821,9722,24543,981.72,4630,29]
["Cumbria",914,264,23915,1080,2796,823,851,153,215,4,211,1,552,78,8011,5743,13754,550.16,2040,28]
["Derby, Derbyshire, Nottingham and Nottinghamshire",3434,176,88904,1671,12257,4909,4454,1104,678,30,649,0,2860,484,41316,23066,64382,2575.2800000000007,11143,194]
["Dorset",974,157,35435,898,5086,2433,1743,395,240,20,220,2,801,121,11969,7845,19814,792.56,4812,157]
["Enterprise M3",2502,102,74103,1435,17771,5709,5528,1661,1314,50,1261,113,1253,943,32576,17251,49827,1993.0800000000002,14210,266]
["Gloucestershire",1754,37,27311,687,3577,1141,1166,741,349,22,327,5,306,110,9855,7795,17650,706,3395,146]
["Greater Birmingham and Solihull",3829,48,80512,1728,11559,3066,3999,1447,1438,37,1402,142,3208,225,34282,19665,53947,2157.8800000000006,9949,68]
["Greater Cambridge and Greater Peterborough",1649,341,61187,1266,7458,2818,1775,544,1262,232,1031,22,979,687,21913,15990,37903,1516.1200000000001,6399,797]
["Greater Lincolnshire",720,191,43216,831,5044,1392,1505,491,288,13,276,0,1265,164,17240,11132,28372,1134.8799999999999,3674,123]
["Greater Manchester",3319,166,118486,3441,14488,4101,4812,1659,1435,0,1435,2604,4765,206,43249,28810,72059,2882.3599999999997,12007,43]
["Heart of the South West",3231,110,80417,2181,9512,3767,3764,561,656,71,586,2,1406,352,28658,17901,46559,1862.3600000000001,8746,222]
["Hertfordshire",1570,264,64202,1125,8053,3390,2296,1095,372,31,341,110,1892,417,20747,12676,33423,1336.9199999999998,7154,222]
["Humber",450,4,36643,838,5503,1986,1444,395,199,19,181,0,1441,222,15884,9291,25175,1007.0000000000001,4025,7]
["Lancashire",2680,202,57465,1405,10378,2483,3104,1003,666,2,664,3,2135,103,23603,13164,36767,1470.6799999999998,7250,31]
["Leeds City Region",2883,376,115405,2660,19136,5340,6215,1524,1542,54,1489,120,6320,718,56015,31692,87707,3508.2799999999997,14620,11]
["Leicester and Leicestershire",982,94,38323,624,6666,2939,1857,566,632,21,610,0,1305,181,16697,8508,25205,1008.2,5992,181]
["Liverpool City Region",1919,64,62854,1347,7865,2111,3219,480,239,6,233,2,3798,184,24027,12471,36498,1459.92,6049,67]
["London Enterprise Panel",1911,40,386745,10364,49728,16282,13053,9841,3252,57,3195,23623,22371,1365,131087,73096,204183,8167.32,42419,1383]
["New Anglia",1558,182,73760,1447,10596,3431,3593,601,1084,154,931,117,1941,672,27158,16028,43186,1727.4399999999998,8707,577]
["North Eastern",844,8,78451,1503,13437,4837,5772,981,980,22,957,1,3777,208,25576,14099,39675,1587,12566,16]
["Northamptonshire",730,142,27253,603,5515,1283,2514,441,439,42,396,1,1114,91,12744,7631,20375,815,4678,75]
["Oxfordshire",1396,34,31027,741,5466,1886,1814,317,885,37,846,4,428,160,10977,7793,18770,750.8,4901,54]
["Sheffield City Region",2583,142,68484,2181,11153,4352,3130,941,435,31,404,222,2357,678,30043,15715,45758,1830.32,8857,62]
["Solent",4497,63,74858,1431,11560,3558,3340,611,896,2,893,14,1703,582,27534,15512,43046,1721.8400000000001,8403,135]
["South East",4292,495,181700,4009,24970,8746,7491,3214,1309,35,1272,245,3781,682,74991,48462,123453,4938.119999999999,20757,435]
["South East Midlands",1637,164,74962,1857,13670,4226,4677,1363,1218,27,1188,53,2527,269,32970,18823,51793,2071.7199999999998,11481,96]
["Stoke-on-Trent and Staffordshire",837,78,46261,899,10002,2304,2461,570,592,29,563,54,3670,218,14138,10482,24620,984.8,5924,14]
["Swindon and Wiltshire",1218,155,29777,609,3780,1621,967,253,525,59,466,6,389,216,11237,8435,19672,786.88,3366,105]
["Tees Valley",192,0,27947,536,4375,1098,2234,305,565,4,561,0,1415,54,10779,6803,17582,703.28,4200,2]
["Thames Valley Berkshire",990,2,43072,1162,9977,3063,2524,1114,675,132,544,26,1113,467,16203,11726,27929,1117.1599999999999,7378,85]
["The Marches",779,15,27504,472,5041,1762,1308,170,834,35,797,2,430,129,10749,8070,18819,752.76,4073,39]
["West of England",1261,19,52188,1389,6102,3317,1375,612,482,7,475,10,1081,275,16773,11333,28106,1124.24,5787,189]
["Worcestershire",1222,39,23577,399,4255,1916,1051,316,509,20,490,6,332,227,9343,6338,15681,627.2399999999999,3794,57]
["York North Yorkshire and East Riding",639,114,47168,1021,8969,2649,1919,617,577,56,523,17,1017,361,19863,13843,33706,1348.24,5763,11]
["Active Cumbria",{"$f":"MMULT(LAtoCSPConv,B2:T327)","v":914},264,23915,1080,2796,823,851,153,215,4,211,1,552,78,8011,5743,13754,550.16,2040,{"$f":"MMULT(LAtoCSPConv,U2:U327)","v":28}]
["Active Devon",2226,91,55100,1590,6398,2389,2568,392,433,59,375,2,1098,214,17449,11695,29144,1165.76,5780,123]
["Active Dorset",974,157,35435,898,5086,2433,1743,395,240,20,220,2,801,121,11969,7845,19814,792.56,4812,157]
["Active Essex",2004,303,79486,2248,10862,3313,3560,1791,350,10,340,81,1840,275,35634,23334,58968,2358.7200000000003,9013,312]
["Active Gloucestershire",1754,37,27311,687,3577,1141,1166,741,349,22,327,5,306,110,9855,7795,17650,706,3395,146]
["Active Norfolk",712,36,41066,893,5354,1466,2135,309,331,4,327,105,1081,145,12987,7840,20827,833.08,4239,425]
["Active Surrey ",897,75,48028,1014,14927,4148,5338,1434,1097,46,1049,19,975,470,22763,12614,35377,1415.0800000000002,12016,107]
["Active Sussex",2047,38,74806,1523,13736,5234,3343,1435,458,37,421,17,1695,254,26783,16865,43648,1745.92,10471,80]
["Birmingham Sport & Physical Activity Partnership",2604,9,41414,940,4794,929,2233,638,437,0,437,136,2388,70,19974,10383,30357,1214.28,4237,11]
["Black Country Be Active Partnership",1604,38,45995,746,4711,1781,1913,330,208,3,205,3,2502,81,18249,10222,28471,1138.8400000000001,4231,6]
["Cornwall Sports Partnership",576,102,26061,683,3037,586,1702,45,196,0,196,0,264,83,7963,5386,13349,533.96,2529,95]
["County Durham Sport",34,2,16756,233,2604,1022,1047,142,205,9,196,0,639,80,7205,3949,11154,446.16,2416,6]
["Coventry Solihull & Warwickshire Sport",849,60,46600,860,7002,1896,2308,857,791,12,780,8,1154,180,19013,12312,31325,1253,5851,29]
["Derbyshire Sports Partnership",1435,124,36798,961,5503,2131,1951,416,312,4,308,0,872,310,24637,12131,36768,1470.72,4808,124]
["Energize Shropshire Telford & Wrekin",488,13,19230,341,3526,1137,782,155,707,12,694,1,316,90,7816,6083,13899,555.96,2780,10]
["Get Berkshire Active",990,2,43072,1162,9977,3063,2524,1114,675,132,544,26,1113,467,16203,11726,27929,1117.1599999999999,7378,85]
["Greater Sport",3319,166,118486,3441,14488,4101,4812,1659,1435,0,1435,2604,4765,206,43249,28810,72059,2882.3599999999997,12007,43]
["Herts Sports Partnership",1570,264,64202,1125,8053,3390,2296,1095,372,31,341,110,1892,417,20747,12676,33423,1336.9199999999998,7154,222]
["Humber Sports Partnership",207,4,24447,536,3799,1454,894,239,100,19,82,0,717,152,11298,7304,18602,744.08,2688,6]
["Kent Sport",1698,170,81503,1446,10284,3843,3151,1062,832,18,812,155,1587,313,30780,20082,50862,2034.4800000000002,8885,93]
["Lancashire Sport Partnership",2680,202,57465,1405,10378,2483,3104,1003,666,2,664,3,2135,103,23603,13164,36767,1470.6799999999998,7250,31]
["Leap (Bucks & MK Sport and Activity Partnership)",576,6,36609,756,7245,2518,2382,721,374,8,364,219,769,189,15313,8513,23826,953.04,5994,41]
["Leicestershire & Rutland Sport",990,96,39829,704,6858,2977,1989,568,644,21,622,0,1309,192,17410,9875,27285,1091.4000000000001,6176,181]
["Lincolnshire Sports Partnership",617,189,30036,487,3004,866,988,327,251,11,241,0,826,97,11781,7677,19458,778.32,2430,121]
["Living Sport",836,318,36390,879,3899,1560,972,391,475,79,396,10,467,112,10760,9618,20378,815.12000000000012,3398,659]
["London",1911,40,386745,10364,49728,16282,13053,9841,3252,57,3195,23623,22371,1365,131087,73096,204183,8167.32,42419,1383]
["Merseyside Sport",1919,64,62854,1347,7865,2111,3219,480,239,6,233,2,3798,184,24027,12471,36498,1459.92,6049,67]
["North Yorkshire Sport",535,112,35901,829,7210,1721,1542,542,514,39,476,17,739,276,14024,9994,24018,960.71999999999991,4319,7]
["Northamptonshire Sport",730,142,27253,603,5515,1283,2514,441,439,42,396,1,1114,91,12744,7631,20375,815,4678,75]
["Northumberland Sport",458,1,11093,183,2879,1215,1219,104,292,9,283,0,333,39,3670,3071,6741,269.64,2829,4]
["Oxfordshire Sports Partnership",1396,34,31027,741,5466,1886,1814,317,885,37,846,4,428,160,10977,7793,18770,750.8,4901,54]
["Somerset Activity & Sports Partnership",1005,19,25317,591,3114,1378,1196,169,223,12,211,0,308,138,11209,6206,17415,696.59999999999991,2966,99]
["South Yorkshire Sport",2033,66,53333,1722,9456,3570,2696,816,369,19,350,222,2039,620,21591,11461,33052,1322.08,7450,1]
["South & West Yorkshire Sport",4334,334,137202,3654,23448,7398,7555,1879,1689,57,1633,335,7703,1242,65104,35353,100457,4018.28,18520,11]
["Sport Across Staffordshire & Stoke On Trent",837,78,46261,899,10002,2304,2461,570,592,29,563,54,3670,218,14138,10482,24620,984.8,5924,14]
["Sport Cheshire",1281,357,46016,1387,8059,2893,1912,620,1366,11,1355,3,1353,185,14240,8536,22776,911.04,6790,32]
["Sport Hampshire & Isle of Wight",5206,96,89498,1766,14177,4724,3995,953,1033,21,1011,104,1923,784,34460,18782,53242,2129.6800000000003,10703,236]
["Sport Nottinghamshire",1999,52,52106,710,6754,2778,2503,688,366,26,341,0,1988,174,16679,10935,27614,1104.56,6335,70]
["Sports Partnership Herefordshire & Worcestershire",1513,41,31851,530,5770,2541,1577,331,636,43,593,7,446,266,12276,8325,20601,824.04,5087,86]
["Suffolk Sport",846,146,32694,554,5242,1965,1458,292,753,150,604,12,860,527,14171,8188,22359,894.3599999999999,4468,152]
["Teams Beds & Luton",513,18,22366,489,3319,1350,896,427,164,3,161,37,804,116,12436,6601,19037,761.48,2835,6]
["Tees Valley Sport",192,0,27947,536,4375,1098,2234,305,565,4,561,0,1415,54,10779,6803,17582,703.28,4200,2]
["Tyne & Wear Sport",352,5,50602,1087,7954,2600,3506,735,483,4,478,1,2805,89,14701,7079,21780,871.19999999999993,7321,6]
["Wesport",1261,19,52188,1389,6102,3317,1375,612,482,7,475,10,1081,275,16773,11333,28106,1124.24,5787,189]
["West Yorkshire Sport ",2301,268,83869,1932,13992,3828,4859,1063,1320,38,1283,113,5664,622,43513,23892,67405,2696.2,11070,10]
["Wiltshire & Swindon Sport",1218,155,29777,609,3780,1621,967,253,525,59,466,6,389,216,11237,8435,19672,786.88,3366,105]
["Buckinghamshire CC",{"$f":"MMULT(LAtoCountyConv,B2:T327)","v":367},5,21500,294,4371,1711,1345,396,252,6,244,208,280,185,9927,5708,15635,625.4,3704,{"$f":"MMULT(LAtoCountyConv,U2:U327)","v":41}]
["Cambridgeshire CC",731,313,24284,615,2656,1259,571,234,212,73,139,6,269,97,8059,7545,15604,624.16000000000008,2276,514]
["Cumbria CC",914,264,23915,1080,2796,823,851,153,215,4,211,1,552,78,8011,5743,13754,550.16,2040,28]
["Derbyshire CC",1435,124,36798,961,5503,2131,1951,416,312,4,308,0,872,310,24637,12131,36768,1470.72,4808,124]
["Devon CC",1324,78,36784,1026,4367,1565,1830,142,383,59,325,2,398,159,11327,7558,18885,755.4,3918,103]
["Dorset CC",792,153,17239,332,2420,1117,773,185,155,5,151,1,211,82,7813,4823,12636,505.44,2231,118]
["East Sussex CC",590,22,20711,315,3824,1590,780,361,127,7,120,9,354,94,8577,5046,13623,544.92000000000007,2859,30]
["Essex CC",1426,227,59625,1620,9124,2811,2911,1571,334,10,324,61,1138,254,29476,19528,49004,1960.16,7626,306]
["Gloucestershire CC",1754,37,27311,687,3577,1141,1166,741,349,22,327,5,306,110,9855,7795,17650,706,3395,146]
["Hampshire CC",4495,50,60374,1063,9738,3713,2380,641,703,21,681,102,771,664,25541,13792,39333,1573.3200000000002,7434,222]
["Hertfordshire CC",1570,264,64202,1125,8053,3390,2296,1095,372,31,341,110,1892,417,20747,12676,33423,1336.9199999999998,7154,222]
["Kent CC",1558,162,71789,1219,8586,3258,2475,898,780,18,760,154,1328,312,25905,17240,43145,1725.8,7409,88]
["Lancashire CC",2155,192,45623,1146,6771,1604,1953,893,627,2,625,3,1053,99,18480,10124,28604,1144.1599999999999,5071,29]
["Leicestershire CC",590,74,26589,507,5201,2398,1193,439,613,20,592,0,416,118,11340,6823,18163,726.5200000000001,4641,178]
["Lincolnshire CC",617,189,30036,487,3004,866,988,327,251,11,241,0,826,97,11781,7677,19458,778.32,2430,121]
["Norfolk CC",712,36,41066,893,5354,1466,2135,309,331,4,327,105,1081,145,12987,7840,20827,833.08,4239,425]
["North Yorkshire CC",397,96,23497,503,5838,1398,1140,386,454,32,423,17,528,272,10949,8100,19049,761.95999999999992,3379,6]
["Northamptonshire CC",730,142,27253,603,5515,1283,2514,441,439,42,396,1,1114,91,12744,7631,20375,815,4678,75]
["Nottinghamshire CC",844,50,30536,393,5010,2071,1846,432,321,24,298,0,674,99,12322,8045,20367,814.68,4670,61]
["Oxfordshire CC",1396,34,31027,741,5466,1886,1814,317,885,37,846,4,428,160,10977,7793,18770,750.8,4901,54]
["Somerset CC",1005,19,25317,591,3114,1378,1196,169,223,12,211,0,308,138,11209,6206,17415,696.59999999999991,2966,99]
["Staffordshire CC",684,51,34295,605,8528,1832,2110,442,523,29,494,54,928,215,10686,8289,18975,759,4904,13]
["Suffolk CC",846,146,32694,554,5242,1965,1458,292,753,150,604,12,860,527,14171,8188,22359,894.3599999999999,4468,152]
["Surrey CC",897,75,48028,1014,14927,4148,5338,1434,1097,46,1049,19,975,470,22763,12614,35377,1415.0800000000002,12016,107]
["Warwickshire CC",543,49,22110,385,4389,1223,1481,401,370,9,362,5,430,115,9410,5763,15173,606.92000000000007,3473,27]
["West Sussex CC",1214,16,39675,867,6573,2906,1254,682,266,30,236,7,612,119,13359,9573,22932,917.28000000000009,5108,32]
["Worcestershire CC",1222,39,23577,399,4255,1916,1051,316,509,20,490,6,332,227,9343,6338,15681,627.2399999999999,3794,57]
["! Figures marked with a 0 are disclosive and should be removed before passing onto anyone not named on the notice. Users must also manually apply secondary suppression as detailed in the BRES User Guide."]
["All figures should be rounded to the nearest 100 before passing onto anyone not named on the notice (after suppression rules have been applied)."]
["Estimates are subject to sampling errors which increase as geographic areas become smaller and industry more detailed. Please see http://www.nomisweb.co.uk/articles/774.aspx to gauge the magnitude of these errors."]

{"sheet":"PARTICIPATION","index":33,"n_rows":442,"n_cols":17,"rows_kept":442,"cut":false,"hidden":true,"merged":[[1,5,1,8],[1,1,1,4]]}
["Participation data"]
[null,"Participation Sports",null,null,null,"All Sports",null,null,null,null,null,null,null,null,"Participation Sports","All Sports","Non Participation"]
["Local Authority","Less than 1 by 30","All (1+)","Total surveyed","% 1+","Less than 1 by 30","All (1+)","Total surveyed","% 1+","Population (16-64)",null,null,null,null,"All (1+)","All 1+"]
["Adur",667.29419255609889,315.54845086455043,{"$f":"SUM(B4:C4)","v":982.84264342064932},{"$f":"C4/D4","v":0.32105693925359935},630.33173647224748,352.51090694840127,{"$f":"SUM(F4:G4)","v":982.84264342064876},{"$f":"G4/H4","v":0.3586646441403229},{"$f":"SUM(POP!C2:F2)","v":51483},null,null,null,{"$f":"A4","v":"Adur"},{"$f":"E4*J4","v":16528.974403593056},{"$f":"I4*J4","v":18465.131874276245},{"$f":"P4-O4","v":1936.1574706831889}]
["Allerdale",679.2802403588671,324.26970661363458,{"$f":"SUM(B5:C5)","v":1003.5499469725016},{"$f":"C5/D5","v":0.32312263838176447},649.79467069737029,353.75527627513151,{"$f":"SUM(F5:G5)","v":1003.5499469725019},{"$f":"G5/H5","v":0.35250390610087362},{"$f":"SUM(POP!C3:F3)","v":80224},null,null,null,{"$f":"A5","v":"Allerdale"},{"$f":"$J5*C5/$D5","v":25922.190541538675},28279.273363036486,{"$f":"P5-O5","v":2357.0828214978101}]
["Amber Valley",708.3161010537043,271.70914869184668,980.02524974555104,0.27724709007486481,672.45682772024429,307.56842202530726,980.02524974555149,0.31383724256611006,{"$f":"SUM(POP!C4:F4)","v":102290},null,null,null,"Amber Valley",28359.604843757923,32102.411542087397,3742.8066983294739]
["Arun",701.82766876271364,292.79456359361961,994.62223235633326,0.29437765823911632,656.86828682142357,337.75394553490918,994.62223235633269,0.33958012856272618,{"$f":"SUM(POP!C5:F5)","v":128621},null,null,null,"Arun",37863.148780373376,43677.135715866403,5813.986935493027]
["Ashfield",702.28100425637774,278.16915693423203,980.45016119060983,0.28371575419645734,666.91173882402245,313.53842236658681,980.45016119060926,0.31979027060982024,{"$f":"SUM(POP!C6:F6)","v":98536},null,null,null,"Ashfield",27956.215555502124,31510.854104809248,3554.6385493071248]
["Ashford",687.30611717724059,293.40620433005012,980.71232150729065,0.29917662692266778,639.55803735288475,341.15428415440562,980.71232150729043,0.34786376868404578,{"$f":"SUM(POP!C7:F7)","v":96506},null,null,null,"Ashford",28872.33955779898,33570.940860622519,4698.6013028235393]
["Aylesbury Vale",644.23537944910447,333.82095311282711,978.05633256193164,0.34131055850168956,606.87329456314512,371.1830379987864,978.05633256193153,0.37951089895456785,{"$f":"SUM(POP!C8:F8)","v":144143},null,null,null,"Aylesbury Vale",49197.527834109038,54703.839508008277,5506.3116738992394]
["Babergh",696.84742950851819,288.07858512978402,984.92601463830215,0.29248753799601501,645.68273095434733,339.24328368395527,984.9260146383026,0.34443529629840941,{"$f":"SUM(POP!C9:F9)","v":72673},null,null,null,"Babergh",21255.946848784399,25031.146287894306,3775.199439109907]
["Barking and Dagenham",762.95005398647641,216.19105185327325,979.14110583974968,0.22079662529116204,739.53584922047753,239.60525661927221,979.1411058397498,0.24470962886782019,{"$f":"SUM(POP!C10:F10)","v":142010},null,null,null,"Barking and Dagenham",31355.328757597923,34751.214395519142,3395.8856379212193]
["Barnet",617.36999846455626,367.70238244784218,985.07238091239844,0.37327448172617239,591.19614360650928,393.87623730588894,985.07238091239822,0.39984497072293418,{"$f":"SUM(POP!C11:F11)","v":291171},null,null,null,"Barnet",108686.70411869133,116423.25997036746,7736.5558516761375]
["Barnsley",698.42763232776258,282.54071595654943,980.96834828431201,0.28802225520395819,669.75265988633964,311.2156883979726,980.96834828431224,0.31725354741799838,{"$f":"SUM(POP!C12:F12)","v":192266},null,null,null,"Barnsley",55376.88691904422,60997.070547868876,5620.1836288246559]
["Barrow-in-Furness",720.81727381908468,265.80561024927596,986.62288406836069,0.269409532802666,691.91439997453801,294.70848409382245,986.62288406836046,0.29870428595633797,{"$f":"SUM(POP!C13:F13)","v":55849},null,null,null,"Barrow-in-Furness",15046.252997496093,16682.335666375518,1636.0826688794259]
["Basildon",681.06650774521393,304.94922589490551,986.01573364011938,0.30927419866730776,644.64212973199255,341.37360390812734,986.01573364011983,0.34621516904995281,{"$f":"SUM(POP!C14:F14)","v":142111},null,null,null,"Basildon",43951.265646809778,49200.983888857845,5249.7182420480676]
["Basingstoke and Deane",672.16881754610745,310.30582948472096,982.47464703082846,0.31584105546388114,636.19356237243505,346.28108465839387,982.47464703082892,0.35245803614872107,{"$f":"SUM(POP!C15:F15)","v":137239},null,null,null,"Basingstoke and Deane",43345.710610807582,48370.988423014329,5025.2778122067466]
["Bassetlaw",670.4993369026696,310.45163197769517,980.95096888036483,0.31648027457686045,639.52565623558121,341.42531264478288,980.95096888036414,0.34805543138866379,{"$f":"SUM(POP!C16:F16)","v":93641},null,null,null,"Bassetlaw",29635.529391651791,32592.258650665866,2956.7292590140751]
["Bath and North East Somerset",585.07007306499941,407.20509694398527,992.27517000898467,0.41037517540653384,542.71918661886798,449.55598339011658,992.27517000898456,0.45305576212901316,{"$f":"SUM(POP!C17:F17)","v":149973},null,null,null,"Bath and North East Somerset",61545.1961812441,67946.131813774497,6400.9356325303961]
["Bedford",643.28595404861608,336.18003146442049,979.46598551303657,0.34322787767696911,620.69116747470093,358.77481803833564,979.46598551303657,0.36629635265017624,{"$f":"SUM(POP!C18:F18)","v":128958},null,null,null,"Bedford",44261.980649466583,47236.845045061425,2974.8643955948428]
["Bexley",687.58229564145881,301.51464860820641,989.09694424966528,0.30483831778181986,641.75930870315744,347.33763554650756,989.09694424966506,0.35116642263008913,{"$f":"SUM(POP!C19:F19)","v":188101},null,null,null,"Bexley",57340.392413078102,66054.75526314239,8714.3628500642881]
["Birmingham",736.51113405112687,280.91257433012947,1017.4237083812563,0.27610185610581811,698.7871646294999,318.63654375175656,1017.4237083812565,0.31317979041270261,{"$f":"SUM(POP!C20:F20)","v":842238},null,null,null,"Birmingham",232543.475082852,263771.92031761381,31228.445234761806]
["Blaby",644.54107172426973,343.76702302778324,988.30809475205297,0.34783386360305751,590.43159195120074,397.87650280085211,988.30809475205285,0.40258347059342009,{"$f":"SUM(POP!C21:F21)","v":77458},null,null,null,"Blaby",26942.515406965627,31183.310465225135,4240.7950582595076]
["Blackburn with Darwen",691.03067086824569,292.26959579996549,983.30026666821118,0.29723331286208649,668.42335195211979,314.87691471609128,983.30026666821107,0.32022457980512098,{"$f":"SUM(POP!C22:F22)","v":113197},null,null,null,"Blackburn with Darwen",33645.919316049607,36248.461760200276,2602.5424441506693]
["Blackpool",730.06865506608335,255.76101575789937,985.82967082398272,0.25943732809758857,672.01092994050202,313.81874088348019,985.82967082398227,0.31832957575843934,{"$f":"SUM(POP!C23:F23)","v":115922},null,null,null,"Blackpool",30074.493947728664,36901.401081069802,6826.9071333411375]
["Bolsover",750.11977831729473,227.86324007715305,977.98301839444775,0.23299304363304341,702.86057813035006,275.1224402640978,977.98301839444787,0.28131617327647018,{"$f":"SUM(POP!C24:F24)","v":62978},null,null,null,"Bolsover",14673.435901921808,17716.729960605539,3043.2940586837303]
["Bolton",639.20664624112544,340.47639276496608,979.68303900609158,0.34753729441961795,606.69235226941362,372.99068673667813,979.6830390060918,0.380725879581507,{"$f":"SUM(POP!C25:F25)","v":221752},null,null,null,"Bolton",77067.090112139122,84426.725248958333,7359.6351368192118]
["Boston",760.70506737118205,228.46778338563183,989.17285075681389,0.23096851395671814,717.31855285704671,271.8542978997674,989.17285075681411,0.27482992248702764,{"$f":"SUM(POP!C26:F26)","v":53971},null,null,null,"Boston",12465.601666758035,14832.845746547369,2367.2440797893341]
["Bournemouth",615.57612957101344,372.34482326760246,987.9209528386159,0.37689738455059135,574.64001750500665,413.28093533360931,987.9209528386159,0.41833401158880146,{"$f":"SUM(POP!C27:F27)","v":158805},null,null,null,"Bournemouth",59853.189153556661,66433.532710359621,6580.3435568029599]
["Bracknell Forest",626.16906206786473,353.12661840804014,979.29568047590487,0.36059243949328201,594.2276905939284,385.0679898819763,979.29568047590465,0.39320911708182582,{"$f":"SUM(POP!C28:F28)","v":92262},null,null,null,"Bracknell Forest",33268.979652529182,36278.259560203413,3009.2799076742303]
["Bradford",702.55440071637418,282.35360854100151,984.90800925737562,0.2866801832121329,663.63595566133642,321.27205359603994,984.90800925737631,0.32619498529439317,{"$f":"SUM(POP!C29:F29)","v":402558},null,null,null,"Bradford",115405.40119350978,131312.40089014033,15906.999696630548]
["Braintree",704.55568808554779,291.82846281146789,996.38415089701562,0.2928874998149491,661.75016445435256,334.63398644266277,996.38415089701539,0.3358483634463692,{"$f":"SUM(POP!C30:F30)","v":120124},null,null,null,"Braintree",35182.818027770947,40343.448810631657,5160.6307828607096]
["Breckland",725.63595907650051,260.3982382258074,986.03419730230792,0.264086417021064,684.19931452713331,301.83488277517466,986.03419730230803,0.30610995399648921,{"$f":"SUM(POP!C31:F31)","v":109434},null,null,null,"Breckland",28900.032960283119,33498.836705651804,4598.8037453686848]
["Brent",672.20841170690414,312.03543769415586,984.24384940106006,0.31703061988554782,651.73174748181555,332.51210191924446,984.24384940106006,0.33783508235442605,{"$f":"SUM(POP!C32:F32)","v":252157},null,null,null,"Brent",79941.490018480079,85187.480861245014,5245.9908427649352]
["Brentwood",624.52681178957152,350.83811696240787,975.36492875197939,0.35969933572588064,584.42283247945022,390.94209627252889,975.36492875197905,0.40081623272302391,{"$f":"SUM(POP!C33:F33)","v":60959},null,null,null,"Brentwood",21926.911806513956,24433.356730562813,2506.4449240488575]
["Brighton and Hove",617.63036975926548,378.20253312273059,995.83290288199601,0.37978513466284486,582.5888904025602,413.24401247943609,995.83290288199623,0.4149732462981337,{"$f":"SUM(POP!C34:F34)","v":232904},null,null,null,"Brighton and Hove",88453.477003515232,96648.928955820535,8195.4519523053023]
["Bristol",657.94440096037647,341.13304925954185,999.07745021991832,0.34144805208490209,623.6071998258667,375.47025039405128,999.07745021991798,0.37581696024807926,{"$f":"SUM(POP!C35:F35)","v":355697},null,null,null,"Bristol",121452.04778244342,133676.96530936105,12224.917526917634]
["Broadland",696.34318853056334,290.2248908603807,986.56807939094404,0.29417624279872351,637.72347102510207,348.84460836584151,986.56807939094358,0.35359405564915525,{"$f":"SUM(POP!C36:F36)","v":104831},null,null,null,"Broadland",30838.789708832985,37067.618447756591,6228.8287389236066]
["Bromley",644.92657960088422,340.84418762015986,985.77076722104403,0.34576414614223466,612.68204002836069,373.08872719268345,985.77076722104414,0.37847412359817317,{"$f":"SUM(POP!C37:F37)","v":255206},null,null,null,"Bromley",88241.084680375134,96588.867186995383,8347.7825066202495]
["Bromsgrove",638.854022294218,345.5762188319203,984.4302411261383,0.35104185588264603,600.37693701519606,384.05330411094258,984.43024112613864,0.39012749514034123,{"$f":"SUM(POP!C38:F38)","v":78115},null,null,null,"Bromsgrove",27421.634572272891,30474.809282887756,3053.174710614865]
["Broxbourne",627.92921056992816,358.8586391433123,986.78784971324046,0.36366341483389386,601.05064189077962,385.73720782246119,986.7878497132408,0.39090186197018528,{"$f":"SUM(POP!C39:F39)","v":75913},null,null,null,"Broxbourne",27606.780810285385,29674.533047742676,2067.7522374572909]
["Broxtowe",660.89565999183685,333.60190804625796,994.49756803809487,0.33544768611588915,631.92065117829566,362.57691685979881,994.49756803809441,0.3645830100671601,{"$f":"SUM(POP!C40:F40)","v":92276},null,null,null,"Broxtowe",30953.770684029787,33642.261836957266,2688.4911529274796]
["Burnley",728.82083199081649,261.29811477115982,990.1189467619763,0.2639057818514563,690.22037970754127,299.89856705443464,990.11894676197585,0.30289145363312608,{"$f":"SUM(POP!C41:F41)","v":69579},null,null,null,"Burnley",18362.300395442482,21074.88445233928,2712.5840568967978]
["Bury",2097.5806648210805,1115.1166950609615,3212.6973598820423,0.34709671349246052,2000.8720399923554,1211.825319889685,3212.6973598820405,0.37719871626320234,{"$f":"SUM(POP!C42:F42)","v":148896},null,null,null,"Bury",51681.312252173404,56163.380056725779,4482.0678045523746]
["Calderdale",662.30453833084607,324.05932928255203,986.36386761339804,0.32853933515087558,618.25561890880931,368.10824870458896,986.36386761339827,0.37319721533926631,{"$f":"SUM(POP!C43:F43)","v":165979},null,null,null,"Calderdale",54530.630309007174,61942.900604796079,7412.2702957889051]
["Cambridge",574.37643271515606,418.62774034785417,993.00417306301028,0.42157702022193866,532.62297881198299,460.3811942510273,993.00417306301028,0.46362463193980374,{"$f":"SUM(POP!C44:F44)","v":107334},null,null,null,"Cambridge",45249.547888501569,49762.686244626893,4513.1383561253242]
["Camden",576.89825008787841,422.05701721322873,998.95526730110714,0.42249841512273789,545.99074695320405,452.96452034790309,998.95526730110714,0.45343824210636008,{"$f":"SUM(POP!C45:F45)","v":191095},null,null,null,"Camden",80737.334637879598,86649.780875314886,5912.4462374352879]
["Cannock Chase",696.55620110086647,280.5041167660512,977.06031786691767,0.28708986706003731,662.16057571258864,314.89974215432915,977.06031786691779,0.32229304209366183,{"$f":"SUM(POP!C46:F46)","v":80086},null,null,null,"Cannock Chase",22991.879093370146,25811.160569113003,2819.2814757428569]
["Canterbury",658.48925846595182,323.94328169021128,982.4325401561631,0.32973590394177976,615.2323284829306,367.20021167323256,982.43254015616321,0.37376633678569321,{"$f":"SUM(POP!C47:F47)","v":130018},null,null,null,"Canterbury",42871.60275870232,48596.351576202258,5724.748817499938]
["Carlisle",643.3035166060173,340.56317084919158,983.86668745520888,0.34614767955002634,611.27173232751829,372.59495512769126,983.86668745520956,0.37870471668414285,{"$f":"SUM(POP!C48:F48)","v":89465},null,null,null,"Carlisle",30968.102150943108,33880.817478146841,2912.7153272037322]
["Castle Point",710.21403929854989,277.51311921150091,987.7271585100508,0.28096131286915205,655.61718282541847,332.10997568463199,987.72715851005046,0.33623655361021709,{"$f":"SUM(POP!C49:F49)","v":73912},null,null,null,"Castle Point",20766.412556784766,24851.916150438366,4085.5035936536005]
["Central Bedfordshire",715.45827374837904,275.65102384959346,991.1092975979725,0.27812373924617023,682.80381340542283,308.30548419254922,991.10929759797204,0.31107112499070561,{"$f":"SUM(POP!C50:F50)","v":213083},null,null,null,"Central Bedfordshire",59263.440729791699,66283.968526394528,7020.5277966028298]
["Charnwood",629.52157657904195,360.15892287435605,989.68049945339794,0.36391433707471488,588.29396497191112,401.38653448148693,989.68049945339806,0.40557183323625484,{"$f":"SUM(POP!C51:F51)","v":141649},null,null,null,"Charnwood",51548.101932296289,57448.844606082261,5900.7426737859714]
["Chelmsford",623.1871799556377,366.18481908774822,989.37199904338593,0.37011843820303053,585.02620250798941,404.3457965353964,989.37199904338581,0.40868934730956041,{"$f":"SUM(POP!C52:F52)","v":138684},null,null,null,"Chelmsford",51329.50548374909,56678.673442279076,5349.1679585299862]
["Cheltenham",642.63992778239026,353.82748898610384,996.4674167684941,0.35508184515812158,611.44598221308308,385.02143455541091,996.46741676849399,0.38638637659023595,{"$f":"SUM(POP!C53:F53)","v":96057},null,null,null,"Cheltenham",34108.096800353684,37115.116176128293,3007.0193757746092]
["Cherwell",661.24398821566012,325.70496893930857,986.94895715496864,0.33001196928988402,632.62571237637269,354.32324477859623,986.94895715496887,0.35900868247531981,{"$f":"SUM(POP!C54:F54)","v":115049},null,null,null,"Cherwell",37967.54705483187,41303.589910103066,3336.0428552711965]
["Cheshire East",646.24226668989604,341.58731798876045,987.82958467865649,0.3457957964479062,618.58511585535337,369.24446882330335,987.82958467865672,0.3737936933154512,{"$f":"SUM(POP!C55:F55)","v":306756},null,null,null,"Cheshire East",106074.93533517393,114663.45818667454,8588.5228515006165]
["Cheshire West and Chester",661.09561527130302,332.1497812988577,993.24539657016066,0.33440857863104667,610.04722589673088,383.19817067343064,993.24539657016157,0.38580412453626911,{"$f":"SUM(POP!C56:F56)","v":272731},null,null,null,"Cheshire West and Chester",91203.586058623987,105220.74468890121,14017.158630277219]
["Chesterfield",683.307245436637,297.2030781933791,980.51032363001605,0.30311060580482491,652.49435407656927,328.01596955344729,980.5103236300165,0.33453596729004975,{"$f":"SUM(POP!C57:F57)","v":86219},null,null,null,"Chesterfield",26133.893321886197,28843.356563780799,2709.4632418946021]
["Chichester",672.3101627600164,314.69272569332912,987.00288845334558,0.31883668160937129,634.31392837170324,352.68896008164234,987.00288845334558,0.35733326032542156,{"$f":"SUM(POP!C58:F58)","v":96482},null,null,null,"Chichester",30762.000715035356,34476.227622717321,3714.2269076819648]
["Chiltern",591.74424111738847,393.80576702847947,985.55000814586788,0.39957969029836748,553.08003889858833,432.46996924727898,985.55000814586731,0.43881078146495317,{"$f":"SUM(POP!C59:F59)","v":74187},null,null,null,"Chiltern",29643.618484164992,32554.055444540481,2910.4369603754894]
["Chorley",654.32668693469702,337.03151913027142,991.3582060649685,0.33996946519266935,594.60740048049706,396.75080558447178,991.35820606496884,0.40020933216390869,{"$f":"SUM(POP!C60:F60)","v":90341},null,null,null,"Chorley",30713.181454970938,36155.311277019675,5442.129822048737]
["Christchurch",656.99214776545534,324.59971765364099,981.59186541909639,0.33068704936246718,608.22623429093733,373.3656311281589,981.59186541909617,0.38036748701941242,{"$f":"SUM(POP!C61:F61)","v":40793},null,null,null,"Christchurch",13489.716804643123,15516.330897982891,2026.6140933397674]
["City of London",88.946661471107305,52.40585669883194,141.35251816993923,0.37074583019333041,85.068134123163844,56.284384046775386,141.35251816993923,0.39818451609831396,{"$f":"SUM(POP!C62:F62)","v":6884},null,null,null,"City of London",2552.2142950508864,2741.1022088207933,188.88791376990685]
["Colchester",661.8572084215366,324.32936700544968,986.18657542698634,0.32887221859111776,630.27928492680383,355.90729050018285,986.18657542698668,0.36089245115315688,{"$f":"SUM(POP!C63:F63)","v":144693},null,null,null,"Colchester",47585.507924604601,52218.611434703729,4633.1035100991285]
["Copeland",692.01210900237538,291.48092553547315,983.49303453784853,0.29637314683417398,657.66741894078586,325.82561559706278,983.49303453784864,0.33129427881527485,{"$f":"SUM(POP!C64:F64)","v":58247},null,null,null,"Copeland",17262.846683650132,19296.897858153316,2034.0511745031836]
["Corby",685.15076305516027,300.88663826207079,986.03740131723112,0.30514728737482094,643.27330038046796,342.76410093676225,986.03740131723021,0.3476177480477613,{"$f":"SUM(POP!C65:F65)","v":50574},null,null,null,"Corby",15432.518911694197,17580.419989767481,2147.9010780732842]
["Cornwall",703.69248055424418,282.39322333531351,986.08570388955764,0.2863779712264663,635.60462894771274,350.48107494184455,986.08570388955729,0.35542658570080926,{"$f":"SUM(POP!C66:F66)","v":450027},null,null,null,"Cornwall",128877.81925713294,{"$f":"I68*J68","v":159951.56008317808},31073.740826045134]
["Cotswold",705.11590645173692,289.88541106591725,{"$f":"SUM(B69:C69)","v":995.00131751765412},{"$f":"C69/D69","v":0.29134173589752443},657.53457795555573,337.46673956209833,{"$f":"SUM(F69:G69)","v":995.00131751765412},{"$f":"G69/H69","v":0.33916210322617057},{"$f":"SUM(POP!C67:F67)","v":70231},null,null,null,{"$f":"A69","v":"Cotswold"},{"$f":"$J69*C69/$D69","v":20461.221453819042},23819.693671677185,{"$f":"P69-O69","v":3358.4722178581433}]
["County Durham",682.12553590448044,302.83806701508064,984.96360291956103,0.30746117533422451,652.07913431093834,332.88446860862308,984.96360291956148,0.33796626354710957,{"$f":"SUM(POP!C68:F68)","v":427615},null,null,null,"County Durham",131475.0104905444,144519.44378669726,13044.433296152856]
["Coventry",681.27577293077979,307.64412836165252,988.91990129243231,0.31109104787919467,645.29020633931464,343.62969495311825,988.91990129243288,0.34747980549691021,{"$f":"SUM(POP!C69:F69)","v":264513},null,null,null,"Coventry",82287.626347669415,91912.92579140421,9625.2994437347952]
["Craven",656.15548609815482,326.09567359437574,982.25115969253056,0.33198807695625621,609.70781651492041,372.54334317760964,982.25115969253011,0.37927503521016487,{"$f":"SUM(POP!C70:F70)","v":46415},null,null,null,"Craven",15409.226591924633,17604.050759279802,2194.8241673551693]
["Crawley",661.04903587939282,322.27223869161077,983.32127457100364,0.32773849913113023,618.90189350625042,364.41938106475374,983.3212745710041,0.3706005254729588,{"$f":"SUM(POP!C71:F71)","v":85985},null,null,null,"Crawley",28180.594847790235,31866.086182792362,3685.491335002127]
["Croydon",659.51987034341028,317.15602604782026,976.67589639123048,0.32473006369840418,637.34784004307915,339.32805634815134,976.67589639123048,0.34743158667266372,{"$f":"SUM(POP!C72:F72)","v":291115},null,null,null,"Croydon",94533.792493560919,101142.54635421249,6608.7538606515736]
["Dacorum",668.22674852219859,310.6797613703074,978.90650989250594,0.31737429287749169,630.28164748652125,348.62486240598474,978.90650989250594,0.35613703543994957,{"$f":"SUM(POP!C73:F73)","v":118676},null,null,null,"Dacorum",37664.711581529205,42264.918817871454,4600.2072363422485]
["Darlington",647.74635042719876,334.38638534292102,982.13273577011978,0.34046964647881184,585.70985873619111,396.42287703392788,982.13273577011898,0.40363472532364081,{"$f":"SUM(POP!C74:F74)","v":85242},null,null,null,"Darlington",29022.313605146879,34406.631256037792,5384.3176508909128]
["Dartford",683.53671691042655,307.9322588943831,991.46897580480959,0.31058184008674994,651.23747906769688,340.2314967371131,991.46897580481004,0.34315899442131842,{"$f":"SUM(POP!C75:F75)","v":79809},null,null,null,"Dartford",24787.226075483424,27387.176185771001,2599.9501102875765]
["Daventry",695.72841646189158,280.92794083917727,976.65635730106885,0.28764256612786993,645.80165693189451,330.85470036917445,976.65635730106897,0.33876265474119421,{"$f":"SUM(POP!C76:F76)","v":63850},null,null,null,"Daventry",18365.977847264498,21629.995505225252,3264.0176579607541]
["Derby",662.0697282987586,318.41858876993206,980.48831706869066,0.32475510745695546,620.48739935195897,360.00091771673135,980.48831706869032,0.36716492328333439,{"$f":"SUM(POP!C77:F77)","v":199736},null,null,null,"Derby",64865.286143022458,73336.053116920084,8470.7669738976256]
["Derbyshire Dales",668.47249033390926,315.71038071873352,984.18287105264278,0.32078426683149064,627.24303285799124,356.9398381946508,984.18287105264199,0.36267633657643572,{"$f":"SUM(POP!C78:F78)","v":59796},null,null,null,"Derbyshire Dales",19181.616019455814,21686.594221924552,2504.9782024687374]
["Doncaster",676.85261317800598,306.90322475540808,983.75583793341411,0.31197093112059471,617.07066395748802,366.68517397592609,983.75583793341411,0.37274002332349598,{"$f":"SUM(POP!C79:F79)","v":246083},null,null,null,"Doncaster",76770.742642949321,91724.983159515861,14954.24051656654]
["Dover",700.06451964408927,290.32759179691993,990.39211144100921,0.29314408752155408,650.67452239826412,339.71758904274395,990.39211144100807,0.34301322185256417,{"$f":"SUM(POP!C80:F80)","v":92289},null,null,null,"Dover",27053.974693276705,31656.347231551295,4602.3725382745906]
["Dudley",684.69057500965994,292.66326989152986,977.35384490118986,0.29944453732733617,646.55403146305116,330.79981343813859,977.35384490118975,0.33846473839940988,{"$f":"SUM(POP!C81:F81)","v":254821},null,null,null,"Dudley",76304.756446289131,86247.923103676032,9943.1666573869006]
["Ealing",725.31941003442694,274.387135487161,999.70654552158794,0.27446767925681831,694.76511359061749,304.94143193097085,999.7065455215884,0.30503094462772595,{"$f":"SUM(POP!C82:F82)","v":270878},null,null,null,"Ealing",74347.256021728434,82626.172218869149,8278.9161971407157]
["East Cambridgeshire",646.75712302373552,339.59791665076864,986.35503967450416,0.34429581944736198,610.78548582348571,375.56955385101827,986.35503967450404,0.38076507823689509,{"$f":"SUM(POP!C83:F83)","v":68452},null,null,null,"East Cambridgeshire",23567.73743281082,26064.131135471944,2496.3937026611238]
["East Devon",664.03504078189712,316.93933656607481,980.97437734797199,0.32308625371328109,618.15664560601692,362.81773174195541,980.97437734797234,0.36985444280697688,{"$f":"SUM(POP!C84:F84)","v":114084},null,null,null,"East Devon",36858.972168625958,42194.474253191147,5335.5020845651889]
["East Dorset",670.38952571087157,312.08413005932437,982.47365577019593,0.31765139780228563,626.56717750533892,355.90647826485588,982.4736557701948,0.36225549272957203,{"$f":"SUM(POP!C85:F85)","v":74376},null,null,null,"East Dorset",23625.640362942795,26943.114527254649,3317.4741643118541]
["East Hampshire",646.77252086637111,338.37250293661992,985.14502380299109,0.34347481310963562,589.83138172544716,395.31364207754518,985.14502380299234,0.40127456620701496,{"$f":"SUM(POP!C86:F86)","v":95667},null,null,null,"East Hampshire",32859.204945759513,38388.733925326502,5529.5289795669887]
["East Hertfordshire",636.09587409257313,349.75458199821264,985.85045609078577,0.35477447906764897,608.01945333820345,377.83100275258272,985.85045609078611,0.38325387021760288,{"$f":"SUM(POP!C87:F87)","v":113137},null,null,null,"East Hertfordshire",40138.120238276599,43360.193114808935,3222.0728765323365]
["East Lindsey",591.99610459897667,385.61287413105816,977.60897873003478,0.39444489823731926,552.78750801274032,424.82147071729446,977.60897873003478,0.43455152311424122,{"$f":"SUM(POP!C88:F88)","v":115719},null,null,null,"East Lindsey",45644.769179124349,50285.867703256881,4641.0985241325325]
["East Northamptonshire",733.24009738180769,258.86614948131745,992.10624686312508,0.26092583359877952,696.01706678999869,296.08918007312741,992.1062468631261,0.29844503147652968,{"$f":"SUM(POP!C89:F89)","v":70878},null,null,null,"East Northamptonshire",18493.901233814297,21153.18694099347,2659.2857071791732]
["East Riding of Yorkshire",702.57931264705496,273.99166697540983,976.57097962246485,0.28056503079922873,647.72815500064962,328.84282462181551,976.57097962246507,0.33673212852274564,{"$f":"SUM(POP!C90:F90)","v":280758},null,null,null,"East Riding of Yorkshire",78770.876917129848,94540.238939789022,15769.362022659174]
["East Staffordshire",686.56199907116161,315.59237120952383,1002.1543702806855,0.3149139299977628,613.37646093913668,388.77790934154916,1002.1543702806858,0.38794213832810936,{"$f":"SUM(POP!C91:F91)","v":92871},null,null,null,"East Staffordshire",29246.371592822226,36028.574328669842,6782.2027358476153]
["Eastbourne",670.39366775122028,309.37087390603551,979.76454165725579,0.31576043095286926,640.35257510234544,339.41196655490984,979.76454165725522,0.34642197397836039,{"$f":"SUM(POP!C92:F92)","v":83383},null,null,null,"Eastbourne",26329.052014143101,28885.703456237625,2556.6514420945241]
["Eastleigh",687.22288126895432,297.28650607383997,984.5093873427943,0.30196411521907451,638.97588719654686,345.53350014624698,984.50938734279384,0.35097024425419371,{"$f":"SUM(POP!C93:F93)","v":103390},null,null,null,"Eastleigh",31220.069872500113,36286.81355344109,5066.7436809409774]
["Eden",644.35906454108908,336.36978909904695,980.72885364013609,0.34297939522280319,601.85182957923428,378.8770240609017,980.72885364013598,0.38632188974010245,{"$f":"SUM(POP!C94:F94)","v":44307},null,null,null,"Eden",15196.388064136741,17116.76396871472,1920.3759045779789]
["Elmbridge",743.32088956833354,244.39342863504416,987.71431820337773,0.24743331561659282,660.92785911158887,326.78645909178834,987.71431820337716,0.33085119155324505,{"$f":"SUM(POP!C95:F95)","v":102990},null,null,null,"Elmbridge",25483.157175352895,34074.364218068709,8591.2070427158142]
["Enfield",602.4714615339235,380.69082129357372,983.16228282749717,0.38721056324367625,566.1194161244855,417.04286670301201,983.16228282749751,0.42418517673768918,{"$f":"SUM(POP!C96:F96)","v":248203},null,null,null,"Enfield",96106.823428770178,105284.03342182467,9177.2099930544937]
["Epping Forest",696.9376071401723,288.80275663395622,985.74036377412858,0.29298055273724405,649.66870579368617,336.07165798044252,985.7403637741287,0.34093324198850555,{"$f":"SUM(POP!C97:F97)","v":103651},null,null,null,"Epping Forest",30367.727271768083,35338.071465350586,4970.3441935825031]
["Epsom and Ewell",636.6547563696372,348.77306044478871,985.42781681442591,0.35393060201229237,589.96792865352029,395.45988816090556,985.4278168144258,0.40130781921632919,{"$f":"SUM(POP!C98:F98)","v":61862},null,null,null,"Epsom and Ewell",21894.85490168443,24825.704312360554,2930.8494106761245]
["Erewash",620.71812356682324,361.71253154103067,982.43065510785391,0.36818123463515184,589.44206821922512,392.98858688862867,982.4306551078538,0.40001661679163031,{"$f":"SUM(POP!C99:F99)","v":92932},null,null,null,"Erewash",34215.818497113927,37174.344231679788,2958.5257345658611]
["Exeter",693.87572455228428,295.02295067746826,988.8986752297526,0.29833486288059297,647.67424527977425,341.22442994997846,988.89867522975271,0.34505499754128111,{"$f":"SUM(POP!C100:F100)","v":102547},null,null,null,"Exeter",30593.345183816164,35384.354832865756,4791.0096490495926]
["Fareham",692.36270537467124,289.76617934162374,982.12888471629503,0.29503885269124097,660.97908979422846,321.14979492206635,982.12888471629481,0.32699353406639303,{"$f":"SUM(POP!C101:F101)","v":94112},null,null,null,"Fareham",27766.69650447807,30774.015478056383,3007.3189735783126]
["Fenland",658.22425523583206,332.20921997806198,990.4334752138941,0.33541800463309063,614.6088075092847,375.82466770460911,990.43347521389387,0.37945473079193537,{"$f":"SUM(POP!C102:F102)","v":79789},null,null,null,"Fenland",26762.667171669669,30276.31351515773,3513.6463434880607]
["Forest Heath",761.1072498665344,230.06785431582759,991.17510418236202,0.23211625609343231,730.68814704710894,260.48695713525274,991.17510418236168,0.26280619442125025,{"$f":"SUM(POP!C103:F103)","v":51136},null,null,null,"Forest Heath",11869.496871593754,13438.857557925052,1569.360686331298]
["Forest of Dean",693.27536705777516,298.37964348641253,991.65501054418769,0.30089057213825965,647.74936402615288,343.90564651803413,991.65501054418701,0.34679968624301133,{"$f":"SUM(POP!C104:F104)","v":69184},null,null,null,"Forest of Dean",20816.813342813355,23992.989493036497,3176.176150223142]
["Fylde",703.72221170253374,276.24773568271627,979.96994738524995,0.28189408911956826,647.70450829855633,332.2654390866935,979.96994738524984,0.33905676390714046,{"$f":"SUM(POP!C105:F105)","v":64355},null,null,null,"Fylde",18141.294105289813,21819.998041244024,3678.7039359542105]
["Gateshead",646.39945739119219,338.1871746779691,984.58663206916128,0.34348137955849628,617.42010376508927,367.16652830407168,984.58663206916094,0.37291439508217961,{"$f":"SUM(POP!C106:F106)","v":164865},null,null,null,"Gateshead",56628.057640911487,61480.531745223539,4852.4741043120521]
["Gedling",676.94651421053914,314.2892625240159,991.23577673455497,0.31706811830317949,650.02501608944726,341.21076064510788,991.2357767345552,0.3442276486116797,{"$f":"SUM(POP!C107:F107)","v":94282},null,null,null,"Gedling",29893.816329860369,32454.471166406387,2560.6548365460185]
["Gloucester",625.21790286924079,358.6378316263939,983.85573449563469,0.36452278423751483,593.03427620491414,390.82145829071987,983.85573449563401,0.39723451781380476,{"$f":"SUM(POP!C108:F108)","v":99657},null,null,null,"Gloucester",36327.247108758012,39587.200341770338,3259.9532330123257]
["Gosport",693.16206237479457,281.19170750014166,974.35376987493623,0.28859303078001552,666.11112145895368,308.24264841598256,974.35376987493623,0.31635598685634198,{"$f":"SUM(POP!C109:F109)","v":67384},null,null,null,"Gosport",19446.552786080567,21317.331818327748,1870.779032247181]
["Gravesham",696.5134138224771,282.40437442209446,978.91778824457151,0.28848630376664369,654.24900253372516,324.66878571084635,978.91778824457151,0.33166093170403349,{"$f":"SUM(POP!C110:F110)","v":82552},null,null,null,"Gravesham",23815.121348543973,27379.273234031374,3564.1518854874012]
["Great Yarmouth",637.25251074599998,339.91674743099867,977.16925817699871,0.34785861772314181,594.17441423671221,382.99484394028559,977.1692581769978,0.39194319790084159,{"$f":"SUM(POP!C111:F111)","v":80642},null,null,null,"Great Yarmouth",28052.014650429603,31607.083365119666,3555.0687146900636]
["Greenwich",697.22860843389481,286.28027877347927,983.50888720737407,0.29108052046825755,663.38530256311913,320.12358464425535,983.50888720737453,0.32549129835850354,{"$f":"SUM(POP!C112:F112)","v":206443},null,null,null,"Greenwich",60091.535887028498,67195.400107024543,7103.864219996045]
["Guildford",697.54360221538491,290.50718677195891,988.05078898734382,0.29402049976570593,655.29520401919694,332.75558496814671,988.05078898734359,0.33677983832105329,{"$f":"SUM(POP!C113:F113)","v":115466},null,null,null,"Guildford",33949.371025947003,38886.620811578738,4937.249785631735]
["Hackney",595.96119812300253,388.27038260569481,984.23158072869728,0.39449088020344802,572.82178380323876,411.40979692545875,984.23158072869751,0.41800101214072244,{"$f":"SUM(POP!C114:F114)","v":203802},null,null,null,"Hackney",80398.030367223109,85189.442276303511,4791.4119090804015]
["Halton",640.73018936247365,352.47227852449839,993.20246788697204,0.35488461811253802,614.03546979866439,379.16699808830754,993.20246788697193,0.38176203779978662,{"$f":"SUM(POP!C115:F115)","v":100873},null,null,null,"Halton",35798.276082866047,38509.482038977876,2711.2059561118294]
["Hambleton",678.03355418642047,309.74870279843338,987.7822569848538,0.31357994194380728,651.87669121278259,335.90556577207178,987.78225698485437,0.3400603355616077,{"$f":"SUM(POP!C116:F116)","v":74984},null,null,null,"Hambleton",23513.478366714447,25499.08420175159,1985.6058350371422]
["Hammersmith and Fulham",665.26735907253794,318.12058228264681,983.38794135518469,0.32349449175088729,619.03076614374436,364.35717521144034,983.38794135518469,0.37051214468760718,{"$f":"SUM(POP!C117:F117)","v":148305},null,null,null,"Hammersmith and Fulham",47975.850599115336,54948.803617895581,6972.9530187802447]
["Harborough",556.60164319399212,429.29193629758572,985.89357949157784,0.43543435643324729,537.41403378577945,448.47954570579839,985.89357949157784,0.45489650712308916,{"$f":"SUM(POP!C118:F118)","v":71100},null,null,null,"Harborough",30959.382742403883,32343.14165645164,1383.7589140477576]
["Haringey",640.78061365871099,350.81874502849377,991.59935868720481,0.35379081476307994,605.79133824504822,385.80802044215642,991.59935868720459,0.38907651266831622,{"$f":"SUM(POP!C119:F119)","v":210460},null,null,null,"Haringey",74458.814875037817,81885.042856173837,7426.2279811360204]
["Harlow",622.50342490944183,367.75241077588493,990.2558356853267,0.37137111191207917,588.31600485775027,401.93983082757654,990.25583568532682,0.40589493779595437,{"$f":"SUM(POP!C120:F120)","v":65717},null,null,null,"Harlow",24405.395361526105,26674.197627136735,2268.8022656106295]
["Harrogate",696.61648196353224,289.13588683555207,985.75236879908425,0.29331492978079127,659.6264498825102,326.12591891657286,985.75236879908311,0.33083959951715231,{"$f":"SUM(POP!C121:F121)","v":129701},null,null,null,"Harrogate",38043.239707498411,42910.226896974171,4866.9871894757598]
["Harrow",633.27866461197846,352.73294378483496,986.01160839681347,0.35773711057860086,574.62297947033949,411.38862892647364,986.01160839681313,0.41722493469966665,{"$f":"SUM(POP!C122:F122)","v":193856},null,null,null,"Harrow",69349.485308325238,80881.55694113858,11532.071632813342]
["Hart",665.07371110574536,323.44415678220582,988.51786788795118,0.32720112330723022,652.03412140719786,336.48374648075344,988.5178678879513,0.34039217439708835,{"$f":"SUM(POP!C123:F123)","v":74055},null,null,null,"Hart",24230.879186516933,25207.742474976378,976.86328845944445]
["Hartlepool",584.54192139550514,398.77607943543399,983.31800083093913,0.40554131938849269,544.80405719398448,438.51394363695488,983.31800083093935,0.44595333683141641,{"$f":"SUM(POP!C124:F124)","v":74935},null,null,null,"Hartlepool",30389.238768376701,33417.513295462188,3028.2745270854866]
["Hastings",719.52213015557231,271.54163757099479,991.06376772656711,0.27399007653553198,691.96094260486211,299.10282512170443,991.06376772656654,0.30179977803832558,{"$f":"SUM(POP!C125:F125)","v":73874},null,null,null,"Hastings",20240.742913985887,22295.156802803263,2054.4138888173766]
["Havant",700.1545766360764,284.46344423481236,984.61802087088881,0.28890741201669873,647.66459267199548,336.95342819889356,984.61802087088904,0.34221740924552668,{"$f":"SUM(POP!C126:F126)","v":99793},null,null,null,"Havant",28830.937367382419,34150.901920838842,5319.9645534564224]
["Havering",698.63907233017517,283.77921035285721,982.41828268303243,0.28885782701217888,664.31312567456894,318.10515700846349,982.41828268303243,0.32379808337819482,{"$f":"SUM(POP!C127:F127)","v":196244},null,null,null,"Havering",56686.615404178032,63543.431074470463,6856.8156702924316]
["Herefordshire",692.76127650340425,295.75801232527755,988.51928882868174,0.29919296028682224,666.54779983471406,321.97148899396802,988.51928882868208,0.32571088155040356,{"$f":"SUM(POP!C128:F128)","v":154377},null,null,null,"Herefordshire",46188.511630198758,50282.26876110665,4093.7571309078921]
["Hertsmere",645.10603477529571,335.43459006875742,980.54062484405313,0.34209147644658322,612.62919059317869,367.91143425087398,980.54062484405267,0.37521284170086011,{"$f":"SUM(POP!C129:F129)","v":80658},null,null,null,"Hertsmere",27592.414307228511,30263.917385907975,2671.5030786794632]
["High Peak",664.6842136685658,329.93641679266653,994.62063046123239,0.33172086591413869,618.88815868127767,375.73247177995569,994.6206304612333,0.37776460720075561,{"$f":"SUM(POP!C130:F130)","v":74936},null,null,null,"High Peak",24857.834808141895,{"$f":"I132*J132","v":28308.168605195824},3450.3337970539287]
["Hillingdon",631.11335959856035,359.303038953255,{"$f":"SUM(B133:C133)","v":990.41639855181529},{"$f":"C133/D133","v":0.3627797757373839},616.32989416527721,374.08650438653825,{"$f":"SUM(F133:G133)","v":990.41639855181552},{"$f":"G133/H133","v":0.3777062909434119},{"$f":"SUM(POP!C131:F131)","v":226156},null,null,null,{"$f":"A133","v":"Hillingdon"},{"$f":"$J133*C133/$D133","v":82044.822961663798},85420.54393459826,{"$f":"P133-O133","v":3375.7209729344613}]
["Hinckley and Bosworth",688.4597173723356,300.43986400623595,988.89958137857161,0.30381230780521612,659.25838643847817,329.64119494009321,988.89958137857138,0.33334142429361563,{"$f":"SUM(POP!C132:F132)","v":87734},null,null,null,"Hinckley and Bosworth",26654.669012982831,29245.376518976074,2590.7075059932431]
["Horsham",605.45149142461798,376.60071346119207,982.05220488581006,0.38348339486186683,564.68587793268352,417.36632695312665,982.05220488581017,0.42499403277818276,{"$f":"SUM(POP!C133:F133)","v":108126},null,null,null,"Horsham",41464.525552834217,45952.904788173786,4488.3792353395693]
["Hounslow",653.31811847593281,341.70874997065584,995.02686844658865,0.34341660592956963,618.75965249555259,376.26721595103606,995.02686844658865,0.37814779468061516,{"$f":"SUM(POP!C134:F134)","v":207827},null,null,null,"Hounslow",71371.242960524673,78589.321725088201,7218.0787645635282]
["Huntingdonshire",653.40459386442762,329.89974918427441,983.30434304870209,0.33550116148315923,606.37474204842647,376.92960100027523,983.30434304870164,0.38332953949091469,{"$f":"SUM(POP!C135:F135)","v":139501},null,null,null,"Huntingdonshire",46802.747528062202,53474.854088522094,6672.1065604598916]
["Hyndburn",679.24445420743791,307.08587614543916,986.33033035287713,0.31134181591635102,642.965048948353,343.36528140452378,986.33033035287679,0.3481240217784633,{"$f":"SUM(POP!C136:F136)","v":63680},null,null,null,"Hyndburn",19826.246837553233,22168.537706852541,2342.2908692993078]
["Ipswich",702.27761195576272,284.8098625393485,987.08747449511122,0.28853558564809756,665.28119159135781,321.80628290375336,987.08747449511111,0.32601597246318537,{"$f":"SUM(POP!C137:F137)","v":108155},null,null,null,"Ipswich",31206.566265769994,35260.257501755812,4053.6912359858179]
["Isle of Wight",745.42025291059781,239.07371334657614,984.49396625717395,0.2428391859581232,699.82829145656683,284.66567480060729,984.49396625717418,0.28914923255735381,{"$f":"SUM(POP!C138:F138)","v":116186},null,null,null,"Isle of Wight",28214.513659730506,33595.092733908707,5380.5790741782002]
["Isles of Scilly",94.42332656072287,55.28794457834983,149.71127113907269,0.36929714214363113,78.99686878710925,70.714402351963429,149.71127113907266,0.47233853412595805,{"$f":"SUM(POP!C139:F139)","v":1907},null,null,null,"Isles of Scilly",704.24965006790455,900.74958457820196,196.49993451029741]
["Islington",580.39192877381049,412.00300916669045,992.39493794050099,0.41516032923516594,554.45877525394428,437.93616268655637,992.39493794050065,0.44129221738615215,{"$f":"SUM(POP!C140:F140)","v":181031},null,null,null,"Islington",75156.889561771328,79887.571405632509,4730.6818438611808]
["Kensington and Chelsea",597.09916904437671,397.68620550976976,994.78537455414653,0.39977086081307639,575.27160545672939,419.5137690974168,994.78537455414619,0.42171284362261463,{"$f":"SUM(POP!C141:F141)","v":130571},null,null,null,"Kensington and Chelsea",52198.481067224195,55063.467704648414,2864.9866374242192]
["Kettering",725.34621246234337,265.42442975239823,990.77064221474166,0.26789694652142265,676.18555280687622,314.58508940786533,990.77064221474154,0.31751555405865722,{"$f":"SUM(POP!C142:F142)","v":76492},null,null,null,"Kettering",20491.973233316661,24287.399761054807,3795.4265277381455]
["King`s Lynn and West Norfolk",689.87646692841474,304.10372016311743,993.98018709153212,0.30594545455976335,651.26232895131295,342.71785814021882,993.98018709153177,0.34479345020250313,{"$f":"SUM(POP!C143:F143)","v":123467},null,null,null,"King`s Lynn and West Norfolk",37774.167438130302,42570.612916152451,4796.4454780221495]
["Kingston upon Hull",682.57866823705888,301.8019268916787,984.38059512873758,0.30659069102455128,654.30170286952375,330.07889225921377,984.38059512873747,0.33531633383736703,{"$f":"SUM(POP!C144:F144)","v":208443},null,null,null,"Kingston upon Hull",63906.683409230543,69894.342574062292,5987.6591648317481]
["Kingston upon Thames",618.73387248468293,374.13939812008437,992.8732706047673,0.37682492740709295,576.30317588556272,416.57009471920503,992.87327060476775,0.41956018663436129,{"$f":"SUM(POP!C145:F145)","v":134653},null,null,null,"Kingston upon Thames",50740.606950147281,56495.037810876653,5754.4308607293715]
["Kirklees",706.08514564672157,275.03538325356362,981.12052890028519,0.28032782431109077,674.21588637059085,306.90464252969508,981.12052890028599,0.31281033623228433,{"$f":"SUM(POP!C146:F146)","v":341316},null,null,null,"Kirklees",95680.371682564277,106767.17272145835,11086.801038894075]
["Knowsley",705.13944439969021,282.93873387024126,988.07817826993141,0.28635257826020494,685.10346204682821,302.9747162231032,988.07817826993141,0.30663030809322667,{"$f":"SUM(POP!C147:F147)","v":117688},null,null,null,"Knowsley",33700.262230287,36086.70769887566,2386.4454685886594]
["Lambeth",595.60530492008377,403.72108374119989,999.32638866128366,0.40399321815371275,560.07775984911677,439.24862881216706,999.32638866128377,0.43954471111344584,{"$f":"SUM(POP!C148:F148)","v":258035},null,null,null,"Lambeth",104244.39004629327,113417.919532158,9173.5294858647394]
["Lancaster",665.36772060931003,318.65384813755566,984.02156874686568,0.32382811338511186,618.84269285660503,365.17887589026139,984.02156874686648,0.37110860929126793,{"$f":"SUM(POP!C149:F149)","v":117246},null,null,null,"Lancaster",37967.550981950822,43511.000004964,5543.4490230131778]
["Leeds",640.31154384639422,352.72424616860872,993.03579001500293,0.35519791906319881,598.52494714422608,394.51084287077737,993.03579001500339,0.39727756727158531,{"$f":"SUM(POP!C150:F150)","v":620215},null,null,null,"Leeds",220299.07737178187,246397.50638534629,26098.429013564426]
["Leicester",705.29646467937425,279.83724018189605,985.1337048612703,0.28406016239318865,666.46130834876203,318.67239651250787,985.13370486126996,0.32348136597091098,{"$f":"SUM(POP!C151:F151)","v":262665},null,null,null,"Leicester",74612.662555006915,84967.232992749327,10354.570437742412]
["Lewes",657.90722764200245,336.1067235339799,994.01395117598236,0.33813079095755555,611.78891576541696,382.22503541056551,994.01395117598247,0.3845268317998643,{"$f":"SUM(POP!C152:F152)","v":82101},null,null,null,"Lewes",27760.876068406265,31570.037417600659,3809.1613491943936]
["Lewisham",669.44225880380043,317.74227669006899,987.18453549386936,0.32186715377496128,643.36020168566188,343.82433380820737,987.18453549386925,0.34828780379566898,{"$f":"SUM(POP!C153:F153)","v":226742},null,null,null,"Lewisham",72980.802181242267,78971.47320823757,5990.6710269953037]
["Lichfield",634.11938583838128,356.04244164828992,990.1618274866712,0.35958005223452494,603.4134082439125,386.74841924275893,990.16182748667143,0.39059112208399588,{"$f":"SUM(POP!C154:F154)","v":84213},null,null,null,"Lichfield",30281.31493882605,32892.850164059542,2611.5352252334924]
["Lincoln",700.88240643048471,294.11060025051904,994.99300668100375,0.2955906205125835,667.7568056978904,327.23620098311335,994.99300668100375,0.32888291554397403,{"$f":"SUM(POP!C155:F155)","v":79691},null,null,null,"Lincoln",23555.912139268294,26209.008422614836,2653.0962833465419]
["Liverpool",653.90841949614241,338.99042641240493,992.8988459085474,0.34141486598487619,622.33018130578716,370.56866460276018,992.8988459085474,0.3732189498756775,{"$f":"SUM(POP!C156:F156)","v":391997},null,null,null,"Liverpool",133833.60322147352,146300.70869441595,12467.105472942436]
["Luton",719.92394202903176,257.48472887122495,977.40867090025677,0.26343610051470567,697.9756706405235,279.43300025973292,977.40867090025642,0.28589167313438818,{"$f":"SUM(POP!C157:F157)","v":159710},null,null,null,"Luton",42073.379613203644,45659.759116293135,3586.3795030894908]
["Maidstone",693.0898232362855,296.24295393781881,989.33277717410431,0.29943711638059428,652.05207213844471,337.28070503566062,989.33277717410533,0.34091734633422044,{"$f":"SUM(POP!C158:F158)","v":128669},null,null,null,"Maidstone",38528.274327574683,43865.494035477808,5337.2197079031248]
["Maldon",649.82382533438715,324.53419528885655,974.35802062324365,0.33307489487413439,602.32576369559274,372.03225692765113,974.35802062324387,0.38182295321968235,{"$f":"SUM(POP!C159:F159)","v":51584},null,null,null,"Maldon",17181.335377187348,19695.955218884093,2514.6198416967454]
["Malvern Hills",678.66812033205224,304.02075323456404,982.68887356661628,0.30937640733748933,627.35419560567334,355.3346779609426,982.68887356661594,0.36159428229941659,{"$f":"SUM(POP!C160:F160)","v":63132},null,null,null,"Malvern Hills",19531.551348030374,22828.170230126769,3296.6188820963944]
["Manchester",600.22899477930457,378.47326467086759,978.70225945017216,0.38670929898893985,567.63048437405712,411.07177507611544,978.70225945017251,0.42001719226340856,{"$f":"SUM(POP!C161:F161)","v":412757},null,null,null,"Manchester",159616.97012277783,173365.03622706773,13748.066104289901]
["Mansfield",688.3544806985127,295.36093751252531,983.71541821103801,0.30025038953812661,643.97585340460478,339.73956480643335,983.71541821103813,0.34536366770003035,{"$f":"SUM(POP!C162:F162)","v":86133},null,null,null,"Mansfield",25861.466802087463,29747.208790006713,3885.7419879192494]
["Medway",708.88206595974964,275.21436086596157,984.09642682571121,0.27966198571992529,678.70584052079403,305.39058630491638,984.09642682571041,0.31032587659115946,{"$f":"SUM(POP!C163:F163)","v":216449},null,null,null,"Medway",60532.557147092113,67169.725662279874,6637.1685151877609]
["Melton",707.15852718524491,274.71999074737778,981.87851793262269,0.27979020391016363,660.16966982619738,321.70884810642491,981.87851793262234,0.32764628437313559,{"$f":"SUM(POP!C164:F164)","v":41677},null,null,null,"Melton",11660.81632836389,13655.314193819171,1994.4978654552815]
["Mendip",686.31855808059652,286.31569198187003,972.63425006246655,0.2943713857120307,636.89840690798337,335.73584315448363,972.634250062467,0.34518200765901585,{"$f":"SUM(POP!C165:F165)","v":90035},null,null,null,"Mendip",26503.72771258268,31078.462059579491,4574.7343469968109]
["Merton",614.53715622655011,370.92178156392202,985.45893779047219,0.37639496415302415,579.7528307121122,405.70610707836011,985.45893779047231,0.41169255411900391,{"$f":"SUM(POP!C166:F166)","v":162395},null,null,null,"Merton",61124.660203630359,66856.812326155647,5732.1521225252873]
["Mid Devon",697.79087572110268,285.38218440128583,983.17306012238851,0.29026648102599611,645.34795242165478,337.82510770073299,983.17306012238782,0.34360696138142727,{"$f":"SUM(POP!C167:F167)","v":64113},null,null,null,"Mid Devon",18609.85489801969,22029.673115047448,3419.8182170277578]
["Mid Suffolk",667.68815723924729,316.70105892173706,984.38921616098435,0.32172341358719703,629.09892228603587,355.29029387494887,984.38921616098469,0.36092460994294917,{"$f":"SUM(POP!C168:F168)","v":80463},null,null,null,"Mid Suffolk",25886.831027466636,29041.076889839518,3154.2458623728817]
["Mid Sussex",626.87618821975389,351.42817972884677,978.30436794860066,0.35922172203498792,587.85927374489938,390.44509420370133,978.30436794860066,0.39910390569186849,{"$f":"SUM(POP!C169:F169)","v":115100},null,null,null,"Mid Sussex",41346.420206227107,45936.859545134066,4590.4393389069592]
["Middlesbrough",655.7722199297807,322.14849264311391,977.92071257289467,0.32942189331029309,641.07280813126931,336.84790444162547,977.92071257289479,0.34445318532561159,{"$f":"SUM(POP!C170:F170)","v":110805},null,null,null,"Middlesbrough",36501.592888247025,38167.135200004392,1665.5423117573664]
["Milton Keynes",619.72535173071253,361.31192603418333,981.03727776489586,0.36829581731834171,576.97633544987889,404.06094231501726,981.03727776489609,0.41187114034605499,{"$f":"SUM(POP!C171:F171)","v":197838},null,null,null,"Milton Keynes",72862.907906626089,81483.762663782822,8620.8547571567324]
["Mole Valley",597.57940873484972,388.8634255030567,986.44283423790648,0.39420776552498338,562.94027438959131,423.50255984831506,986.44283423790637,0.4293229624152517,{"$f":"SUM(POP!C172:F172)","v":70481},null,null,null,"Mole Valley",27784.157521966354,30259.111713989354,2474.9541920230004]
["New Forest",657.2984721902925,329.75410220746699,987.05257439775949,0.33407957261918214,606.8100830765834,380.24249132117654,987.05257439775994,0.38523023107778998,{"$f":"SUM(POP!C173:F173)","v":149164},null,null,null,"New Forest",49832.645370167687,57462.482188487462,7629.8368183197745]
["Newark and Sherwood",680.28680348149601,298.71285141130352,978.99965489279953,0.30512048693624166,645.92575498741894,333.07389990538064,978.99965489279953,0.34021860808710114,{"$f":"SUM(POP!C174:F174)","v":95796},null,null,null,"Newark and Sherwood",29229.322166544203,32591.581780311939,3362.2596137677356]
["Newcastle upon Tyne",664.32558978838551,323.8184782892979,988.14406807768341,0.32770371117973535,618.81016065576114,369.33390742192194,988.14406807768307,0.373765242694233,{"$f":"SUM(POP!C175:F175)","v":237551},null,null,null,"Newcastle upon Tyne",77846.344294457318,88788.30716725775,10941.962872800432]
["Newcastle-under-Lyme",667.51083963501685,314.17039268664035,981.68123232165726,0.32003300291646952,641.48310991664903,340.19812240500869,981.68123232165772,0.34654642587028633,{"$f":"SUM(POP!C176:F176)","v":104283},null,null,null,"Newcastle-under-Lyme",33374.001643138196,36138.900929031071,2764.8992858928759]
["Newham",724.71451605359016,266.63277054234175,991.34728659593191,0.26896000437737611,702.33944970524431,289.00783689068766,991.34728659593202,0.29153036559274481,{"$f":"SUM(POP!C177:F177)","v":245096},null,null,null,"Newham",65921.021232877363,71452.926485319389,5531.9052524420258]
["North Devon",646.86762462108436,334.01808947410103,980.88571409518545,0.34052702029839921,602.11965088163004,378.7660632135549,980.88571409518499,0.38614698712677908,{"$f":"SUM(POP!C178:F178)","v":77693},null,null,null,"North Devon",26456.565788043528,30000.917870840847,3544.3520827973189]
["North Dorset",699.63398085854658,285.5594329852002,985.19341384374684,0.28985113884499675,645.54958412878557,339.6438297149611,985.19341384374661,0.34474837625013721,{"$f":"SUM(POP!C179:F179)","v":57529},null,null,null,"North Dorset",16674.846166613817,19833.029337294145,3158.1831706803277]
["North East Derbyshire",675.91795375670495,311.3709845848482,987.28893834155315,0.31537979662558441,635.1381138579153,352.15082448363881,987.28893834155406,0.35668466525633424,{"$f":"SUM(POP!C180:F180)","v":83145},null,null,null,"North East Derbyshire",26222.253190434218,29656.546492737911,3434.2933023036931]
["North East Lincolnshire",683.59207850694327,300.75513967215977,984.34721817910304,0.30553765390683213,646.33179370260268,338.01542447650053,984.34721817910327,0.34339044011500236,{"$f":"SUM(POP!C181:F181)","v":129421},null,null,null,"North East Lincolnshire",39542.988706276126,44441.934150123721,4898.945443847595]
["North Hertfordshire",635.86995112269847,354.49805231436818,990.36800343706659,0.35794578488408824,588.49862590748285,401.86937752958403,990.36800343706682,0.4057778281758887,{"$f":"SUM(POP!C182:F182)","v":104138},null,null,null,"North Hertfordshire",37275.758146259184,42256.891470580696,4981.1333243215122]
["North Kesteven",682.63615076169231,304.54323285749012,987.17938361918243,0.30849837214081421,644.97191212188193,342.2074714973005,987.17938361918243,0.34665176073947629,{"$f":"SUM(POP!C183:F183)","v":90635},null,null,null,"North Kesteven",27960.749958982695,31418.782334622432,3458.0323756397374]
["North Lincolnshire",708.62237172352752,279.2240413675687,987.84641309109622,0.28265936654448276,676.21835233413105,311.62806075696568,987.84641309109679,0.31546205627435742,{"$f":"SUM(POP!C184:F184)","v":137474},null,null,null,"North Lincolnshire",38858.313756336218,43367.83072426101,4509.516967924792]
["North Norfolk",734.576716426796,261.88767694304369,996.46439336983963,0.2628168940963288,674.33510598225257,322.1292873875862,996.46439336983872,0.32327225090121969,{"$f":"SUM(POP!C185:F185)","v":87755},null,null,null,"North Norfolk",23063.496541423337,28368.756377836533,5305.2598364131954]
["North Somerset",646.87149344436602,337.94441483148114,984.81590827584716,0.34315491046761487,607.51706489092578,377.29884338492178,984.81590827584751,0.38311611359474523,{"$f":"SUM(POP!C186:F186)","v":168746},null,null,null,"North Somerset",57906.018521768136,64649.311704658881,6743.2931828907458]
["North Tyneside",626.96896102817277,367.38552958819355,994.35449061636632,0.36947138375215044,594.6564476892097,399.69804292715764,994.35449061636734,0.40196735339264983,{"$f":"SUM(POP!C187:F187)","v":166405},null,null,null,"North Tyneside",61481.885613276594,66889.377441303892,5407.4918280272977]
["North Warwickshire",678.00727062202725,303.79735341329121,981.80462403531851,0.30942750316723167,650.08315248038957,331.72147155492883,981.8046240353184,0.3378691273539936,{"$f":"SUM(POP!C188:F188)","v":51372},null,null,null,"North Warwickshire",15895.909692707024,17357.012810429358,1461.103117722334]
["North West Leicestershire",718.28248614065114,275.85345168284823,994.13593782349938,0.27748061526352719,676.2813399379985,317.85459788550071,994.13593782349926,0.3197295116213103,{"$f":"SUM(POP!C189:F189)","v":77106},null,null,null,"North West Leicestershire",21395.420320509525,24653.063723072752,3257.6434025632261]
["Northampton",634.95550716480375,347.78491582480342,982.74042298960717,0.35389295859714665,606.28406235770149,376.45636063190534,982.74042298960683,0.38306795143999756,{"$f":"SUM(POP!C190:F190)","v":171944},null,null,null,"Northampton",60849.770873027781,65866.235842398935,5016.4649693711544]
["Northumberland",694.19432307214743,288.17249812722616,982.36682119937359,0.29334510481064069,666.91301120383014,315.45380999554345,982.36682119937359,0.32111610773906762,{"$f":"SUM(POP!C191:F191)","v":262861},null,null,null,"Northumberland",77108.98759562982,84408.901196399049,7299.9136007692287]
["Norwich",680.47285003214631,306.32972151063547,986.80257154278183,0.31042655374490463,647.2565407392882,339.54603080349352,986.80257154278172,0.34408709563113749,{"$f":"SUM(POP!C192:F192)","v":113085},null,null,null,"Norwich",35104.586830242537,38911.089209447186,3806.5023792046486]
["Nottingham",695.16965493626844,295.21132299835,990.38097793461839,0.29807854712031723,655.85518996714143,334.52578796747667,990.38097793461816,0.33777485171929567,{"$f":"SUM(POP!C193:F193)","v":253673},null,null,null,"Nottingham",75614.479283652225,85684.359960188885,10069.880676536661]
["Nuneaton and Bedworth",697.7502016967311,288.88635725295376,986.63655894968485,0.29279916158842234,677.34858055236737,309.28797839731743,986.63655894968474,0.31347711129472766,{"$f":"SUM(POP!C194:F194)","v":102024},null,null,null,"Nuneaton and Bedworth",29872.541661897201,{"$f":"I196*J196","v":31982.188802733293},2109.6471408360921]
["Oadby and Wigston",643.67608234131694,338.86760838121268,{"$f":"SUM(B197:C197)","v":982.54369072252962},{"$f":"C197/D197","v":0.34488808139617771},605.94528438240729,376.59840634012232,{"$f":"SUM(F197:G197)","v":982.54369072252962},{"$f":"G197/H197","v":0.38328922153393963},{"$f":"SUM(POP!C195:F195)","v":46249},null,null,null,{"$f":"A197","v":"Oadby and Wigston"},{"$f":"$J197*C197/$D197","v":15950.728876491825},17726.743206723175,{"$f":"P197-O197","v":1776.01433023135}]
["Oldham",690.746409376256,283.52580092831732,974.27221030457326,0.29101292013623437,662.10410828212582,312.16810202244773,974.27221030457349,0.32041158386818697,{"$f":"SUM(POP!C196:F196)","v":176430},null,null,null,"Oldham",51343.409499635825,56530.215741864224,5186.8062422283983]
["Oxford",617.14517047074025,370.22818839330824,987.37335886404844,0.3749627079459058,587.15541754731578,400.21794131673295,987.37335886404867,0.40533597318969078,{"$f":"SUM(POP!C197:F197)","v":128275},null,null,null,"Oxford",48098.341361761071,51994.471960907584,3896.1305991465124]
["Pendle",716.99034110810567,266.21215100131309,983.2024921094187,0.27076024841044327,689.8548960699103,293.34759603950869,983.20249210941893,0.29835928854303856,{"$f":"SUM(POP!C198:F198)","v":71561},null,null,null,"Pendle",19375.87413649973,21350.889047428383,1975.014910928654]
["Peterborough",693.12689359934973,289.58962886457442,982.71652246392409,0.29468277193355663,668.43285509429529,314.28366736962863,982.71652246392387,0.31981111560192188,{"$f":"SUM(POP!C199:F199)","v":147399},null,null,null,"Peterborough",43435.945900234314,47139.838628607686,3703.8927283733719]
["Plymouth",638.49724142695629,349.41868378410356,987.91592521105986,0.35369273322469541,603.56491246919313,384.35101274186678,987.91592521105986,0.38905235044141379,{"$f":"SUM(POP!C200:F200)","v":213749},null,null,null,"Plymouth",75601.468034045422,83159.550854501751,7558.0828204563295]
["Poole",611.4978742886218,376.64398173425701,988.14185602287876,0.38116387787700035,568.03183484068472,420.11002118219386,988.14185602287853,0.42515152922787131,{"$f":"SUM(POP!C201:F201)","v":122996},null,null,null,"Poole",46881.632323359539,52291.937488911259,5410.3051655517193]
["Portsmouth",677.64073920027715,321.45600868314449,999.09674788342159,0.32174662700498868,638.74381311558034,360.3529347678413,999.09674788342159,0.3606787185838069,{"$f":"SUM(POP!C202:F202)","v":169130},null,null,null,"Portsmouth",54417.007025353741,61001.59167407926,6584.5846487255185]
["Preston",645.27860758060569,340.56821835714885,985.8468259377546,0.34545753903827248,607.37570752279362,378.47111841496127,985.84682593775483,0.38390458685602896,{"$f":"SUM(POP!C203:F203)","v":113324},null,null,null,"Preston",39148.630153973194,43505.603400872627,4356.9732468994334]
["Purbeck",707.87973072328555,279.63332354385881,987.5130542671443,0.28316924250827347,651.8743119424015,335.638742324742,987.5130542671435,0.33988284091477389,{"$f":"SUM(POP!C204:F204)","v":38080},null,null,null,"Purbeck",10783.084754715055,12942.73858203459,2159.6538273195347]
["Reading",638.12124180323167,349.82154623346935,987.94278803670102,0.35409089521130638,606.73569284921541,381.20709518748589,987.94278803670136,0.38585948478357063,{"$f":"SUM(POP!C205:F205)","v":127477},null,null,null,"Reading",45138.445048851703,49188.209541755234,4049.7644929035305]
["Redbridge",634.78730270887081,357.44256920289814,992.2298719117689,0.36024169330258043,608.01722852941452,384.21264338235437,992.2298719117689,0.3872214032843786,{"$f":"SUM(POP!C206:F206)","v":222758},null,null,null,"Redbridge",80246.719116696215,86256.665352821612,6009.9462361253973]
["Redcar and Cleveland",690.67753589965503,290.03795524800955,980.71549114766458,0.29574117862520749,656.70440322027389,324.01108792739035,980.71549114766424,0.33038234926647519,{"$f":"SUM(POP!C207:F207)","v":110849},null,null,null,"Redcar and Cleveland",32782.613909425621,36622.553033839511,3839.9391244138897]
["Redditch",629.80940978836645,357.13236055198144,986.94177034034783,0.36185757993485673,602.06323026407995,384.87854007626822,986.94177034034817,0.38997086924747582,{"$f":"SUM(POP!C208:F208)","v":67851},null,null,null,"Redditch",24552.398656159963,26459.913449310483,1907.5147931505198]
["Reigate and Banstead",596.04938744017852,383.80724770614745,979.85663514632597,0.39169735034639219,551.15198907586478,428.70464607046119,979.85663514632597,0.43751772523991839,{"$f":"SUM(POP!C209:F209)","v":113038},null,null,null,"Reigate and Banstead",44276.685088455481,49456.128625669895,5179.4435372144144]
["Ribble Valley",636.4462024489053,340.62364829253517,977.0698507414404,0.34861749959233318,585.4962760201397,391.57357472130042,977.06985074144018,0.40076313318250328,{"$f":"SUM(POP!C210:F210)","v":47507},null,null,null,"Ribble Valley",16561.771553132974,19039.054168101182,2477.2826149682078]
["Richmond upon Thames",510.24131354997473,475.47025455030786,985.71156810028265,0.48236245767781766,482.56352264235994,503.14804545792271,985.71156810028265,0.51044145340367386,{"$f":"SUM(POP!C211:F211)","v":152215},null,null,null,"Richmond upon Thames",73422.801495429012,77696.845829840211,4274.0443344111991]
["Richmondshire",633.51896014026011,355.99150892057327,989.51046906083343,0.35976527793430302,593.92247923128593,395.58798982954806,989.510469060834,0.3997815103512844,{"$f":"SUM(POP!C212:F212)","v":44640},null,null,null,"Richmondshire",16059.922006987286,17846.246622081337,1786.3246150940504]
["Rochdale",691.44460092451209,283.10596904278452,974.55056996729661,0.29049900309666316,662.96570923296417,311.58486073433295,974.55056996729718,0.31972159304651449,{"$f":"SUM(POP!C213:F213)","v":167398},null,null,null,"Rochdale",48628.952120375216,53520.755232800431,4891.8031124252157]
["Rochford",679.24472541921341,301.97720070977164,981.22192612898505,0.30775627069515332,626.68690407998736,354.53502204899814,981.2219261289855,0.36131991408678849,{"$f":"SUM(POP!C214:F214)","v":69174},null,null,null,"Rochford",21288.732269066535,24993.943737039506,3705.2114679729711]
["Rossendale",667.98047716912322,318.60798057761554,986.58845774673875,0.32293909185323499,621.41521262553408,365.17324512120439,986.58845774673841,0.37013735793668284,{"$f":"SUM(POP!C215:F215)","v":55334},null,null,null,"Rossendale",17869.511708606908,20481.180564068407,2611.6688554614993]
["Rother",715.21807248670268,273.41216434853698,988.63023683523966,0.27655654678717106,670.44322050652431,318.18701632871512,988.63023683523943,0.321846332909341,{"$f":"SUM(POP!C216:F216)","v":77081},null,null,null,"Rother",21317.255182901932,24808.237186984916,3490.9820040829836]
["Rotherham",671.66477213978055,309.37707690773368,981.04184904751423,0.31535563667146865,643.3531976222431,337.68865142527159,981.04184904751469,0.34421431843415312,{"$f":"SUM(POP!C217:F217)","v":209140},null,null,null,"Rotherham",65953.477853470948,71988.982557318785,6035.5047038478369]
["Rugby",686.18728772161171,299.66469737823343,985.85198509984514,0.30396520157930601,634.59629114346512,351.25569395637984,985.85198509984502,0.35629658332615255,{"$f":"SUM(POP!C218:F218)","v":81584},null,null,null,"Rugby",24798.697005646103,29068.100454080828,4269.4034484347249]
["Runnymede",664.6190150704025,323.62024465165962,988.23925972206212,0.32747155252937066,579.93456116162895,408.30469856043362,988.23925972206257,0.41316381083187009,{"$f":"SUM(POP!C219:F219)","v":69032},null,null,null,"Runnymede",22606.016214207513,28521.524189345655,5915.5079751381418]
["Rushcliffe",601.22042084599809,391.43543470110222,992.65585554710037,0.39433146191976404,569.32199158731248,423.33386395978772,992.65585554710015,0.42646589106802596,{"$f":"SUM(POP!C220:F220)","v":92148},null,null,null,"Rushcliffe",36336.855552982415,39297.978930136458,2961.1233771540428]
["Rushmoor",647.74906078614265,327.83805274934662,975.58711353548927,0.33604180313665116,616.3421128613877,359.24500067410122,975.58711353548892,0.36823467191178,{"$f":"SUM(POP!C221:F221)","v":75981},null,null,null,"Rushmoor",25532.792244125892,27978.838606528956,2446.0463624030635]
["Rutland",617.91946580154922,358.02720705111869,975.94667285266792,0.36685119895394902,571.69298414840694,404.25368870426053,975.94667285266746,0.41421698536318302,{"$f":"SUM(POP!C222:F222)","v":31121},null,null,null,"Rutland",11416.776162645849,12890.846801487618,1474.0706388417693]
["Ryedale",678.31777527408065,299.06149576915607,977.37927104323671,0.30598305553374722,627.83294753425628,349.54632350898066,977.37927104323694,0.35763631771715521,{"$f":"SUM(POP!C223:F223)","v":43857},null,null,null,"Ryedale",13419.49886654355,15684.855986121276,2265.3571195777258]
["Salford",672.03664888647495,309.01959589917254,981.05624478564755,0.31498662542705763,641.73458585134858,339.32165893429885,981.05624478564744,0.34587380768208431,{"$f":"SUM(POP!C224:F224)","v":192307},null,null,null,"Salford",60574.132976001179,66513.954333918591,5939.8213579174117]
["Sandwell",753.69037916540651,227.81981810316034,981.5101972685668,0.23211151421264642,726.68870395657905,254.82149331198741,981.51019726856646,0.25962185010520239,{"$f":"SUM(POP!C225:F225)","v":245563},null,null,null,"Sandwell",56997.999764600099,63753.520377383815,6755.5206127837155]
["Scarborough",724.12091270240364,262.4632015983085,986.58411430071214,0.26603225999066649,680.98450686130116,305.5996074394107,986.58411430071192,0.30975524844733471,{"$f":"SUM(POP!C226:F226)","v":91106},null,null,null,"Scarborough",24237.135078709664,28220.561665042875,3983.4265863332112]
["Sedgemoor",729.97246414122117,254.63322137415039,984.60568551537153,0.25861441297778803,688.94329610497834,295.66238941039336,984.60568551537176,0.30028507224761242,{"$f":"SUM(POP!C227:F227)","v":96405},null,null,null,"Sedgemoor",24931.722483123656,28948.982390031077,4017.2599069074204]
["Sefton",662.33319823128261,313.23645746057497,975.56965569185763,0.32108056624458348,636.20302401351887,339.36663167833899,975.56965569185786,0.34786509574005331,{"$f":"SUM(POP!C228:F228)","v":226432},null,null,null,"Sefton",72702.914775893529,78767.789358611757,6064.8745827182283]
["Selby",650.98805816423726,342.78832168133363,993.77637984557089,0.34493506651325484,614.4579172794173,379.31846256615302,993.77637984557032,0.38169398091862267,{"$f":"SUM(POP!C229:F229)","v":69160},null,null,null,"Selby",23855.709200056706,26397.955720331942,2542.2465202752355]
["Sevenoaks",621.75748946855447,364.01488893365411,985.77237840220857,0.36926870432672143,580.3934327185641,405.37894568364447,985.77237840220857,0.41122976720113003,{"$f":"SUM(POP!C230:F230)","v":94082},null,null,null,"Sevenoaks",34741.538240466609,38689.318957816715,3947.780717350106]
["Sheffield",629.69730691987786,359.60515798281818,989.3024649026961,0.3634936439971243,585.50886910243412,403.79359580026198,989.3024649026961,0.40815990066291558,{"$f":"SUM(POP!C231:F231)","v":457851},null,null,null,"Sheffield",166425.92839772734,186876.41867841655,20450.490280689206]
["Shepway",703.77085877134334,280.76618780296928,984.53704657431263,0.28517584866906998,665.05401808234433,319.48302849196841,984.53704657431274,0.32450076876599671,{"$f":"SUM(POP!C232:F232)","v":89908},null,null,null,"Shepway",25639.590202138745,29175.215118213233,3535.6249160744883]
["Shropshire",652.22532107369705,335.0811887303708,987.3065098040679,0.33938922249876385,606.2441463953968,381.06236340867139,987.30650980406813,0.38596156272107796,{"$f":"SUM(POP!C233:F233)","v":256333},null,null,null,"Shropshire",86996.657570775642,98934.685256982077,11938.027686206435]
["Slough",692.39977005443507,286.41321970258554,978.81298975702066,0.29261281031189051,674.60055560966555,304.21243414735483,978.81298975702043,0.31079729972001313,{"$f":"SUM(POP!C234:F234)","v":107658},null,null,null,"Slough",31502.109932557509,33459.815693257173,1957.7057606996641]
["Solihull",646.99012155197215,338.52507775837768,985.51519931034977,0.34350061571376367,601.63915757222071,383.87604173812827,985.51519931034898,0.38951813427815202,{"$f":"SUM(POP!C235:F235)","v":169219},null,null,null,"Solihull",58126.830690467374,65913.869164414602,7787.0384739472283]
["South Bucks",568.54530966581115,409.38947691165936,977.9347865774705,0.41862656133178483,536.89136081158233,441.0434257658884,977.93478657747073,0.450994720526745,{"$f":"SUM(POP!C236:F236)","v":54900},null,null,null,"South Bucks",22982.598217114988,24759.610156918301,1777.011939803313]
["South Cambridgeshire",601.81828362202043,381.89706028974638,983.71534391176681,0.38821907440329628,570.84432714005709,412.87101677170961,983.71534391176669,0.41970578107475531,{"$f":"SUM(POP!C237:F237)","v":121584},null,null,null,"South Cambridgeshire",47201.227942250371,51029.50768619305,3828.2797439426795]
["South Derbyshire",675.45094737373859,313.11669219395304,988.56763956769169,0.3167377523412373,635.39457619937343,353.17306336831774,988.56763956769123,0.35725735825498317,{"$f":"SUM(POP!C238:F238)","v":78214},null,null,null,"South Derbyshire",24773.32656161753,27942.527018555254,3169.2004569377241]
["South Gloucestershire",647.08523728260832,332.91202427217513,979.99726155478345,0.33970709647086583,603.63237098061484,376.3648905741685,979.99726155478334,0.38404687986276492,{"$f":"SUM(POP!C239:F239)","v":219051},null,null,null,"South Gloucestershire",74413.179189039627,84125.853080818517,9712.6738917788898]
["South Hams",695.02097472112405,292.34313853519075,987.36411325631479,0.29608442783184274,610.11219552465809,377.25191773165795,987.36411325631605,0.38207983525701095,{"$f":"SUM(POP!C240:F240)","v":70479},null,null,null,"South Hams",20867.734389160443,26928.604709078874,6060.8703199184311]
["South Holland",765.84175689277492,223.33384812297118,989.1756050157461,0.22577775572964728,735.75978278300931,253.41582223273647,989.17560501574576,0.25618891220907392,{"$f":"SUM(POP!C241:F241)","v":74292},null,null,null,"South Holland",16773.481028666953,19032.78666583652,2259.3056371695675]
["South Kesteven",684.55333586170343,301.99422373114618,986.54755959284967,0.30611217958491516,656.39233856603732,330.15522102681285,986.54755959285012,0.33465717675391998,{"$f":"SUM(POP!C242:F242)","v":111583},null,null,null,"South Kesteven",34156.915334623583,37342.051753732652,3185.1364191090688]
["South Lakeland",704.57173221060793,282.78284892807415,987.35458113868208,0.28640455448330471,647.26590039290056,340.08868074578169,987.35458113868231,0.34444432349072512,{"$f":"SUM(POP!C243:F243)","v":87911},null,null,null,"South Lakeland",25178.110789181796,30280.444922393137,5102.3341332113414]
["South Norfolk",686.55963818577868,300.40237208090133,986.96201026667995,0.30437075485786097,642.0384181959837,344.92359207069643,986.96201026668018,0.34948011015894825,{"$f":"SUM(POP!C244:F244)","v":104626},null,null,null,"South Norfolk",31845.094597758565,36564.706005490123,4719.6114077315578]
["South Northamptonshire",689.77215408302902,294.883426814453,984.65558089748197,0.29947875433324234,614.32518252295984,370.33039837452304,984.65558089748288,0.37610145675199286,{"$f":"SUM(POP!C245:F245)","v":70641},null,null,null,"South Northamptonshire",21155.478684854574,26568.183006417526,5412.7043215629528]
["South Oxfordshire",665.1342349476738,314.84998357152534,979.9842185191992,0.32128066720021065,627.35980095059904,352.62441756859914,979.98421851919818,0.35982662874044141,{"$f":"SUM(POP!C246:F246)","v":109932},null,null,null,"South Oxfordshire",35319.026306653555,39556.460950694207,4237.4346440406516]
["South Ribble",628.32014618949108,360.799146512954,989.11929270244514,0.36476808123637772,590.70660569100528,398.41268701143957,989.11929270244491,0.40279538570409162,{"$f":"SUM(POP!C247:F247)","v":89167},null,null,null,"South Ribble",32525.275499604097,35916.056157076739,3390.7806574726419]
["South Somerset",706.66102915701356,282.87429096832597,989.53532012533947,0.28586578489436404,651.22269000593428,338.31263011940587,989.53532012534015,0.34189040374683471,{"$f":"SUM(POP!C248:F248)","v":135038},null,null,null,"South Somerset",38602.743860565133,46168.196341165065,7565.4524805999317]
["South Staffordshire",682.98606263188094,304.09370134588892,987.07976397776986,0.30807409131805225,642.70291553933998,344.37684843843016,987.0797639777702,0.34888451876538096,{"$f":"SUM(POP!C249:F249)","v":92837},null,null,null,"South Staffordshire",28600.674415694019,32389.392068621673,3788.7176529276549]
["South Tyneside",706.73406770915665,276.74624252831376,983.48031023747035,0.28139479728017214,676.69608724887746,306.78422298859249,983.48031023746989,0.31193733092075504,{"$f":"SUM(POP!C250:F250)","v":122816},null,null,null,"South Tyneside",34559.783422761619,38310.895234363452,3751.1118116018333]
["Southampton",683.58971664426804,306.01547115511926,989.60518779938729,0.30922985745013565,642.6634903150325,346.94169748435496,989.60518779938752,0.35058597283211379,{"$f":"SUM(POP!C251:F251)","v":199280},null,null,null,"Southampton",61623.325992663034,69864.772665983633,8241.4466733205991]
["Southend-on-Sea",680.26011066961973,299.47888751066876,979.73899818028849,0.30567211070183364,648.35184328536752,331.3871548949212,979.73899818028872,0.33824024103401085,{"$f":"SUM(POP!C252:F252)","v":142319},null,null,null,"Southend-on-Sea",43502.949122974263,48138.012863719392,4635.0637407451286]
["Southwark",642.82328618188103,347.87753529518653,990.70082147706762,0.35114287558228202,605.07065634309561,385.63016513397253,990.70082147706808,0.38924986915729409,{"$f":"SUM(POP!C253:F253)","v":243076},null,null,null,"Southwark",85354.40562503878,94617.301195278415,9262.8955702396343]
["Spelthorne",666.20957557006273,322.29944141286961,988.50901698293228,0.32604603081575578,634.79514545421614,353.71387152871671,988.50901698293285,0.35782563987964489,{"$f":"SUM(POP!C254:F254)","v":79427},null,null,null,"Spelthorne",25896.858089603036,28421.017098720553,2524.1590091175167]
["St Albans",559.76402287585813,421.35270857956624,981.11673145542431,0.42946236168505281,523.3456525250017,457.77107893042262,981.11673145542431,0.46658166582415561,{"$f":"SUM(POP!C255:F255)","v":111876},null,null,null,"St Albans",48046.53117587696,52199.290445743231,4152.7592698662702]
["St Edmundsbury",705.28029460596713,283.18057656529766,988.46087117126478,0.28648637980959857,663.14358400870162,325.31728716256339,988.46087117126501,0.32911498740165862,{"$f":"SUM(POP!C256:F256)","v":90996},null,null,null,"St Edmundsbury",26069.114617154231,29948.147393601328,3879.0327764470967]
["St Helens",692.11427625999931,288.50189556617028,980.61617182616965,0.29420470909520346,659.48660357460619,321.12956825156363,980.61617182616988,0.32747733259745693,{"$f":"SUM(POP!C257:F257)","v":144296},null,null,null,"St Helens",42452.56270360147,47253.669184482642,4801.1064808811716]
["Stafford",703.04872670612224,289.70489415030841,992.75362085643064,0.29181952909966241,659.49664505670114,333.25697579972899,992.75362085643019,0.33568950925833374,{"$f":"SUM(POP!C258:F258)","v":109894},null,null,null,"Stafford",32069.215330878305,{"$f":"I260*J260","v":36890.262930435325},4821.0475995570196]
["Staffordshire Moorlands",691.61623174017529,301.20898139245946,{"$f":"SUM(B261:C261)","v":992.82521313263476},{"$f":"C261/D261","v":0.30338570919453473},656.57835870948122,336.24685442315371,{"$f":"SUM(F261:G261)","v":992.82521313263487},{"$f":"G261/H261","v":0.33867678819537933},{"$f":"SUM(POP!C259:F259)","v":81538},null,null,null,{"$f":"A261","v":"Staffordshire Moorlands"},{"$f":"$J261*C261/$D261","v":24737.463956303971},27615.027955874841,{"$f":"P261-O261","v":2877.5639995708698}]
["Stevenage",700.57789966644407,284.21730025300741,984.79519991945153,0.28860548901563915,663.41762434139844,321.37757557805264,984.79519991945108,0.32633950247151788,{"$f":"SUM(POP!C260:F260)","v":68129},null,null,null,"Stevenage",19662.403361146477,22233.183963882042,2570.7806027355655]
["Stockport",645.08363410528807,340.62175165982671,985.70538576511478,0.34556141883655489,623.82624581426069,361.87913995085393,985.70538576511467,0.36712707993368587,{"$f":"SUM(POP!C261:F261)","v":231095},null,null,null,"Stockport",79857.516086033647,84841.232537275137,4983.7164512414893]
["Stockton-on-Tees",643.06799447352137,342.77621544498459,985.84420991850595,0.34769815757534339,615.84974591742548,369.99446400108093,985.84420991850641,0.37530723442770542,{"$f":"SUM(POP!C262:F262)","v":155657},null,null,null,"Stockton-on-Tees",54121.652113705226,58419.198189313342,4297.5460756081156]
["Stoke-on-Trent",717.16612269059476,270.93638726704484,988.10250995763954,0.27419866313127778,696.19236593408857,291.91014402355074,988.10250995763931,0.29542495953791792,{"$f":"SUM(POP!C263:F263)","v":200958},null,null,null,"Stoke-on-Trent",55102.414945535318,59368.009018820907,4265.5940732855888]
["Stratford-on-Avon",656.57134570827031,336.80583357440099,993.37717928267125,0.33905130961193636,597.73051720829415,395.64666207437728,993.37717928267148,0.39828442843842865,{"$f":"SUM(POP!C264:F264)","v":100582},null,null,null,"Stratford-on-Avon",34102.45882338778,40060.244381194032,5957.7855578062517]
["Stroud",616.93241856651559,368.02968048393097,984.96209905044657,0.37364857067975538,586.78274400349051,398.17935504695589,984.96209905044634,0.40425855515742287,{"$f":"SUM(POP!C265:F265)","v":93393},null,null,null,"Stroud",34896.160961494388,37754.919241817195,2858.758280322807]
["Suffolk Coastal",640.78531796698257,345.97930495332787,986.76462292031044,0.35061989142801747,611.53803425046738,375.22658866984358,986.76462292031101,0.38025946609168826,{"$f":"SUM(POP!C266:F266)","v":103111},null,null,null,"Suffolk Coastal",36152.767625034314,39208.933808180067,3056.1661831457532]
["Sunderland",665.75031533001766,320.02061261464218,985.77092794465989,0.32463993767993105,645.80620329065368,339.96472465400637,985.77092794466012,0.34487193222753626,{"$f":"SUM(POP!C267:F267)","v":228057},null,null,null,"Sunderland",74036.410267472034,78650.458248015231,4614.0479805431969]
["Surrey Heath",573.3279781994479,412.49540110727048,985.82337930671838,0.41842728602902318,542.88077813068742,442.94260117603108,985.82337930671849,0.44931233167500145,{"$f":"SUM(POP!C268:F268)","v":70032},null,null,null,"Surrey Heath",29303.299695184553,31466.2412118637,2162.9415166791478]
["Sutton",635.75720871109968,340.98962606583024,976.74683477692997,0.34910747997837704,613.90015837981957,362.84667639711046,976.74683477692997,0.37148487558700671,{"$f":"SUM(POP!C269:F269)","v":156201},null,null,null,"Sutton",54530.937480102475,58026.309051566037,3495.3715714635618]
["Swale",695.44005839717545,283.98260201306618,979.42266041024163,0.28994898065163927,659.70965292543406,319.71300748480786,979.42266041024186,0.32643006988514295,{"$f":"SUM(POP!C270:F270)","v":111286},null,null,null,"Swale",32267.262260798325,36327.096757238018,4059.8344964396929]
["Swindon",695.12820446714852,286.44891836940434,981.57712283655292,0.29182517777271211,649.64353447340829,331.93358836314525,981.5771228365536,0.33816353360388662,{"$f":"SUM(POP!C271:F271)","v":171272},null,null,null,"Swindon",49981.48184748795,57917.944727404873,7936.4628799169222]
["Tameside",681.86091072652357,300.86239008394352,982.72330081046709,0.30615168057561842,648.73678171732911,333.98651909313804,982.72330081046721,0.33985814604954839,{"$f":"SUM(POP!C272:F272)","v":177471},null,null,null,"Tameside",54333.044903435584,60314.965037559406,5981.9201341238222]
["Tamworth",727.7030598312341,259.37413222508701,987.07719205632111,0.26276985661551738,678.74078942979372,308.33640262652727,987.077192056321,0.31237314073095723,{"$f":"SUM(POP!C273:F273)","v":61915},null,null,null,"Tamworth",16269.395672349759,19340.583008357218,3071.1873360074587]
["Tandridge",609.26335012524135,377.69592438165904,986.95927450690033,0.38268643310572426,580.51832118771074,406.4409533191897,986.95927450690044,0.41181127106004822,{"$f":"SUM(POP!C274:F274)","v":68516},null,null,null,"Tandridge",26220.143650671802,28215.661047950263,1995.5173972784614]
["Taunton Deane",658.37252152445069,328.40314077054353,986.77566229499416,0.33280425665014851,626.77532045560338,360.00034183939022,986.77566229499359,0.36482490964777081,{"$f":"SUM(POP!C275:F275)","v":92134},null,null,null,"Taunton Deane",30662.587382204787,33612.778225487717,2950.1908432829296]
["Teignbridge",668.8889379293538,313.59118867715654,982.48012660651034,0.31918323860687298,636.64382205469713,345.83630455181304,982.48012660651011,0.35200335883264416,{"$f":"SUM(POP!C276:F276)","v":105525},null,null,null,"Teignbridge",33681.811253990272,37145.154440814775,3463.3431868245025]
["Telford and Wrekin",695.06552672480984,287.2358478372758,982.30137456208558,0.2924111227731172,653.91634403268722,328.38503052939882,982.30137456208604,0.33430171130096831,{"$f":"SUM(POP!C277:F277)","v":134022},null,null,null,"Telford and Wrekin",39189.523496298716,44803.783951978374,5614.2604556796578]
["Tendring",751.61679895690224,238.84149027833115,990.45828923523345,0.24114240132489456,699.50004833115804,290.95824090407558,990.45828923523368,0.29376122555219791,{"$f":"SUM(POP!C278:F278)","v":116136},null,null,null,"Tendring",28005.313920267952,34116.25369073006,6110.9397704621078]
["Test Valley",621.27158351329763,373.51846038319428,994.79004389649185,0.37547466691580494,583.41903545421007,411.37100844228206,994.79004389649208,0.41352545792575829,{"$f":"SUM(POP!C279:F279)","v":96253},null,null,null,"Test Valley",36140.563114646975,39803.065901728012,3662.5027870810372]
["Tewkesbury",647.84268192091702,329.77995881977904,977.62264074069606,0.33732847939151772,584.53410506378032,393.08853567691546,977.62264074069572,0.40208616218123994,{"$f":"SUM(POP!C280:F280)","v":69213},null,null,null,"Tewkesbury",23347.516044125117,27829.589543050159,4482.0734989250413]
["Thanet",765.14392160505292,227.41899162066193,992.56291322571485,0.22912299924805418,731.20774009439151,261.35517313132374,992.56291322571519,0.26331345816856033,{"$f":"SUM(POP!C281:F281)","v":110756},null,null,null,"Thanet",25376.746904717489,29163.545372917069,3786.7984681995804]
["Three Rivers",654.23340038832396,330.20208078531772,984.43548117364162,0.33542277487972255,618.53650620825488,365.89897496538657,984.43548117364139,0.37168405849123071,{"$f":"SUM(POP!C282:F282)","v":71492},null,null,null,"Three Rivers",23980.04502170112,26572.436709655067,2592.3916879539465]
["Thurrock",710.11333080870509,276.67491931714909,986.78825012585412,0.28037921943422228,668.85820063539359,317.93004949046133,986.78825012585492,0.32218669957806301,{"$f":"SUM(POP!C283:F283)","v":125616},null,null,null,"Thurrock",35220.116028449273,40471.804454197962,5251.688425748689]
["Tonbridge and Malling",650.2184308230386,344.52121722144761,994.73964804448622,0.34634310384503758,612.4584334680776,382.28121457640765,994.73964804448519,0.3843027824696818,{"$f":"SUM(POP!C284:F284)","v":97807},null,null,null,"Tonbridge and Malling",33874.779957771585,37587.502245012169,3712.7222872405837]
["Torbay",724.38608052547022,255.13251136926687,979.51859189473703,0.26046724736051197,676.93177721247844,302.58681468225865,979.51859189473703,0.30891380437909627,{"$f":"SUM(POP!C285:F285)","v":110252},null,null,null,"Torbay",28717.034955991166,34058.364760404125,5341.3298044129588]
["Torridge",705.42823179813229,288.67601620253737,994.10424800066971,0.29038807226014679,630.44945214213317,363.65479585853581,994.10424800066903,0.36581152991742477,{"$f":"SUM(POP!C286:F286)","v":54428},null,null,null,"Torridge",15805.24199697527,19910.389950345594,4105.1479533703241]
["Tower Hamlets",635.7922352131128,357.9916419827133,993.78387719582611,0.36023088137922232,615.13803927480899,378.64583792101706,993.78387719582611,0.38101426940981103,{"$f":"SUM(POP!C287:F287)","v":217830},null,null,null,"Tower Hamlets",78469.092890836007,82996.338305539131,4527.245414703124]
["Trafford",606.13322678557211,378.82024805193964,984.95347483751175,0.38460725072768925,573.93912491849062,411.01434991902136,984.95347483751198,0.41729316198090116,{"$f":"SUM(POP!C288:F288)","v":182987},null,null,null,"Trafford",70378.126988907679,76359.223831399155,5981.0968424914754]
["Tunbridge Wells",641.37878005344783,341.83913188977664,983.21791194322441,0.34767382462974905,608.07860070114396,375.13931124208034,983.21791194322429,0.38154238921528383,{"$f":"SUM(POP!C289:F289)","v":92162},null,null,null,"Tunbridge Wells",32042.315025526932,35163.70967485899,3121.3946493320582]
["Uttlesford",619.88966215106109,365.92257385436841,985.81223600542944,0.37118891457171266,560.66366984375304,425.1485661616764,985.81223600542944,0.43126728461436431,{"$f":"SUM(POP!C290:F290)","v":66107},null,null,null,"Uttlesford",24538.185575592208,28509.786384001782,3971.6008084095738]
["Vale of White Horse",637.47759013624557,347.27626416626271,984.75385430250822,0.35265286106672328,605.46243469444482,379.2914196080643,984.75385430250913,0.38516368120916111,{"$f":"SUM(POP!C291:F291)","v":100129},null,null,null,"Vale of White Horse",35310.77832574994,38566.054235792093,3255.2759100421536]
["Wakefield",709.89528018383703,272.87379325058316,982.76907343442019,0.27765809957469317,685.45121371204596,297.31785972237441,982.76907343442031,0.30253074476932479,{"$f":"SUM(POP!C292:F292)","v":268903},null,null,null,"Wakefield",74663.095949933719,81351.424860705738,6688.3289107720193]
["Walsall",688.43096165977204,294.08337584389142,982.51433750366346,0.29931713423245071,655.56841265012326,326.94592485354025,982.51433750366346,0.33276453317132504,{"$f":"SUM(POP!C293:F293)","v":215335},null,null,null,"Walsall",64453.455099944775,71655.85075044728,7202.3956505025053]
["Waltham Forest",652.35031526836485,332.38975954743245,984.74007481579724,0.33754060390972546,614.01457393916201,370.72550087663541,984.74007481579747,0.37647041118539043,{"$f":"SUM(POP!C294:F294)","v":208021},null,null,null,"Waltham Forest",70215.533965905008,78313.751405196104,8098.2174392910965]
["Wandsworth",594.46904346867495,398.3240688774909,992.7931123461658,0.40121558452009465,565.43665680901927,427.35645553714647,992.7931123461658,0.43045872319482448,{"$f":"SUM(POP!C295:F295)","v":256829},null,null,null,"Wandsworth",103043.79735671139,110554.28341940358,7510.4860626921873]
["Warrington",619.71598657925972,359.21118453725438,978.92717111651405,0.36694372690417465,576.92890895003995,401.99826216647409,978.92717111651405,0.41065185851157399,{"$f":"SUM(POP!C296:F296)","v":165970},null,null,null,"Warrington",60901.65035428587,68155.888957165938,7254.2386028800684]
["Warwick",612.5977098527627,371.69316648780494,984.29087634056759,0.3776253294856286,574.58566743228357,409.70520890828431,984.29087634056782,0.41624403797330839,{"$f":"SUM(POP!C297:F297)","v":114582},null,null,null,"Warwick",43269.065503122292,47694.074359057624,4425.0088559353317]
["Watford",635.89282441004434,350.6260001061458,986.51882451619008,0.35541744505291145,607.87633016035011,378.6424943558402,986.51882451619031,0.38381679593547996,{"$f":"SUM(POP!C298:F298)","v":73729},null,null,null,"Watford",26204.572806306111,28298.428547527001,2093.8557412208902]
["Waveney",717.29206446102694,267.58011802127197,984.87218248229897,0.2716901977542463,679.63405032071444,305.23813216158396,984.8721824822984,0.30992664590470365,{"$f":"SUM(POP!C299:F299)","v":96161},null,null,null,"Waveney",26126.001106246084,29802.856196842207,3676.8550905961238]
["Waverley",619.61682763133899,364.25364966998535,983.8704773013244,0.37022520552614108,574.23385321170485,409.6366240896192,983.87047730132406,0.41635218612638814,{"$f":"SUM(POP!C300:F300)","v":98046},null,null,null,"Waverley",36299.10050101603,40821.666440947854,4522.5659399318247]
["Wealden",660.78901234466002,323.74668957784229,984.53570192250231,0.32883184321875003,602.3932013765982,382.14250054590434,984.53570192250254,0.38814488880362064,{"$f":"SUM(POP!C301:F301)","v":125877},null,null,null,"Wealden",41392.365928846593,48858.514167933354,7466.1482390867604]
["Wellingborough",715.31623021993414,277.65282172779655,992.96905194773069,0.2796188070344936,682.5202963132474,310.44875563448318,992.96905194773058,0.31264696017013938,{"$f":"SUM(POP!C302:F302)","v":60499},null,null,null,"Wellingborough",16916.658206779826,18914.828443333263,1998.1702365534366]
["Welwyn Hatfield",677.2879894611392,314.30135662867877,991.58934608981804,0.31696725854112734,641.87291211855586,349.71643397126223,991.58934608981804,0.35268272632245984,{"$f":"SUM(POP!C303:F303)","v":93089},null,null,null,"Welwyn Hatfield",29506.165130335005,32830.882310631467,3324.7171802964622]
["West Berkshire",635.91082496085119,344.03013452083508,979.94095948168626,0.35107230817538299,593.82173082797169,386.1192286537148,979.94095948168649,0.39402295099282536,{"$f":"SUM(POP!C304:F304)","v":123836},null,null,null,"West Berkshire",43475.390355206735,48794.226159147518,5318.8358039407831]
["West Devon",685.85567655827276,299.5406436854517,985.3963202437244,0.30397986833497043,632.40325384908101,352.99306639464317,985.39632024372418,0.35822446171438432,{"$f":"SUM(POP!C305:F305)","v":45242},null,null,null,"West Devon",13752.657203210731,16206.791096882176,2454.1338936714455]
["West Dorset",729.71204346937623,267.87382331715327,997.58586678652955,0.26852207136819312,686.7329514591612,310.8529153273679,997.5858667865291,0.31160517172191105,{"$f":"SUM(POP!C306:F306)","v":84362},null,null,null,"West Dorset",22653.058984763506,26287.635496803861,3634.5765120403557]
["West Lancashire",653.44807160381845,330.18570041475442,983.63377201857293,0.33567950776757172,629.7636720633177,353.87009995525489,983.63377201857259,0.35975798109194368,{"$f":"SUM(POP!C307:F307)","v":91694},null,null,null,"West Lancashire",30779.79678523972,32987.648318244683,2207.8515330049631]
["West Lindsey",653.94823648460817,330.84661635400238,984.7948528386105,0.33595485943123826,623.83168804531329,360.96316479329647,984.79485283860981,0.3665364047677977,{"$f":"SUM(POP!C308:F308)","v":75287},null,null,null,"West Lindsey",25293.033501999638,27595.426305753186,2302.3928037535479]
["West Oxfordshire",655.25928752045365,327.65017756347476,982.90946508392835,0.33334726055923924,617.18088507754692,365.72858000638143,982.90946508392835,0.37208775884069112,{"$f":"SUM(POP!C309:F309)","v":87891},null,null,null,"West Oxfordshire",29298.224077812098,32703.165212267184,3404.9411344550863]
["West Somerset",758.34024688931811,229.5554212784927,987.89566816781075,0.23236808164594447,699.5836766235733,288.31199154423763,987.89566816781098,0.29184457512497453,{"$f":"SUM(POP!C310:F310)","v":29614},null,null,null,"West Somerset",6881.3483698629989,8642.6852477509965,1761.3368778879976]
["Westminster",591.66359899313284,402.76453886902226,994.42813786215515,0.40502126150100187,557.39207472320015,437.03606313895511,994.42813786215527,0.43948481192266481,{"$f":"SUM(POP!C311:F311)","v":191167},null,null,null,"Westminster",77426.699497362031,84014.99304082006,6588.2935434580286]
["Weymouth and Portland",697.26332258829177,290.31594952377304,987.57927211206481,0.29396723657726753,636.18682835220648,351.39244375985828,987.5792721120647,0.35581188637987565,{"$f":"SUM(POP!C312:F312)","v":54395},null,null,null,"Weymouth and Portland",15990.34783362047,19354.387559633335,3364.0397260128648]
["Wigan",691.41993802819661,303.16728695541804,994.58722498361465,0.30481719384683686,659.77774983691427,334.80947514670083,994.5872249836151,0.33663158618613515,{"$f":"SUM(POP!C313:F313)","v":259876},null,null,null,"Wigan",79214.673068140575,87482.470091708063,8267.7970235674875]
["Wiltshire",683.36078087203316,298.0083999855409,981.36918085757407,0.30366594529198976,628.72159522709273,352.6475856304815,981.36918085757429,0.35934242944364592,{"$f":"SUM(POP!C314:F314)","v":388500},null,null,null,"Wiltshire",117974.21974593803,139604.53383885644,21630.314092918416]
["Winchester",594.22038733408124,400.56805677761048,994.78844411169166,0.40266657614353629,542.00957386530342,452.77887024638818,994.78844411169166,0.45515091467583596,{"$f":"SUM(POP!C315:F315)","v":96483},null,null,null,"Winchester",38850.479266056813,43914.325700668684,5063.8464346118708]
["Windsor and Maidenhead",588.50097433010831,389.48276157244288,977.98373590255119,0.39825075537989513,540.1221637687978,437.86157213375373,977.98373590255153,0.4477186644925793,{"$f":"SUM(POP!C316:F316)","v":117000},null,null,null,"Windsor and Maidenhead",46595.338379447734,52383.083745631775,5787.7453661840409]
["Wirral",653.63579681046463,327.32719082225162,980.96298763271625,0.33367945065100324,609.32134064719685,371.64164698551957,980.96298763271648,0.37885389323645546,{"$f":"SUM(POP!C317:F317)","v":260929},null,null,null,"Wirral",87066.645378915622,98853.967508295085,11787.322129379463]
["Woking",604.52906989064616,380.12147810853162,984.65054799917777,0.38604708937698073,572.87470365680952,411.7758443423682,984.65054799917766,0.41819490699426504,{"$f":"SUM(POP!C318:F318)","v":78817},null,null,null,"Woking",30427.073443425488,32960.86798456699,2533.7945411415021]
["Wokingham",611.35704061765819,374.76778579558595,986.12482641324414,0.3800409195240525,553.36507089844781,432.7597555147957,986.12482641324345,0.43884885962037862,{"$f":"SUM(POP!C319:F319)","v":125294},null,null,null,"Wokingham",47616.846970846629,54985.129017275722,7368.2820464290926]
["Wolverhampton",691.08819069041283,300.44057264618874,991.52876333660151,0.30300742021358384,660.06360732291114,331.4651560136906,991.52876333660174,0.33429706557203082,{"$f":"SUM(POP!C320:F320)","v":201237},null,null,null,"Wolverhampton",60976.304221520972,67272.938584518764,6296.6343629977928]
["Worcester",654.1172950959949,337.39116469625077,991.50845979224573,0.34028067170192933,627.08199786127545,364.42646193097016,991.50845979224562,0.36754750635948158,{"$f":"SUM(POP!C321:F321)","v":81670},null,null,null,"Worcester",27790.722457896565,30017.60484437886,2226.8823864822953]
["Worthing",682.53726549489863,312.78150207702163,995.31876757192026,0.31425259149895463,635.85837848156166,359.46038909035929,995.31876757192094,0.36115102096111634,{"$f":"SUM(POP!C322:F322)","v":87186},null,null,null,"Worthing",27398.426442427859,{"$f":"I324*J324","v":31487.312913515889},4088.8864710880298]
["Wychavon",704.23585660076537,293.05310241572101,{"$f":"SUM(B325:C325)","v":997.28895901648639},{"$f":"C325/D325","v":0.29384974110685658},663.11318070943048,334.17577830705505,{"$f":"SUM(F325:G325)","v":997.28895901648548},{"$f":"G325/H325","v":0.33508420532060762},{"$f":"SUM(POP!C323:F323)","v":98779},null,null,null,{"$f":"A325","v":"Wychavon"},{"$f":"$J325*C325/$D325","v":29026.183576794185},33099.282717364302,{"$f":"P325-O325","v":4073.099140570117}]
["Wycombe",645.87416303748864,339.44775378463191,985.32191682212056,0.34450441829146095,605.41581952983188,379.90609729228805,985.32191682211987,0.38556545917254015,{"$f":"SUM(POP!C324:F324)","v":138350},null,null,null,"Wycombe",47662.186270623621,53342.981276520928,5680.7950058973074]
["Wyre",668.90737389950993,323.71583138321455,992.62320528272448,0.32612156320787605,626.48563323485314,366.13757204787231,992.62320528272539,0.36885856596873196,{"$f":"SUM(POP!C325:F325)","v":91137},null,null,null,"Wyre",29721.7409060762,33616.663126692321,3894.9222206161212]
["Wyre Forest",671.05943287308173,316.51150749618029,987.57094036926196,0.32049495844605724,625.4871174683251,362.08382290093687,987.57094036926196,0.36664082356002736,{"$f":"SUM(POP!C326:F326)","v":81583},null,null,null,"Wyre Forest",26146.940194904688,29911.658308497714,3764.7181135930259]
["York",624.30074970900262,370.6910581418702,994.99180785087287,0.37255689465679354,600.03419202035604,394.95761583051711,994.9918078508731,0.39694559564626325,{"$f":"SUM(POP!C327:F327)","v":170265},null,null,null,"York",63433.399668738952,67585.941842711007,4152.542173972055]
["England",{"$f":"SUM(B4:B329)","v":217691.83062834121},{"$f":"SUM(C4:C329)","v":104334.09358489139},322025.92421323259,0.32399283951998087,{"$f":"SUM(F4:F329)","v":205072.89943597632},{"$f":"SUM(G4:G329)","v":116953.02477725616},{"$f":"SUM(H4:H329)","v":322025.92421323265},0.36317891195559321,{"$f":"SUM(POP!C328:F328)","v":43656579},null,null,null,"England",{"$f":"$J330*C330/$D330","v":14144418.993938368},15855148.8609234,1710729.8669850323]
[null,null,null,null,null,null,null,null,null,null,null,null,null,"Black Country",{"$f":"MMULT(LAtoLEPConv,O4:Q329)","v":258732.515532355},288930.23281602591,30197.717283670914]
[null,null,null,null,null,null,null,null,null,null,null,null,null,"Buckinghamshire Thames Valley",149485.93080601262,165360.48638598798,15874.555579975349]
[null,null,null,null,null,null,null,null,null,null,null,null,null,"Cheshire and Warrington",258180.17174808378,288040.09183274169,29859.920084657904]
[null,null,null,null,null,null,null,null,null,null,null,null,null,"Coast to Capital",554468.07767654175,613979.7770700797,59511.699393538132]
[null,null,null,null,null,null,null,null,null,null,null,null,null,"Cornwall and Isles of Scilly",129582.06890720085,160852.30966775629,31270.240760555433]
[null,null,null,null,null,null,null,null,null,null,null,null,null,"Coventry and Warwickshire",230226.2990344298,258074.54659889932,27848.24756446953]
[null,null,null,null,null,null,null,null,null,null,null,null,null,"Cumbria",129573.89122694655,145536.53325682002,15962.642029873472]
[null,null,null,null,null,null,null,null,null,null,null,null,null,"Derby, Derbyshire, Nottingham and Nottinghamshire",548764.52505366202,614287.70697296981,65523.181919307761]
[null,null,null,null,null,null,null,null,null,null,null,null,null,"Dorset",209951.51638421498,239602.70660027434,29651.190216059382]
[null,null,null,null,null,null,null,null,null,null,null,null,null,"Enterprise M3",454757.15088281792,516278.47917582246,61521.328293004612]
[null,null,null,null,null,null,null,null,null,null,null,null,null,"Gloucestershire",169957.05571136359,190099.50846747967,20142.452756116068]
[null,null,null,null,null,null,null,null,null,null,null,null,null,"Greater Birmingham and Solihull",467580.24049402523,530605.33859292394,63025.098098898874]
[null,null,null,null,null,null,null,null,null,null,null,null,null,"Greater Cambridge and Greater Peterborough",381963.37267490447,427362.47382232826,45399.101147423855]
[null,null,null,null,null,null,null,null,null,null,null,null,null,"Greater Lincolnshire",264251.7652720359,294526.53380674857,30274.768534712719]
[null,null,null,null,null,null,null,null,null,null,null,null,null,"Greater Manchester",732695.2281296202,799517.95833927672,66822.730209656787]
[null,null,null,null,null,null,null,null,null,null,null,null,null,"Heart of the South West",428526.81568021787,495469.38014798687,66942.564467768942]
[null,null,null,null,null,null,null,null,null,null,null,null,null,"Hertfordshire",317677.50257894461,349954.67581435054,32277.173235405986]
[null,null,null,null,null,null,null,null,null,null,null,null,null,"Humber",221078.86278897274,252244.34638823604,31165.483599263309]
[null,null,null,null,null,null,null,null,null,null,null,null,null,"Lancashire",374713.58778211841,424776.68910617393,50063.101324055555]
[null,null,null,null,null,null,null,null,null,null,null,null,null,"Leeds City Region",756697.03859405976,843266.65122961253,86569.612635552854]
[null,null,null,null,null,null,null,null,null,null,null,null,null,"Leicester and Leicestershire",259724.29717502082,291223.02736309957,31498.730188078749]
[null,null,null,null,null,null,null,null,null,null,null,null,null,"Liverpool City Region",405554.26439303719,445772.324483659,40218.060090621788]
[null,null,null,null,null,null,null,null,null,null,null,null,null,"London Enterprise Panel",2361295.6578995762,2569724.4513624981,208428.79346292157]
[null,null,null,null,null,null,null,null,null,null,null,null,null,"New Anglia",394144.90708914987,450319.97866349266,56175.071574342786]
[null,null,null,null,null,null,null,null,null,null,null,null,null,"North Eastern",513136.47932505322,563047.91481926024,49911.435494206897]
[null,null,null,null,null,null,null,null,null,null,null,null,null,"Northamptonshire",171706.27899075186,196000.24948919076,24293.970498438903]
[null,null,null,null,null,null,null,null,null,null,null,null,null,"Oxfordshire",185993.91712680855,204123.74226976413,18129.8251429556]
[null,null,null,null,null,null,null,null,null,null,null,null,null,"Sheffield City Region",461192.14761908585,520396.34661091014,59204.198991824334]
[null,null,null,null,null,null,null,null,null,null,null,null,null,"Solent",409201.99590481946,466559.12756084627,57357.131656026882]
[null,null,null,null,null,null,null,null,null,null,null,null,null,"South East",1012695.7969812406,1147814.3618420856,135118.56486084522]
[null,null,null,null,null,null,null,null,null,null,null,null,null,"South East Midlands",441922.50333818671,492603.9988745072,50681.495536320625]
[null,null,null,null,null,null,null,null,null,null,null,null,null,"Stoke-on-Trent and Staffordshire",272672.73158891802,306474.76097298338,33802.029384065434]
[null,null,null,null,null,null,null,null,null,null,null,null,null,"Swindon and Wiltshire",167955.70159342597,197522.4785662613,29566.776972835338]
[null,null,null,null,null,null,null,null,null,null,null,null,null,"Tees Valley",182817.41128490146,201033.03097465722,18215.619689755771]
[null,null,null,null,null,null,null,null,null,null,null,null,null,"Thames Valley Berkshire",247597.11033943947,275088.72371727083,27491.613377831341]
[null,null,null,null,null,null,null,null,null,null,null,null,null,"The Marches",172374.6926972731,194020.7379700671,21646.045272793985]
[null,null,null,null,null,null,null,null,null,null,null,null,null,"West of England",315316.44167449523,350398.26190861291,35081.820234117666]
[null,null,null,null,null,null,null,null,null,null,null,null,null,"Worcestershire",154469.43080605866,172791.43883256588,18322.008026507217]
[null,null,null,null,null,null,null,null,null,null,null,null,null,"York North Yorkshire and East Riding",296742.48640430352,336289.16263408301,39546.676229779521]
[null,null,null,null,null,null,null,null,null,null,null,null,null,"Active Cumbria",{"$f":"MMULT(LAtoCSPConv,O4:Q329)","v":129573.89122694655},145536.53325682002,15962.642029873472]
[null,null,null,null,null,null,null,null,null,null,null,null,null,"Active Devon",300944.6858718787,347018.27588397253,46073.590012093846]
[null,null,null,null,null,null,null,null,null,null,null,null,null,"Active Dorset",209951.51638421498,239602.70660027434,29651.190216059382]
[null,null,null,null,null,null,null,null,null,null,null,null,null,"Active Essex",445252.17637306493,505665.01589853357,60412.839525468698]
["England detailed sports participation 1+",null,null,null,null,null,null,null,null,null,null,null,null,"Active Gloucestershire",169957.05571136359,190099.50846747967,20142.452756116068]
[null,"Athletics","Badminton","Cricket","Golf","Squash","Tennis","Swimming","Football","Cycling","Health and fitness","Total",null,"Active Norfolk",215578.18272710044,248588.70302745438,33010.520300353906]
["16-29",5288.1420904576271,1201.1658139144774,608.90369366311256,469.17476643179037,455.65881373805803,908.12248612881456,5040.5511343036796,9223.3739638289189,3944.0923706921503,16375.245803679054,{"$f":"SUM(B376:K376)","v":43514.430936837678},null,"Active Surrey ",324140.71730751457,367908.90765506227,43768.190347547687]
["30-49",7934.5333545232206,1267.5436508568096,442.28894047567132,1094.002796364935,699.85139709305383,855.31766429456331,8470.049365922594,4005.2425487031951,6884.0184893960877,19661.514155482488,{"$f":"SUM(B377:K377)","v":51314.362363112617},null,"Active Sussex",449037.86006008019,504928.23662985646,55890.376569776199]
["50-64",1936.6208432011629,818.97923737999611,102.65104653126488,1798.0139076850869,382.67026354506544,702.03199854559489,4778.6016707275294,724.15330921293685,3342.5837849376876,9153.8982661189257,{"$f":"SUM(B378:K378)","v":23740.204327885251},null,"Birmingham Sport & Physical Activity Partnership",232543.475082852,263771.92031761381,31228.445234761806]
["65+",204.76374792777827,351.68756466045238,21.581912502262441,2059.7865431635137,67.854936550153141,436.23571531088959,2329.9792285391513,90.080079818344856,1065.6047918041113,4760.3376003152962,{"$f":"SUM(B379:K379)","v":11387.912120591953},null,"Black Country Be Active Partnership",258732.515532355,288930.23281602591,30197.717283670914]
[null,null,null,null,null,null,null,null,null,null,null,null,null,"Cornwall Sports Partnership",129582.06890720085,160852.30966775629,31270.240760555433]
["Participation share","Athletics","Badminton","Cricket","Golf","Squash","Tennis","Swimming","Football","Cycling","Health and fitness","Total",null,"County Durham Sport",131475.0104905444,144519.44378669726,13044.433296152856]
["16-29",{"$f":"B376/$L376","v":0.12152616905719167},2.7603849758669731E-2,1.3993143896261726E-2,1.0782049916102768E-2,1.0471441402955691E-2,2.0869455639830791E-2,0.11583631052466641,0.21196126814152494,{"$f":"J376/$L376","v":9.0638721127184282E-2},0.37631759053561215,1,null,"Coventry Solihull & Warwickshire Sport",288353.12972489721,323988.41576331394,35635.286038416758]
["30-49",0.15462597583063739,2.4701537590730828E-2,8.619203671399631E-3,2.1319621758592873E-2,1.3638509081351126E-2,1.6668192391091841E-2,0.16506196269158549,7.8053051119706937E-2,0.13415383476234466,0.38315811110255921,1,null,"Derbyshire Sports Partnership",263283.0692873518,296766.73175348714,33483.662466135371]
["50-64",8.1575576033539335E-2,3.4497564808994623E-2,4.3239327308860157E-3,7.5737086456881889E-2,1.6119080453557044E-2,2.9571438764787204E-2,0.20128730168992617,3.0503246695410543E-2,0.14079844211835565,0.38558633024766154,1,null,"Energize Shropshire Telford & Wrekin",126186.18106707436,143738.46920896045,17552.288141886092]
["65+",1.7980798039134719E-2,3.0882532367326646E-2,1.8951597337353351E-3,0.18087481896167323,5.9585054601410106E-3,3.830690917627258E-2,0.20460108963486076,7.9101488371568513E-3,9.3573324110681699E-2,0.41801671367901722,1,null,"Get Berkshire Active",247597.11033943947,275088.72371727083,27491.613377831341]
[null,null,null,null,null,null,null,null,null,null,null,null,null,"Greater Sport",732695.2281296202,799517.95833927672,66822.730209656787]
["Weighted average health costs","Athletics","Badminton","Cricket","Golf","Squash","Tennis","Swimming","Football","Cycling","Health and fitness","Total",null,"Herts Sports Partnership",317677.50257894461,349954.67581435054,32277.173235405986]
["16-29",{"$f":"B382*ASSUMS!B14","v":291.71851056712285},{"$f":"C382*ASSUMS!C14","v":41.485182972926793},{"$f":"D382*ASSUMS!D14","v":35.253433176372333},{"$f":"E382*ASSUMS!E14","v":46.989514189686822},{"$f":"F382*ASSUMS!F14","v":35.563067362815765},{"$f":"G382*ASSUMS!G14","v":50.64251597110151},{"$f":"H382*ASSUMS!H14","v":373.31577240927589},{"$f":"I382*ASSUMS!I14","v":756.84913973834557},{"$f":"J382*ASSUMS!J14","v":332.34229583206462},{"$f":"K382*ASSUMS!K14","v":2213.3957771971609},{"$f":"SUM(B388:K388)","v":4177.5552094168734},null,"Humber Sports Partnership",157172.17937974219,182350.00381417375,25177.824434431561]
["30-49",{"$f":"B383*ASSUMS!B15","v":473.19947867976333},{"$f":"C383*ASSUMS!C15","v":47.306698113434827},{"$f":"D383*ASSUMS!D15","v":27.683855880612676},{"$f":"E383*ASSUMS!E15","v":118.46711739739911},{"$f":"F383*ASSUMS!F15","v":59.051582602547633},{"$f":"G383*ASSUMS!G15","v":51.572950449948387},{"$f":"H383*ASSUMS!H15","v":678.31596107656515},{"$f":"I383*ASSUMS!I15","v":355.31739263617993},{"$f":"J383*ASSUMS!J15","v":627.23561829619348},{"$f":"K383*ASSUMS!K15","v":2873.346683834709},{"$f":"SUM(B389:K389)","v":5311.4973389673542},null,"Kent Sport",430403.32849989185,485731.69691199227,55328.368412100448]
["50-64",{"$f":"B384*ASSUMS!B16","v":203.02519048085935},{"$f":"C384*ASSUMS!C16","v":55.382223327502089},{"$f":"D384*ASSUMS!D16","v":11.332007075500805},{"$f":"E384*ASSUMS!E16","v":323.95920225693033},{"$f":"F384*ASSUMS!F16","v":55.921404367820571},{"$f":"G384*ASSUMS!G16","v":72.726575573346651},{"$f":"H384*ASSUMS!H16","v":671.97612807103712},{"$f":"I384*ASSUMS!I16","v":108.58512973266987},{"$f":"J384*ASSUMS!J16","v":504.4374955124934},{"$f":"K384*ASSUMS!K16","v":2182.544584694258},{"$f":"SUM(B390:K390)","v":4189.8899410924178},null,"Lancashire Sport Partnership",374713.58778211841,424776.68910617393,50063.101324055555]
["65+",{"$f":"B385*ASSUMS!B17","v":12.177964412732617},{"$f":"C385*ASSUMS!C17","v":13.775594509035699},{"$f":"D385*ASSUMS!D17","v":1.3538210352924414},{"$f":"E385*ASSUMS!E17","v":201.80312190802363},{"$f":"F385*ASSUMS!F17","v":5.5626949393746363},{"$f":"G385*ASSUMS!G17","v":25.192343046846783},{"$f":"H385*ASSUMS!H17","v":185.65446818374213},{"$f":"I385*ASSUMS!I17","v":7.4364567840318516},{"$f":"J385*ASSUMS!J17","v":87.153346099252317},{"$f":"K385*ASSUMS!K17","v":607.25627166719357},{"$f":"SUM(B391:K391)","v":1147.3660825855256},null,"Leap (Bucks & MK Sport and Activity Partnership)",222348.83871263871,246844.24904977082,24495.410337132082]
[null,null,null,null,null,null,null,null,null,null,null,null,null,"Leicestershire & Rutland Sport",271141.07333766669,304113.87416458718,32972.800826920517]
["Weighted average economic benefit","Athletics","Badminton","Cricket","Golf","Squash","Tennis","Swimming","Football","Cycling","Health and fitness","Total",null,"Lincolnshire Sports Partnership",185850.46280942351,206716.76893236389,20866.306122940328]
["16-29",{"$f":"B382*ASSUMS!B21","v":1906.3095581494449},{"$f":"C382*ASSUMS!C21","v":268.9612660958839},{"$f":"D382*ASSUMS!D21","v":230.20034027376633},{"$f":"E382*ASSUMS!E21","v":311.18206056098154},{"$f":"F382*ASSUMS!F21","v":233.29554916107915},{"$f":"G382*ASSUMS!G21","v":332.92048589182104},{"$f":"H382*ASSUMS!H21","v":2440.7650500667378},{"$f":"I382*ASSUMS!I21","v":4993.4936675284071},{"$f":"J382*ASSUMS!J21","v":2203.4234902131825},{"$f":"K382*ASSUMS!K21","v":14725.463951429063},{"$f":"SUM(B394:K394)","v":27646.015419370367},null,"Living Sport",233019.87386352895,257747.33129857937,24727.457435050452]
["30-49",{"$f":"B383*ASSUMS!B22","v":3098.7314400358696},{"$f":"C383*ASSUMS!C22","v":307.46659770423213},{"$f":"D383*ASSUMS!D22","v":181.14360027823642},{"$f":"E383*ASSUMS!E22","v":786.02176714800339},{"$f":"F383*ASSUMS!F22","v":388.17862750092831},{"$f":"G383*ASSUMS!G22","v":339.66886822604357},{"$f":"H383*ASSUMS!H22","v":4443.077557147215},{"$f":"I383*ASSUMS!I22","v":2348.9765530433033},{"$f":"J383*ASSUMS!J22","v":4165.9155026236331},{"$f":"K383*ASSUMS!K22","v":19151.883633919217},{"$f":"SUM(B395:K395)","v":35211.064147626683},null,"London",2361295.6578995762,2569724.4513624981,208428.79346292157]
["50-64",{"$f":"B384*ASSUMS!B23","v":1089.3253427903778},{"$f":"C384*ASSUMS!C23","v":294.48142797850466},{"$f":"D384*ASSUMS!D23","v":60.743896437588788},{"$f":"E384*ASSUMS!E23","v":1769.0551337931356},{"$f":"F384*ASSUMS!F23","v":301.47631672548101},{"$f":"G384*ASSUMS!G23","v":393.0137693733048},{"$f":"H384*ASSUMS!H23","v":3607.2890351072465},{"$f":"I384*ASSUMS!I23","v":589.89936287368323},{"$f":"J384*ASSUMS!J23","v":2758.6665469960258},{"$f":"K384*ASSUMS!K23","v":11993.90252409729},{"$f":"SUM(B396:K396)","v":22857.853356172636},null,"Merseyside Sport",405554.26439303719,445772.324483659,40218.060090621788]
["65+",{"$f":"B385*ASSUMS!B24","v":116.24955400753454},{"$f":"C385*ASSUMS!C24","v":129.33565504815914},{"$f":"D385*ASSUMS!D24","v":12.909872040361206},{"$f":"E385*ASSUMS!E24","v":1996.1346926561985},{"$f":"F385*ASSUMS!F24","v":53.605923545445528},{"$f":"G385*ASSUMS!G24","v":243.98554459964379},{"$f":"H385*ASSUMS!H24","v":1774.6514248381022},{"$f":"I385*ASSUMS!I24","v":72.794457475244513},{"$f":"J385*ASSUMS!J24","v":864.49179719761867},{"$f":"K385*ASSUMS!K24","v":6088.5191502367643},{"$f":"SUM(B397:K397)","v":11352.67807164507},null,"North Yorkshire Sport",217971.60948717361,241748.923694294,23777.314207120347]
[null,null,null,null,null,null,null,null,null,null,null,null,null,"Northamptonshire Sport",171706.27899075186,196000.24948919076,24293.970498438903]
["Participation share","Athletics","Badminton","Cricket","Golf","Squash","Tennis","Swimming","Football","Cycling","Health and fitness","Total",null,"Northumberland Sport",77108.98759562982,84408.901196399049,7299.9136007692287]
["16-29",{"$f":"B376/SUM($L$376:$L$379)","v":4.0691503827649418E-2},9.2428006809311784E-3,4.6854276147519766E-3,3.6102333253385742E-3,3.5062299851553033E-3,6.9878738105328252E-3,3.8786326514390443E-2,7.0972555300704385E-2,{"$f":"J376/SUM($L$376:$L$379)","v":3.0349231744023326E-2},0.12600519537882593,0.3348373781823033,null,"Oxfordshire Sports Partnership",185993.91712680855,204123.74226976413,18129.8251429556]
["30-49",6.1055109496547799E-2,9.7535687275923932E-3,3.4033507054904645E-3,8.4181964505213435E-3,5.3852573014227289E-3,6.5815481912450818E-3,6.5175829298488558E-2,3.0819773696193629E-2,5.2971546512780833E-2,0.1512925645396119,0.39485674491989475,null,"Somerset Activity & Sports Partnership",127582.12980833925,148451.10426401434,20868.974455675088]
["50-64",1.4902022885509528E-2,6.3019291468640508E-3,7.8988525296560445E-4,1.3835462163310198E-2,2.9445934370542063E-3,5.4020367205145055E-3,3.6770662521739064E-2,5.5722570705533355E-3,2.5720708436421814E-2,7.0437949654536855E-2,0.18267750728946916,null,"South Yorkshire Sport",364527.03581319179,411587.45494312007,47060.419129928239]
["65+",1.5756280164260826E-3,2.7061859607254001E-3,1.6606975761458952E-4,1.5849765488813783E-2,5.2213411877450558E-4,3.3567719958512488E-3,1.7928859904791206E-2,6.9315344595930449E-4,8.1996778306511354E-3,3.6630123088725548E-2,8.7628369608332798E-2,null,"South & West Yorkshire Sport",925105.61231998866,1039358.8604055668,114253.24808557821]
[null,null,null,null,null,null,null,null,null,null,null,null,null,"Sport Across Staffordshire & Stoke On Trent",272672.73158891802,306474.76097298338,33802.029384065434]
[null,null,null,null,null,null,null,null,null,null,null,null,null,"Sport Cheshire",258180.17174808378,288040.09183274169,29859.920084657904]
[null,null,null,null,null,null,null,null,null,null,null,null,null,"Sport Hampshire & Isle of Wight",502311.37794626987,568116.69706536597,65805.319119096137]
[null,null,null,null,null,null,null,null,null,null,null,null,null,"Sport Nottinghamshire",285481.45576631039,317520.97521948273,32039.519453172386]
[null,null,null,null,null,null,null,null,null,null,null,null,null,"Sports Partnership Herefordshire & Worcestershire",200657.94243625744,223073.70759367253,22415.76515741511]
[null,null,null,null,null,null,null,null,null,null,null,null,null,"Suffolk Sport",178566.72436204943,201731.27563603831,23164.55127398888]
[null,null,null,null,null,null,null,null,null,null,null,null,null,"Teams Beds & Luton",145598.80099246191,159180.57268774908,13581.771695287163]
[null,null,null,null,null,null,null,null,null,null,null,null,null,"Tees Valley Sport",182817.41128490146,201033.03097465722,18215.619689755771]
[null,null,null,null,null,null,null,null,null,null,null,null,null,"Tyne & Wear Sport",304552.48123887903,334119.56983616389,29567.088597284812]
[null,null,null,null,null,null,null,null,null,null,null,null,null,"Wesport",315316.44167449523,350398.26190861291,35081.820234117666]
[null,null,null,null,null,null,null,null,null,null,null,null,null,"West Yorkshire Sport ",560578.57650679676,627771.40546244674,67192.82895564998]
[null,null,null,null,null,null,null,null,null,null,null,null,null,"Wiltshire & Swindon Sport",167955.70159342597,197522.4785662613,29566.776972835338]
[null,null,null,null,null,null,null,null,null,null,null,null,null,"Buckinghamshire CC",{"$f":"MMULT(LAtoCountyConv,O4:Q329)","v":149485.93080601262},165360.48638598798,15874.555579975349]
[null,null,null,null,null,null,null,null,null,null,null,null,null,"Cambridgeshire CC",189583.92796329464,210607.49266997169,21023.56470667708]
[null,null,null,null,null,null,null,null,null,null,null,null,null,"Cumbria CC",129573.89122694655,145536.53325682002,15962.642029873472]
[null,null,null,null,null,null,null,null,null,null,null,null,null,"Derbyshire CC",263283.0692873518,296766.73175348714,33483.662466135371]
[null,null,null,null,null,null,null,null,null,null,null,null,null,"Devon CC",196626.18288184208,229800.36026906662,33174.177387224561]
[null,null,null,null,null,null,null,null,null,null,null,null,null,"Dorset CC",103216.69490729878,120877.23640100348,17660.541493704703]
[null,null,null,null,null,null,null,null,null,null,null,null,null,"East Sussex CC",137040.29210828379,156417.64903155982,19377.356923276038]
[null,null,null,null,null,null,null,null,null,null,null,null,null,"Essex CC",366529.11122164142,417055.19858061627,50526.087358974881]
[null,null,null,null,null,null,null,null,null,null,null,null,null,"Gloucestershire CC",169957.05571136359,190099.50846747967,20142.452756116068]
[null,null,null,null,null,null,null,null,null,null,null,null,null,"Hampshire CC",358056.53126852255,403655.23999139434,45598.708722871823]
[null,null,null,null,null,null,null,null,null,null,null,null,null,"Hertfordshire CC",317677.50257894461,349954.67581435054,32277.173235405986]
[null,null,null,null,null,null,null,null,null,null,null,null,null,"Kent CC",369870.77135279973,418561.97124971246,48691.199896912687]
[null,null,null,null,null,null,null,null,null,null,null,null,null,"Lancashire CC",310993.17451834015,351626.82626490388,40633.651746563752]
[null,null,null,null,null,null,null,null,null,null,null,null,null,"Leicestershire CC",196528.41078265975,219146.64117183787,22618.230389178105]
[null,null,null,null,null,null,null,null,null,null,null,null,null,"Lincolnshire CC",185850.46280942351,206716.76893236389,20866.306122940328]
[null,null,null,null,null,null,null,null,null,null,null,null,null,"Norfolk CC",215578.18272710044,248588.70302745438,33010.520300353906]
[null,null,null,null,null,null,null,null,null,null,null,null,null,"North Yorkshire CC",154538.20981843467,174162.981851583,19624.772033148292]
[null,null,null,null,null,null,null,null,null,null,null,null,null,"Northamptonshire CC",171706.27899075186,196000.24948919076,24293.970498438903]
[null,null,null,null,null,null,null,null,null,null,null,null,null,"Nottinghamshire CC",209866.97648265818,231836.61525929385,21969.638776635726]
[null,null,null,null,null,null,null,null,null,null,null,null,null,"Oxfordshire CC",185993.91712680855,204123.74226976413,18129.8251429556]
[null,null,null,null,null,null,null,null,null,null,null,null,null,"Somerset CC",127582.12980833925,148451.10426401434,20868.974455675088]
[null,null,null,null,null,null,null,null,null,null,null,null,null,"Staffordshire CC",217570.31664338268,247106.75195416249,29536.435310779845]
[null,null,null,null,null,null,null,null,null,null,null,null,null,"Suffolk CC",178566.72436204943,201731.27563603831,23164.55127398888]
[null,null,null,null,null,null,null,null,null,null,null,null,null,"Surrey CC",324140.71730751457,367908.90765506227,43768.190347547687]
[null,null,null,null,null,null,null,null,null,null,null,null,null,"Warwickshire CC",147938.6726867604,166161.62080749514,18222.948120734734]
[null,null,null,null,null,null,null,null,null,null,null,null,null,"West Sussex CC",223544.0909482812,251861.65864247608,28317.567694194866]
[null,null,null,null,null,null,null,null,null,null,null,null,null,"Worcestershire CC",154469.43080605866,172791.43883256588,18322.008026507217]

{"sheet":"TOTAL_PARTICPATION_BY_AGE","index":34,"n_rows":443,"n_cols":11,"rows_kept":443,"cut":false,"hidden":true,"merged":[]}
["Total sports particpation by age"]
[]
["Participation rate (1+) ",null,null,null,null,null,"Participants estimate"]
[null,"Age 16-29","Age 30-49","Age 50-64","Age 65 plus",null,null,"Age 16-29","Age 30-49","Age 50-64","Age 65 plus"]
["Adur",0.53435538169612717,0.47058294740382994,0.28200446954136182,0.18107746559390026,null,"Adur",{"$f":"B5*POP!C2","v":4731.7169049192062},{"$f":"C5*POP!D2","v":7761.7951344787707},{"$f":"D5*POP!E2","v":3342.0349685346791},{"$f":"E5*POP!F2","v":2586.3294410776775}]
["Allerdale",0.62267814311405512,0.43186900702443254,0.25037198454382964,0.1968050627595499,null,"Allerdale",{"$f":"B6*POP!C3","v":8744.2691637506759},{"$f":"C6*POP!D3","v":10367.015513621503},{"$f":"D6*POP!E3","v":5181.1978481500109},{"$f":"E6*POP!F3","v":4227.7663582006508}]
["Amber Valley",0.44341180909143668,0.40778300818150615,0.23432967534157864,0.16980978899753907,null,"Amber Valley",{"$f":"B7*POP!C4","v":8333.4815400644602},{"$f":"C7*POP!D4","v":13427.886676408816},{"$f":"D7*POP!E4","v":5979.155996015721},{"$f":"E7*POP!F4","v":4253.9050241773512}]
["Arun",0.4630951705083195,0.44076870377661698,0.29713196062703884,0.23069757167689706,null,"Arun",{"$f":"B8*POP!C5","v":9878.7461772834722},{"$f":"C8*POP!D5","v":15644.203603143467},{"$f":"D8*POP!E5","v":8802.8314655366521},{"$f":"E8*POP!F5","v":9728.5165976147491}]
["Ashfield",0.42651903200636482,0.39964381848077202,0.24648933035517109,0.1800261321819239,null,"Ashfield",{"$f":"B9*POP!C6","v":8720.1816093701291},{"$f":"C9*POP!D6","v":13148.68127183588},{"$f":"D9*POP!E6","v":5727.4260801327555},{"$f":"E9*POP!F6","v":3952.2937059219571}]
["Ashford",0.53183613270016838,0.38092645720993545,0.30456381113775666,0.17865916265020662,null,"Ashford",{"$f":"B10*POP!C7","v":10353.785831406878},{"$f":"C10*POP!D7","v":12428.106592931354},{"$f":"D10*POP!E7","v":6768.0170111032285},{"$f":"E10*POP!F7","v":3964.4468192080849}]
["Aylesbury Vale",0.55024130995471932,0.38852025100697035,0.36391923452050012,0.22069788298948459,null,"Aylesbury Vale",{"$f":"B11*POP!C8","v":15625.752720094119},{"$f":"C11*POP!D8","v":20159.538784249678},{"$f":"D11*POP!E8","v":12650.924349636145},{"$f":"E11*POP!F8","v":6420.9842076960649}]
["Babergh",0.34193227600360343,0.45786625616112214,0.30912994063970434,0.25970117558629779,null,"Babergh",{"$f":"B12*POP!C9","v":4006.762410210225},{"$f":"C12*POP!D9","v":9929.2876311100954},{"$f":"D12*POP!E9","v":5669.7522412728176},{"$f":"E12*POP!F9","v":5435.0262026700402}]
["Barking and Dagenham",0.40787163346043664,0.22871841896972894,0.14680474348739742,0.147540886812044,null,"Barking and Dagenham",{"$f":"B13*POP!C10","v":15630.048865837392},{"$f":"C13*POP!D10","v":13290.369889493009},{"$f":"D13*POP!E10","v":3823.0891298988035},{"$f":"E13*POP!F10","v":2882.8013874205276}]
["Barnet",0.56686577036439156,0.42098239139953691,0.32959866245368036,0.19951436578801315,null,"Barnet",{"$f":"B14*POP!C11","v":39809.84932115049},{"$f":"C14*POP!D11","v":47658.995547950173},{"$f":"D14*POP!E11","v":18859.965064262044},{"$f":"E14*POP!F11","v":10078.069159049908}]
["Barnsley",0.51216054959083246,0.44134201854786737,0.16341384531123387,0.13934228091281087,null,"Barnsley",{"$f":"B15*POP!C12","v":20605.243231138371},{"$f":"C15*POP!D12","v":27841.178556055118},{"$f":"D15*POP!E12","v":7531.7441303947689},{"$f":"E15*POP!F12","v":5972.349502203987}]
["Barrow-in-Furness",0.55146095670742701,0.32105749888396329,0.25483324479697927,0.13459198200581407,null,"Barrow-in-Furness",{"$f":"B16*POP!C13","v":6180.7744027768422},{"$f":"C16*POP!D13","v":5565.2106856546197},{"$f":"D16*POP!E13","v":3447.1293023687385},{"$f":"E16*POP!F13","v":1854.6775120401178}]
["Basildon",0.62751325914127376,0.32978849037435087,0.29825744214295602,0.17768581251126239,null,"Basildon",{"$f":"B17*POP!C14","v":19159.234828101369},{"$f":"C17*POP!D14","v":16322.551542588122},{"$f":"D17*POP!E14","v":9532.6061083310178},{"$f":"E17*POP!F14","v":5352.6074160892686}]
["Basingstoke and Deane",0.4343032942713006,0.42956072864717831,0.25983415012428968,0.25290992244267491,null,"Basingstoke and Deane",{"$f":"B18*POP!C15","v":11734.006404622},{"$f":"C18*POP!D15","v":22004.677885680358},{"$f":"D18*POP!E15","v":8304.559272122422},{"$f":"E18*POP!F15","v":6837.1668433152736}]
["Bassetlaw",0.57137730117982788,0.39114354190603073,0.27467329039337823,0.19450295661670686,null,"Bassetlaw",{"$f":"B19*POP!C16","v":10209.369617481165},{"$f":"C19*POP!D16","v":11516.048160797356},{"$f":"D19*POP!E16","v":6473.5001079911381},{"$f":"E19*POP!F16","v":4427.4708014660982}]
["Bath and North East Somerset",0.60528186328757705,0.53646767697152664,0.43175297655097533,0.2069048336063756,null,"Bath and North East Somerset",{"$f":"B20*POP!C17","v":24212.485095229658},{"$f":"C20*POP!D17","v":23641.594056458209},{"$f":"D20*POP!E17","v":13802.71090735813},{"$f":"E20*POP!F17","v":7020.9017187651434}]
["Bedford",0.47952510783133534,0.40653417664177743,0.31053867879511265,0.25343146381101467,null,"Bedford",{"$f":"B21*POP!C18","v":13345.663276053894},{"$f":"C21*POP!D18","v":18266.800159044986},{"$f":"D21*POP!E18","v":9045.0600972652464},{"$f":"E21*POP!F18","v":6859.6294309727336}]
["Bexley",0.52114487993555059,0.40667611316342051,0.25098084328890502,0.19856486805734333,null,"Bexley",{"$f":"B22*POP!C19","v":22097.585199027217},{"$f":"C22*POP!D19","v":26433.134003396008},{"$f":"D22*POP!E19","v":10416.457939019425},{"$f":"E22*POP!F19","v":7783.3456981117442}]
["Birmingham",0.49919114177122753,0.31702202653727962,0.23878077382052576,8.969971747893167E-2,null,"Birmingham",{"$f":"B23*POP!C20","v":124276.62989079772},{"$f":"C23*POP!D20","v":92516.220982347775},{"$f":"D23*POP!E20","v":37943.458863950647},{"$f":"E23*POP!F20","v":12786.515327186751}]
["Blaby",0.5971007214460835,0.4833087058752133,0.34276663418614334,0.21503616488940586,null,"Blaby",{"$f":"B24*POP!C21","v":8960.0934260199283},{"$f":"C24*POP!D21","v":12369.803018170209},{"$f":"D24*POP!E21","v":6327.1293004420195},{"$f":"E24*POP!F21","v":3956.4503978001785}]
["Blackburn with Darwen",0.51811128298221476,0.31462191422118346,0.27756351397841833,0.13464434424302696,null,"Blackburn with Darwen",{"$f":"B25*POP!C22","v":14364.117209398923},{"$f":"C25*POP!D22","v":12708.522981136264},{"$f":"D25*POP!E22","v":6904.6699737271347},{"$f":"E25*POP!F22","v":2720.3543310861169}]
["Blackpool",0.57385806209823764,0.37092183171562976,0.24851028706113684,0.11568107942849953,null,"Blackpool",{"$f":"B26*POP!C23","v":13878.183373783779},{"$f":"C26*POP!D23","v":13444.432712364716},{"$f":"D26*POP!E23","v":6787.5614705008302},{"$f":"E26*POP!F23","v":3259.7771372156885}]
["Bolsover",0.43127786422293618,0.36236949042453387,0.19357983988505834,0.13689652606782121,null,"Bolsover",{"$f":"B27*POP!C24","v":5495.3425459286527},{"$f":"C27*POP!D24","v":7505.7592551633697},{"$f":"D27*POP!E24","v":2874.4670424532314},{"$f":"E27*POP!F24","v":2008.8196235192086}]
["Bolton",0.59275771696186241,0.41247286916224407,0.32333629423875998,0.17444221893269307,null,"Bolton",{"$f":"B28*POP!C25","v":30335.561680957231},{"$f":"C28*POP!D25","v":31054.257373487031},{"$f":"D28*POP!E25","v":16045.886937892703},{"$f":"E28*POP!F25","v":7965.206158685698}]
["Boston",0.61597213756802816,0.25098228111030596,0.20732238120943142,0.13386575023558883,null,"Boston",{"$f":"B29*POP!C26","v":6860.6976682326977},{"$f":"C29*POP!D26","v":4216.2513403720295},{"$f":"D29*POP!E26","v":2581.9929355822587},{"$f":"E29*POP!F26","v":1817.8968881992964}]
["Bournemouth",0.59550855343983555,0.47304261066777015,0.39141665033154993,0.18455168132121474,null,"Bournemouth",{"$f":"B30*POP!C27","v":24527.806299079948},{"$f":"C30*POP!D27","v":25194.722486776107},{"$f":"D30*POP!E27","v":11941.730584965257},{"$f":"E30*POP!F27","v":6246.5207576791554}]
["Bracknell Forest",0.52261620686145605,0.42961519458597114,0.37533435387414699,0.19800937529760371,null,"Bracknell Forest",{"$f":"B31*POP!C28","v":10312.262993790251},{"$f":"C31*POP!D28","v":15452.828934062796},{"$f":"D31*POP!E28","v":7883.5227687725837},{"$f":"E31*POP!F28","v":3080.4318515048208}]
["Bradford",0.45104325122813355,0.34373119735433688,0.29486287620244794,0.15928919755401155,null,"Bradford",{"$f":"B32*POP!C29","v":44977.581969218249},{"$f":"C32*POP!D29","v":49018.47486110992},{"$f":"D32*POP!E29","v":25552.816851704138},{"$f":"E32*POP!F29","v":11719.224842443738}]
["Braintree",0.46113133442552534,0.39346618444316156,0.27975867211441102,0.21002819668385522,null,"Braintree",{"$f":"B33*POP!C30","v":10707.008454026272},{"$f":"C33*POP!D30","v":16095.521207016411},{"$f":"D33*POP!E30","v":8039.1452018797154},{"$f":"E33*POP!F30","v":5725.7886979952609}]
["Breckland",0.60255970645797086,0.37643569731966436,0.17241596486329017,0.14881263668330028,null,"Breckland",{"$f":"B34*POP!C31","v":12394.653161840461},{"$f":"C34*POP!D31","v":12195.763721762487},{"$f":"D34*POP!E31","v":4432.1247927757368},{"$f":"E34*POP!F31","v":4577.4767043783168}]
["Brent",0.49269688709603127,0.35021803591494699,0.27855518203683383,9.5886504527397304E-2,null,"Brent",{"$f":"B35*POP!C32","v":34021.70544775515},{"$f":"C35*POP!D32","v":35065.931064019984},{"$f":"D35*POP!E32","v":13497.112790412746},{"$f":"E35*POP!F32","v":3310.4815688083918}]
["Brentwood",0.64588861591276692,0.43563525596111569,0.35037329327909467,0.21827145659308386,null,"Brentwood",{"$f":"B36*POP!C33","v":7277.2270354891452},{"$f":"C36*POP!D33","v":8776.3078665926369},{"$f":"D36*POP!E33","v":5070.6023003350583},{"$f":"E36*POP!F33","v":3290.2239366841463}]
["Brighton and Hove",0.5559037024658452,0.46197846394100817,0.30077692360327923,0.221985765359902,null,"Brighton and Hove",{"$f":"B37*POP!C34","v":37715.286693795264},{"$f":"C37*POP!D34","v":39602.17986441504},{"$f":"D37*POP!E34","v":12675.641891412997},{"$f":"E37*POP!F34","v":8256.3165710308349}]
["Bristol",0.43257255422762064,0.48969130812449513,0.27928634080197368,0.16735605632480624,null,"Bristol",{"$f":"B38*POP!C35","v":47312.190546091777},{"$f":"C38*POP!D35","v":60798.114051504817},{"$f":"D38*POP!E35","v":17913.705185379393},{"$f":"E38*POP!F35","v":9711.0025243032069}]
["Broadland",0.39289664418502562,0.45697361331646802,0.33170574250623275,0.22854415682356144,null,"Broadland",{"$f":"B39*POP!C36","v":6568.0532008410737},{"$f":"C39*POP!D36","v":14535.87366598353},{"$f":"D39*POP!E36","v":8639.6077693173374},{"$f":"E39*POP!F36","v":6915.5176413241452}]
["Bromley",0.49539911192829555,0.43759716725493197,0.39355077498274454,0.18466284418565598,null,"Bromley",{"$f":"B40*POP!C37","v":24406.828047371338},{"$f":"C40*POP!D37","v":41118.380223942426},{"$f":"D40*POP!E37","v":22261.593137673928},{"$f":"E40*POP!F37","v":10231.983533483013}]
["Bromsgrove",0.56522855504907765,0.49871235360467475,0.31376789903612584,0.23242773415736542,null,"Bromsgrove",{"$f":"B41*POP!C38","v":7862.8944292877195},{"$f":"C41*POP!D38","v":12174.067263843715},{"$f":"D41*POP!E38","v":6099.0204214642145},{"$f":"E41*POP!F38","v":4731.0665287731736}]
["Broxbourne",0.57889192481982865,0.39687859267248593,0.35567415969194127,0.24047916970060801,null,"Broxbourne",{"$f":"B42*POP!C39","v":9280.7953387114921},{"$f":"C42*POP!D39","v":10615.708596803654},{"$f":"D42*POP!E39","v":5947.5832983686423},{"$f":"E42*POP!F39","v":3946.5036539566781}]
["Broxtowe",0.49581767461332621,0.4367533159167924,0.29799905655212772,0.20146983468679028,null,"Broxtowe",{"$f":"B43*POP!C40","v":9343.1882604135189},{"$f":"C43*POP!D40","v":13083.382331603432},{"$f":"D43*POP!E40","v":6454.0635668059822},{"$f":"E43*POP!F40","v":4395.66885319639}]
["Burnley",0.55216252448007608,0.29098545485116684,0.23411007192705413,0.13040383137184891,null,"Burnley",{"$f":"B44*POP!C41","v":8539.745603608857},{"$f":"C44*POP!D41","v":6592.8574505628867},{"$f":"D44*POP!E41","v":3823.9539148565023},{"$f":"E44*POP!F41","v":1971.9667380050992}]
["Bury",0.54177153206422002,0.45923936720409636,0.28562224846220208,0.20089229092234531,null,"Bury",{"$f":"B45*POP!C42","v":16852.345276389628},{"$f":"C45*POP!D42","v":23503.411574138448},{"$f":"D45*POP!E42","v":9907.9501769053277},{"$f":"E45*POP!F42","v":6412.8837108231073}]
["Calderdale",0.55648090396966976,0.44560320313795404,0.27389224540574791,0.21446007321586008,null,"Calderdale",{"$f":"B46*POP!C43","v":18639.32787846409},{"$f":"C46*POP!D43","v":25382.895260347275},{"$f":"D46*POP!E43","v":11028.27126126244},{"$f":"E46*POP!F43","v":7561.0043412983632}]
["Cambridge",0.61530829242589347,0.49286576769242674,0.36082436022239694,0.19358584831222975,null,"Cambridge",{"$f":"B47*POP!C44","v":24678.784992617737},{"$f":"C47*POP!D44","v":17357.746606591885},{"$f":"D47*POP!E44","v":6051.7461696500413},{"$f":"E47*POP!F44","v":2949.4739848851323}]
["Camden",0.62656960153396524,0.45351341649262339,0.3583537204816073,0.21501538937125467,null,"Camden",{"$f":"B48*POP!C45","v":36263.968827981305},{"$f":"C48*POP!D45","v":34573.595306315146},{"$f":"D48*POP!E45","v":11034.786114790133},{"$f":"E48*POP!F45","v":5631.2530476331594}]
["Cannock Chase",0.51641801088118211,0.40984855890772709,0.20196794107352384,0.13362708422303077,null,"Cannock Chase",{"$f":"B49*POP!C46","v":8839.5270922531945},{"$f":"C49*POP!D46","v":11216.735360186674},{"$f":"D49*POP!E46","v":3752.1604092639259},{"$f":"E49*POP!F46","v":2274.7338547286527}]
["Canterbury",0.573521932363245,0.38364857688396853,0.30699207549407809,0.22114682714586517,null,"Canterbury",{"$f":"B50*POP!C47","v":22443.060257238503},{"$f":"C50*POP!D47","v":12928.957040989739},{"$f":"D50*POP!E47","v":8136.8249609705399},{"$f":"E50*POP!F47","v":6785.0058036622895}]
["Carlisle",0.65574903110120875,0.42394352987842865,0.34073305149523103,0.14708636578382689,null,"Carlisle",{"$f":"B51*POP!C48","v":12116.930596688135},{"$f":"C51*POP!D48","v":11802.163928285576},{"$f":"D51*POP!E48","v":7480.112679474807},{"$f":"E51*POP!F48","v":3117.495522788211}]
["Castle Point",0.47267023561149596,0.43398912479821361,0.29290873609753132,0.17960265621630792,null,"Castle Point",{"$f":"B52*POP!C49","v":6461.4021208091499},{"$f":"C52*POP!D49","v":9185.8138154789885},{"$f":"D52*POP!E49","v":5281.14451183849},{"$f":"E52*POP!F49","v":3779.9175027284164}]
["Central Bedfordshire",0.39008424716457185,0.39727337288728432,0.24552295268793822,0.17757027853896662,null,"Central Bedfordshire",{"$f":"B53*POP!C50","v":16406.163267247564},{"$f":"C53*POP!D50","v":29951.234128718141},{"$f":"D53*POP!E50","v":12640.012650280436},{"$f":"E53*POP!F50","v":7839.9053677739148}]
["Charnwood",0.60486681595348357,0.41897206798915632,0.32487305762786939,0.22997779168449461,null,"Charnwood",{"$f":"B54*POP!C51","v":22873.643512096936},{"$f":"C54*POP!D51","v":18134.368018774654},{"$f":"D54*POP!E51","v":10042.475957392699},{"$f":"E54*POP!F51","v":6816.0817899450512}]
["Chelmsford",0.53661240869094096,0.48766959518809255,0.3651171139820174,0.23568454760061625,null,"Chelmsford",{"$f":"B55*POP!C52","v":15241.938856457487},{"$f":"C55*POP!D52","v":23249.160280997123},{"$f":"D55*POP!E52","v":11537.335684717767},{"$f":"E55*POP!F52","v":7307.8707674523075}]
["Cheltenham",0.55291132706686263,0.46313264651599967,0.26864910124648733,0.20048276621079864,null,"Cheltenham",{"$f":"B56*POP!C53","v":12925.408092842048},{"$f":"C56*POP!D53","v":14839.696259665661},{"$f":"D56*POP!E53","v":5409.518302699269},{"$f":"E56*POP!F53","v":4110.2976728537933}]
["Cherwell",0.45367555665286119,0.41941592511134707,0.33635107672960285,0.19690517578964106,null,"Cherwell",{"$f":"B57*POP!C54","v":10527.994967686296},{"$f":"C57*POP!D54","v":17438.894750204701},{"$f":"D57*POP!E54","v":8880.0047767382457},{"$f":"E57*POP!F54","v":4698.7482098682049}]
["Cheshire East",0.61942583288675857,0.45363811779612695,0.27694341727713834,0.19840702819390135,null,"Cheshire East",{"$f":"B58*POP!C55","v":33738.266839843076},{"$f":"C58*POP!D55","v":44651.599934672777},{"$f":"D58*POP!E55","v":20998.957671621738},{"$f":"E58*POP!F55","v":15482.692445111092}]
["Cheshire West and Chester",0.47345711647735922,0.47920566684275595,0.33969590643797282,0.23679661021859627,null,"Cheshire West and Chester",{"$f":"B59*POP!C56","v":25453.054581822831},{"$f":"C59*POP!D56","v":41682.74651898344},{"$f":"D59*POP!E56","v":22457.636070520821},{"$f":"E59*POP!F56","v":15599.450291370467}]
["Chesterfield",0.48968261305223149,0.3954189609963929,0.32518565387341375,0.1532799569304166,null,"Chesterfield",{"$f":"B60*POP!C57","v":8461.2258709295074},{"$f":"C60*POP!D57","v":11031.793592838365},{"$f":"D60*POP!E57","v":6693.2963136764756},{"$f":"E60*POP!F57","v":3135.8013588824629}]
["Chichester",0.45141511995749356,0.4258032354567674,0.4088351720850249,0.21626542403061411,null,"Chichester",{"$f":"B61*POP!C58","v":7610.407507363384},{"$f":"C61*POP!D58","v":11217.360434873081},{"$f":"D61*POP!E58","v":9606.4000384818301},{"$f":"E61*POP!F58","v":6440.8168584797495}]
["Chiltern",0.6201678376855021,0.47677739082631121,0.39098151628646499,0.34309569286028457,null,"Chiltern",{"$f":"B62*POP!C59","v":7216.8931271461879},{"$f":"C62*POP!D59","v":11476.985351970963},{"$f":"D62*POP!E59","v":7441.1602179640013},{"$f":"E62*POP!F59","v":6671.8388433610935}]
["Chorley",0.49129201066102302,0.50844901778283325,0.3632793384727373,0.19673163418818271,null,"Chorley",{"$f":"B63*POP!C60","v":8681.1298283802771},{"$f":"C63*POP!D60","v":15684.63530056484},{"$f":"D63*POP!E60","v":7876.9858961043628},{"$f":"E63*POP!F60","v":3962.1751125499995}]
["Christchurch",0.51733334797727948,0.46574972594362024,0.36358088489283275,0.27669461941138712,null,"Christchurch",{"$f":"B64*POP!C61","v":3112.7947547792905},{"$f":"C64*POP!D61","v":4963.4948293811613},{"$f":"D64*POP!E61","v":3305.6774054456355},{"$f":"E64*POP!F61","v":4157.8900458949147}]
["City of London",0.34535951461651249,0.51321348704433345,0.37749423208517818,0.24979972682044818,null,"City of London",{"$f":"B65*POP!C62","v":517.69391241015217},{"$f":"C65*POP!D62","v":1399.5331791698973},{"$f":"D65*POP!E62","v":549.63160191601946},{"$f":"E65*POP!F62","v":300.25927163817869}]
["Colchester",0.47669638819919891,0.42083882312867721,0.29275297826570379,0.21298485937985631,null,"Colchester",{"$f":"B66*POP!C63","v":17131.991495491009},{"$f":"C66*POP!D63","v":20375.753299421165},{"$f":"D66*POP!E63","v":8890.9079499294239},{"$f":"E66*POP!F63","v":6382.5172810361537}]
["Copeland",0.46452875920790337,0.45528255253332428,0.26979514769955976,0.13319990318826955,null,"Copeland",{"$f":"B67*POP!C64","v":5040.1370374057515},{"$f":"C67*POP!D64","v":8138.1756265331715},{"$f":"D67*POP!E64","v":4091.173619716124},{"$f":"E67*POP!F64","v":1912.4842099771743}]
["Corby",0.46157777837810038,0.41449485139266212,0.27335582552714027,0.16938686643628176,null,"Corby",{"$f":"B68*POP!C65","v":5395.3826514616158},{"$f":"C68*POP!D65","v":7602.664564244209},{"$f":"D68*POP!E65","v":3166.553882906393},{"$f":"E68*POP!F65","v":1517.5369364026483}]
["Cornwall",0.60249647428942044,0.38645889487316071,0.34928144582240767,0.16471689452293595,null,"Cornwall",{"$f":"B69*POP!C66","v":49323.976364177695},{"$f":"C69*POP!D66","v":50202.169820708194},{"$f":"D69*POP!E66","v":39402.439903225808},{"$f":"E69*POP!F66","v":20663.404984113269}]
["Cotswold",0.48901612680197082,0.4222685271171206,0.30275580380952188,0.20447121638107865,null,"Cotswold",{"$f":"B70*POP!C67","v":5483.826845957301},{"$f":"C70*POP!D67","v":8731.2463352007017},{"$f":"D70*POP!E67","v":5533.4678262266316},{"$f":"E70*POP!F67","v":4102.3060142535805}]
["County Durham",0.5746715332216521,0.44168141105055608,0.24072538585579983,0.11486397402871215,null,"County Durham",{"$f":"B71*POP!C68","v":53365.147918029055},{"$f":"C71*POP!D68","v":58212.284932230141},{"$f":"D71*POP!E68","v":25024.848212025528},{"$f":"E71*POP!F68","v":11371.533428842504}]
["Coventry",0.54570133410499622,0.39356573028649738,0.29090265650063646,0.21990870248897221,null,"Coventry",{"$f":"B72*POP!C69","v":44166.88317712197},{"$f":"C72*POP!D69","v":33756.91981813345},{"$f":"D72*POP!E69","v":14442.444187287098},{"$f":"E72*POP!F69","v":10590.363294463923}]
["Craven",0.55679222823715147,0.42918036120360115,0.2452554455359223,0.1743721545064581,null,"Craven",{"$f":"B73*POP!C70","v":3988.3027308627161},{"$f":"C73*POP!D70","v":5641.5758480213372},{"$f":"D73*POP!E70","v":3051.7135088034811},{"$f":"E73*POP!F70","v":2382.6211191762436}]
["Crawley",0.61793461286902385,0.45529925277983346,0.3207717303476571,0.20834590913726569,null,"Crawley",{"$f":"B74*POP!C71","v":12278.360757707504},{"$f":"C74*POP!D71","v":15531.16811082568},{"$f":"D74*POP!E71","v":5716.7937782559447},{"$f":"E74*POP!F71","v":2954.5533374755646}]
["Croydon",0.40759657557361334,0.39572906364033134,0.33124035427261483,0.19064190144124896,null,"Croydon",{"$f":"B75*POP!C72","v":28157.179037200782},{"$f":"C75*POP!D72","v":44368.746886290312},{"$f":"D75*POP!E72","v":20682.316480427799},{"$f":"E75*POP!F72","v":9050.9149128247354}]
["Dacorum",0.56441350263776113,0.36629188411371483,0.22304025816334702,0.18989886935496103,null,"Dacorum",{"$f":"B76*POP!C73","v":13418.931025212771},{"$f":"C76*POP!D73","v":15550.555648163649},{"$f":"D76*POP!E73","v":6267.4312543900514},{"$f":"E76*POP!F73","v":4623.4677721852358}]
["Darlington",0.60826282841738499,0.4667018718398061,0.34118146389078347,0.19641932858850025,null,"Darlington",{"$f":"B77*POP!C74","v":10449.347129382257},{"$f":"C77*POP!D74","v":13094.72112008128},{"$f":"D77*POP!E74","v":6945.4310604246793},{"$f":"E77*POP!F74","v":3859.2469681068528}]
["Dartford",0.43063431646192801,0.42662863762146958,0.31346074889401088,0.18283578690635335,null,"Dartford",{"$f":"B78*POP!C75","v":7824.1948957967697},{"$f":"C78*POP!D75","v":12794.166213630251},{"$f":"D78*POP!E75","v":5245.7656327412724},{"$f":"E78*POP!F75","v":2727.1785974951667}]
["Daventry",0.4551646906222982,0.37944173290028366,0.26724530836068844,0.20794402790509553,null,"Daventry",{"$f":"B79*POP!C76","v":5106.0374994009408},{"$f":"C79*POP!D76","v":8031.2637185674039},{"$f":"D79*POP!E76","v":4475.8244244248099},{"$f":"E79*POP!F76","v":3060.5202027071959}]
["Derby",0.49678973726629183,0.49611042828082846,0.2258610070189471,0.23536545588639465,null,"Derby",{"$f":"B80*POP!C77","v":25703.404216420673},{"$f":"C80*POP!D77","v":33703.261945258084},{"$f":"D80*POP!E77","v":9135.4001508953534},{"$f":"E80*POP!F77","v":9324.0025349395237}]
["Derbyshire Dales",0.58369605359254084,0.40931129875606176,0.26412293386470859,0.13372409462412732,null,"Derbyshire Dales",{"$f":"B81*POP!C78","v":5351.3254193364146},{"$f":"C81*POP!D78","v":6916.5423263799312},{"$f":"D81*POP!E78","v":4324.4847961668738},{"$f":"E81*POP!F78","v":2321.0491103909781}]
["Doncaster",0.59998759985334382,0.48957349639799896,0.35365853286621496,0.155554440059927,null,"Doncaster",{"$f":"B82*POP!C79","v":32183.934843733216},{"$f":"C82*POP!D79","v":38990.122826633036},{"$f":"D82*POP!E79","v":20696.097343330901},{"$f":"E82*POP!F79","v":8443.6505608928965}]
["Dover",0.62787024624310217,0.40820517704873321,0.25990994302756026,0.10327764339901159,null,"Dover",{"$f":"B83*POP!C80","v":10851.481465819536},{"$f":"C83*POP!D80","v":11138.286460951735},{"$f":"D83*POP!E80","v":6008.0782430250829},{"$f":"E83*POP!F80","v":2541.0431381892813}]
["Dudley",0.49644880777639,0.41621771808476726,0.32395979831495914,0.15543990833822588,null,"Dudley",{"$f":"B84*POP!C81","v":26145.972910351356},{"$f":"C84*POP!D81","v":34584.778848817565},{"$f":"D84*POP!E81","v":18682.761568823695},{"$f":"E84*POP!F81","v":9542.7668527003625}]
["Ealing",0.37020292197793908,0.41857463550786239,0.23038597696329821,0.16938941381946265,null,"Ealing",{"$f":"B85*POP!C82","v":25263.017598696541},{"$f":"C85*POP!D82","v":46962.399805440131},{"$f":"D85*POP!E82","v":11975.232696575278},{"$f":"E85*POP!F82","v":6515.0556343241724}]
["East Cambridgeshire",0.53476782177815052,0.33974467902970235,0.37754050906080494,0.21162471659498105,null,"East Cambridgeshire",{"$f":"B86*POP!C83","v":6351.437419259094},{"$f":"C86*POP!D83","v":8350.5844658710539},{"$f":"D86*POP!E83","v":6104.4524910041555},{"$f":"E86*POP!F83","v":3349.3843895487653}]
["East Devon",0.57072951638580383,0.47478097025920157,0.26926087186944186,0.14965935619007087,null,"East Devon",{"$f":"B87*POP!C84","v":9947.2447410881741},{"$f":"C87*POP!D84","v":13863.604331568686},{"$f":"D87*POP!E84","v":7475.7588465831841},{"$f":"E87*POP!F84","v":5940.1295065401027}]
["East Dorset",0.69115331881796749,0.4402777570505636,0.32210523064745783,0.2231485540349753,null,"East Dorset",{"$f":"B88*POP!C85","v":7322.7694128763651},{"$f":"C88*POP!D85","v":8231.8732235743882},{"$f":"D88*POP!E85","v":6067.4962297061629},{"$f":"E88*POP!F85","v":5856.9800977559971}]
["East Hampshire",0.67841153536608267,0.49286275803546215,0.3932018310916679,0.23236386228100811,null,"East Hampshire",{"$f":"B89*POP!C86","v":11292.838417703812},{"$f":"C89*POP!D86","v":14600.073481284495},{"$f":"D89*POP!E86","v":9733.7113286742388},{"$f":"E89*POP!F86","v":5726.1426581908827}]
["East Hertfordshire",0.49042747150922839,0.46535335106230036,0.39001071028616108,0.19379599097182543,null,"East Hertfordshire",{"$f":"B90*POP!C87","v":10312.218443424545},{"$f":"C90*POP!D87","v":19514.592776797566},{"$f":"D90*POP!E87","v":10472.567592603997},{"$f":"E90*POP!F87","v":4519.9038974358846}]
["East Lindsey",0.59272539362677656,0.54093822188535445,0.35110628903535229,0.21374736786003057,null,"East Lindsey",{"$f":"B91*POP!C88","v":10830.871117742088},{"$f":"C91*POP!D88","v":15746.170700860783},{"$f":"D91*POP!E88","v":10635.711707458891},{"$f":"E91*POP!F88","v":8132.0186102348625}]
["East Northamptonshire",0.50375145059091697,0.37344617206933539,0.23885395174035848,0.18619821451900601,null,"East Northamptonshire",{"$f":"B92*POP!C89","v":6420.3122377812369},{"$f":"C92*POP!D89","v":8969.0567145892273},{"$f":"D92*POP!E89","v":4212.9060007964426},{"$f":"E92*POP!F89","v":3068.1741788441809}]
["East Riding of Yorkshire",0.49247480843246533,0.39276307649699266,0.27574954809516,0.20523645656748471,null,"East Riding of Yorkshire",{"$f":"B93*POP!C90","v":23464.454722573242},{"$f":"C93*POP!D90","v":32432.018278662672},{"$f":"D93*POP!E90","v":19943.861815530541},{"$f":"E93*POP!F90","v":16051.953741056113}]
["East Staffordshire",0.54864868002663658,0.47893085912800154,0.3437580633151523,0.24282206049700558,null,"East Staffordshire",{"$f":"B94*POP!C91","v":10543.930332751901},{"$f":"C94*POP!D91","v":14941.684943075392},{"$f":"D94*POP!E91","v":7497.019602840156},{"$f":"E94*POP!F91","v":5013.3042610211769}]
["Eastbourne",0.5093676164104094,0.3827059612970069,0.29888543940301476,0.19931901083494324,null,"Eastbourne",{"$f":"B95*POP!C92","v":8395.9064212927788},{"$f":"C95*POP!D92","v":9536.2671435988177},{"$f":"D95*POP!E92","v":5457.0503526202438},{"$f":"E95*POP!F92","v":4728.6442130481937}]
["Eastleigh",0.53301715706318931,0.45000524959676313,0.24730101185041764,0.2019995941741218,null,"Eastleigh",{"$f":"B96*POP!C93","v":11012.134464925492},{"$f":"C96*POP!D93","v":15887.435337013723},{"$f":"D96*POP!E93","v":6118.7216352030337},{"$f":"E96*POP!F93","v":4581.9567946516045}]
["Eden",0.60444349440608292,0.39501056071980467,0.34097136365055741,0.24575067348313898,null,"Eden",{"$f":"B97*POP!C94","v":4413.0419526588112},{"$f":"C97*POP!D94","v":5023.3493006737563},{"$f":"D97*POP!E94","v":4008.4593510759528},{"$f":"E97*POP!F94","v":3079.9931907641808}]
["Elmbridge",0.43927377260966832,0.43574428527163855,0.34902703425847154,0.14255942650970174,null,"Elmbridge",{"$f":"B98*POP!C95","v":6826.3144263542454},{"$f":"C98*POP!D95","v":17390.554425191094},{"$f":"D98*POP!E95","v":8574.1981235936109},{"$f":"E98*POP!F95","v":3275.1602646338879}]
["Enfield",0.53089952591210798,0.54030377946989006,0.36567515849150678,0.20799024536409161,null,"Enfield",{"$f":"B99*POP!C96","v":33066.015172383821},{"$f":"C99*POP!D96","v":51251.595609175361},{"$f":"D99*POP!E96","v":18345.922701518895},{"$f":"E99*POP!F96","v":8505.3451036737988}]
["Epping Forest",0.49334120917044461,0.37979008973245637,0.23468937131475315,0.20493146844911608,null,"Epping Forest",{"$f":"B100*POP!C97","v":9725.728597586145},{"$f":"C100*POP!D97","v":13321.137397365907},{"$f":"D100*POP!E97","v":5725.7165919660329},{"$f":"E100*POP!F97","v":5013.648375607625}]
["Epsom and Ewell",0.57842459063706231,0.4830247862685238,0.34039535529677556,0.22294622318126742,null,"Epsom and Ewell",{"$f":"B101*POP!C98","v":6927.2128974694579},{"$f":"C101*POP!D98","v":10699.482040634071},{"$f":"D101*POP!E98","v":4834.2948359248066},{"$f":"E101*POP!F98","v":3017.1312383120921}]
["Erewash",0.57214516807917071,0.43826712707471005,0.38234517707456434,0.20185591463839975,null,"Erewash",{"$f":"B102*POP!C99","v":10727.149756316372},{"$f":"C102*POP!D99","v":13549.90476776881},{"$f":"D102*POP!E99","v":8270.1261801228266},{"$f":"E102*POP!F99","v":4367.3545691164172}]
["Exeter",0.54163442134903428,0.43790285037622401,0.24075035270113868,0.16861046163836876,null,"Exeter",{"$f":"B103*POP!C100","v":17959.514143091277},{"$f":"C103*POP!D100","v":13719.058399436723},{"$f":"D103*POP!E100","v":4522.9768761962923},{"$f":"E103*POP!F100","v":3249.6294271562811}]
["Fareham",0.41030916196078765,0.35460628951331846,0.32449356704339311,0.16740986883986514,null,"Fareham",{"$f":"B104*POP!C101","v":7033.1093451698607},{"$f":"C104*POP!D101","v":10366.560267632352},{"$f":"D104*POP!E101","v":7437.3925566345697},{"$f":"E104*POP!F101","v":4154.610714998933}]
["Fenland",0.56893385539454877,0.44584247295127344,0.30645894147470409,0.26224900095345405,null,"Fenland",{"$f":"B105*POP!C102","v":8827.5777003018193},{"$f":"C105*POP!D102","v":10877.218812592218},{"$f":"D105*POP!E102","v":5855.8174536986462},{"$f":"E105*POP!F102","v":5446.3872518013341}]
["Forest Heath",0.39418556487355288,0.3306875043341948,0.24576907824420399,0.12029737209994892,null,"Forest Heath",{"$f":"B106*POP!C103","v":5394.0352697296976},{"$f":"C106*POP!D103","v":5516.1982597987035},{"$f":"D106*POP!E103","v":2504.3869073084388},{"$f":"E106*POP!F103","v":1272.8664941895595}]
["Forest of Dean",0.49559189676158594,0.43730018443033941,0.23537635081512198,0.16359595398414239,null,"Forest of Dean",{"$f":"B107*POP!C104","v":6234.0504693639896},{"$f":"C107*POP!D104","v":8744.6917880534966},{"$f":"D107*POP!E104","v":4265.2548531208258},{"$f":"E107*POP!F104","v":3024.3984013048403}]
["Fylde",0.62798330170326666,0.40652831604746864,0.25027762381129948,0.18108459720564801,null,"Fylde",{"$f":"B108*POP!C105","v":6389.102111529035},{"$f":"C108*POP!D105","v":7428.8984474514418},{"$f":"D108*POP!E105","v":4085.0313758480302},{"$f":"E108*POP!F105","v":3546.5418362726164}]
["Gateshead",0.5126922479352668,0.46379816684522251,0.37620723667652439,0.2218112575256086,null,"Gateshead",{"$f":"B109*POP!C106","v":18164.686344346501},{"$f":"C109*POP!D106","v":25051.130385811004},{"$f":"D109*POP!E106","v":14377.511964066733},{"$f":"E109*POP!F106","v":8252.4878362402669}]
["Gedling",0.5802840261587342,0.45193572665298393,0.20320616101873631,0.13740172033469891,null,"Gedling",{"$f":"B110*POP!C107","v":10419.579973706232},{"$f":"C110*POP!D107","v":13917.812638005293},{"$f":"D110*POP!E107","v":4680.2443005835348},{"$f":"E110*POP!F107","v":3091.2639040900563}]
["Gloucester",0.56929797779385938,0.48661686213971334,0.33491531681016934,0.19843455045588773,null,"Gloucester",{"$f":"B111*POP!C108","v":13285.137609797503},{"$f":"C111*POP!D108","v":17007.745948645123},{"$f":"D111*POP!E108","v":7358.0895103194207},{"$f":"E111*POP!F108","v":3849.6302788442222}]
["Gosport",0.50501728379315913,0.35396076158131135,0.24216219935651909,0.13134490860478196,null,"Gosport",{"$f":"B112*POP!C109","v":7249.0180915670062},{"$f":"C112*POP!D109","v":7784.65902945778},{"$f":"D112*POP!E109","v":3811.1486934728973},{"$f":"E112*POP!F109","v":2009.445756744559}]
["Gravesham",0.53739537938594162,0.37921406172016564,0.2583591310051836,0.17027592883177931,null,"Gravesham",{"$f":"B113*POP!C110","v":10059.504106725441},{"$f":"C113*POP!D110","v":10658.948846830415},{"$f":"D113*POP!E110","v":4718.4128095476681},{"$f":"E113*POP!F110","v":2973.3582692605301}]
["Great Yarmouth",0.63098276492314376,0.39964536703145037,0.297618569638047,0.22189857945551322,null,"Great Yarmouth",{"$f":"B114*POP!C111","v":10475.575863254033},{"$f":"C114*POP!D111","v":9221.4171988836861},{"$f":"D114*POP!E111","v":5640.1695132106288},{"$f":"E114*POP!F111","v":4885.0972267131237}]
["Greenwich",0.55201570614633788,0.36821262979787089,0.25528915338087288,0.17199412781348039,null,"Greenwich",{"$f":"B115*POP!C112","v":30920.055748374823},{"$f":"C115*POP!D112","v":31608.47677973863},{"$f":"D115*POP!E112","v":9436.5082655705846},{"$f":"E115*POP!F112","v":4750.9937925917684}]
["Guildford",0.48492468942268002,0.35542174796599518,0.28432513556542571,0.13448934344860697,null,"Guildford",{"$f":"B116*POP!C113","v":14334.858744023844},{"$f":"C116*POP!D113","v":13707.905975552501},{"$f":"D116*POP!E113","v":6927.8662531871632},{"$f":"E116*POP!F113","v":3089.3547083579506}]
["Hackney",0.63413008554744266,0.49086035296559599,0.30512325974061233,0.18625160790501025,null,"Hackney",{"$f":"B117*POP!C114","v":40794.222533352535},{"$f":"C117*POP!D114","v":44855.800774702097},{"$f":"D117*POP!E114","v":9082.2989494390658},{"$f":"E117*POP!F114","v":3412.6882116435027}]
["Halton",0.43679604425883645,0.42487021195930275,0.31192946184520376,0.10838485193124453,null,"Halton",{"$f":"B118*POP!C115","v":9578.9372505962838},{"$f":"C118*POP!D115","v":14156.675462483967},{"$f":"D118*POP!E115","v":7897.1181855350233},{"$f":"E118*POP!F115","v":2200.8628033158516}]
["Hambleton",0.47492817683906163,0.45973850182932174,0.23027428606780076,0.14238681892015101,null,"Hambleton",{"$f":"B119*POP!C116","v":6122.2991276323437},{"$f":"C119*POP!D116","v":9991.4968602566496},{"$f":"D119*POP!E116","v":4469.1633440038768},{"$f":"E119*POP!F116","v":2983.2886300150039}]
["Hammersmith and Fulham",0.50381649805534967,0.46232434043300535,0.39873403864953594,0.16458881749444879,null,"Hammersmith and Fulham",{"$f":"B120*POP!C117","v":21806.689485329698},{"$f":"C120*POP!D117","v":29641.925086862138},{"$f":"D120*POP!E117","v":9334.3638447856356},{"$f":"E120*POP!F117","v":2879.8105397003706}]
["Harborough",0.61259686547555192,0.47274658400828717,0.33894051785388751,0.17442648184379658,null,"Harborough",{"$f":"B121*POP!C118","v":7451.628271644614},{"$f":"C121*POP!D118","v":11105.290004938674},{"$f":"D121*POP!E118","v":6129.7392653875559},{"$f":"E121*POP!F118","v":3028.0437248083085}]
["Haringey",0.56859859987086825,0.48041192063693328,0.31392589399081411,0.21509712643673876,null,"Haringey",{"$f":"B122*POP!C119","v":32559.093025805658},{"$f":"C122*POP!D119","v":44929.083641807272},{"$f":"D122*POP!E119","v":11260.521817450503},{"$f":"E122*POP!F119","v":5120.6021919530031}]
["Harlow",0.43955695600090311,0.48507992805002503,0.33875656550495747,0.18205239483955166,null,"Harlow",{"$f":"B123*POP!C120","v":6417.0920006571841},{"$f":"C123*POP!D120","v":11411.505307376839},{"$f":"D123*POP!E120","v":4974.6401644403004},{"$f":"E123*POP!F120","v":2349.9323125889327}]
["Harrogate",0.45177734629712035,0.38887180216771677,0.21212153530160721,0.23017922760646128,null,"Harrogate",{"$f":"B124*POP!C121","v":10179.447166766715},{"$f":"C124*POP!D121","v":16145.179482399266},{"$f":"D124*POP!E121","v":6806.1315816873694},{"$f":"E124*POP!F121","v":7725.9657746108733}]
["Harrow",0.63496149109901434,0.50922305992224415,0.36787815571566951,0.20887515432067441,null,"Harrow",{"$f":"B125*POP!C122","v":28819.632158002063},{"$f":"C125*POP!D122","v":36404.356553841237},{"$f":"D125*POP!E122","v":15251.860457815943},{"$f":"E125*POP!F122","v":7419.0366063160345}]
["Hart",0.50545170075547652,0.3613930311214435,0.23184277350391222,0.20125322196557549,null,"Hart",{"$f":"B126*POP!C123","v":6590.0792744499031},{"$f":"C126*POP!D123","v":9645.9413936624478},{"$f":"D126*POP!E123","v":4077.8825431603123},{"$f":"E126*POP!F123","v":3368.3751760378368}]
["Hartlepool",0.59322541736882917,0.4977559989208884,0.44576702099355986,0.24685630837145336,null,"Hartlepool",{"$f":"B127*POP!C124","v":9874.8302975215302},{"$f":"C127*POP!D124","v":11624.095842799506},{"$f":"D127*POP!E124","v":8151.2957458882356},{"$f":"E127*POP!F124","v":4110.1575343846989}]
["Hastings",0.49573756110031497,0.34068156801764676,0.24993086193324221,0.1344555555734683,null,"Hastings",{"$f":"B128*POP!C125","v":7803.4049492800577},{"$f":"C128*POP!D125","v":8182.1492190798226},{"$f":"D128*POP!E125","v":4347.2974124668153},{"$f":"E128*POP!F125","v":2248.3658002995371}]
["Havant",0.50162971301723047,0.38271652643434517,0.26147540650126849,0.20632514700984209,null,"Havant",{"$f":"B129*POP!C126","v":9733.62295138634},{"$f":"C129*POP!D126","v":11130.162021763626},{"$f":"D129*POP!E126","v":6315.1540178186369},{"$f":"E129*POP!F126","v":5602.759367052262}]
["Havering",0.5143694345781642,0.32306470121274156,0.32395184571328134,0.19435782262400256,null,"Havering",{"$f":"B130*POP!C127","v":22089.080998524681},{"$f":"C130*POP!D127","v":20605.066643348655},{"$f":"D130*POP!E127","v":14482.267262612242},{"$f":"E130*POP!F127","v":8710.1458208946751}]
["Herefordshire, County of",0.52547127862010967,0.42145461855301586,0.20266796248553695,0.12267691628761367,null,"Herefordshire",{"$f":"B131*POP!C128","v":14658.021317107959},{"$f":"C131*POP!D128","v":19307.678985150764},{"$f":"D131*POP!E128","v":7842.844812265309},{"$f":"E131*POP!F128","v":5148.995530423721}]
["Hertsmere",0.54624437164761375,0.42592109787797988,0.3194037308774641,0.19321848367759373,null,"Hertsmere",{"$f":"B132*POP!C129","v":9079.6739455266361},{"$f":"C132*POP!D129","v":11996.493642831181},{"$f":"D132*POP!E129","v":5854.3509832530399},{"$f":"E132*POP!F129","v":3389.2454221886715}]
["High Peak",0.61510174953038754,0.40848803114292553,0.3390525747754225,0.20037114398011296,null,"High Peak",{"$f":"B133*POP!C130","v":8885.7598737159788},{"$f":"C133*POP!D130","v":9832.3069096102172},{"$f":"D133*POP!E130","v":6556.5986910071206},{"$f":"E133*POP!F130","v":3422.7398814682897}]
["Hillingdon",0.56808091125899496,0.37193613464474246,0.26429979641962809,0.23531770352056955,null,"Hillingdon",{"$f":"B134*POP!C131","v":33745.142290606818},{"$f":"C134*POP!D131","v":31399.964295113092},{"$f":"D134*POP!E131","v":11833.759084892428},{"$f":"E134*POP!F131","v":8837.8269911220304}]
["Hinckley and Bosworth",0.48229107589653847,0.39854451604116992,0.28123382315593998,0.20997113772024856,null,"Hinckley and Bosworth",{"$f":"B135*POP!C132","v":7653.9593744780659},{"$f":"C135*POP!D132","v":11384.025556199978},{"$f":"D135*POP!E132","v":6223.7045064409513},{"$f":"E135*POP!F132","v":4445.0889855376618}]
["Horsham",0.62535764839233499,0.50596138792354828,0.37579876386690736,0.22475922337363705,null,"Horsham",{"$f":"B136*POP!C133","v":11016.300334079373},{"$f":"C136*POP!D133","v":17625.670909704728},{"$f":"D136*POP!E133","v":10390.084223392254},{"$f":"E136*POP!F133","v":6299.1019942695521}]
["Hounslow",0.48394863036055197,0.4053916261108797,0.33919364699296523,0.16575278414967412,null,"Hounslow",{"$f":"B137*POP!C134","v":25965.779813365054},{"$f":"C137*POP!D134","v":35016.107096953347},{"$f":"D137*POP!E134","v":13275.02176236368},{"$f":"E137*POP!F134","v":4750.4747937296606}]
["Huntingdonshire",0.5982509595930473,0.44645423232577069,0.25038920064398945,0.2406221433954534,null,"Huntingdonshire",{"$f":"B138*POP!C135","v":16381.906026536415},{"$f":"C138*POP!D135","v":21385.604182636744},{"$f":"D138*POP!E135","v":8425.3462124696016},{"$f":"E138*POP!F135","v":7355.3376793122197}]
["Hyndburn",0.50062736371711458,0.39707592929697799,0.29530938616741326,0.17547313615028989,null,"Hyndburn",{"$f":"B139*POP!C136","v":7054.3401821378611},{"$f":"C139*POP!D136","v":8448.1874717225037},{"$f":"D139*POP!E136","v":4283.167336972162},{"$f":"E139*POP!F136","v":2423.1085370993533}]
["Ipswich",0.52955888410114682,0.34137120578617969,0.24094946909008144,0.12986591566103445,null,"Ipswich",{"$f":"B140*POP!C137","v":14135.515293311912},{"$f":"C140*POP!D137","v":12846.8225873513},{"$f":"D140*POP!E137","v":5503.5268234865498},{"$f":"E140*POP!F137","v":2725.625837893791}]
["Isle of Wight",0.49385914562526562,0.41558345564134158,0.20538932384648131,0.14213532848134877,null,"Isle of Wight",{"$f":"B141*POP!C138","v":9897.4311374759491},{"$f":"C141*POP!D138","v":13245.060314745198},{"$f":"D141*POP!E138","v":5938.2161310494675},{"$f":"E141*POP!F138","v":5026.1894857574553}]
["Isles of Scilly",0.75874177222976369,0.65570106905095626,0.43303111314067244,0.14422197844741044,null,"Isles of Scilly",{"$f":"B142*POP!C139","v":242.03862534129462},{"$f":"C142*POP!D139","v":389.48643501626805},{"$f":"D142*POP!E139","v":192.69884534759925},{"$f":"E142*POP!F139","v":79.177866167628338}]
["Islington",0.54803186368273937,0.46785626706062311,0.37060593652455726,0.18910150776959303,null,"Islington",{"$f":"B143*POP!C140","v":32832.040921369233},{"$f":"C143*POP!D140","v":34988.630932128697},{"$f":"D143*POP!E140","v":10070.475113181794},{"$f":"E143*POP!F140","v":3623.9412948964809}]
["Kensington and Chelsea",0.56416962646065838,0.47926885618066983,0.29794764057309858,0.2191521517274298,null,"Kensington and Chelsea",{"$f":"B144*POP!C141","v":16276.857893016455},{"$f":"C144*POP!D141","v":26325.279732291834},{"$f":"D144*POP!E141","v":7665.8948443052532},{"$f":"E144*POP!F141","v":4616.0017718348536}]
["Kettering",0.50446953776387171,0.32633076869249816,0.26165869381408341,0.2001635465485804,null,"Kettering",{"$f":"B145*POP!C142","v":7645.2358448114755},{"$f":"C145*POP!D142","v":8922.862208358978},{"$f":"D145*POP!E142","v":4574.840602645434},{"$f":"E145*POP!F142","v":3304.7001535170625}]
["King`s Lynn and West Norfolk",0.58446683320825066,0.49192018649459635,0.22246382521750191,0.18146763547499276,null,"King`s Lynn and West Norfolk",{"$f":"B146*POP!C143","v":13163.94648434943},{"$f":"C146*POP!D143","v":17188.675156494184},{"$f":"D146*POP!E143","v":6606.9531451345892},{"$f":"E146*POP!F143","v":6587.8195706486622}]
["Kingston upon Hull",0.48126312328565651,0.36701803528190868,0.22173075007275483,0.19187910546136266,null,"Kingston upon Hull",{"$f":"B147*POP!C144","v":27988.819460923925},{"$f":"C147*POP!D144","v":25217.075168149382},{"$f":"D147*POP!E144","v":9737.5276201951019},{"$f":"E147*POP!F144","v":7226.5508698858403}]
["Kingston upon Thames",0.49246222202678569,0.46079644277535253,0.3730148958508368,0.25160024712972606,null,"Kingston upon Thames",{"$f":"B148*POP!C145","v":16997.333593254509},{"$f":"C148*POP!D145","v":24059.564666629482},{"$f":"D148*POP!E145","v":9742.0300349363042},{"$f":"E148*POP!F145","v":5486.8981894050658}]
["Kirklees",0.42480068123063619,0.37022921018939065,0.2347310867021456,0.19004560835728293,null,"Kirklees",{"$f":"B149*POP!C146","v":33478.966488467668},{"$f":"C149*POP!D146","v":43049.512102401968},{"$f":"D149*POP!E146","v":17977.349737257224},{"$f":"E149*POP!F146","v":13234.776166001184}]
["Knowsley",0.50035393998994926,0.32131121827050541,0.23942460353994796,0.15304090865332556,null,"Knowsley",{"$f":"B150*POP!C147","v":13652.657606565755},{"$f":"C150*POP!D147","v":11919.360952962668},{"$f":"D150*POP!E147","v":7007.7187210107368},{"$f":"E150*POP!F147","v":3678.6443212999866}]
["Lambeth",0.4973960627540594,0.52268834490908622,0.29734201316964559,0.17175083664813948,null,"Lambeth",{"$f":"B151*POP!C148","v":40798.912047401725},{"$f":"C151*POP!D148","v":58784.667398545294},{"$f":"D151*POP!E148","v":11687.027827632919},{"$f":"E151*POP!F148","v":4163.068529514253}]
["Lancaster",0.53198237988320418,0.43553970016358351,0.33889590757811766,0.16200020815645613,null,"Lancaster",{"$f":"B152*POP!C149","v":17027.6920153016},{"$f":"C152*POP!D149","v":14406.782202011016},{"$f":"D152*POP!E149","v":8567.288543574814},{"$f":"E152*POP!F149","v":4354.5655952455409}]
["Leeds",0.5446187518464044,0.44617594227939195,0.32847721746664882,0.14545093636369785,null,"Leeds",{"$f":"B153*POP!C150","v":95736.896530823884},{"$f":"C153*POP!D150","v":91920.275276515764},{"$f":"D153*POP!E150","v":40379.375865957671},{"$f":"E153*POP!F150","v":16796.819582216191}]
["Leicester",0.49082814276610665,0.30666802039638358,0.23120397920267763,0.15448819566348798,null,"Leicester",{"$f":"B154*POP!C151","v":41429.331046458763},{"$f":"C154*POP!D151","v":27132.146436549639},{"$f":"D154*POP!E151","v":11798.107854733436},{"$f":"E154*POP!F151","v":5987.1900229384764}]
["Lewes",0.6323334551040185,0.47988714474209032,0.37851859175636038,0.15548376161029889,null,"Lewes",{"$f":"B155*POP!C152","v":8672.4533367516142},{"$f":"C155*POP!D152","v":11627.665517100848},{"$f":"D155*POP!E152","v":7686.5770427964098},{"$f":"E155*POP!F152","v":3708.1322306440184}]
["Lewisham",0.50516722801601188,0.37008878383244925,0.25099789674710671,0.1325100541292383,null,"Lewisham",{"$f":"B156*POP!C153","v":30242.846439634584},{"$f":"C156*POP!D153","v":36790.155911999951},{"$f":"D156*POP!E153","v":10125.757150571779},{"$f":"E156*POP!F153","v":3594.2027082014597}]
["Lichfield",0.63792697070520221,0.47261101322872895,0.32370724812225043,0.1839808757138135,null,"Lichfield",{"$f":"B157*POP!C154","v":9510.8532062438589},{"$f":"C157*POP!D154","v":12455.663253643152},{"$f":"D157*POP!E154","v":6614.9576153781873},{"$f":"E157*POP!F154","v":4142.1454358207975}]
["Lincoln",0.4568029294670039,0.33040274181379087,0.30161370740675963,0.15545595844619808,null,"Lincoln",{"$f":"B158*POP!C155","v":11930.322108889741},{"$f":"C158*POP!D155","v":7963.3668831959876},{"$f":"D158*POP!E155","v":4650.5817545048267},{"$f":"E158*POP!F155","v":2184.6225840444217}]
["Liverpool",0.59210196051469288,0.41120158998741652,0.23597435057057306,0.12780333026609525,null,"Liverpool",{"$f":"B159*POP!C156","v":70696.974085454334},{"$f":"C159*POP!D156","v":50882.495946632909},{"$f":"D159*POP!E156","v":19014.341220275637},{"$f":"E159*POP!F156","v":8726.1557839084508}]
["Luton",0.40186319738657394,0.28132338432391052,0.22617844070826995,0.16510678482212487,null,"Luton",{"$f":"B160*POP!C157","v":18238.159350192273},{"$f":"C160*POP!D157","v":16585.70144620047},{"$f":"D160*POP!E157","v":6873.3366346836156},{"$f":"E160*POP!F157","v":4124.5325916415013}]
["Maidstone",0.49826368485613398,0.41003781972286013,0.2573838881018205,0.20803427727421203,null,"Maidstone",{"$f":"B161*POP!C158","v":12908.517283567862},{"$f":"C161*POP!D158","v":17944.895142351252},{"$f":"D161*POP!E158","v":7638.8964149739304},{"$f":"E161*POP!F158","v":6099.356975402623}]
["Maldon",0.60014053601802853,0.44541564546879986,0.29065946560951844,0.26654924893696336,null,"Maldon",{"$f":"B162*POP!C159","v":5015.3744595026646},{"$f":"C162*POP!D159","v":6915.5233115485862},{"$f":"D162*POP!E159","v":3998.0209494589262},{"$f":"E162*POP!F159","v":3717.2958256748911}]
["Malvern Hills",0.67643821152963723,0.3800537616168333,0.34442786462628944,0.1821639233255257,null,"Malvern Hills",{"$f":"B163*POP!C160","v":6808.3505990457988},{"$f":"C163*POP!D160","v":6468.134968956886},{"$f":"D163*POP!E160","v":5710.2695676392523},{"$f":"E163*POP!F160","v":3546.5494232246597}]
["Manchester",0.61211908980155116,0.3981999798632202,0.24721834504065868,0.11947915004457006,null,"Manchester",{"$f":"B164*POP!C161","v":94486.702701767441},{"$f":"C164*POP!D161","v":57974.333268266091},{"$f":"D164*POP!E161","v":15774.75537869939},{"$f":"E164*POP!F161","v":5854.1199147337993}]
["Mansfield",0.52786482530716994,0.48384542695048954,0.2274246427860887,0.13328363972490737,null,"Mansfield",{"$f":"B165*POP!C162","v":9676.81797753104},{"$f":"C165*POP!D162","v":13595.572651881806},{"$f":"D165*POP!E162","v":4710.874050671041},{"$f":"E165*POP!F162","v":2530.7897510965408}]
["Medway",0.46368314043623549,0.34733247038650006,0.24541873810944709,0.12788696269862618,null,"Medway",{"$f":"B166*POP!C163","v":24896.538859442793},{"$f":"C166*POP!D163","v":25738.7253855212},{"$f":"D166*POP!E163","v":11800.469184516543},{"$f":"E166*POP!F163","v":5188.2461897205658}]
["Melton",0.43534310966080209,0.42907650600399927,0.29405835366959648,0.15768028677659185,null,"Melton",{"$f":"B167*POP!C164","v":3218.9269528319705},{"$f":"C167*POP!D164","v":5744.0471858755382},{"$f":"D167*POP!E164","v":3158.1867184114662},{"$f":"E167*POP!F164","v":1601.4009925030668}]
["Mendip",0.55635742852213166,0.38699570260414506,0.30294026386289286,0.20381372100188488,null,"Mendip",{"$f":"B168*POP!C165","v":9184.3484300433502},{"$f":"C168*POP!D165","v":10577.366543576492},{"$f":"D168*POP!E165","v":6966.717248054947},{"$f":"E168*POP!F165","v":4728.0706998017258}]
["Merton",0.57281654858793085,0.44414606557676678,0.36111014139633224,0.15950864231174194,null,"Merton",{"$f":"B169*POP!C166","v":21497.232251956459},{"$f":"C169*POP!D166","v":31080.009230865409},{"$f":"D169*POP!E166","v":11072.35915549434},{"$f":"E169*POP!F166","v":3864.4158772865721}]
["Mid Devon",0.56641855667884466,0.4498978459389445,0.27448575417964294,0.15785491868151977,null,"Mid Devon",{"$f":"B170*POP!C167","v":6363.7124842868197},{"$f":"C170*POP!D167","v":8664.1327170921923},{"$f":"D170*POP!E167","v":4495.8021677083716},{"$f":"E170*POP!F167","v":2721.5766529880825}]
["Mid Suffolk",0.56385078430962754,0.46385800984840042,0.27940299620074738,0.20839644613189151,null,"Mid Suffolk",{"$f":"B171*POP!C168","v":7693.7439519048676},{"$f":"C171*POP!D168","v":11406.268462172166},{"$f":"D171*POP!E168","v":5764.3632146176187},{"$f":"E171*POP!F168","v":4500.7380471104607}]
["Mid Sussex",0.50162795146539274,0.47239547756905764,0.34527825248719163,0.25549080505259392,null,"Mid Sussex",{"$f":"B172*POP!C169","v":10169.001832106442},{"$f":"C172*POP!D169","v":18767.327532863521},{"$f":"D172*POP!E169","v":9454.0638313517939},{"$f":"E172*POP!F169","v":7081.9496252528506}]
["Middlesbrough",0.62726873219921908,0.33137863572737219,0.23073576993674588,0.15285230559032911,null,"Middlesbrough",{"$f":"B173*POP!C170","v":18794.8530228852},{"$f":"C173*POP!D170","v":11324.864875982945},{"$f":"D173*POP!E170","v":5769.5479272683306},{"$f":"E173*POP!F170","v":3311.0866436977094}]
["Milton Keynes",0.64704028975578498,0.44257070705249069,0.28204332892784179,0.18577024868709924,null,"Milton Keynes",{"$f":"B174*POP!C171","v":28181.839820313216},{"$f":"C174*POP!D171","v":35042.748584416215},{"$f":"D174*POP!E171","v":12473.64826516273},{"$f":"E174*POP!F171","v":5736.0279687115635}]
["Mole Valley",0.6146432314739102,0.53918992848621483,0.37795412293399061,0.21965079040370356,null,"Mole Valley",{"$f":"B175*POP!C172","v":7026.601422209741},{"$f":"C175*POP!D172","v":12099.421995230661},{"$f":"D175*POP!E172","v":6638.7641693355454},{"$f":"E175*POP!F172","v":4183.0296524481309}]
["New Forest",0.45005908369946934,0.55578007269641239,0.34406146779625013,0.23711633192535175,null,"New Forest",{"$f":"B176*POP!C173","v":10547.134626497063},{"$f":"C176*POP!D173","v":22776.423159171674},{"$f":"D176*POP!E173","v":12778.786975420526},{"$f":"E176*POP!F173","v":11288.39721397022}]
["Newark and Sherwood",0.52042726490905,0.40785400730489924,0.30927622643954727,0.16913847877265403,null,"Newark and Sherwood",{"$f":"B177*POP!C174","v":9473.8579304043469},{"$f":"C177*POP!D174","v":12295.166904213493},{"$f":"D177*POP!E174","v":7337.2691960518196},{"$f":"E177*POP!F174","v":4012.3029934448991}]
["Newcastle upon Tyne",0.54131088816570161,0.40140187060650773,0.22671931844646803,0.19601411616740966,null,"Newcastle upon Tyne",{"$f":"B178*POP!C175","v":43849.97111763899},{"$f":"C178*POP!D175","v":28085.286082596132},{"$f":"D178*POP!E175","v":10375.356170065717},{"$f":"E178*POP!F175","v":7999.9241231404903}]
["Newcastle-under-Lyme",0.67382115329465675,0.34210012235256665,0.24153506975628414,0.1493161010021789,null,"Newcastle-under-Lyme",{"$f":"B179*POP!C176","v":16339.489146242131},{"$f":"C179*POP!D176","v":10868.520887141043},{"$f":"D179*POP!E176","v":5805.0538665225331},{"$f":"E179*POP!F176","v":3617.929127282795}]
["Newham",0.41024569368339125,0.24474217047557395,0.20810426239083185,0.12686638237901954,null,"Newham",{"$f":"B180*POP!C177","v":34815.090548747314},{"$f":"C180*POP!D177","v":24697.177164860645},{"$f":"D180*POP!E177","v":7793.9208350614344},{"$f":"E180*POP!F177","v":2774.4409162467782}]
["North Devon",0.6511071582224115,0.4943941636765532,0.29618150732353438,0.21364845130512752,null,"North Devon",{"$f":"B181*POP!C178","v":8918.8658533305934},{"$f":"C181*POP!D178","v":11069.485324718025},{"$f":"D181*POP!E178","v":5682.8345810166538},{"$f":"E181*POP!F178","v":4789.5709813583489}]
["North Dorset",0.48889432932032723,0.3864503036573434,0.37219241552593862,0.18972943494675856,null,"North Dorset",{"$f":"B182*POP!C179","v":5118.2347336545054},{"$f":"C182*POP!D179","v":6442.5130122715718},{"$f":"D182*POP!E179","v":5261.3119858746686},{"$f":"E182*POP!F179","v":3083.6725061896668}]
["North East Derbyshire",0.59080430805750117,0.42782150245428602,0.32195135216352228,0.18827317176259351,null,"North East Derbyshire",{"$f":"B183*POP!C180","v":8651.7382871940463},{"$f":"C183*POP!D180","v":10603.555938329479},{"$f":"D183*POP!E180","v":6804.7637793282065},{"$f":"E183*POP!F180","v":4251.2082183993616}]
["North East Lincolnshire",0.54539447908542293,0.41229131518270529,0.25946044963275083,0.16582923236386568,null,"North East Lincolnshire",{"$f":"B184*POP!C181","v":15482.113077797901},{"$f":"C184*POP!D181","v":16659.867463902756},{"$f":"D184*POP!E181","v":7908.6139652558786},{"$f":"E184*POP!F181","v":4998.9222096087306}]
["North Hertfordshire",0.60256728960629202,0.46600085687517867,0.32384222518026962,0.2479902333404487,null,"North Hertfordshire",{"$f":"B185*POP!C182","v":11465.650386628524},{"$f":"C185*POP!D182","v":17699.178544976163},{"$f":"D185*POP!E182","v":7732.7046528544779},{"$f":"E185*POP!F182","v":5766.0209153987726}]
["North Kesteven",0.46609150853284498,0.46156889113240934,0.28143935507876588,0.20042461942496553,null,"North Kesteven",{"$f":"B186*POP!C183","v":7425.7699139452861},{"$f":"C186*POP!D183","v":13138.096917192899},{"$f":"D186*POP!E183","v":6113.7071103760309},{"$f":"E186*POP!F183","v":4913.6099698224552}]
["North Lincolnshire",0.55458689750279555,0.35369902323185848,0.2646497829001514,0.14954324627264587,null,"North Lincolnshire",{"$f":"B187*POP!C184","v":15226.737857836755},{"$f":"C187*POP!D184","v":15344.171025844484},{"$f":"D187*POP!E184","v":9028.2626938557642},{"$f":"E187*POP!F184","v":4863.4454552789894}]
["North Norfolk",0.54268194037199169,0.40583591928839802,0.2847314329433529,0.20975109243059359,null,"North Norfolk",{"$f":"B188*POP!C185","v":7078.2005482718878},{"$f":"C188*POP!D185","v":8456.4030502123496},{"$f":"D188*POP!E185","v":6405.3183154936669},{"$f":"E188*POP!F185","v":6581.7795293795962}]
["North Somerset",0.58038592075915263,0.48260653424539246,0.30758157751819187,0.20442281650923158,null,"North Somerset",{"$f":"B189*POP!C186","v":16643.146663689462},{"$f":"C189*POP!D186","v":25704.589226978092},{"$f":"D189*POP!E186","v":12479.19976306808},{"$f":"E189*POP!F186","v":9451.6933441208312}]
["North Tyneside",0.51560706052187244,0.5139957027580877,0.32514370484831645,0.20760774459772122,null,"North Tyneside",{"$f":"B190*POP!C187","v":16456.114943616081},{"$f":"C190*POP!D187","v":28937.444069577581},{"$f":"D190*POP!E187","v":13120.849065448961},{"$f":"E190*POP!F187","v":7855.0466245993803}]
["North Warwickshire",0.56485990687567356,0.36022501606397378,0.30474334237990897,0.18686504491958392,null,"North Warwickshire",{"$f":"B191*POP!C188","v":5320.9803227688453},{"$f":"C191*POP!D188","v":5892.2005877584188},{"$f":"D191*POP!E188","v":3999.7563687363054},{"$f":"E191*POP!F188","v":2330.2071101472116}]
["North West Leicestershire",0.56151659490734118,0.36902260794380132,0.22304478004230363,0.18964252861770808,null,"North West Leicestershire",{"$f":"B192*POP!C189","v":8028.0027573902571},{"$f":"C192*POP!D189","v":9609.348710856586},{"$f":"D192*POP!E189","v":4211.5315367587773},{"$f":"E192*POP!F189","v":3392.1359093849446}]
["Northampton",0.56669737145546639,0.41597396696810007,0.2644553599604833,0.19744120237132937,null,"Northampton",{"$f":"B193*POP!C190","v":23839.258325017105},{"$f":"C193*POP!D190","v":26261.68445659706},{"$f":"D193*POP!E190","v":9533.880181935383},{"$f":"E193*POP!F190","v":6060.0628243832125}]
["Northumberland",0.4585987396676055,0.42741083267330898,0.24940561872341829,0.16604914330815332,null,"Northumberland",{"$f":"B194*POP!C191","v":21267.057953345538},{"$f":"C194*POP!D191","v":33043.558884806189},{"$f":"D194*POP!E191","v":17503.036916390771},{"$f":"E194*POP!F191","v":11456.892740832654}]
["Norwich",0.45418006776342545,0.39060855027100116,0.25650007980442036,0.16683687934449432,null,"Norwich",{"$f":"B195*POP!C192","v":16485.828099676819},{"$f":"C195*POP!D192","v":14440.407494968642},{"$f":"D195*POP!E192","v":5050.2300712692322},{"$f":"E195*POP!F192","v":3358.2595443253263}]
["Nottingham",0.40600683925668662,0.40017151013969909,0.2501996344197564,0.15538199850089149,null,"Nottingham",{"$f":"B196*POP!C193","v":38342.473885722975},{"$f":"C196*POP!D193","v":31795.627338149792},{"$f":"D196*POP!E193","v":10779.601049340785},{"$f":"E196*POP!F193","v":5701.8978169887141}]
["Nuneaton and Bedworth",0.46901449062403178,0.39081285883058631,0.25814567696971336,0.14501191305555505,null,"Nuneaton and Bedworth",{"$f":"B197*POP!C194","v":10063.64392531985},{"$f":"C197*POP!D194","v":13334.143930440774},{"$f":"D197*POP!E194","v":6164.5187660367546},{"$f":"E197*POP!F194","v":3272.6288538377667}]
["Oadby and Wigston",0.54388862665809767,0.44097178143183946,0.34619177753629615,0.17867570602622934,null,"Oadby and Wigston",{"$f":"B198*POP!C195","v":5647.1956105910285},{"$f":"C198*POP!D195","v":6088.4973862294073},{"$f":"D198*POP!E195","v":3665.4785405543034},{"$f":"E198*POP!F195","v":2049.5890238268767}]
["Oldham",0.42906740733511251,0.38492168528689191,0.24524025680159539,0.1730868616992759,null,"Oldham",{"$f":"B199*POP!C196","v":17925.149076238995},{"$f":"C199*POP!D196","v":23224.634803469911},{"$f":"D199*POP!E196","v":9554.5604049901558},{"$f":"E199*POP!F196","v":6119.8321691012979}]
["Oxford",0.46735607225635328,0.44405007577175321,0.3344585924607546,0.19321437494354579,null,"Oxford",{"$f":"B200*POP!C197","v":23186.469456782201},{"$f":"C200*POP!D197","v":18423.637643770042},{"$f":"D200*POP!E197","v":6611.5774557641971},{"$f":"E200*POP!F197","v":3362.8961958924147}]
["Pendle",0.51123702759842959,0.30609977808779326,0.23422243149942823,0.14031005111466247,null,"Pendle",{"$f":"B201*POP!C198","v":8084.1911174139668},{"$f":"C201*POP!D198","v":7174.3665988216981},{"$f":"D201*POP!E198","v":3930.7208454234046},{"$f":"E201*POP!F198","v":2178.7344737084786}]
["Peterborough",0.35320710762083807,0.39322115937710522,0.26353489673523595,0.20965597450349929,null,"Peterborough",{"$f":"B202*POP!C199","v":12701.327590045337},{"$f":"C202*POP!D199","v":21261.074866360701},{"$f":"D202*POP!E199","v":8097.3732370868593},{"$f":"E202*POP!F199","v":5586.0737846712354}]
["Plymouth",0.68706788843379629,0.42357937591790479,0.23657689268739152,0.11574391752102128,null,"Plymouth",{"$f":"B203*POP!C200","v":40110.336258876596},{"$f":"C203*POP!D200","v":27814.339719649219},{"$f":"D203*POP!E200","v":10698.007087323844},{"$f":"E203*POP!F200","v":5148.8681709226321}]
["Poole",0.58874783235996431,0.47307967693232483,0.42831694310225948,0.2454279465777523,null,"Poole",{"$f":"B204*POP!C201","v":13581.234996879657},{"$f":"C204*POP!D201","v":18685.227999796032},{"$f":"D204*POP!E201","v":12092.24393766299},{"$f":"E204*POP!F201","v":7902.5344518570464}]
["Portsmouth",0.49615840162997787,0.41136381021114465,0.27664461619121894,0.14125697568477896,null,"Portsmouth",{"$f":"B205*POP!C202","v":26358.911244994204},{"$f":"C205*POP!D202","v":22720.857329392151},{"$f":"D205*POP!E202","v":8794.5323487188507},{"$f":"E205*POP!F202","v":4093.768412320579}]
["Preston",0.5233365149656769,0.39424886841259299,0.34687297647865428,0.19456034858314128,null,"Preston",{"$f":"B206*POP!C203","v":17445.946062895804},{"$f":"C206*POP!D203","v":14509.54110418866},{"$f":"D206*POP!E203","v":8021.4375810688807},{"$f":"E206*POP!F203","v":3902.8805925778142}]
["Purbeck",0.67718067561759132,0.39895061867907694,0.27635842000929273,0.172089263494006,null,"Purbeck",{"$f":"B207*POP!C204","v":4216.1268863951236},{"$f":"C207*POP!D204","v":4101.6113106395896},{"$f":"D207*POP!E204","v":2715.4978350113101},{"$f":"E207*POP!F204","v":2021.5325782640884}]
["Reading",0.46509419743218128,0.42480183508859587,0.34852983747747773,0.19632325520133706,null,"Reading",{"$f":"B208*POP!C205","v":17270.807927446618},{"$f":"C208*POP!D205","v":20976.289814839776},{"$f":"D208*POP!E205","v":7710.874124351717},{"$f":"E208*POP!F205","v":3698.7301279931903}]
["Redbridge",0.51494595162269241,0.41592529341710266,0.32381358398597287,0.18269005952530951,null,"Redbridge",{"$f":"B209*POP!C206","v":29299.909701379576},{"$f":"C209*POP!D206","v":36089.005859215162},{"$f":"D209*POP!E206","v":14272.083714181754},{"$f":"E209*POP!F206","v":6397.0751243382374}]
["Redcar and Cleveland",0.48850940918138086,0.43577882776599725,0.25322483198954171,0.15868159076717836,null,"Redcar and Cleveland",{"$f":"B210*POP!C207","v":11036.404572225756},{"$f":"C210*POP!D207","v":14353.683028956417},{"$f":"D210*POP!E207","v":6913.0379133144888},{"$f":"E210*POP!F207","v":4446.0994917055705}]
["Redditch",0.59859767820746246,0.43125418467122728,0.31760312131552465,0.20220979641554285,null,"Redditch",{"$f":"B211*POP!C208","v":8761.6742159226287},{"$f":"C211*POP!D208","v":10228.91800621684},{"$f":"D211*POP!E208","v":5207.4207770893418},{"$f":"E211*POP!F208","v":2648.7461232471956}]
["Reigate and Banstead",0.7319948534062003,0.4800073044902794,0.34522321119120608,0.22650256547600975,null,"Reigate and Banstead",{"$f":"B212*POP!C209","v":15290.640492802118},{"$f":"C212*POP!D209","v":20023.504706812004},{"$f":"D212*POP!E209","v":8914.0085361681322},{"$f":"E212*POP!F209","v":5574.9076440610279}]
["Ribble Valley",0.60745636630380218,0.53290069177043753,0.30367056272010928,0.22023867966498692,null,"Ribble Valley",{"$f":"B213*POP!C210","v":4949.55447264338},{"$f":"C213*POP!D210","v":7693.4872870898062},{"$f":"D213*POP!E210","v":3748.2057556543091},{"$f":"E213*POP!F210","v":2770.3823515058702}]
["Richmond upon Thames",0.64962954027974562,0.57569123688015422,0.47132959021255527,0.2952658145938527,null,"Richmond upon Thames",{"$f":"B214*POP!C211","v":17451.647970075086},{"$f":"C214*POP!D211","v":37566.73166261446},{"$f":"D214*POP!E211","v":15379.955858225891},{"$f":"E214*POP!F211","v":8109.4755978201647}]
["Richmondshire",0.63989895526274543,0.4416092528088571,0.31056231552075397,0.16416051711552715,null,"Richmondshire",{"$f":"B215*POP!C212","v":7350.5192991031563},{"$f":"C215*POP!D212","v":5857.9467385094895},{"$f":"D215*POP!E212","v":3098.1696596350416},{"$f":"E215*POP!F212","v":1627.1590456491051}]
["Rochdale",0.43919245276756441,0.37443997129642387,0.22194671030337274,0.20818711696105693,null,"Rochdale",{"$f":"B216*POP!C213","v":16969.517990033153},{"$f":"C216*POP!D213","v":21407.482038959144},{"$f":"D216*POP!E213","v":8556.0456821950193},{"$f":"E216*POP!F213","v":6878.085970159399}]
["Rochford",0.54886866825295844,0.42566953244111116,0.27574168793177284,0.24898150698729735,null,"Rochford",{"$f":"B217*POP!C214","v":6710.4683380606702},{"$f":"C217*POP!D214","v":9269.3797384376376},{"$f":"D217*POP!E214","v":4634.6662907572381},{"$f":"E217*POP!F214","v":4572.2963943147288}]
["Rossendale",0.53610983775971466,0.4611442422444903,0.33381386389162826,0.1316372766992876,null,"Rossendale",{"$f":"B218*POP!C215","v":5959.9330663747478},{"$f":"C218*POP!D215","v":8697.6415529733313},{"$f":"D218*POP!E215","v":4587.2701175987559},{"$f":"E218*POP!F215","v":1528.8353315855261}]
["Rother",0.65596835062455472,0.29209881113976383,0.32578128590637528,0.20395918194111276,null,"Rother",{"$f":"B219*POP!C216","v":7428.1856024724575},{"$f":"C219*POP!D216","v":5434.4983812553064},{"$f":"D219*POP!E216","v":6357.2960131770069},{"$f":"E219*POP!F216","v":5637.0238704884741}]
["Rotherham",0.54297252218651881,0.47503459445200896,0.18066732994649667,0.16522687768967814,null,"Rotherham",{"$f":"B220*POP!C217","v":23613.874989891705},{"$f":"C220*POP!D217","v":32144.165902784091},{"$f":"D220*POP!E217","v":9067.8739573446146},{"$f":"E220*POP!F217","v":7896.5229385450975}]
["Rugby",0.41979850325306417,0.42700946911555548,0.33289975102031599,0.22086317455384114,null,"Rugby",{"$f":"B221*POP!C218","v":6692.0079403570962},{"$f":"C221*POP!D218","v":12124.079856597968},{"$f":"D221*POP!E218","v":6183.6128752023697},{"$f":"E221*POP!F218","v":4124.6197847929834}]
["Runnymede",0.64058987583494564,0.49089133371023957,0.3050878030314696,0.18301938487987357,null,"Runnymede",{"$f":"B222*POP!C219","v":11243.633500654965},{"$f":"C222*POP!D219","v":11128.506535211131},{"$f":"D222*POP!E219","v":4433.535953653316},{"$f":"E222*POP!F219","v":2613.1507773148346}]
["Rushcliffe",0.62053154850265646,0.49647609470351445,0.4307894042767188,0.19933461796142712,null,"Rushcliffe",{"$f":"B223*POP!C220","v":10636.531272884034},{"$f":"C223*POP!D220","v":15064.077665494035},{"$f":"D223*POP!E220","v":9615.2195034563629},{"$f":"E223*POP!F220","v":4454.1320383480888}]
["Rushmoor",0.49066000882595207,0.41836878853164833,0.32426175851018152,0.17255996668582962,null,"Rushmoor",{"$f":"B224*POP!C221","v":8943.7506408794543},{"$f":"C224*POP!D221","v":12438.104083045904},{"$f":"D224*POP!E221","v":5020.2205452546305},{"$f":"E224*POP!F221","v":2164.0745422069895}]
["Rutland",0.52310556665703656,0.51659951838710905,0.41834708918834079,0.2301513734160123,null,"Rutland",{"$f":"B225*POP!C222","v":3154.8496725085874},{"$f":"C225*POP!D222","v":4715.5204038375314},{"$f":"D225*POP!E222","v":3103.2987075991118},{"$f":"E225*POP!F222","v":1966.4133344664092}]
["Ryedale",0.79646931049225334,0.36456520329620906,0.28566269429180075,0.1739559061898053,null,"Ryedale",{"$f":"B226*POP!C223","v":5583.2498665506955},{"$f":"C226*POP!D223","v":4380.6154828072476},{"$f":"D226*POP!E223","v":3380.2466615548783},{"$f":"E226*POP!F223","v":2261.0788686550895}]
["Salford",0.50619395885427965,0.41719212614792656,0.23890055810766797,0.13442926684472911,null,"Salford",{"$f":"B227*POP!C224","v":26502.797103733519},{"$f":"C227*POP!D224","v":27758.29530537844},{"$f":"D227*POP!E224","v":9201.7327966330467},{"$f":"E227*POP!F224","v":4691.1781250805116}]
["Sandwell",0.41661600400563342,0.27379678203402824,0.18987921303239938,0.1094222185084064,null,"Sandwell",{"$f":"B228*POP!C225","v":24956.965103953466},{"$f":"C228*POP!D225","v":23919.160675274743},{"$f":"D228*POP!E225","v":9541.8102133041339},{"$f":"E228*POP!F225","v":5257.2999104548944}]
["Scarborough",0.52558459448704864,0.37165424898781019,0.27248433029497593,0.15669858252591973,null,"Scarborough",{"$f":"B229*POP!C226","v":8794.0814349572975},{"$f":"C229*POP!D226","v":8898.1460292661523},{"$f":"D229*POP!E226","v":6416.1885254557983},{"$f":"E229*POP!F226","v":4212.841391209352}]
["Sedgemoor",0.4593284075235548,0.3649880865293621,0.2240377802468827,0.18466762197211661,null,"Sedgemoor",{"$f":"B230*POP!C227","v":8266.99267860894},{"$f":"C230*POP!D227","v":10442.309155605049},{"$f":"D230*POP!E227","v":5454.6478356708531},{"$f":"E230*POP!F227","v":4699.7909791903676}]
["Sefton",0.48018419660708517,0.49286073150081866,0.26009001043495461,0.16981255448855589,null,"Sefton",{"$f":"B231*POP!C228","v":21014.300996115868},{"$f":"C231*POP!D228","v":32376.021452288776},{"$f":"D231*POP!E228","v":14770.511692601072},{"$f":"E231*POP!F228","v":10220.847842111691}]
["Selby",0.54101518188465214,0.45351526458247626,0.31958189467215609,0.20344371230451086,null,"Selby",{"$f":"B232*POP!C229","v":6854.6623544785425},{"$f":"C232*POP!D229","v":10429.944054867789},{"$f":"D232*POP!E229","v":5729.1446257877424},{"$f":"E232*POP!F229","v":3166.6013820197113}]
["Sevenoaks",0.63969977869888506,0.47123077662667945,0.38031426607523044,0.19615180010271829,null,"Sevenoaks",{"$f":"B233*POP!C230","v":10398.319902750376},{"$f":"C233*POP!D230","v":14669.885307165157},{"$f":"D233*POP!E230","v":8770.4272899608895},{"$f":"E233*POP!F230","v":4636.0477954277467}]
["Sheffield",0.59901991613926153,0.43576301363515674,0.32031399099958674,0.19491318133308161,null,"Sheffield",{"$f":"B234*POP!C231","v":80103.938285722747},{"$f":"C234*POP!D231","v":63202.631734629496},{"$f":"D234*POP!E231","v":28570.086113217141},{"$f":"E234*POP!F231","v":17521.330609574707}]
["Shepway",0.50238493513100224,0.38562297548935937,0.30428595296506694,0.148617892072271,null,"Shepway",{"$f":"B235*POP!C232","v":8460.6646925412078},{"$f":"C235*POP!D232","v":10335.46698906581},{"$f":"D235*POP!E232","v":6568.316580703935},{"$f":"E235*POP!F232","v":3667.7409584515758}]
["Shropshire",0.59621849448395081,0.46117763472454992,0.3530092628275206,0.18252735339861001,null,"Shropshire",{"$f":"B236*POP!C233","v":28256.583109077881},{"$f":"C236*POP!D233","v":35219.674786279153},{"$f":"D236*POP!E233","v":22558.350922467049},{"$f":"E236*POP!F233","v":12533.788303175752}]
["Slough",0.46520008575882155,0.28795046678163805,0.25909148024797019,0.13557735305285809,null,"Slough",{"$f":"B237*POP!C234","v":12706.475142416451},{"$f":"C237*POP!D234","v":13463.987925775831},{"$f":"D237*POP!E234","v":5250.7479387053636},{"$f":"E237*POP!F234","v":1805.8903426640697}]
["Solihull",0.55050354473783969,0.45695178326755787,0.37791584533686962,0.20730010570167057,null,"Solihull",{"$f":"B238*POP!C235","v":18113.768636053876},{"$f":"C238*POP!D235","v":24479.820933209608},{"$f":"D238*POP!E235","v":15285.184280495028},{"$f":"E238*POP!F235","v":8768.1725708635604}]
["South Bucks",0.56277289099962435,0.5490639403497255,0.40423985226096509,0.29914767373292955,null,"South Bucks",{"$f":"B239*POP!C236","v":5316.5155012734513},{"$f":"C239*POP!D236","v":9762.9059233584685},{"$f":"D239*POP!E236","v":5536.4690165661777},{"$f":"E239*POP!F236","v":4180.8878880914235}]
["South Cambridgeshire",0.59065664981401667,0.47696098823761934,0.37302023753481511,0.23384574824245408,null,"South Cambridgeshire",{"$f":"B240*POP!C237","v":12713.88438724671},{"$f":"C240*POP!D237","v":20822.685863489747},{"$f":"D240*POP!E237","v":10803.03909924578},{"$f":"E240*POP!F237","v":6416.9611775211824}]
["South Derbyshire",0.56104918898882405,0.35229030578318715,0.33759945815448134,0.1950038105406893,null,"South Derbyshire",{"$f":"B241*POP!C238","v":8543.0960007328231},{"$f":"C241*POP!D238","v":9828.5472410451384},{"$f":"D241*POP!E238","v":6349.9082084276397},{"$f":"E241*POP!F238","v":3174.4670317918813}]
["South Gloucestershire",0.54735630855515494,0.45879903241797676,0.34566753689471319,0.16508020096799644,null,"South Gloucestershire",{"$f":"B242*POP!C239","v":25741.072478731825},{"$f":"C242*POP!D239","v":34197.044680306317},{"$f":"D242*POP!E239","v":17033.113548023888},{"$f":"E242*POP!F239","v":7958.6815688680763}]
["South Hams",0.64143243914174619,0.44708901454544347,0.35525399683982939,0.21968735999504094,null,"South Hams",{"$f":"B243*POP!C240","v":6837.0283688118725},{"$f":"C243*POP!D240","v":8350.7286136797939},{"$f":"D243*POP!E240","v":6941.6630982502666},{"$f":"E243*POP!F240","v":4745.6863506128748}]
["South Holland",0.4548796527655114,0.26019977001761202,0.27039875058792362,0.10903559698382036,null,"South Holland",{"$f":"B244*POP!C241","v":6009.4150926851707},{"$f":"C244*POP!D241","v":5788.9244833518324},{"$f":"D244*POP!E241","v":4779.8387141427256},{"$f":"E244*POP!F241","v":2306.7570897897035}]
["South Kesteven",0.48906228055016171,0.39417982820325664,0.25433773943392901,0.25537334116926796,null,"South Kesteven",{"$f":"B245*POP!C242","v":9655.5566049018435},{"$f":"C245*POP!D242","v":14026.889186612887},{"$f":"D245*POP!E242","v":7131.6302137273697},{"$f":"E245*POP!F242","v":7205.3588210908956}]
["South Lakeland",0.5487767672990419,0.37841179010680104,0.35455865210781273,0.19752295418356039,null,"South Lakeland",{"$f":"B246*POP!C243","v":7251.5362030895394},{"$f":"C246*POP!D243","v":9273.3593283572663},{"$f":"D246*POP!E243","v":8193.1413329073366},{"$f":"E246*POP!F243","v":5349.514168153366}]
["South Norfolk",0.52424164144441143,0.44782742505788453,0.26165221657950433,0.20271779337760537,null,"South Norfolk",{"$f":"B247*POP!C244","v":9058.3713225179854},{"$f":"C247*POP!D244","v":14410.638710937666},{"$f":"D247*POP!E244","v":6725.2469227430001},{"$f":"E247*POP!F244","v":5973.0797818711426}]
["South Northamptonshire",0.59351279445551586,0.4438311275406161,0.3036114267915942,0.21244524767122297,null,"South Northamptonshire",{"$f":"B248*POP!C245","v":6931.0424136515139},{"$f":"C248*POP!D245","v":10762.461011732399},{"$f":"D248*POP!E245","v":5546.980767482426},{"$f":"E248*POP!F245","v":3493.4496527055903}]
["South Oxfordshire",0.48495475975797009,0.43479278838181629,0.32816412467322592,0.17741570354145153,null,"South Oxfordshire",{"$f":"B249*POP!C246","v":9455.6479057609013},{"$f":"C249*POP!D246","v":16297.772879704002},{"$f":"D249*POP!E246","v":8661.8920707497982},{"$f":"E249*POP!F246","v":4711.2740075432457}]
["South Ribble",0.67470402852471156,0.45204445447133335,0.34641087096329165,0.16759057716751488,null,"South Ribble",{"$f":"B250*POP!C247","v":11825.53750795262},{"$f":"C250*POP!D247","v":13154.4936251158},{"$f":"D250*POP!E247","v":7409.3821190338449},{"$f":"E250*POP!F247","v":3544.7082976701072}]
["South Somerset",0.57250357330392121,0.43048914808865157,0.26240017288021095,0.17767193976815113,null,"South Somerset",{"$f":"B251*POP!C248","v":14153.43333921954},{"$f":"C251*POP!D248","v":16766.691339756802},{"$f":"D251*POP!E248","v":8760.492171778722},{"$f":"E251*POP!F248","v":6748.3356162739165}]
["South Staffordshire",0.61455601641502233,0.38399849092702587,0.28758143334540037,0.17824460191087491,null,"South Staffordshire",{"$f":"B252*POP!C249","v":10569.748926321969},{"$f":"C252*POP!D249","v":10583.38240843976},{"$f":"D252*POP!E249","v":6801.87606148541},{"$f":"E252*POP!F249","v":4353.6244016731198}]
["South Tyneside",0.51121869622866001,0.39251582956756936,0.21599661312715634,0.13145971128053591,null,"South Tyneside",{"$f":"B253*POP!C250","v":13280.950509324359},{"$f":"C253*POP!D250","v":14857.116664962068},{"$f":"D253*POP!E250","v":6644.9198062438381},{"$f":"E253*POP!F250","v":3710.0559717592841}]
["Southampton",0.46236014029115619,0.40170365458772267,0.27027889038266001,0.1254804307200873,null,"Southampton",{"$f":"B254*POP!C251","v":31091.407633878796},{"$f":"C254*POP!D251","v":25912.697646490225},{"$f":"D254*POP!E251","v":9550.0343127809083},{"$f":"E254*POP!F251","v":4039.7169866024906}]
["Southend-on-Sea",0.4912581996998599,0.38168219932259356,0.31761628706725709,0.17748847772942147,null,"Southend-on-Sea",{"$f":"B255*POP!C252","v":14144.797343958066},{"$f":"C255*POP!D252","v":18856.627375333414},{"$f":"D255*POP!E252","v":9943.2954829275495},{"$f":"E255*POP!F252","v":5824.4618851686955}]
["Southwark",0.54806930857605873,0.40131220452815974,0.22431361675501132,0.11652487523676465,null,"Southwark",{"$f":"B256*POP!C253","v":41614.902600180139},{"$f":"C256*POP!D253","v":41735.26533431503},{"$f":"D256*POP!E253","v":8899.1941175215634},{"$f":"E256*POP!F253","v":2735.537971058287}]
["Spelthorne",0.47301519711290924,0.4418208127625603,0.27399701865084464,0.19446156277403434,null,"Spelthorne",{"$f":"B257*POP!C254","v":7176.5865705970591},{"$f":"C257*POP!D254","v":12602.055042426507},{"$f":"D257*POP!E254","v":4966.7439570838606},{"$f":"E257*POP!F254","v":3423.4958126368747}]
["St Albans",0.61885521290257495,0.56234994616807588,0.36515735164828711,0.2780387097007696,null,"St Albans",{"$f":"B258*POP!C255","v":12321.407288890266},{"$f":"C258*POP!D255","v":24480.217856588679},{"$f":"D258*POP!E255","v":9172.7526734049716},{"$f":"E258*POP!F255","v":6482.1944779637424}]
["St Edmundsbury",0.44107142853033054,0.40494818255720072,0.29417693358049424,0.17949357351173612,null,"St Edmundsbury",{"$f":"B259*POP!C256","v":8074.253570676231},{"$f":"C259*POP!D256","v":11815.578070654003},{"$f":"D259*POP!E256","v":6038.2757386732246},{"$f":"E259*POP!F256","v":4125.8392807407663}]
["St Helens",0.53563277398842579,0.34632576023385531,0.26822644995774086,0.20329025902459694,null,"St Helens",{"$f":"B260*POP!C257","v":15856.872641153357},{"$f":"C260*POP!D257","v":16058.432850523403},{"$f":"D260*POP!E257","v":9214.1150089483144},{"$f":"E260*POP!F257","v":6906.1766795836074}]
["Stafford",0.44454557360091967,0.43204124362505686,0.2915483799631301,0.18545104922416003,null,"Stafford",{"$f":"B261*POP!C258","v":9697.7616881040631},{"$f":"C261*POP!D258","v":14890.301461537585},{"$f":"D261*POP!E258","v":7666.2646511305056},{"$f":"E261*POP!F258","v":5066.3372137548276}]
["Staffordshire Moorlands",0.60242785661232223,0.38937389124867611,0.32589550986801952,0.13197954676394694,null,"Staffordshire Moorlands",{"$f":"B262*POP!C259","v":8253.2616355888149},{"$f":"C262*POP!D259","v":9608.9688882348291},{"$f":"D262*POP!E259","v":6819.0376484784401},{"$f":"E262*POP!F259","v":2934.6972018431243}]
["Stevenage",0.39545685889155546,0.35710593684566427,0.32483741118417764,0.1754580375186387,null,"Stevenage",{"$f":"B263*POP!C260","v":6260.4775331122146},{"$f":"C263*POP!D260","v":8706.2427402972953},{"$f":"D263*POP!E260","v":4916.7390556837126},{"$f":"E263*POP!F260","v":2242.7046355632397}]
["Stockport",0.52528733597713673,0.39964428259190787,0.36098483717953156,0.20028124712064121,null,"Stockport",{"$f":"B264*POP!C261","v":23256.046225715774},{"$f":"C264*POP!D261","v":30900.096285723725},{"$f":"D264*POP!E261","v":19852.722105525518},{"$f":"E264*POP!F261","v":10916.729936804792}]
["Stockton-on-Tees",0.52563567714926007,0.4531613697392361,0.33055290335679677,0.15387973613960021,null,"Stockton-on-Tees",{"$f":"B265*POP!C262","v":18486.081129662329},{"$f":"C265*POP!D262","v":23098.541338348343},{"$f":"D265*POP!E262","v":12287.643076482207},{"$f":"E265*POP!F262","v":4976.9323059630897}]
["Stoke-on-Trent",0.49353540098705012,0.37452755251155984,0.16127714225988221,0.10740987963337115,null,"Stoke-on-Trent",{"$f":"B266*POP!C263","v":24536.112460071196},{"$f":"C266*POP!D263","v":24803.836220183075},{"$f":"D266*POP!E263","v":7115.8700707905227},{"$f":"E266*POP!F263","v":4392.4196177270796}]
["Stratford-on-Avon",0.70783515307373368,0.43060227336198248,0.34837941510363485,0.24934797345318446,null,"Stratford-on-Avon",{"$f":"B267*POP!C264","v":11036.565706725656},{"$f":"C267*POP!D264","v":12909.456155392234},{"$f":"D267*POP!E264","v":8975.2988713149443},{"$f":"E267*POP!F264","v":7292.6801795852862}]
["Stroud",0.62323569697066961,0.50222319903964396,0.36449022537480885,0.19036943682583357,null,"Stroud",{"$f":"B268*POP!C265","v":9671.3715455908514},{"$f":"C268*POP!D265","v":14882.882280340809},{"$f":"D268*POP!E265","v":8886.636184863215},{"$f":"E268*POP!F265","v":4542.2147626643891}]
["Suffolk Coastal",0.55983072127030986,0.44201389729947382,0.35760330114161609,0.25343969983300796,null,"Suffolk Coastal",{"$f":"B269*POP!C266","v":8950.5735716697145},{"$f":"C269*POP!D266","v":12805.142604765757},{"$f":"D269*POP!E266","v":9551.2265701914239},{"$f":"E269*POP!F266","v":7969.157921549102}]
["Sunderland",0.64861303981631691,0.3697310846155506,0.21520088955941885,0.1450127281021856,null,"Sunderland",{"$f":"B270*POP!C267","v":33504.755184751666},{"$f":"C270*POP!D267","v":26217.261479004079},{"$f":"D270*POP!E267","v":11981.309526220644},{"$f":"E270*POP!F267","v":7224.0990758665803}]
["Surrey Heath",0.70243021060321365,0.50870054880769089,0.33105540685271151,0.28669181343004174,null,"Surrey Heath",{"$f":"B271*POP!C268","v":8878.7178620246214},{"$f":"C271*POP!D268","v":12644.260841163965},{"$f":"D271*POP!E268","v":5576.6283284339252},{"$f":"E271*POP!F268","v":4498.4812445307853}]
["Sutton",0.5101466858850594,0.3841823713278415,0.35082781103470684,0.20897145996325467,null,"Sutton",{"$f":"B272*POP!C269","v":16456.311793280245},{"$f":"C272*POP!D269","v":23508.887666293278},{"$f":"D272*POP!E269","v":11693.792597408848},{"$f":"E272*POP!F269","v":6147.7313806589891}]
["Swale",0.43212285538430834,0.41209047632563561,0.27519779796462668,0.16484411959773329,null,"Swale",{"$f":"B273*POP!C270","v":9969.0742737159926},{"$f":"C273*POP!D270","v":15086.632338281519},{"$f":"D273*POP!E270","v":7263.2954816803922},{"$f":"E273*POP!F270","v":4156.2147874176499}]
["Swindon",0.52337652933458445,0.38497966516306859,0.24010589113511682,0.13948063564190388,null,"Swindon",{"$f":"B274*POP!C271","v":19394.764047551696},{"$f":"C274*POP!D271","v":24869.686369534229},{"$f":"D274*POP!E271","v":9185.0107594827587},{"$f":"E274*POP!F271","v":4374.2522143657479}]
["Tameside",0.50155098345979654,0.373016693226845,0.28417187785375464,0.19872078970886456,null,"Tameside",{"$f":"B275*POP!C272","v":19411.527712844505},{"$f":"C275*POP!D272","v":22548.486088869555},{"$f":"D275*POP!E272","v":11734.877695970798},{"$f":"E275*POP!F272","v":7357.4385181810012}]
["Tamworth",0.50942533276337121,0.36591013245268406,0.21856285764495637,0.11418340170504229,null,"Tamworth",{"$f":"B276*POP!C273","v":6844.6387710086556},{"$f":"C276*POP!D273","v":7833.0382054146075},{"$f":"D276*POP!E273","v":3187.3021530363985},{"$f":"E276*POP!F273","v":1426.0365038942732}]
["Tandridge",0.57787325629170749,0.464370966200924,0.42335755048509011,0.22547144700621075,null,"Tandridge",{"$f":"B277*POP!C274","v":7038.4962616329976},{"$f":"C277*POP!D274","v":10568.154448800628},{"$f":"D277*POP!E274","v":7168.713402364031},{"$f":"E277*POP!F274","v":3752.9722354183777}]
["Taunton Deane",0.62935080622440687,0.41164649635662964,0.28842181071394252,0.1988242291738288,null,"Taunton Deane",{"$f":"B278*POP!C275","v":11431.528044260127},{"$f":"C278*POP!D275","v":11543.802697328965},{"$f":"D278*POP!E275","v":6375.2757040209854},{"$f":"E278*POP!F275","v":4736.589611608124}]
["Teignbridge",0.5997511747102714,0.43265529245029344,0.30427947956592771,0.2051476678091152,null,"Teignbridge",{"$f":"B279*POP!C276","v":10231.155289382519},{"$f":"C279*POP!D276","v":12893.560370311196},{"$f":"D279*POP!E276","v":8266.0563418879919},{"$f":"E279*POP!F276","v":6461.9463883193193}]
["Telford and Wrekin",0.5020545640295826,0.37286355723664993,0.26609528475007282,0.15522534343632585,null,"Telford and Wrekin",{"$f":"B280*POP!C277","v":15417.091552220423},{"$f":"C280*POP!D277","v":17249.786748439135},{"$f":"D280*POP!E277","v":8158.481430437233},{"$f":"E280*POP!F277","v":4096.5520386280759}]
["Tendring",0.47734903245626054,0.33954032288390873,0.26795977788583725,0.19667702770736462,null,"Tendring",{"$f":"B281*POP!C278","v":9054.3564476303491},{"$f":"C281*POP!D278","v":9938.0057104891239},{"$f":"D281*POP!E278","v":7543.0677474863187},{"$f":"E281*POP!F278","v":7817.7151743400364}]
["Test Valley",0.59405333841424268,0.49852854315493567,0.33700446188841238,0.24135570736935308,null,"Test Valley",{"$f":"B282*POP!C279","v":9982.4722987129335},{"$f":"C282*POP!D279","v":15717.109380045657},{"$f":"D282*POP!E279","v":8151.1269196950298},{"$f":"E282*POP!F279","v":5728.5777144115955}]
["Tewkesbury",0.64879341547393565,0.48194508862152524,0.34648324268260478,0.20980107896396219,null,"Tewkesbury",{"$f":"B283*POP!C280","v":7666.7917906554976},{"$f":"C283*POP!D280","v":10795.569985122165},{"$f":"D283*POP!E280","v":5873.5839299555164},{"$f":"E283*POP!F280","v":3785.6506688257336}]
["Thanet",0.35567281157262298,0.32569518361173116,0.2170540044639554,0.18312550104965933,null,"Thanet",{"$f":"B284*POP!C281","v":7841.5184767416185},{"$f":"C284*POP!D281","v":10423.548656309844},{"$f":"D284*POP!E281","v":5680.0862428172486},{"$f":"E284*POP!F281","v":5591.9203000523976}]
["Three Rivers",0.51349210246691401,0.42424698444656361,0.3399222048307633,0.21251630831701188,null,"Three Rivers",{"$f":"B285*POP!C282","v":6877.7132204418467},{"$f":"C285*POP!D282","v":10834.419488796342},{"$f":"D285*POP!E282","v":5702.5349082408848},{"$f":"E285*POP!F282","v":3354.3574104757154}]
["Thurrock",0.45802380608406718,0.32822146381463813,0.28605181184029332,0.18112542919328065,null,"Thurrock",{"$f":"B286*POP!C283","v":13140.244972745802},{"$f":"C286*POP!D283","v":15895.43727107911},{"$f":"D286*POP!E283","v":7632.7204953345472},{"$f":"E286*POP!F283","v":3951.2512378514175}]
["Tonbridge and Malling",0.57233315730321566,0.45095866940320717,0.3345704178533524,0.18494181717158259,null,"Tonbridge and Malling",{"$f":"B287*POP!C284","v":10602.47173904207},{"$f":"C287*POP!D284","v":15285.244099421707},{"$f":"D287*POP!E284","v":7709.1715681769456},{"$f":"E287*POP!F284","v":4132.524904699013}]
["Torbay",0.54852436745044997,0.39531812175740699,0.19736575766106035,0.18463502595557035,null,"Torbay",{"$f":"B288*POP!C285","v":10725.296956758648},{"$f":"C288*POP!D285","v":12042.57594309589},{"$f":"D288*POP!E285","v":5364.7960247429428},{"$f":"E288*POP!F285","v":6102.9261479354227}]
["Torridge",0.59093220908599065,0.45774370037191453,0.30442906780086032,0.2072652141354214,null,"Torridge",{"$f":"B289*POP!C286","v":5261.0694574925747},{"$f":"C289*POP!D286","v":6735.2408072723501},{"$f":"D289*POP!E286","v":4419.7012063328903},{"$f":"E289*POP!F286","v":3376.9721339084208}]
["Tower Hamlets",0.41227686673043917,0.41270157202815233,0.34504666085591795,0.1590884475635741,null,"Tower Hamlets",{"$f":"B290*POP!C287","v":34121.68259807807},{"$f":"C290*POP!D287","v":38098.958323350911},{"$f":"D290*POP!E287","v":9019.5197147736944},{"$f":"E290*POP!F287","v":2642.4591140309658}]
["Trafford",0.54995589512810061,0.48375764567021445,0.38824628003889822,0.22818978934448508,null,"Trafford",{"$f":"B291*POP!C288","v":19627.375941226783},{"$f":"C291*POP!D288","v":32380.318012935804},{"$f":"D291*POP!E288","v":16272.954581550381},{"$f":"E291*POP!F288","v":8773.6692105061065}]
["Tunbridge Wells",0.50658850623444451,0.43320942698341675,0.32877736343439434,0.24034367786885494,null,"Tunbridge Wells",{"$f":"B292*POP!C289","v":8713.8288957386794},{"$f":"C292*POP!D289","v":14269.485315406764},{"$f":"D292*POP!E289","v":7000.3276222451241},{"$f":"E292*POP!F289","v":4982.3244422213629}]
["Uttlesford",0.6428152150977452,0.49156921294305544,0.37191030270296155,0.26544588608149139,null,"Uttlesford",{"$f":"B293*POP!C290","v":7471.4412450810923},{"$f":"C293*POP!D290","v":11046.543353256342},{"$f":"D293*POP!E290","v":6228.3818393664969},{"$f":"E293*POP!F290","v":4052.0314510339663}]
["Vale of White Horse",0.47041758507914017,0.49062927289893937,0.33344638003074473,0.21006129893693648,null,"Vale of White Horse",{"$f":"B294*POP!C291","v":8826.9155664249865},{"$f":"C294*POP!D291","v":16535.678384512954},{"$f":"D294*POP!E291","v":8013.3834048988574},{"$f":"E294*POP!F291","v":4963.7484938798088}]
["Wakefield",0.42830646253367111,0.38220481780647597,0.23895872667556267,0.14847269292041299,null,"Wakefield",{"$f":"B295*POP!C292","v":24079.38932364299},{"$f":"C295*POP!D292","v":34062.09336291314},{"$f":"D295*POP!E292","v":15364.807166512004},{"$f":"E295*POP!F292","v":8799.085673235355}]
["Walsall",0.51759401298801555,0.37950167528144818,0.25267751357985313,0.15258155072160118,null,"Walsall",{"$f":"B296*POP!C293","v":25568.626647594981},{"$f":"C296*POP!D293","v":26937.028911477191},{"$f":"D296*POP!E293","v":11879.885978470375},{"$f":"E296*POP!F293","v":7314.7595415935602}]
["Waltham Forest",0.54925110142022249,0.37369406025547314,0.29084809512256304,0.17915750244728676,null,"Waltham Forest",{"$f":"B297*POP!C294","v":30942.610049609655},{"$f":"C297*POP!D294","v":32614.896496916928},{"$f":"D297*POP!E294","v":10873.35603615702},{"$f":"E297*POP!F294","v":4841.3731886330297}]
["Wandsworth",0.48311671068316603,0.49806501126073793,0.3198906102641989,0.19647291057161836,null,"Wandsworth",{"$f":"B298*POP!C295","v":35989.779362342451},{"$f":"C298*POP!D295","v":58252.189522022127},{"$f":"D298*POP!E295","v":11876.258796668648},{"$f":"E298*POP!F295","v":5550.5561965587904}]
["Warrington",0.66880322213992216,0.42122319968224059,0.36899992044036334,0.18166169661768219,null,"Warrington",{"$f":"B299*POP!C296","v":22909.185571180893},{"$f":"C299*POP!D296","v":24445.267170359151},{"$f":"D299*POP!E296","v":14250.038927565951},{"$f":"E299*POP!F296","v":6369.7857302024086}]
["Warwick",0.66512195489051162,0.43722175922309814,0.33025042303368285,0.21056363161844605,null,"Warwick",{"$f":"B300*POP!C297","v":18240.304490917391},{"$f":"C300*POP!D297","v":16689.191771304879},{"$f":"D300*POP!E297","v":8099.7218753241059},{"$f":"E300*POP!F297","v":5150.5969930188085}]
["Watford",0.54234781614584138,0.40300076018354292,0.3762099516651396,0.14375058285935766,null,"Watford",{"$f":"B301*POP!C298","v":9376.6513933454517},{"$f":"C301*POP!D298","v":12189.966994031805},{"$f":"D301*POP!E298","v":5390.7123974097849},{"$f":"E301*POP!F298","v":1705.3131644605598}]
["Waveney",0.4951487138014945,0.3989772080674725,0.24620132336552744,0.17675823355886183,null,"Waveney",{"$f":"B302*POP!C299","v":8525.4705542341326},{"$f":"C302*POP!D299","v":10673.438270221024},{"$f":"D302*POP!E299","v":5581.1377993731412},{"$f":"E302*POP!F299","v":5218.2565711247189}]
["Waverley",0.62353993208627445,0.5058349928472301,0.36138430566406182,0.19379765224591092,null,"Waverley",{"$f":"B303*POP!C300","v":10332.680214601654},{"$f":"C303*POP!D300","v":16434.073082613661},{"$f":"D303*POP!E300","v":8476.9916579618985},{"$f":"E303*POP!F300","v":4947.4602641858601}]
["Wealden",0.64017331526824117,0.45141571218818743,0.37893197767858655,0.20492604095134459,null,"Wealden",{"$f":"B304*POP!C301","v":12628.058816981325},{"$f":"C304*POP!D301","v":16439.65740646941},{"$f":"D304*POP!E301","v":12208.430456848702},{"$f":"E304*POP!F301","v":7687.800426289692}]
["Wellingborough",0.48539165055274935,0.36541230060067975,0.22646735596728609,0.17758818372376772,null,"Wellingborough",{"$f":"B305*POP!C302","v":5669.3744784561122},{"$f":"C305*POP!D302","v":7617.0194060211697},{"$f":"D305*POP!E302","v":3248.2212866387845},{"$f":"E305*POP!F302","v":2420.7045323386778}]
["Welwyn Hatfield",0.44159540944830888,0.37072186323170248,0.34291741064743936,0.2030400337664911,null,"Welwyn Hatfield",{"$f":"B306*POP!C303","v":11796.779768002123},{"$f":"C306*POP!D303","v":10985.600973145039},{"$f":"D306*POP!E303","v":6413.5843313390587},{"$f":"E306*POP!F303","v":3662.6391691137328}]
["West Berkshire",0.69196684515545126,0.43397832234555445,0.29606345699836117,0.21198229028068596,null,"West Berkshire",{"$f":"B307*POP!C304","v":15893.094499530405},{"$f":"C307*POP!D304","v":19136.274123827225},{"$f":"D307*POP!E304","v":9069.3118782307974},{"$f":"E307*POP!F304","v":5541.2170679371311}]
["West Devon",0.56225966375144165,0.41176897625061887,0.34314321889041838,0.21392703934538509,null,"West Devon",{"$f":"B308*POP!C305","v":3894.210431142485},{"$f":"C308*POP!D305","v":5127.347292272706},{"$f":"D308*POP!E305","v":4214.1418711932283},{"$f":"E308*POP!F305","v":2905.7709754283655}]
["West Dorset",0.54642674932248947,0.3841716600975929,0.25347995659133293,0.20677738471587515,null,"West Dorset",{"$f":"B309*POP!C306","v":6922.6804871666191},{"$f":"C309*POP!D306","v":8271.9841852213704},{"$f":"D309*POP!E306","v":5582.6425639675163},{"$f":"E309*POP!F306","v":5818.0952737505786}]
["West Lancashire",0.63205673414459629,0.44279773104255615,0.25603523413451285,0.15465331875046878,null,"West Lancashire",{"$f":"B310*POP!C307","v":12623.437094335877},{"$f":"C310*POP!D307","v":11889.561876223675},{"$f":"D310*POP!E307","v":5687.054620595799},{"$f":"E310*POP!F307","v":3504.2895495668722}]
["West Lindsey",0.59481880846656265,0.47795761053990332,0.27955983901433507,0.1922327688741246,null,"West Lindsey",{"$f":"B311*POP!C308","v":7673.7574480271251},{"$f":"C311*POP!D308","v":10555.693828773765},{"$f":"D311*POP!E308","v":5566.875074292454},{"$f":"E311*POP!F308","v":3919.2416918056524}]
["West Oxfordshire",0.59459960757186037,0.43754549541774834,0.29870942659780741,0.20230694498877549,null,"West Oxfordshire",{"$f":"B312*POP!C309","v":9704.4601951803324},{"$f":"C312*POP!D309","v":13021.35394363219},{"$f":"D312*POP!E309","v":6224.2083220185132},{"$f":"E312*POP!F309","v":4242.9835572495886}]
["West Somerset",0.52258107399753684,0.35278247331596824,0.26653088264468128,0.19446027348447151,null,"West Somerset",{"$f":"B313*POP!C310","v":2365.7245219868491},{"$f":"C313*POP!D310","v":2335.7727558250258},{"$f":"D313*POP!E310","v":2068.2796493227265},{"$f":"E313*POP!F310","v":2081.8916879247517}]
["Westminster",0.58471601796467243,0.4766951699212556,0.35048848315023379,0.19128787419993751,null,"Westminster",{"$f":"B314*POP!C311","v":28699.031593742053},{"$f":"C314*POP!D311","v":39510.879158923271},{"$f":"D314*POP!E311","v":11504.784459406425},{"$f":"E314*POP!F311","v":5045.2176820233517}]
["Weymouth and Portland",0.58432070393457891,0.39537998494127591,0.30997765772580299,0.21263070677630219,null,"Weymouth and Portland",{"$f":"B315*POP!C312","v":5915.0784859297419},{"$f":"C315*POP!D312","v":6251.3529419065135},{"$f":"D315*POP!E312","v":4220.9657652522592},{"$f":"E315*POP!F312","v":3156.2902113874297}]
["Wigan",0.5156911721092986,0.40282889134127747,0.25259896217149808,0.16419636884895042,null,"Wigan",{"$f":"B316*POP!C313","v":28163.441982405126},{"$f":"C316*POP!D313","v":35784.4989045197},{"$f":"D316*POP!E313","v":15197.36396008601},{"$f":"E316*POP!F313","v":9238.6728896550449}]
["Wiltshire",0.44609345487651864,0.46515147393437722,0.36222058601653312,0.16026917340031699,null,"Wiltshire",{"$f":"B317*POP!C314","v":33228.609266842119},{"$f":"C317*POP!D314","v":58745.375097594304},{"$f":"D317*POP!E314","v":34076.626070677383},{"$f":"E317*POP!F314","v":15007.925935552483}]
["Winchester",0.77017105325189483,0.49106996582384355,0.38604343328531315,0.23559134658259259,null,"Winchester",{"$f":"B318*POP!C315","v":15275.572670198082},{"$f":"C318*POP!D315","v":14826.384408153484},{"$f":"D318*POP!E315","v":8787.8927153068689},{"$f":"E318*POP!F315","v":5581.8657745813662}]
["Windsor and Maidenhead",0.66118666657348235,0.45928719605133828,0.4304296474367344,0.28609144307516382,null,"Windsor and Maidenhead",{"$f":"B319*POP!C316","v":14319.319637981907},{"$f":"C319*POP!D316","v":19687.804945936667},{"$f":"D319*POP!E316","v":11422.741983676058},{"$f":"E319*POP!F316","v":7420.9259419266746}]
["Wirral",0.63655305284810315,0.39433582397499167,0.33257493658512594,0.23065807805728722,null,"Wirral",{"$f":"B320*POP!C317","v":32671.085437428894},{"$f":"C320*POP!D317","v":31780.31272579253},{"$f":"D320*POP!E317","v":21410.509267477239},{"$f":"E320*POP!F317","v":14908.354217154701}]
["Woking",0.53149650102462964,0.4401375939745083,0.4367261326597362,0.25402522848983478,null,"Woking",{"$f":"B321*POP!C318","v":7641.3251952311002},{"$f":"C321*POP!D318","v":13647.346376367579},{"$f":"D321*POP!E318","v":7695.9879097298717},{"$f":"E321*POP!F318","v":4016.3928876527775}]
["Wokingham",0.63078722955857591,0.49912922458831588,0.36191425771513402,0.26655030476306035,null,"Wokingham",{"$f":"B322*POP!C319","v":14480.982428976227},{"$f":"C322*POP!D319","v":22958.946072613355},{"$f":"D322*POP!E319","v":10871.180473247196},{"$f":"E322*POP!F319","v":7010.53956557325}]
["Wolverhampton",0.55866952073218956,0.37227653559589585,0.22075925426431692,0.12712119077871858,null,"Wolverhampton",{"$f":"B323*POP!C320","v":27362.51578642118},{"$f":"C323*POP!D320","v":25366.923135504345},{"$f":"D323*POP!E320","v":9306.9894005293372},{"$f":"E323*POP!F320","v":5334.005165075032}]
["Worcester",0.52700384959856672,0.42909924898185953,0.26936361457236974,0.16943620816624649,null,"Worcester",{"$f":"B324*POP!C321","v":10869.454397970439},{"$f":"C324*POP!D321","v":12068.84547686378},{"$f":"D324*POP!E321","v":4636.2865340196277},{"$f":"E324*POP!F321","v":2661.3345216672337}]
["Worthing",0.50542579151324551,0.42859791692488192,0.33308590513907976,0.21568811924369982,null,"Worthing",{"$f":"B325*POP!C322","v":7903.8485276841329},{"$f":"C325*POP!D322","v":12416.910251230755},{"$f":"D325*POP!E322","v":6482.8509717219094},{"$f":"E325*POP!F322","v":4985.4151881988773}]
["Wychavon",0.50837727543501909,0.45498168666429345,0.24414603302477522,0.19363281680988925,null,"Wychavon",{"$f":"B326*POP!C323","v":8333.8286762062671},{"$f":"C326*POP!D323","v":13383.741294916856},{"$f":"D326*POP!E323","v":6254.0447819626424},{"$f":"E326*POP!F323","v":5296.6320710177106}]
["Wycombe",0.49505727363035962,0.4709243197272977,0.31521399830896885,0.21749501773970789,null,"Wycombe",{"$f":"B327*POP!C324","v":14523.49523649386},{"$f":"C327*POP!D324","v":22987.228818848584},{"$f":"D327*POP!E324","v":9740.7429757437549},{"$f":"E327*POP!F324","v":6372.1690297379619}]
["Wyre",0.65405463836586397,0.44306046550278183,0.31639791189334826,0.20645318964875289,null,"Wyre",{"$f":"B328*POP!C325","v":10333.409231542284},{"$f":"C328*POP!D325","v":10936.061470005165},{"$f":"D328*POP!E325","v":7124.9645779263092},{"$f":"E328*POP!F325","v":5808.766943957311}]
["Wyre Forest",0.66369086015177359,0.43328805004242665,0.27565718040550963,0.19207916966647101,null,"Wyre Forest",{"$f":"B329*POP!C326","v":9743.6455178881879},{"$f":"C329*POP!D326","v":10796.671630957188},{"$f":"D329*POP!E326","v":5415.0096518858309},{"$f":"E329*POP!F326","v":4291.0486503489628}]
["York",0.51301341468418649,0.46338575186807085,0.33342623449013703,0.21401938024248096,null,"York",{"$f":"B330*POP!C327","v":24649.268548745793},{"$f":"C330*POP!D327","v":24210.978763602965},{"$f":"D330*POP!E327","v":11426.183629742505},{"$f":"E330*POP!F327","v":7640.49187465657}]
["England",null,null,null,null,null,"England",{"$f":"SUM(H5:H330)","v":5251977.4855808094},{"$f":"SUM(I5:I330)","v":6187629.5309988772},{"$f":"SUM(J5:J330)","v":2861511.9854115783},{"$f":"SUM(K5:K330)","v":1715704.5041673719}]
[null,null,null,null,null,null,"Black Country",{"$f":"MMULT(LAtoLEPConv,H5:K330)","v":104034.08044832098},110807.89157107384,49411.447161127544,27448.83146982385]
[null,null,null,null,null,null,"Buckinghamshire Thames Valley",42682.656585007615,64386.658878427697,35369.296559910079,23645.879968886544]
[null,null,null,null,null,null,"Cheshire and Warrington",82100.5069928468,110779.61362401536,57706.632669708517,37451.928466683967]
[null,null,null,null,null,null,"Coast to Capital",174416.25218300548,247953.59143640357,122395.37563570478,77620.087527108233]
[null,null,null,null,null,null,"Cornwall and Isles of Scilly",49566.01498951899,50591.656255724462,39595.138748573409,20742.582850280898]
[null,null,null,null,null,null,"Coventry and Warwickshire",95520.385563210803,94705.992119627728,47865.352943901577,32761.096215845981]
[null,null,null,null,null,null,"Cumbria",43746.689356369752,50169.274383125899,32401.214133692967,19541.930961923703]
[null,null,null,null,null,null,"Derby, Derbyshire, Nottingham and Nottinghamshire",196974.52403815236,240815.92761478329,112766.39901312685,68825.16721723821]
[null,null,null,null,null,null,"Dorset",70716.726056761254,82142.779989566741,51187.566307885791,38243.515922778875]
[null,null,null,null,null,null,"Enterprise M3",140799.97084655074,209563.41606957043,103506.13248327767,66558.095882027119]
[null,null,null,null,null,null,"Gloucestershire",55266.586354207189,75001.832597027969,37326.550607184879,23414.497798746557]
[null,null,null,null,null,null,"Greater Birmingham and Solihull",204497.56209220775,196642.82057889496,91001.533775403746,46081.769255884545]
[null,null,null,null,null,null,"Greater Cambridge and Greater Peterborough",130379.09474498068,168036.60858655928,77551.775654091427,54874.609314218003]
[null,null,null,null,null,null,"Greater Lincolnshire",91095.240890058602,103439.43183010741,58397.214169196195,40341.873319875005]
[null,null,null,null,null,null,"Greater Manchester",293530.46569131222,306535.81365574786,132098.84972044837,74207.816603730753]
[null,null,null,null,null,null,"Heart of the South West",165650.46099838038,171946.01601118909,91707.150710083894,68437.755329968742]
[null,null,null,null,null,null,"Hertfordshire",100190.29834329589,142572.97726243138,67870.961147548631,39692.350518742234]
[null,null,null,null,null,null,"Humber",82162.125119131815,89653.131936559294,46618.266094837287,33140.872275829672]
[null,null,null,null,null,null,"Lancashire",147156.31887729903,152769.47008023181,82837.694128885138,45477.086828046391]
[null,null,null,null,null,null,"Leeds City Region",283189.08622260904,327702.1075682345,144847.53835910934,84998.94025786221]
[null,null,null,null,null,null,"Leicester and Leicestershire",105262.78095151158,101567.52631759469,51556.353680121203,31275.980846744565]
[null,null,null,null,null,null,"Liverpool City Region",163470.82801731449,157173.29939068426,79314.314095848022,46641.041647374288]
[null,null,null,null,null,null,"London Enterprise Panel",923969.77684724331,1160685.7614485314,387079.11935695284,179763.48380742592]
[null,null,null,null,null,null,"New Anglia",132004.98330248846,165441.91488531558,84112.319824867402,70126.540353918739]
[null,null,null,null,null,null,"North Eastern",199888.6839710522,214404.08249898721,99027.831660462194,57870.039801281164]
[null,null,null,null,null,null,"Northamptonshire",61006.643450579999,78167.012080110449,34759.207146829671,22925.148480898566]
[null,null,null,null,null,null,"Oxfordshire",61701.488091834719,81717.337601823892,38391.066030169612,21979.65046443326]
[null,null,null,null,null,null,"Sheffield City Region",189324.66767201939,202835.2559672303,88711.828787736478,53657.153613483824]
[null,null,null,null,null,null,"Solent",149473.65288250952,174967.42237515035,87416.717634775021,57833.43087928195]
[null,null,null,null,null,null,"South East",347909.27600290242,425581.85353334236,228396.99163914082,150592.93378054406]
[null,null,null,null,null,null,"South East Midlands",151242.53013593002,199025.85381233424,89861.066633160866,53116.097546379686]
[null,null,null,null,null,null,"Stoke-on-Trent and Staffordshire",105135.32325858578,117202.13162785611,55259.542078926082,33221.227617745848]
[null,null,null,null,null,null,"Swindon and Wiltshire",52623.373314393815,83615.061467128529,43261.63683016014,19382.178149918233]
[null,null,null,null,null,null,"Tees Valley",68641.516151677075,73495.906206168496,40066.955723377941,20703.522943857923]
[null,null,null,null,null,null,"Thames Valley Berkshire",84982.942630141872,111676.13181705566,52208.379166983716,28557.734897599137]
[null,null,null,null,null,null,"The Marches",58331.695978406264,71777.140519869048,38559.677165169589,21779.335872227552]
[null,null,null,null,null,null,"West of England",113908.89478374273,144341.34201524744,61228.729403829493,34142.279156057259]
[null,null,null,null,null,null,"Worcestershire",52379.847836321045,65120.378641755269,33322.051734060915,23175.377318278937]
[null,null,null,null,null,null,"York North Yorkshire and East Riding",96986.285251670502,117987.90153839358,64320.803352201234,48052.001827048065]
[null,null,null,null,null,null,"Active Cumbria",{"$f":"MMULT(LAtoCSPConv,H5:K330)","v":43746.689356369752},50169.274383125899,32401.214133692967,19541.930961923703]
[null,null,null,null,null,null,"Active Devon",120248.43398426156,120280.07351909678,62081.738101235664,45443.076735169852]
[null,null,null,null,null,null,"Active Dorset",70716.726056761254,82142.779989566741,51187.566307885791,38243.515922778875]
[null,null,null,null,null,null,"Active Essex",147658.30619559641,190659.26747698139,99032.251318768889,69137.558258565841]
[null,null,null,null,null,null,"Active Gloucestershire",55266.586354207189,75001.832597027969,37326.550607184879,23414.497798746557]
[null,null,null,null,null,null,"Active Norfolk",75224.628680751688,90449.178999242547,43499.650529944192,38879.029998640312]
[null,null,null,null,null,null,"Active Surrey ",102717.06758760182,150945.26547000383,74207.733127436164,42391.536729552594]
[null,null,null,null,null,null,"Active Sussex",146231.67786171701,189786.85350903927,102527.35244659724,72342.966154169771]
[null,null,null,null,null,null,"Birmingham Sport & Physical Activity Partnership",124276.62989079772,92516.220982347775,37943.458863950647,12786.515327186751]
[null,null,null,null,null,null,"Black Country Be Active Partnership",104034.08044832098,110807.89157107384,49411.447161127544,27448.83146982385]
[null,null,null,null,null,null,"Cornwall Sports Partnership",49566.01498951899,50591.656255724462,39595.138748573409,20742.582850280898]
[null,null,null,null,null,null,"County Durham Sport",53365.147918029055,58212.284932230141,25024.848212025528,11371.533428842504]
[null,null,null,null,null,null,"Coventry Solihull & Warwickshire Sport",113634.15419926468,119185.81305283734,63150.537224396605,41529.268786709537]
[null,null,null,null,null,null,"Derbyshire Sports Partnership",90152.523510638945,116399.5586528022,56988.201158093449,36259.347352685472]
[null,null,null,null,null,null,"Energize Shropshire Telford & Wrekin",43673.674661298304,52469.461534718284,30716.832352904283,16630.340341803829]
[null,null,null,null,null,null,"Get Berkshire Active",84982.942630141872,111676.13181705566,52208.379166983716,28557.734897599137]
[null,null,null,null,null,null,"Greater Sport",293530.46569131222,306535.81365574786,132098.84972044837,74207.816603730753]
[null,null,null,null,null,null,"Herts Sports Partnership",100190.29834329589,142572.97726243138,67870.961147548631,39692.350518742234]
[null,null,null,null,null,null,"Humber Sports Partnership",54173.305658207901,64436.056768409908,36880.738474642181,25914.321405943832]
[null,null,null,null,null,null,"Kent Sport",155322.9606805277,183702.34838885674,93308.089042462816,57445.408981208289]
[null,null,null,null,null,null,"Lancashire Sport Partnership",147156.31887729903,152769.47008023181,82837.694128885138,45477.086828046391]
[null,null,null,null,null,null,"Leap (Bucks & MK Sport and Activity Partnership)",70864.496405320839,99429.407462843912,47842.944825072809,29381.907937598105]
[null,null,null,null,null,null,"Leicestershire & Rutland Sport",108417.63062402017,106283.04672143223,54659.652387720314,33242.394181210977]
[null,null,null,null,null,null,"Lincolnshire Sports Partnership",60386.389954423954,71435.39334036017,41460.337510084559,30479.505654987286]
[null,null,null,null,null,null,"Living Sport",81654.918116007117,100054.91479754235,45337.774663155084,31103.618267739868]
[null,null,null,null,null,null,"London",923969.77684724331,1160685.7614485314,387079.11935695284,179763.48380742592]
[null,null,null,null,null,null,"Merseyside Sport",163470.82801731449,157173.29939068426,79314.314095848022,46641.041647374288]
[null,null,null,null,null,null,"North Yorkshire Sport",73521.830529097264,85555.883259730894,44376.941536670689,32000.048085991952]
[null,null,null,null,null,null,"Northamptonshire Sport",61006.643450579999,78167.012080110449,34759.207146829671,22925.148480898566]
[null,null,null,null,null,null,"Northumberland Sport",21267.057953345538,33043.558884806189,17503.036916390771,11456.892740832654]
[null,null,null,null,null,null,"Oxfordshire Sports Partnership",61701.488091834719,81717.337601823892,38391.066030169612,21979.65046443326]
[null,null,null,null,null,null,"Somerset Activity & Sports Partnership",45402.027014118808,51665.942492092341,29625.412608848234,22994.678594798886]
[null,null,null,null,null,null,"South Yorkshire Sport",156506.99135048603,162178.09902010174,65865.801544287417,39833.853611216691]
[null,null,null,null,null,null,"South & West Yorkshire Sport",373419.15354110295,405611.34988338978,176168.42242698092,97944.76421641151]
[null,null,null,null,null,null,"Sport Across Staffordshire & Stoke On Trent",105135.32325858578,117202.13162785611,55259.542078926082,33221.227617745848]
[null,null,null,null,null,null,"Sport Cheshire",82100.5069928468,110779.61362401536,57706.632669708517,37451.928466683967]
[null,null,null,null,null,null,"Sport Hampshire & Isle of Wight",176741.48920246089,219056.14573753907,104819.37999531238,70203.047440842041]
[null,null,null,null,null,null,"Sport Nottinghamshire",106822.00052751345,124416.36896198109,55778.197855033417,32565.819864552748]
[null,null,null,null,null,null,"Sports Partnership Herefordshire & Worcestershire",67037.869153428997,84428.05762690604,41164.896546326221,28324.372848702656]
[null,null,null,null,null,null,"Suffolk Sport",56780.354621736784,74992.735886073046,40612.669294923217,31247.510355278439]
[null,null,null,null,null,null,"Teams Beds & Luton",47989.985893493737,64803.735733963593,28558.409382229296,18824.067390388151]
[null,null,null,null,null,null,"Tees Valley Sport",68641.516151677075,73495.906206168496,40066.955723377941,20703.522943857923]
[null,null,null,null,null,null,"Tyne & Wear Sport",125256.4780996776,123148.23868195087,56499.946532045898,35041.613631606]
[null,null,null,null,null,null,"Wesport",113908.89478374273,144341.34201524744,61228.729403829493,34142.279156057259]
[null,null,null,null,null,null,"West Yorkshire Sport ",216912.16219061689,243433.25086328809,110302.62088269347,58110.910605194833]
[null,null,null,null,null,null,"Wiltshire & Swindon Sport",52623.373314393815,83615.061467128529,43261.63683016014,19382.178149918233]
[null,null,null,null,null,null,"Buckinghamshire CC",{"$f":"MMULT(LAtoCountyConv,H5:K330)","v":42682.656585007615},64386.658878427697,35369.296559910079,23645.879968886544]
[null,null,null,null,null,null,"Cambridgeshire CC",68953.590525961772,78793.839931181647,37240.401426068231,25517.544483068632]
[null,null,null,null,null,null,"Cumbria CC",43746.689356369752,50169.274383125899,32401.214133692967,19541.930961923703]
[null,null,null,null,null,null,"Derbyshire CC",90152.523510638945,116399.5586528022,56988.201158093449,36259.347352685472]
[null,null,null,null,null,null,"Devon CC",69412.800768626315,80423.157856351681,46018.934989168876,34191.282416311798]
[null,null,null,null,null,null,"Dorset CC",32607.684760801647,38262.829502994595,27153.591785257551,24094.460713242675]
[null,null,null,null,null,null,"East Sussex CC",44928.009126778234,51220.237667504203,36056.651277909172,24009.966540769914]
[null,null,null,null,null,null,"Essex CC",120373.26387889254,155907.20283056886,81456.235340506784,59361.845135545736]
[null,null,null,null,null,null,"Gloucestershire CC",55266.586354207189,75001.832597027969,37326.550607184879,23414.497798746557]
[null,null,null,null,null,null,"Hampshire CC",109393.73918611195,157177.53044691149,80536.597202763151,57043.372556161521]
[null,null,null,null,null,null,"Hertfordshire CC",100190.29834329589,142572.97726243138,67870.961147548631,39692.350518742234]
[null,null,null,null,null,null,"Kent CC",130426.42182108494,157963.62300333552,81507.619857946265,52257.162791487724]
[null,null,null,null,null,null,"Lancashire CC",118914.01829411631,126616.51438673084,69145.462684657177,39496.955359744592]
[null,null,null,null,null,null,"Leicestershire CC",66988.299577561382,79150.900284882591,42861.544532986882,27255.204158272496]
[null,null,null,null,null,null,"Lincolnshire CC",60386.389954423954,71435.39334036017,41460.337510084559,30479.505654987286]
[null,null,null,null,null,null,"Norfolk CC",75224.628680751688,90449.178999242547,43499.650529944192,38879.029998640312]
[null,null,null,null,null,null,"North Yorkshire CC",48872.561980351464,61344.904496127929,32950.757906928186,24359.556211335381]
[null,null,null,null,null,null,"Northamptonshire CC",61006.643450579999,78167.012080110449,34759.207146829671,22925.148480898566]
[null,null,null,null,null,null,"Nottinghamshire CC",68479.526641790464,92620.741623831302,44998.596805692636,26863.922047564032]
[null,null,null,null,null,null,"Oxfordshire CC",61701.488091834719,81717.337601823892,38391.066030169612,21979.65046443326]
[null,null,null,null,null,null,"Somerset CC",45402.027014118808,51665.942492092341,29625.412608848234,22994.678594798886]
[null,null,null,null,null,null,"Staffordshire CC",80599.210798514585,92398.295407673038,48143.67200813556,28828.808000018766]
[null,null,null,null,null,null,"Suffolk CC",56780.354621736784,74992.735886073046,40612.669294923217,31247.510355278439]
[null,null,null,null,null,null,"Surrey CC",102717.06758760182,150945.26547000383,74207.733127436164,42391.536729552594]
[null,null,null,null,null,null,"Warwickshire CC",51353.50238608884,60949.072301494278,33422.908756614474,22170.732921382056]
[null,null,null,null,null,null,"West Sussex CC",63588.382041143508,98964.435977119996,53795.059277275068,40076.683042369026]
[null,null,null,null,null,null,"Worcestershire CC",52379.847836321045,65120.378641755269,33322.051734060915,23175.377318278937]

{"sheet":"VOLUNTEERS DATA","index":35,"n_rows":442,"n_cols":7,"rows_kept":442,"cut":false,"hidden":true,"merged":[]}
["Volunteers data"]
[]
["Local Authority","% Volunteer","Actual unweight observations","Total Population","Volunteer estimate","Average Hours Volunteered","Total Hours volunteered"]
["Adur",0.12257072541776778,33,{"$f":"VLOOKUP(A4,PopTable,7,FALSE)","v":62505},{"$f":"D4*B4","v":7661.2831922375753},78.962545882970574,{"$f":"F4*E4","v":604954.4255894908}]
["Allerdale",8.9012418323827017E-2,37,96208,{"$f":"D5*B5","v":8563.7067420987496},101.28751907639453,{"$f":"F5*E5","v":867396.61000497558}]
["Amber Valley",7.7985610859730367E-2,39,123498,9631.0669699549817,126.60248885249671,1219317.0487013748]
["Arun",7.7172074442335523E-2,30,152818,11793.28207212883,92.263714866841667,1088092.01444713]
["Ashfield",0.11747235839884496,41,121553,14279.1175804548,195.73891350418114,2794978.9609966744]
["Ashford",0.14337270799393897,61,121723,17451.756135146235,87.287381368236524,1523318.0933139711]
["Aylesbury Vale",0.18722012860441872,62,181071,33900.135906530704,181.80066726606597,6163067.3282176042]
["Babergh",0.10940397518570681,47,88289,9659.1675651708683,178.35191337579553,1722731.0168656486]
["Barking and Dagenham",6.5353604316999672E-2,25,194352,12701.60370621752,174.71750682466239,2219192.5322252167]
["Barnet",0.10824307407640939,43,369088,39951.219724713788,100.48425296033956,4014468.4688922479]
["Barnsley",0.14530857249354062,41,235757,34257.513125359656,177.28745945608122,6073427.46927837]
["Barrow-in-Furness",0.10695434951315608,52,67831,7254.8204818268896,257.04394961529692,1864807.7103987352]
["Basildon",0.11615750301001905,41,178362,20718.084551873017,134.25792000306953,2781566.9383821981]
["Basingstoke and Deane",9.8081717154091919E-2,42,171852,16855.539256365006,170.51931963451844,2874195.0860682777]
["Bassetlaw",0.17368801768471095,61,113654,19740.337961938138,73.220096610675412,1445389.4527004939]
["Bath and North East Somerset",0.12775985587961219,48,180097,23009.166764350517,92.989139462704898,2139602.6171708247]
["Bedford",9.8728903068565049E-2,52,161382,15933.067835011165,93.541013406097221,1490395.3119550359]
["Bexley",0.10942602748786141,34,236687,25899.718168019455,127.89318421634451,3312397.4268139168]
["Birmingham",0.10416609601601706,39,1092330,113783.75166117592,95.635840935096226,10881804.774866711]
["Blaby",0.10767705250819637,43,95092,10239.226277109408,73.896473909878537,756642.71744375816]
["Blackburn with Darwen",7.6174052710250226E-2,37,147369,11225.693973856865,433.82857502036552,4870026.8202930279]
["Blackpool",0.12184977773065751,39,141400,17229.558571114972,185.96913025791329,3204166.0221980265]
["Bolsover",0.13354035753923166,37,76729,10246.418093627706,130.82992572766736,1340538.1181639398]
["Bolton",0.12147111634988429,37,280057,34018.836431599542,171.98260349897313,5850648.057512206]
["Boston",0.12021453765547437,42,65870,7918.5315953660966,93.763238649866551,742467.1677328198]
["Bournemouth",0.14787736736441751,41,188733,27909.339174788609,107.25018826758084,2993281.8809198476]
["Bracknell Forest",0.11903396456008565,45,116567,13875.432146875504,133.61601750108937,1853979.9845720956]
["Bradford",0.11782030289786255,47,526369,62016.955016045009,286.94808432997922,17795646.437832613]
["Braintree",9.700710916400497E-2,39,149108,14464.536033226454,103.84681952773357,1502096.0629948669]
["Breckland",8.0920221507450152E-2,39,132587,10728.969409008294,90.969989539008992,976014.23490183195]
["Brent",7.9444546251068004E-2,34,317264,25204.89452179884,108.43890831772566,2733191.2462072903]
["Brentwood",0.13445302320656682,49,74460,10011.372107960966,132.36611722169511,1325166.4539923701]
["Brighton and Hove",9.6082378688310557E-2,43,278112,26721.662501763425,116.63690279247635,3116731.9516715407]
["Bristol",0.12546166704494713,41,437492,54888.475638828008,119.80143535506672,6575718.1659832075]
["Broadland",0.10587558598136364,52,125499,13287.280165075155,157.24815012817538,2089400.2261928651]
["Bromley",0.11187119725176538,47,317899,35563.741735138959,201.661223122075,7171827.6571057085]
["Bromsgrove",0.12277245325628419,46,94744,11631.953311313389,320.12690375369465,3723701.1981582912]
["Broxbourne",0.10785948450788639,41,94985,10245.033135981588,68.972781329137504,706628.43019782589]
["Broxtowe",0.11041490791470424,43,111243,12282.885601155444,81.237815696702171,997834.79669034272]
["Burnley",0.10492311830887777,33,86894,9117.1894423316244,119.11828202419673,1086023.9432596874]
["Bury",0.13265583649819415,143,186527,24743.895214498662,142.76429420068206,3532544.7360735359]
["Calderdale",0.1311172078871469,55,206355,27056.691433552198,207.44366809097471,5612739.317381721]
["Cambridge",8.8553428172982868E-2,38,126480,11200.237595318873,153.04269950762509,1714114.5967143916]
["Camden",7.2852857366182577E-2,26,229719,16735.685541302097,117.5460960728673,1967214.5004831925]
["Cannock Chase",9.835486805273716E-2,42,98119,9650.4812984665168,176.41503834687765,1702490.0283347962]
["Canterbury",0.1495148672310119,44,155307,23220.705485046765,87.477022457429442,2031278.1751927908]
["Carlisle",9.8701508123201276E-2,36,107949,10654.729100391454,138.33910720352625,1473965.7112435843]
["Castle Point",8.9656731332085279E-2,38,88570,7940.8966940827931,78.320756557550197,621937.03682591359]
["Central Bedfordshire",0.14543851524575446,51,264528,38472.559560928938,184.98071870224959,7116681.7178957388]
["Charnwood",0.14242139312667421,49,170645,24303.49863010132,54.78679049363452,1331510.6877096945]
["Chelmsford",0.11262589675267687,47,170256,19175.234677523753,250.07898564947038,4795323.2377456892]
["Cheltenham",0.10976839060963481,36,115900,12722.156471656674,166.6559441429267,2120222.9983179881]
["Cherwell",0.17742220206597936,59,143659,25488.296126596528,147.13438160229165,3750204.6886828658]
["Cheshire East",0.17702650223098257,53,372707,65979.016567002822,102.48674689998431,6761974.7716122903]
["Cheshire West and Chester",0.12780746794163539,43,331026,42307.594882847799,145.28472576969554,6146647.3205299173]
["Chesterfield",0.15279603536935363,47,104030,15895.371559473859,108.68243864052981,1727547.7441809403]
["Chichester",0.12075748431485959,46,115301,13923.458698987626,128.95999595382261,1795569.1774846606]
["Chiltern",0.15729477413597498,56,93250,14667.737688179666,115.57174314720284,1695176.0126488472]
["Chorley",0.13463552279660124,48,110505,14877.898446638419,142.47642011573276,2119749.7095224634]
["Christchurch",9.3262736677371005E-2,35,48368,4510.9320476110806,129.91244702437785,586026.22066584288]
["City of London",6.8477753293709441E-3,3,7648,52.371785719028978,237.70746387295316,12449.164361768124]
["Colchester",0.17128964707833547,54,177626,30425.494851936415,235.32151403649422,7159773.5138672376]
["Copeland",0.16071048335009341,57,70019,11252.78733369019,119.36049053623721,1343138.2160492179]
["Corby",0.10375352554783636,39,64212,6662.2213824776682,116.26522659285894,774584.67864555598]
["Cornwall",0.1638965029441119,64,{"$f":"VLOOKUP(A68,PopTable,7,FALSE)","v":541319},88720.291077203714,129.7233735245934,11509095.458618749]
["Cotswold",0.16449852017408298,55,84079,{"$f":"D69*B69","v":13830.871077716723},90.204663054242033,{"$f":"F69*E69","v":1247609.0653120985}]
["County Durham",9.7310966921087871E-2,32,515957,50208.274559703736,92.196196503766402,4629011.9474215014]
["Coventry",0.12536808211016728,56,329810,41347.64716075427,106.52741370663256,4404657.9148895415]
["Craven",0.14374027397583797,46,55540,7983.3348166180403,204.92512475047269,1635985.883220244]
["Crawley",0.18049228447213747,65,108971,19668.424731213294,78.469304240564796,1543367.6041662248]
["Croydon",7.6424607642244069E-2,28,372752,28487.425347861761,91.608242418345895,2609682.9671414518]
["Dacorum",0.10794023182297247,43,148196,15996.310595237228,62.110547446803139,993539.60819928162]
["Darlington",9.7995571921602645E-2,38,105396,10328.341298249232,101.53356211006754,1048673.282699764]
["Dartford",7.5480415055378253E-2,38,100569,7590.9898617043355,133.26561573317548,1011617.9379443208]
["Daventry",0.10338542065934914,31,78556,8121.5451053158304,82.495313112791337,669989.40642268735]
["Derby",0.14559622220582893,64,251423,36606.238975656132,95.45120268765605,3494109.5360981282]
["Derbyshire Dales",0.11675443774661746,40,71266,8320.62176045044,99.502605476570366,827923.54434986645]
["Doncaster",0.18163041484499032,79,303622,55146.989816065652,127.40751172806334,7026140.7517577745]
["Dover",0.10950808021875931,43,112338,12301.918715614984,170.46379062409557,2097031.6962132351]
["Dudley",0.13026576402061171,49,314427,40959.073383708877,84.172080517131164,3447610.4227606277]
["Ealing",5.5221379124614979E-2,26,342494,18912.991021905884,144.14642258243853,2726239.9961415115]
["East Cambridgeshire",9.5364347348286194E-2,43,85398,8143.9245348489439,125.49074777070558,1021987.1796663896]
["East Devon",0.14193726555650463,46,134898,19147.053249041361,75.518828423271529,1445963.0291255983]
["East Dorset",0.20818255734736255,63,87899,18299.03860827582,163.89860738336799,2999186.9443508913]
["East Hampshire",0.11133033056936417,38,117088,13035.445745705712,153.24329499003142,1997594.6577357305]
["East Hertfordshire",0.11983969328289107,47,141076,16906.504569577141,111.33287591727625,1882249.7754395958]
["East Lindsey",0.14338823639605028,63,136711,19602.749185940429,141.40913000986976,2772007.7081855186]
["East Northamptonshire",8.6410242409013016E-2,39,87969,7601.4226144784661,111.79421260470866,849795.05586124596]
["East Riding of Yorkshire",0.11359290659431118,41,336007,38168.011766034717,107.64831099073292,4108722.0004880587]
["East Staffordshire",0.10311639185611242,41,114922,11850.341984888151,83.173790972508115,985637.86720382399]
["Eastbourne",0.14048030638675885,40,100537,14123.468563205573,74.69026936908071,1054885.6714115676]
["Eastleigh",0.13270676093189734,45,127722,16949.572919743794,142.85807088284582,2421383.289602723]
["Eden",0.1091678916370539,46,52607,5742.995275350494,82.550796041479131,474088.83164263691]
["Elmbridge",0.14662054598822707,55,132179,19380.157148177866,106.65061692751404,2066905.7160053405]
["Enfield",0.19297644808685444,61,320524,61853.583046590931,143.30072492247774,8863663.2896291595]
["Epping Forest",8.7445735612595485E-2,39,127170,11120.474197853768,97.855357298841,1088197.9759635227]
["Epsom and Ewell",0.12316451508210627,49,77131,9499.8022127979384,122.72294238894763,1165843.6796675986]
["Erewash",0.1319008379676293,51,113170,14927.217832796608,286.06391720734661,4270138.4062571572]
["Exeter",0.14636345227230399,48,121800,17827.068486766628,71.255356929584011,1270274.1280326953]
["Fareham",0.13080298226958417,49,113614,14861.050027576535,99.545336481195164,1479348.2254589808]
["Fenland",0.135561675510013,50,96729,13112.745310408047,78.410094182860618,1028171.5947849589]
["Forest Heath",0.14286081409830034,50,63264,9037.9465431148728,110.59700859328886,999569.85149456095]
["Forest of Dean",0.10694731495531799,37,82937,8869.8894604492089,107.03653178849113,949402.20519377419]
["Fylde",0.20695607730184826,75,76442,15820.136461107884,113.7659188583018,1799792.3609616614]
["Gateshead",0.15616013589270497,47,199998,31231.71485826921,123.85151922710703,3868095.3332644533]
["Gedling",0.12524441103546113,35,114818,14380.312786269576,109.00712843526236,1567556.6028321332]
["Gloucester",0.16296388869247075,59,124562,20299.107903311542,139.92752975031334,2840404.0250454466]
["Gosport",8.1979542608616618E-2,38,83503,6845.5377464473131,112.68775841305079,771408.30377907492]
["Gravesham",9.5353190323261672E-2,41,103752,9893.0842024190442,84.131912965152878,832324.09907484788]
["Great Yarmouth",0.12901642160578375,47,97796,12617.289967359227,132.90182678499792,1676860.885738068]
["Greenwich",6.9242766414632603E-2,29,264008,18280.644275594324,141.01442461048916,2577834.5340319662]
["Guildford",0.10202993990547524,34,141009,14387.139796131158,138.4562814084706,1991989.876276142]
["Hackney",0.14230586915628807,49,257379,36626.542297576263,228.40569849002759,8365710.976752446]
["Halton",7.5286993879163808E-2,27,125970,9483.9026189582655,100.50409991313576,953171.09638223145]
["Hambleton",0.12240575196953453,45,89913,11005.868376836757,93.50874919282839,1029144.9856989096]
["Hammersmith and Fulham",0.14379847138212618,56,178685,25694.629858915214,164.26988358822462,4220853.8557665227]
["Harborough",9.415600055399316E-2,34,87450,8233.9422484467013,171.69725716386793,1413745.2997039901]
["Haringey",0.17478020877852501,62,263386,46034.660069340593,119.83893577827011,5516744.6716242032]
["Harlow",0.11011908668559009,35,83372,9180.8484951510163,214.521010507086,1969484.8964922559]
["Harrogate",0.11156086297333989,41,158249,17654.395004668066,92.949095935170718,1640960.0549662907]
["Harrow",0.1577816095995816,61,243372,38399.625891469375,67.681834506760921,2598957.1247079619]
["Hart",8.443693754740203E-2,35,92720,7828.9928493951165,100.7490127478214,788763.30038631114]
["Hartlepool",0.14238495789912414,59,92665,13194.102123722339,79.251618455155963,1045653.9473676059]
["Hastings",9.1470157077531908E-2,35,90754,8301.2826354143308,146.54530042713841,1216513.9577373804]
["Havant",0.10731876528417959,39,121562,13045.883745475439,228.30389989753075,2978426.1367018484]
["Havering",7.4614825325011236E-2,31,242080,18062.756914678721,139.77077704604935,2524645.5695585455]
["Herefordshire",0.11578753016594746,47,186087,21546.554125990664,128.13997713065189,2760974.9529487966]
["Hertsmere",0.14234716760530605,55,101271,14415.64001055695,84.632396422939237,1220030.1600638398]
["High Peak",0.13141525216423164,61,{"$f":"VLOOKUP(A132,PopTable,7,FALSE)","v":91111},11973.375039935308,121.39605807115953,1453520.5316557589]
["Hillingdon",0.14634923113708601,44,286806,{"$f":"D133*B133","v":41973.83758550309},91.882557980917866,{"$f":"F133*E133","v":3856663.5656316173}]
["Hinckley and Bosworth",0.15030370962449949,52,106613,16024.329394196764,98.087774752839934,1571790.8121832842]
["Horsham",0.165055633171209,62,132878,21932.262424523909,89.698417627834132,1967289.2344781996]
["Hounslow",0.10081942299041295,39,262407,26455.72232864529,97.787078222177939,2587027.7887754566]
["Huntingdonshire",0.11714743574932776,49,172056,20155.919205286336,106.1094566722475,2138733.6356026516]
["Hyndburn",8.563350467977654E-2,37,80046,6854.6195155973928,168.34451462973217,1153937.5953247331]
["Ipswich",0.1170290751949561,42,134693,15762.997225234223,149.30199515211319,2353446.9353046939]
["Isle of Wight",0.16566645674802472,59,138393,22927.077948729384,103.56079107984324,2374346.3295196448]
["Isles of Scilly",0.20057819523534254,12,2251,451.50151747475604,108.20051176670358,48852.695254211867]
["Islington",9.4496754522849363E-2,32,215667,20379.831557679354,183.70470623302765,3743870.9693820719]
["Kensington and Chelsea",7.5750794041319264E-2,27,155594,11786.369048065029,66.438461954363873,783068.23157996044]
["Kettering",0.15058844594815951,52,95748,14418.542522644377,106.93436391943054,1541837.6733042379]
["King`s Lynn and West Norfolk",0.14913676978523405,43,148758,22185.287599711846,289.79806425715543,6429253.4013847671]
["Kingston upon Hull",8.0261381078352761E-2,34,257589,20674.448890591808,191.05651165388625,3949988.0854030293]
["Kingston upon Thames",0.14150124366243944,46,166793,23601.416934189259,96.295280985690638,2272705.0753381918]
["Kirklees",0.1724766089009736,60,428279,73868.109583500074,130.35726638719134,9629244.8384945616]
["Knowsley",9.4003487204136538E-2,35,146086,13732.59343170349,110.34413161492303,1515311.0970421173]
["Lambeth",6.6927557803975926E-2,23,314242,21031.449619437004,81.506045982550219,1714190.2997615207]
["Lancaster",0.13556577745482548,42,140575,19057.159165712092,126.65356527928436,2413657.1524322289]
["Leeds",0.14807413517622037,49,761481,112755.64052812346,169.03666905593644,19059837.892142542]
["Leicester",6.1117991595019017E-2,36,333812,20401.919010316487,96.846387865100638,1975852.1616654806]
["Lewes",0.18013134805844494,61,99479,17919.286373506045,116.09095048882874,2080266.9871818337]
["Lewisham",5.3477185021037724E-2,33,286180,15304.100809320576,101.36299271262352,1551269.4588084174]
["Lichfield",0.14047420592775292,56,101768,14295.77898885556,129.48425989332907,1851078.3619705664]
["Lincoln",0.14156629664778411,39,95623,13536.99398435106,110.57685812929952,1496878.2633047684]
["Liverpool",9.474941533582229E-2,29,470780,44606.12975179842,174.23578631938804,7771984.091969247]
["Luton",0.10599014412464648,34,207989,22044.784086341097,156.10000132318663,3441190.8250472089]
["Maidstone",0.1413290955556798,56,159325,22517.258149408684,111.12786729675072,2502294.8755141669]
["Maldon",0.17119164438152304,54,62166,10642.299764621761,194.77755376750076,2072881.1146134757]
["Malvern Hills",0.15664531012169042,53,75339,11801.501019258034,125.22036737623654,1477788.293222521]
["Manchester",0.1171551128866738,39,514417,60266.581705824072,94.397637823486363,5689022.9527259301]
["Mansfield",9.1726639031418783E-2,41,105296,9658.4481834522721,297.50727897854244,2873458.6382141318]
["Medway",0.12647550056793849,49,271105,34288.140581470965,233.26701940313171,7998292.3543152958]
["Melton",0.12419311330973036,47,50836,6313.4811082134529,238.17501694260184,1503713.4699155358]
["Mendip",0.13135746763163333,55,110181,14473.097141120992,148.03431886865545,2142515.0772057306]
["Merton",9.5232348823601487E-2,35,203223,19353.403624978764,157.21457621913561,3042637.1492989194]
["Mid Devon",0.13486064919574473,56,78670,10609.487272229237,86.41610040790134,916830.517393313]
["Mid Suffolk",0.16717457384165815,58,97973,16378.594522988775,86.837577595803793,1422277.4728002448]
["Mid Sussex",0.14381042587568008,57,142766,20531.239260567341,119.35423672340858,2450490.3909306945]
["Middlesbrough",9.5128305997074475E-2,36,138939,13217.03170692753,52.130034208186011,689004.31501281122]
["Milton Keynes",0.16782812391040081,63,255692,42912.308658898204,104.39951100107783,4480024.03991629]
["Mole Valley",0.12675106935038449,46,86309,10939.758044562335,94.254213925413907,1031118.2950244461]
["New Forest",0.13336163796115752,52,178062,23746.639978639629,98.376103043751215,2336101.9014815143]
["Newark and Sherwood",0.13425749128938394,56,116817,15683.557359951963,127.35948259128308,1997449.7505541916]
["Newcastle upon Tyne",0.14860277661341559,42,286821,42622.396991036476,53.325357249872546,2272854.5463929125]
["Newcastle-under-Lyme",0.13805307575455841,41,125239,17289.62915442514,165.56147520122337,2862496.5084887063]
["Newham",8.7542009728483403E-2,33,318227,27858.231129866086,32.332802122370275,900734.67460121587]
["North Devon",0.1358907976896081,48,93825,12749.954093227479,96.001631374095297,1224016.392894662]
["North Dorset",0.13748469765125321,45,69883,9607.8431259625286,85.706627737788821,823455.83415994374]
["North East Derbyshire",0.1243443634435667,42,99281,12345.032747040745,132.9123163015216,1640806.8972273215]
["North East Lincolnshire",0.10478172487378082,42,159827,16746.948741401768,118.28795638933872,1980962.3423774233]
["North Hertfordshire",8.4526539280583943E-2,41,129318,10930.803006686554,85.70688342887469,936845.05907807744]
["North Kesteven",0.1184742314202395,53,109906,13021.028878472842,166.5904186207417,2169178.6517375577]
["North Lincolnshire",0.13397296805825515,42,168760,22609.278089511139,151.81933649327402,3432525.5981414993]
["North Norfolk",0.10665738567490174,45,102043,10883.639606423998,133.45418650606189,1452467.2699004703]
["North Somerset",0.18431913919381132,45,206135,37994.625757716298,106.77661225244637,4056937.4222084843]
["North Tyneside",0.12293918344432797,45,202152,24852.401811637788,101.89175696632179,2532254.8854207732]
["North Warwickshire",0.16316378715735233,52,62124,10136.387113363357,215.87288677781297,2188171.1476591704]
["North West Leicestershire",0.12819462022249944,47,94814,12154.644721776061,105.5259521379724,1282630.4571641996]
["Northampton",0.13596023545110486,45,216739,29467.885471437017,147.75339727597961,4353980.1889443016]
["Northumberland",0.13974599136460447,52,315806,44132.622548890278,118.21197333520331,5217004.3999620099]
["Norwich",0.16180081676171418,44,135893,21987.598392199623,119.80229161301769,2634164.6744522182]
["Nottingham",0.15241846481139487,39,310837,47377.298346579548,424.64013870297453,20118302.541263744]
["Nuneaton and Bedworth",0.1339636453531711,49,{"$f":"VLOOKUP(A196,PopTable,7,FALSE)","v":126003},16879.821205435619,151.52495870174309,2557714.2110464396]
["Oadby and Wigston",7.4902932088437874E-2,32,56125,{"$f":"D197*B197","v":4203.9270634635759},77.593673426773265,{"$f":"F197*E197","v":326198.14367236663}]
["Oldham",0.10598640925991225,36,227312,24091.982661689173,104.7312245162076,2523182.8451819494]
["Oxford",0.15180503629435393,41,154773,23495.32088238604,83.719174834858777,1967008.8767535854]
["Pendle",5.7983136974342028E-2,31,90131,5226.0781186344211,71.98059983040055,376176.23773983686]
["Peterborough",7.3688185789973701E-2,39,188373,13880.864621814715,61.388019877038602,852118.79331444367]
["Plymouth",0.11548456353126905,37,259175,29930.711753216656,153.42732175958002,4592188.9426540155]
["Poole",0.11681599800131964,34,149009,17406.635046178639,152.7926585911064,2659606.0458307602]
["Portsmouth",0.11161600004793608,31,207460,23155.85536994482,267.58384165705138,6196132.7367448974]
["Preston",0.12576002336350375,40,140418,17658.970960656468,159.39460825188252,2814744.7584052072]
["Purbeck",0.12105272655901997,45,45411,5497.1253657716561,131.50038657181111,722874.11063268129]
["Reading",0.12316202816370742,44,159247,19613.183498985916,108.49771698077076,2127985.6323648971]
["Redbridge",8.264089130527412E-2,33,288272,23823.055018353982,117.54273016755609,2800226.9277892248]
["Redcar and Cleveland",9.7266172887183519E-2,41,134945,13125.583700260981,125.55669172362427,1648004.8663462955]
["Redditch",0.11238518611866591,44,84521,9498.9083159357615,161.60943632693807,1535113.2186596429]
["Reigate and Banstead",0.12885572876173446,49,141073,18178.064223604164,311.6482141663065,5665161.2522866642]
["Ribble Valley",0.18314240260628231,65,57858,10596.253129994282,189.23409808481543,2005172.4041328705]
["Richmond upon Thames",0.15568211300562793,58,191365,29792.107555321989,95.70606748399544,2851285.4561800966]
["Richmondshire",0.14517504515803895,52,53884,7822.6121332957709,136.5891485437285,1068483.9306747089]
["Rochdale",7.9101214729776256E-2,39,212120,16778.949668480138,210.93617107935037,3539287.3978023357]
["Rochford",0.19440433939814344,60,83911,16312.662523237614,153.07025364995752,2496983.3901381376]
["Rossendale",9.4244118208343566E-2,49,68744,6478.7176621143699,93.924258696154453,608508.75371577509]
["Rother",0.11050611233142016,36,91054,10062.023552225131,95.071176086568954,956608.41292079957]
["Rotherham",0.12713846908289614,43,258689,32889.323428585318,188.9116017213689,6213174.7684261966]
["Rugby",0.14494018278592741,49,101373,14693.021149557819,136.08172408324404,1999451.6500233964]
["Runnymede",0.13186569276515711,38,83448,11003.928329866831,110.17475284116695,1212355.084024993]
["Rushcliffe",0.2128563143851592,71,112835,24017.64223364944,101.62846863431031,2440876.2004125286]
["Rushmoor",9.0522840333129295E-2,42,94971,8597.0446692776222,67.755497791675239,582497.04110417329]
["Rutland",0.20444550356193542,60,37606,7688.3776069501437,156.77038501202091,1205309.9175593739]
["Ryedale",0.18426189929914411,49,52212,9620.6822862069112,108.01379338832429,1039166.3887170646]
["Salford",9.8587460262697699E-2,34,239013,23563.684639768166,97.807372298487863,2304702.0762859648]
["Sandwell",5.0907732019800554E-2,25,314329,16001.776498051888,146.5951449878695,2345782.7457953994]
["Scarborough",0.10527912127725678,39,108223,11393.622341988561,90.368714597386557,1029627.0056535712]
["Sedgemoor",0.11677300518327588,44,117544,13725.96612126298,114.87329290714888,1576746.9266814445]
["Sefton",0.14883475944512853,44,273207,40662.698123725233,131.02102117496355,5327668.2318997541]
["Selby",0.1324189920201175,46,84728,11219.596355880516,232.01395461111133,2603102.9196682521]
["Sevenoaks",0.17401710176470253,53,117035,20366.09150503196,140.62046269125111,2863889.2106499528]
["Sheffield",0.1709695456264001,39,560085,95757.477962162302,201.31395394993555,19277316.508836709]
["Shepway",0.15218645793176797,55,108832,16562.756589630171,89.584992331995664,1483774.4220787296]
["Shropshire",0.13230434040151448,55,308567,40824.75340467412,123.20650279128269,5029875.0943064094]
["Slough",9.9351814376660755E-2,33,143024,14209.693899407528,84.420544611077759,1199590.0977446926]
["Solihull",0.11984175391669809,40,208861,25030.268564795479,171.84872247000703,4301419.6759412792]
["South Bucks",0.15081372313936636,61,67941,10246.43516381169,113.59847379906539,1163979.3964900845]
["South Cambridgeshire",0.20071009924011965,74,151432,30393.931748129799,90.439058499097527,2748798.5713866884]
["South Derbyshire",0.15046400847991243,53,97075,14606.293623187499,77.286446402653056,1128868.5292498937]
["South Gloucestershire",0.11425799848394183,45,269107,30747.627198018134,80.649702772786796,2479786.9944886179]
["South Hams",0.16272677559931592,60,83850,13644.64013400264,148.57274232115904,2027221.6026941193]
["South Holland",0.12463972373005831,43,89243,11123.222864841595,120.18788502091593,1336876.6307416046]
["South Kesteven",0.10860079414917502,51,136385,14811.519310035235,142.80584541077704,2115171.5368876308]
["South Lakeland",0.14908020676261155,60,103456,15423.24187083274,152.82880423195263,2357115.6124995518]
["South Norfolk",0.13690440697845421,59,127570,17464.895198241404,120.90309528926153,2111559.8883699467]
["South Northamptonshire",0.19584257575216296,64,87465,17129.370888162932,245.97970186588608,4213477.5442205062]
["South Oxfordshire",0.14548895824916566,62,136015,19788.680656260269,147.73708042794479,2923521.9056768385]
["South Ribble",0.1383758379314714,50,108913,15070.927636630346,166.14063993335921,2503893.5619391147]
["South Somerset",0.13785996573491088,44,163943,22601.176362478494,129.13445391489094,2918590.5674028015]
["South Staffordshire",0.1551594365319382,57,110295,17113.310052290122,147.4883419663139,2524013.7251677229]
["South Tyneside",0.13158482358478849,37,148526,19543.767507754295,108.95575299290886,2129405.9051257148]
["Southampton",0.10615265553325752,40,242141,25703.910163478507,172.2782175343082,4428223.8266260661]
["Southend-on-Sea",0.1007286622757164,37,175798,17707.897370746392,159.74346617024054,2828720.9045899175]
["Southwark",6.3021846899226464E-2,24,298464,18809.752512930729,96.238519748005785,1810222.7386707854]
["Spelthorne",0.15817634831612509,67,97456,15415.234201496287,127.43354297267699,1964417.9100502571]
["St Albans",0.14869679204238498,55,143094,21277.618760513036,93.281370487346621,1984805.4386879336]
["St Edmundsbury",0.12610705259299923,37,111312,14037.22823823193,68.417461391338918,960391.52103064547]
["St Helens",0.11640475086173574,41,176221,20512.961601605934,131.73229201232925,2702219.44774045]
["Stafford",0.13522504276716191,58,{"$f":"VLOOKUP(A260,PopTable,7,FALSE)","v":132092},17862.146349199949,140.35544932255112,2507049.5767071252]
["Staffordshire Moorlands",0.12218097857586654,42,97415,{"$f":"D261*B261","v":11902.260027968039},109.08401837527231,{"$f":"F261*E261","v":1298346.3515981347}]
["Stevenage",0.12614576045194045,43,85474,10782.182728869158,92.43260972227354,996625.28813180118]
["Stockport",0.17255552696462695,53,285032,49183.84696178155,83.652711811826194,4114362.1756908754]
["Stockton-on-Tees",9.8630664710024726E-2,41,193196,19055.049899317935,125.41889749031492,2389863.3499953919]
["Stoke-on-Trent",0.10510208715347008,30,250227,26299.379962151357,139.88279913774161,3678830.8846927648]
["Stratford-on-Avon",0.13530383222163558,48,120767,16340.237905910264,110.69426207676358,1808770.5771534974]
["Stroud",0.18123955909597028,62,113920,20646.810572212933,201.64155069811548,4163254.900751261]
["Suffolk Coastal",0.10528023772854307,52,124405,13097.387974619402,135.32664077261714,1772425.5175009153]
["Sunderland",6.6653672709927031E-2,32,276080,18401.745961756656,104.24707453207239,1918328.1827955083]
["Surrey Heath",0.16103183515117581,62,86904,13994.310601977782,88.209164896562754,1234426.4515035746]
["Sutton",9.1189611541843116E-2,39,195914,17865.321555608651,118.09644507975189,2109830.9659240446]
["Swale",0.10138619131076951,42,139171,14110.017630911103,158.12112179932109,2231091.8164078626]
["Swindon",9.0231565178745352E-2,35,214037,19312.89351616312,120.83727883586617,2333717.4989399947]
["Tameside",9.9806064341132289E-2,34,220597,22016.918375460758,231.35640345298071,5093755.0504644439]
["Tamworth",9.1687204616865192E-2,35,77157,7074.3096466234674,115.15796721868283,814663.11838067695]
["Tandridge",0.1579158951580365,62,84612,13361.579721111784,127.92020946439905,1709216.076699886]
["Taunton Deane",0.14455052677060667,58,112116,16206.426859413337,111.28666355660208,1803559.1733582113]
["Teignbridge",0.13707561028524393,48,126001,17271.663971551021,82.892487464175545,1431691.1892472454]
["Telford and Wrekin",0.11510608933306642,42,168452,19389.850960333704,142.69798476763597,2766892.6569844307]
["Tendring",0.11520269255135653,37,138721,15981.032713416729,140.59025540577736,2246777.4708273411]
["Test Valley",0.17184283605985884,61,118372,20341.380190077609,102.74458053091102,2089966.575049307]
["Tewkesbury",0.15818350936233169,48,84256,13327.909764832619,111.66726294607915,1488291.20423118]
["Thanet",0.13250413566498803,53,136766,18122.060618357755,97.241272470132969,1762212.2343099928]
["Three Rivers",8.2966126816916522E-2,39,89495,7425.053519479944,263.67826610953631,1957825.2377869817]
["Thurrock",0.14624707632588399,48,160849,23523.695979942113,149.47533397025626,3516212.3128166217]
["Tonbridge and Malling",0.13534299600432992,52,123001,16647.323851528585,169.18912633193403,2816546.1782048885]
["Torbay",0.15142600279560403,41,132075,19999.589319229402,139.90397508045669,2798022.0457368381]
["Torridge",0.16441531081931948,59,65089,10701.628165918686,157.41042013816892,1684547.7857597223]
["Tower Hamlets",6.5710453655068127E-2,22,272890,17931.725697931543,406.88611239522095,7296170.1577688456]
["Trafford",0.14391581696903594,55,230179,33126.398834115724,79.756451110944766,2642044.0090948083]
["Tunbridge Wells",0.14464548240339067,53,115693,16734.469795695477,160.92447351395319,2692985.7414074466]
["Uttlesford",0.17809674975083531,76,82683,14725.573559648315,214.23564660830726,3154742.77322945]
["Vale of White Horse",0.13351126314816614,56,123646,16508.133643218149,159.89420837648785,2639554.9606556324]
["Wakefield",0.11350597325954205,41,329708,37423.827431457088,130.69007441976026,4890922.7920893924]
["Walsall",9.1900738133795526E-2,31,272161,25011.796791231925,146.87071052550766,3673500.3662478453]
["Waltham Forest",0.1059217053106432,39,265797,28153.671506453029,178.24019622943533,5018115.9338892503]
["Wandsworth",0.10271268702292266,44,310516,31893.932723609854,79.142247375771007,2524157.513398129]
["Warrington",0.11862514907482788,50,205109,24331.085701588872,101.93817382414997,2480266.4435788565]
["Warwick",0.15841892119129486,58,138462,21935.000665989068,225.93575153875506,4955900.8604733329]
["Watford",0.125899247930082,44,93736,11801.291903974166,59.446417241809399,701544.52251603559]
["Waveney",0.14599893498506758,46,115962,16930.328498738407,204.45889305726089,3461556.2239478524]
["Waverley",0.18434429066739744,58,122426,22568.5341292468,115.55385548637204,2607881.1313102399]
["Wealden",0.16647045647068101,53,152578,25399.729307383568,131.57705995884098,3342021.706015938]
["Wellingborough",0.14853537661503263,50,75958,11282.450136924648,109.57883180416009,1236317.7058928891]
["Welwyn Hatfield",0.10287106190446868,42,114061,11733.576191885602,128.72581529882618,1510414.1616713703]
["West Berkshire",0.14881483505251844,52,155392,23124.634848480946,105.13575635171232,2431225.9751522085]
["West Devon",0.14210880336675463,57,53919,7662.3645687320432,114.28705283801612,875709.06433082162]
["West Dorset",0.16495388504458408,56,100026,16499.677305469566,74.96184503645506,1236846.253324124]
["West Lancashire",0.11138008388453029,36,111314,12398.162657522604,81.399135046439582,1009199.7164874066]
["West Lindsey",0.17776756885563219,52,90715,16126.185008738674,155.50124761285696,2507641.8880946143]
["West Oxfordshire",0.12456748157107399,54,107989,13451.917767378709,152.06572251497332,2045575.5945084502]
["West Somerset",0.11630826016150221,53,34320,3991.6994887427559,208.02041183738982,830354.97157936648]
["Westminster",9.6385905281871354E-2,32,226841,21864.275140044978,82.103837705568196,1795140.8976481422]
["Weymouth and Portland",0.15409210118429192,64,65134,10036.634918537669,79.988327893628636,802813.64481263387]
["Wigan",8.1785587610440885E-2,37,319690,26146.034503181847,118.53049234180632,3099102.3424479999]
["Wiltshire",0.15285852378228312,55,479634,73316.145195791585,130.01657688794734,9532314.2289765477]
["Winchester",0.23271074794394209,68,118264,27521.303894842367,230.28472210859698,6337735.819490022]
["Windsor and Maidenhead",0.14807577982909731,51,146335,21668.669241290954,168.07066132251944,3641867.5693627065]
["Wirral",0.11783668662706061,37,320295,37742.501543214377,98.753868030499561,3727218.0165395187]
["Woking",0.10786290930100986,48,99567,10739.586290373649,72.104321377375328,774370.58134115569]
["Wokingham",0.1324102535797553,58,157866,20903.07709162165,93.028554278938657,1944583.0418147638]
["Wolverhampton",7.9214489283777029E-2,32,251557,19926.9592807591,133.5478947971605,2661203.4616541173]
["Worcester",0.14642378552312577,48,100405,14701.680185449442,298.19477684484809,4383964.2421444217]
["Worthing",0.15116829225547182,40,{"$f":"VLOOKUP(A324,PopTable,7,FALSE)","v":106117},16041.525669273904,59.38594785665844,952641.206936748]
["Wychavon",0.15959406378955518,54,118738,{"$f":"D325*B325","v":18949.879946244204},144.51516867433546,{"$f":"F325*E325","v":2738545.0967898881}]
["Wycombe",0.18879770453979042,66,173834,32819.460170969927,143.92337934307042,4723487.616021296]
["Wyre",0.10261155145290289,34,108236,11106.263883056397,124.106555384434,1378360.1537166778]
["Wyre Forest",0.10180369631768055,43,98421,10019.621595282437,72.768026851353483,729108.09328591358]
["York",0.1257916959785764,44,202433,25464.390392031157,141.88555465515392,3613029.154728713]
["England",0.12309160934595184,79119,{"$f":"SUM(D4:D329)","v":53865817},6630430.1032645311,135.7027170968465,899767380.53372133]
["Black Country",{"$f":"MMULT(LAtoLEPConv,B4:E329)","v":0.35228872345798479},137,1152474,101899.60595375179,null,{"$f":"MMULT(LAtoLEPConv,G4:G329)","v":12128096.99645799}]
["Buckinghamshire Thames Valley",0.68412633041955051,245,516096,91633.768929491984,null,13745710.353377832]
["Cheshire and Warrington",0.42345911924744584,146,908842,132617.6971514395,null,15388888.535721064]
["Coast to Capital",1.8503524626907224,671,1960824,236659.05447413991,null,27780425.263706569]
["Cornwall and Isles of Scilly",0.36447469817945444,76,543570,89171.792594678467,null,11557948.153872961]
["Coventry and Warwickshire",0.86115845081954856,312,878539,121332.1152010104,null,17914666.361245379]
["Cumbria",0.71362685770994327,288,498070,58892.280804190515,null,8380512.6918387013]
["Derby, Derbyshire, Nottingham and Nottinghamshire",2.2828757303271798,821,2134636,291971.23665557447,null,51338617.299548618]
["Dorset",1.1437220698296198,383,754463,109767.22559259558,null,12824090.934696725]
["Enterprise M3",1.9142186096635136,700,1654318,225415.23708157346,null,28859201.131827042]
["Gloucestershire",0.8836011828898086,297,605654,89696.745250179694,null,12809184.398851749]
["Greater Birmingham and Solihull",0.99460185607881346,386,1970843,212835.41536733671,null,26525016.3368017]
["Greater Cambridge and Greater Peterborough",1.5961986008805913,600,1393409,175492.83957015042,null,23190036.895246398]
["Greater Lincolnshire",1.1734060817864498,427,1053040,135496.45765865885,null,18553709.787203439]
["Greater Manchester",1.1530201458723746,507,2714944,313937.1289963997,null,38388651.643280044]
["Heart of the South West",2.0791384565935975,754,1687406,230542.52698693372,null,27538231.414096586]
["Hertfordshire",1.1490921056454324,450,1140706,131514.01442276139,null,12890507.681772744]
["Humber",0.43260898060469993,159,922183,98198.687487539428,null,13472198.02641001]
["Lancashire",1.6792349854042132,616,1468845,172717.62962496813,null,27343409.190128721]
["Leeds City Region",1.3418146255631578,470,2988899,409700.45368723525,null,72554896.759802684]
["Leicester and Leicestershire",0.88296681302904989,340,995387,101874.96845362378,null,10162083.749458309]
["Liverpool City Region",0.64711609335304754,213,1512559,166740.78707100573,null,21997571.981573317]
["London Enterprise Panel",3.2665470293432177,1218,8416535,846340.29825478198,null,108092391.78588898]
["New Anglia",1.7841662719221332,661,1606044,204058.61090611803,null,30062119.119884733]
["North Eastern",0.86299755053085636,287,1945340,230992.92423904844,null,22566955.200382873]
["Northamptonshire",0.92447582238265835,320,706647,94683.438121440922,null,13639982.253291423]
["Oxfordshire",0.73279494132873912,272,666082,98732.34907583968,null,13325866.026277371]
["Sheffield City Region",1.2094157760846902,389,1751847,276278.46469425334,null,44744341.710571744]
["Solent",1.4854887159578187,520,1566181,208133.65773066113,null,33410667.802189812]
["South East",4.1948004998760871,1519,4052071,527542.46707492182,null,78056817.652373999]
["South East Midlands",1.5721582203783777,552,1757041,254550.71754434446,null,37995433.403252035]
["Stoke-on-Trent and Staffordshire",1.0893532912364625,402,1107234,133337.63746486828,null,18224606.422544315]
["Swindon and Wiltshire",0.24309008896102846,90,693671,92629.038711954709,null,11866031.727916542]
["Tees Valley",0.53140567341500944,215,665141,68920.108728478008,null,6821199.7614218686]
["Thames Valley Berkshire",0.7708486755618249,283,878431,113394.69072666249,null,13199232.301011363]
["The Marches",0.36319795990052839,144,663106,81761.158490998481,null,10557742.704239637]
["West of England",0.55179866060231253,179,1092831,146639.89535891297,null,15252045.199851135]
["Worcestershire",0.79962449512700196,288,572168,76603.544373483266,null,14588220.142260682]
["York North Yorkshire and East Riding",1.1842265492461572,403,1141189,140332.51347356051,null,17768222.323815815]
["Active Cumbria",{"$f":"MMULT(LAtoCSPConv,B4:E329)","v":0.71362685770994327},288,498070,58892.280804190515,null,{"$f":"MMULT(LAtoCSPConv,G4:G329)","v":8380512.6918387013}]
["Active Devon",1.4322892311116686,500,1149302,159544.16101391515,null,18266464.697869029]
["Active Dorset",1.1437220698296198,383,754463,109767.22559259558,null,12824090.934696725]
["Active Essex",1.8246258975253329,654,1753052,221930.10352122111,null,37559864.082479]
["Active Gloucestershire",0.8836011828898086,297,605654,89696.745250179694,null,12809184.398851749]
["Active Norfolk",0.87031160829490173,329,870146,109154.96033801955,null,17369720.580940168]
["Active Surrey ",1.5286187704468297,568,1152114,159468.09469934658,null,21423686.054190297]
["Active Sussex",1.7461676789626084,601,1633870,214078.92898243055,null,22169432.740972206]
["Birmingham Sport & Physical Activity Partnership",0.10416609601601706,39,1092330,113783.75166117592,null,10881804.774866711]
["Black Country Be Active Partnership",0.35228872345798479,137,1152474,101899.60595375179,null,12128096.99645799]
["Cornwall Sports Partnership",0.36447469817945444,76,543570,89171.792594678467,null,11557948.153872961]
["County Durham Sport",9.7310966921087871E-2,32,515957,50208.274559703736,null,4629011.9474215014]
["Coventry Solihull & Warwickshire Sport",0.98100020473624661,352,1087400,146362.38376580589,null,22216086.03718666]
["Derbyshire Sports Partnership",1.1647971257761023,434,1027583,134551.6366021233,null,17102770.355884381]
["Energize Shropshire Telford & Wrekin",0.24741042973458088,97,477019,60214.604365007821,null,7796767.7512908401]
["Get Berkshire Active",0.7708486755618249,283,878431,113394.69072666249,null,13199232.301011363]
["Greater Sport",1.1530201458723746,507,2714944,313937.1289963997,null,38388651.643280044]
["Herts Sports Partnership",1.1490921056454324,450,1140706,131514.01442276139,null,12890507.681772744]
["Humber Sports Partnership",0.35234759952634714,125,664594,77524.238596947616,null,9522209.9410069808]
["Kent Sport",1.6811162220259173,640,1764617,229806.5731219661,null,31846656.834627502]
["Lancashire Sport Partnership",1.6792349854042132,616,1468845,172717.62962496813,null,27343409.190128721]
["Leap (Bucks & MK Sport and Activity Partnership)",0.85195445432995121,308,771788,134546.07758839018,null,18225734.393294122]
["Leicestershire & Rutland Sport",1.0874123165909853,400,1032993,109563.34606057392,null,11367393.667017683]
["Lincolnshire Sports Partnership",0.93465138885441368,343,724453,96140.230827745923,null,13140221.846684515]
["Living Sport",0.71102517181070313,293,820468,96887.623015806719,null,9503924.3714695238]
["London",3.2665470293432177,1218,8416535,846340.29825478198,null,108092391.78588898]
["Merseyside Sport",0.64711609335304754,213,1512559,166740.78707100573,null,21997571.981573317]
["North Yorkshire Sport",1.0706336426518461,362,805182,102164.50170752579,null,13659500.323327754]
["Northamptonshire Sport",0.92447582238265835,320,706647,94683.438121440922,null,13639982.253291423]
["Northumberland Sport",0.13974599136460447,52,315806,44132.622548890278,null,5217004.3999620099]
["Oxfordshire Sports Partnership",0.73279494132873912,272,666082,98732.34907583968,null,13325866.026277371]
["Somerset Activity & Sports Partnership",0.64684922548192891,254,538104,70998.365973018561,null,9271766.7162275556]
["South Yorkshire Sport",0.62504700204782715,202,1358153,218051.30433217291,null,38590059.498299047]
["South & West Yorkshire Sport",1.3080412301695727,454,3610345,531172.52832485072,null,95578450.776239887]
["Sport Across Staffordshire & Stoke On Trent",1.0893532912364625,402,1107234,133337.63746486828,null,18224606.422544315]
["Sport Cheshire",0.42345911924744584,146,908842,132617.6971514395,null,15388888.535721064]
["Sport Hampshire & Isle of Wight",1.7585302109924419,639,1925724,241415.23450569887,null,37656123.229748577]
["Sport Nottinghamshire",1.118078604551078,387,1107053,157419.60005345117,null,34235846.943664238]
["Sports Partnership Herefordshire & Worcestershire",0.91541202529294941,335,758255,98150.098499473956,null,17349195.095209476]
["Suffolk Sport",0.91385466362723133,332,735898,94903.650568098485,null,12692398.538944561]
["Teams Beds & Luton",0.35015756243896601,137,633899,76450.411482281197,null,12048267.854897983]
["Tees Valley Sport",0.53140567341500944,215,665141,68920.108728478008,null,6821199.7614218686]
["Tyne & Wear Sport",0.62594059224516407,203,1113577,136652.02713045443,null,12720938.852999361]
["Wesport",0.55179866060231253,179,1092831,146639.89535891297,null,15252045.199851135]
["West Yorkshire Sport ",0.68299422812174548,252,2252192,313121.22399267787,null,56988391.277940832]
["Wiltshire & Swindon Sport",0.24309008896102846,90,693671,92629.038711954709,null,11866031.727916542]
["Buckinghamshire CC",{"$f":"MMULT(LAtoCountyConv,B4:E329)","v":0.68412633041955051},245,516096,91633.768929491984,null,{"$f":"MMULT(LAtoCountyConv,G4:G329)","v":13745710.353377832}]
["Cambridgeshire CC",0.63733698602072941,254,632095,83006.758393992,null,8651805.5781550799]
["Cumbria CC",0.71362685770994327,288,498070,58892.280804190515,null,8380512.6918387013]
["Derbyshire CC",1.1647971257761023,434,1027583,134551.6366021233,null,17102770.355884381]
["Devon CC",1.1653786647847955,422,758052,109613.8599414691,null,10876253.709478179]
["Dorset CC",0.8790287044638827,308,416721,64451.251371628321,null,7171203.0079461168]
["East Sussex CC",0.68905838032483691,225,534402,75805.79043173464,null,8650296.73526752]
["Essex CC",1.5776501589237324,569,1416405,180698.51017053262,null,31214930.865072459]
["Gloucestershire CC",0.8836011828898086,297,605654,89696.745250179694,null,12809184.398851749]
["Hampshire CC",1.3750950986632235,509,1337730,169628.39102354614,null,24657420.336857963]
["Hertfordshire CC",1.1490921056454324,450,1140706,131514.01442276139,null,12890507.681772744]
["Kent CC",1.5546407214579787,591,1493512,195518.43254049512,null,23848364.480312206]
["Lancashire CC",1.4812111549633054,540,1180076,144262.37707999631,null,19269216.347637661]
["Leicestershire CC",1.0262943249959664,364,699181,89161.427050257436,null,9391541.5053522028]
["Lincolnshire CC",0.93465138885441368,343,724453,96140.230827745923,null,13140221.846684515]
["Norfolk CC",0.87031160829490173,329,870146,109154.96033801955,null,17369720.580940168]
["North Yorkshire CC",0.94484194667326982,318,602749,76700.111315494636,null,10046471.168599041]
["Northamptonshire CC",0.92447582238265835,320,706647,94683.438121440922,null,13639982.253291423]
["Nottinghamshire CC",0.96566013973968312,348,796216,110042.30170687163,null,14117544.402400495]
["Oxfordshire CC",0.73279494132873912,272,666082,98732.34907583968,null,13325866.026277371]
["Somerset CC",0.64684922548192891,254,538104,70998.365973018561,null,9271766.7162275556]
["Staffordshire CC",0.9842512040829926,372,857007,107038.25750271694,null,14545775.537851552]
["Suffolk CC",0.91385466362723133,332,735898,94903.650568098485,null,12692398.538944561]
["Surrey CC",1.5286187704468297,568,1152114,159468.09469934658,null,21423686.054190297]
["Warwickshire CC",0.7357903687093813,256,548729,79984.468040256121,null,13510008.446355836]
["West Sussex CC",0.96102691994946121,333,821356,111551.47604893248,null,10402404.054033149]
["Worcestershire CC",0.79962449512700196,288,572168,76603.544373483266,null,14588220.142260682]

{"sheet":"POP","index":36,"n_rows":440,"n_cols":8,"rows_kept":440,"cut":false,"hidden":true,"merged":[]}
["local authority: district / unitary","Aged 0 - 15","Aged 16 - 29","Aged 30 - 49","Aged 50 - 64","Aged 65+","Total","Age 5-15"]
["Adur",11022,8855,16494,11851,14283,62505,7236]
["Allerdale",15984,14043,24005,20694,21482,96208,11080]
["Amber Valley",21208,18794,32929,25516,25051,123498,14701]
["Arun",24197,21332,35493,29626,42170,152818,16211]
["Ashfield",23017,20445,32901,23236,21954,121553,15303]
["Ashford",25217,19468,32626,22222,22190,121723,17266]
["Aylesbury Vale",36928,28398,51888,34763,29094,181071,25050]
["Babergh",15616,11718,21686,18341,20928,88289,11327]
["Barking and Dagenham",52342,38321,58108,26042,19539,194352,32730]
["Barnet",77917,70228,113209,57221,50513,369088,50608]
["Barnsley",43491,40232,63083,46090,42861,235757,28938]
["Barrow-in-Furness",11982,11208,17334,13527,13780,67831,8314]
["Basildon",36251,30532,49494,31961,30124,178362,24183]
["Basingstoke and Deane",34613,27018,51226,31961,27034,171852,22784]
["Bassetlaw",20013,17868,29442,23568,22763,113654,13716]
["Bath and North East Somerset",30124,40002,44069,31969,33933,180097,20671]
["Bedford",32424,27831,44933,29127,27067,161382,21721]
["Bexley",48586,42402,64998,41503,39198,236687,32895]
["Birmingham",250092,248956,291829,158905,142548,1092330,165431]
["Blaby",17634,15006,25594,18459,18399,95092,12184]
["Blackburn with Darwen",34172,27724,40393,24876,20204,147369,22969]
["Blackpool",25478,24184,36246,27313,28179,141400,16998]
["Bolsover",13751,12742,20713,14849,14674,76729,9343]
["Bolton",58305,51177,75288,49626,45661,280057,38716]
["Boston",11899,11138,16799,12454,13580,65870,7650]
["Bournemouth",29928,41188,53261,30509,33847,188733,18840]
["Bracknell Forest",24305,19732,35969,21004,15557,116567,16052]
["Bradford",123811,99719,142607,86660,73572,526369,82628]
["Braintree",28984,23219,40907,28736,27262,149108,19683]
["Breckland",23153,20570,32398,25706,30760,132587,15512]
["Brent",65107,69052,100126,48454,34525,317264,41390]
["Brentwood",13501,11267,20146,14472,15074,74460,9463]
["Brighton and Hove",45208,67845,85723,42143,37193,278112,29932]
["Bristol",81795,109374,124156,64141,58026,437492,50884]
["Broadland",20668,16717,31809,26046,30259,125499,14636]
["Bromley",62693,49267,93964,56566,55409,317899,41613]
["Bromsgrove",16629,13911,24411,19438,20355,94744,11727]
["Broxbourne",19072,16032,26748,16722,16411,94985,12703]
["Broxtowe",18967,18844,29956,21658,21818,111243,12574]
["Burnley",17315,15466,22657,16334,15122,86894,11391]
["Bury",37631,31106,51179,34689,31922,186527,25124]
["Calderdale",40376,33495,56963,40265,35256,206355,27198]
["Cambridge",19146,40108,35218,16772,15236,126480,12099]
["Camden",38624,57877,76235,30793,26190,229719,24509]
["Cannock Chase",18033,17117,27368,18578,17023,98119,12248]
["Canterbury",25289,39132,33700,26505,30681,155307,17666]
["Carlisle",18484,18478,27839,21953,21195,107949,12300]
["Castle Point",14658,13670,21166,18030,21046,88570,10392]
["Central Bedfordshire",51445,42058,75392,51482,44151,264528,34456]
["Charnwood",28996,37816,43283,30912,29638,170645,19562]
["Chelmsford",31572,28404,47674,31599,31007,170256,21491]
["Cheltenham",19843,23377,32042,20136,20502,115900,13239]
["Cherwell",28610,23206,41579,26401,23863,143659,18986]
["Cheshire East",65951,54467,98430,75824,78035,372707,45621]
["Cheshire West and Chester",58295,53760,86983,66111,65877,331026,39953]
["Chesterfield",17811,17279,27899,20583,20458,104030,12019]
["Chichester",18819,16859,26344,23497,29782,115301,13036]
["Chiltern",19063,11637,24072,19032,19446,93250,13623]
["Chorley",20164,17670,30848,21683,20140,110505,13647]
["Christchurch",7575,6017,10657,9092,15027,48368,5377]
["City of London",764,1499,2727,1456,1202,7648,444]
["Colchester",32933,35939,48417,30370,29967,177626,21714]
["Copeland",11772,10850,17875,15164,14358,70019,8076]
["Corby",13638,11689,18342,11584,8959,64212,8717]
["Cornwall",91292,81866,129903,112810,125448,541319,62432]
["Cotswold",13848,11214,20677,18277,20063,84079,9812]
["County Durham",88342,92862,131797,103956,99000,515957,59535]
["Coventry",65297,80936,85772,49647,48158,329810,41682]
["Craven",9125,7163,13145,12443,13664,55540,6598]
["Crawley",22986,19870,34112,17822,14181,108971,14629]
["Croydon",81637,69081,112119,62439,47476,372752,52986]
["Dacorum",29520,23775,42454,28100,24347,148196,19428]
["Darlington",20154,17179,28058,20357,19648,105396,13531]
["Dartford",20760,18169,29989,16735,14916,100569,13502]
["Daventry",14706,11218,21166,16748,14718,78556,10384]
["Derby",51687,51739,67935,40447,39615,251423,33634]
["Derbyshire Dales",11470,9168,16898,16373,17357,71266,8507]
["Doncaster",57539,53641,79641,58520,54281,303622,38351]
["Dover",20049,17283,27286,23116,24604,112338,13830]
["Dudley",59606,52666,83093,57670,61392,314427,40285]
["Ealing",71616,68241,112196,51979,38462,342494,45260]
["East Cambridgeshire",16946,11877,24579,16169,15827,85398,11210]
["East Devon",20814,17429,29200,27764,39691,134898,14654]
["East Dorset",13523,10595,18697,18837,26247,87899,9694]
["East Hampshire",21421,16646,29623,24755,24643,117088,15187]
["East Hertfordshire",27939,21027,41935,26852,23323,141076,19304]
["East Lindsey",20992,18273,29109,30292,38045,136711,14523]
["East Northamptonshire",17091,12745,24017,17638,16478,87969,12064]
["East Riding of Yorkshire",55249,47646,82574,72326,78212,336007,38895]
["East Staffordshire",22051,19218,31198,21809,20646,114922,14753]
["Eastbourne",17154,16483,24918,18258,23724,100537,11435]
["Eastleigh",24332,20660,35305,24742,22683,127722,16343]
["Eden",8300,7301,12717,11756,12533,52607,5927]
["Elmbridge",29189,15540,39910,24566,22974,132179,19263]
["Enfield",72321,62283,94857,50170,40893,320524,47330]
["Epping Forest",23519,19714,35075,24397,24465,127170,15633]
["Epsom and Ewell",15269,11976,22151,14202,13533,77131,10321]
["Erewash",20238,18749,30917,21630,21636,113170,13567]
["Exeter",19253,33158,31329,18787,19273,121800,12295]
["Fareham",19502,17141,29234,22920,24817,113614,13716]
["Fenland",16940,15516,24397,19108,20768,96729,11367]
["Forest Heath",12128,13684,16681,10190,10581,63264,7350]
["Forest of Dean",13753,12579,19997,18121,18487,82937,9648]
["Fylde",12087,10174,18274,16322,19585,76442,8461]
["Gateshead",35133,35430,54013,38217,37205,199998,23327]
["Gedling",20536,17956,30796,23032,22498,114818,14021]
["Gloucester",24905,23336,34951,21970,19400,124562,16263]
["Gosport",16119,14354,21993,15738,15299,83503,10863]
["Gravesham",21200,18719,28108,18263,17462,103752,14208]
["Great Yarmouth",17154,16602,23074,18951,22015,97796,11532]
["Greenwich",57565,56013,85843,36964,27623,264008,35807]
["Guildford",25543,29561,38568,24366,22971,141009,17192]
["Hackney",53577,64331,91382,29766,18323,257379,33485]
["Halton",25097,21930,33320,25317,20306,125970,16817]
["Hambleton",14929,12891,21733,19408,20952,89913,10540]
["Hammersmith and Fulham",30380,43283,64115,23410,17497,178685,18489]
["Harborough",16350,12164,23491,18085,17360,87450,11821]
["Haringey",52926,57262,93522,35870,23806,263386,34449]
["Harlow",17655,14599,23525,14685,12908,83372,11217]
["Harrogate",28548,22532,41518,32086,33565,158249,20004]
["Harrow",49516,45388,71490,41459,35519,243372,32513]
["Hart",18665,13038,26691,17589,16737,92720,12965]
["Hartlepool",17730,16646,23353,18286,16650,92665,11972]
["Hastings",16880,15741,24017,17394,16722,90754,11160]
["Havant",21769,19404,29082,24152,27155,121562,14999]
["Havering",45836,42944,63780,44705,44815,242080,31028]
["Herefordshire",31710,27895,45812,38698,41972,186087,21819]
["Hertsmere",20613,16622,28166,18329,17541,101271,13782]
["High Peak",16175,14446,24070,19338,17082,91111,11284]
["Hillingdon",60650,59402,84423,44774,37557,286806,38965]
["Hinckley and Bosworth",18879,15870,28564,22130,21170,106613,12929]
["Horsham",24752,17616,34836,27648,28026,132878,17575]
["Hounslow",54580,53654,86376,39137,28660,262407,33463]
["Huntingdonshire",32555,27383,47901,33649,30568,172056,22072]
["Hyndburn",16366,14091,21276,14504,13809,80046,10893]
["Ipswich",26538,26693,37633,22841,20988,134693,17013]
["Isle of Wight",22207,20041,31871,28912,35362,138393,15602]
["Isles of Scilly",344,319,594,445,549,2251,247]
["Islington",34636,59909,74785,27173,19164,215667,21636]
["Kensington and Chelsea",25023,28851,54928,25729,21063,155594,15963]
["Kettering",19256,15155,27343,17484,16510,95748,12790]
["King`s Lynn and West Norfolk",25291,22523,34942,29699,36303,148758,16976]
["Kingston upon Hull",49146,58157,68708,43916,37662,257589,31134]
["Kingston upon Thames",32140,34515,52213,26117,21808,166793,20504]
["Kirklees",86963,78811,116278,76587,69640,428279,58357]
["Knowsley",28398,27286,37096,29269,24037,146086,19040]
["Lambeth",56207,82025,112466,39305,24239,314242,35198]
["Lancaster",23329,32008,33078,25280,26880,140575,15772]
["Leeds",141266,175787,206018,122929,115481,761481,90925]
["Leicester",71147,84407,88474,51029,38755,333812,45967]
["Lewes",17378,13715,24230,20307,23849,99479,12127]
["Lewisham",59438,59867,99409,40342,27124,286180,36664]
["Lichfield",17555,14909,26355,20435,22514,101768,12315]
["Lincoln",15932,26117,24102,15419,14053,95623,10017]
["Liverpool",78783,119400,123741,80578,68278,470780,51195]
["Luton",48279,45384,58956,30389,24981,207989,31167]
["Maidstone",30656,25907,43764,29679,29319,159325,20610]
["Maldon",10582,8357,15526,13755,13946,62166,7542]
["Malvern Hills",12207,10065,17019,16579,19469,75339,8808]
["Manchester",101660,154360,145591,63809,48997,514417,63832]
["Mansfield",19163,18332,28099,20714,18988,105296,12477]
["Medway",54656,53693,74104,48083,40569,271105,36627]
["Melton",9159,7394,13387,10740,10156,50836,6294]
["Mendip",20146,16508,27332,22997,23198,110181,14209]
["Merton",40828,37529,69977,30662,24227,203223,25002]
["Mid Devon",14557,11235,19258,16379,17241,78670,10094]
["Mid Suffolk",17510,13645,24590,20631,21597,97973,12411]
["Mid Sussex",27666,20272,39728,27381,27719,142766,19108]
["Middlesbrough",28134,29963,34175,25005,21662,138939,18349]
["Milton Keynes",57854,43555,79180,44226,30877,255692,37383]
["Mole Valley",15828,11432,22440,17565,19044,86309,11097]
["New Forest",28898,23435,40981,37141,47607,178062,20114]
["Newark and Sherwood",21021,18204,30146,23724,23722,116817,14451]
["Newcastle upon Tyne",49270,81007,69968,45763,40813,286821,32050]
["Newcastle-under-Lyme",20956,24249,31770,24034,24230,125239,14560]
["Newham",73131,84864,100911,37452,21869,318227,45760]
["North Devon",16132,13698,22390,19187,22418,93825,11042]
["North Dorset",12354,10469,16671,14136,16253,69883,8710]
["North East Derbyshire",16136,14644,24785,21136,22580,99281,11259]
["North East Lincolnshire",30406,28387,40408,30481,30145,159827,20227]
["North Hertfordshire",25180,19028,37981,23878,23251,129318,16709]
["North Kesteven",19271,15932,28464,21723,24516,109906,13368]
["North Lincolnshire",31286,27456,43382,34114,32522,168760,21237]
["North Norfolk",14288,13043,20837,22496,31379,102043,9928]
["North Somerset",37389,28676,53262,40572,46236,206135,25263]
["North Tyneside",35747,31916,56299,40354,37836,202152,24049]
["North Warwickshire",10752,9420,16357,13125,12470,62124,7427]
["North West Leicestershire",17708,14297,26040,18882,17887,94814,12325]
["Northampton",44795,42067,63133,36051,30693,216739,28599]
["Northumberland",52945,46374,77311,70179,68997,315806,37131]
["Norwich",22808,36298,36969,19689,20129,135893,14086]
["Nottingham",57164,94438,79455,43084,36696,310837,36518]
["Nuneaton and Bedworth",23979,21457,34119,23880,22568,126003,15938]
["Oadby and Wigston",9876,10383,13807,10588,11471,56125,6855]
["Oldham",50882,41777,60336,38960,35357,227312,34338]
["Oxford",26498,49612,41490,19768,17405,154773,16896]
["Pendle",18570,15813,23438,16782,15528,90131,12096]
["Peterborough",40974,35960,54069,30726,26644,188373,25819]
["Plymouth",45426,58379,65665,45220,44485,259175,29561]
["Poole",26013,23068,39497,28232,32199,149009,17536]
["Portsmouth",38330,53126,55233,31790,28981,207460,24722]
["Preston",27094,33336,36803,23125,20060,140418,17755]
["Purbeck",7331,6226,10281,9826,11747,45411,5177]
["Reading",31770,37134,49379,22124,18840,159247,19370]
["Redbridge",65514,56899,86768,44075,35016,288272,42939]
["Redcar and Cleveland",24096,22592,32938,27300,28019,134945,16277]
["Redditch",16670,14637,23719,16396,13099,84521,11010]
["Reigate and Banstead",28035,20889,41715,25821,24613,141073,18554]
["Ribble Valley",10351,8148,14437,12343,12579,57858,7610]
["Richmond upon Thames",39150,26864,65255,32631,27465,191365,24641]
["Richmondshire",9244,11487,13265,9976,9912,53884,6285]
["Rochdale",44722,38638,57172,38550,33038,212120,29729]
["Rochford",14737,12226,21776,16808,18364,83911,10448]
["Rossendale",13410,11117,18861,13742,11614,68744,9027]
["Rother",13973,11324,18605,19514,27638,91054,9907]
["Rotherham",49549,43490,67667,50191,47792,258689,33541]
["Rugby",19789,15941,28393,18575,18675,101373,13383]
["Runnymede",14416,17552,22670,14532,14278,83448,9412]
["Rushcliffe",20687,17141,30342,22320,22345,112835,14515]
["Rushmoor",18990,18228,29730,15482,12541,94971,12211]
["Rutland",6485,6031,9128,7418,8544,37606,4716]
["Ryedale",8355,7010,12016,11833,12998,52212,5971]
["Salford",46706,52357,66536,38517,34897,239013,29592]
["Sandwell",68766,59904,87361,50252,48046,314329,44682]
["Scarborough",17117,16732,23942,23547,26885,108223,11738]
["Sedgemoor",21139,17998,28610,24347,25450,117544,14449]
["Sefton",46775,43763,65690,56790,60189,273207,32053]
["Selby",15568,12670,22998,17927,15565,84728,10671]
["Sevenoaks",22953,16255,31131,23061,23635,117035,15686]
["Sheffield",102234,133725,145039,89194,89893,560085,67988]
["Shepway",18924,16841,26802,21586,24679,108832,12966]
["Shropshire",52234,47393,76369,63903,68668,308567,36809]
["Slough",35366,27314,46758,20266,13320,143024,22174]
["Solihull",39642,32904,53572,40446,42297,208861,27577]
["South Bucks",13041,9447,17781,13696,13976,67941,8979]
["South Cambridgeshire",29848,21525,43657,28961,27441,151432,20455]
["South Derbyshire",18861,15227,27899,18809,16279,97075,13036]
["South Gloucestershire",50056,47028,74536,49276,48211,269107,33845]
["South Hams",13371,10659,18678,19540,21602,83850,9542]
["South Holland",14951,13211,22248,17677,21156,89243,10169]
["South Kesteven",24802,19743,35585,28040,28215,136385,17284]
["South Lakeland",15545,13214,24506,23108,27083,103456,11156]
["South Norfolk",22944,17279,32179,25703,29465,127570,15849]
["South Northamptonshire",16824,11678,24249,18270,16444,87465,11902]
["South Oxfordshire",26083,19498,37484,26395,26555,136015,17874]
["South Ribble",19746,17527,29100,21389,21151,108913,13447]
["South Somerset",28905,24722,38948,33386,37982,163943,19795]
["South Staffordshire",17458,17199,27561,23652,24425,110295,12526]
["South Tyneside",25710,25979,37851,30764,28222,148526,17341]
["Southampton",42861,67245,64507,35334,32194,242141,26654]
["Southend-on-Sea",33479,28793,49404,31306,32816,175798,22088]
["Southwark",55388,75930,103997,39673,23476,298464,33634]
["Spelthorne",18029,15172,28523,18127,17605,97456,11764]
["St Albans",31218,19910,43532,25120,23314,143094,20766]
["St Edmundsbury",20316,18306,29178,20526,22986,111312,13778]
["St Helens",31925,29604,46368,34352,33972,176221,21403]
["Stafford",22198,21815,34465,26295,27319,132092,15416]
["Staffordshire Moorlands",15877,13700,24678,20924,22236,97415,11189]
["Stevenage",17345,15831,24380,15136,12782,85474,11267]
["Stockport",53937,44273,77319,54996,54507,285032,36334]
["Stockton-on-Tees",37539,35169,50972,37173,32343,193196,25026]
["Stoke-on-Trent",49269,49715,66227,44122,40894,250227,31863]
["Stratford-on-Avon",20185,15592,29980,25763,29247,120767,14357]
["Stroud",20527,15518,29634,24381,23860,113920,14533]
["Suffolk Coastal",21294,15988,28970,26709,31444,124405,15391]
["Sunderland",48023,51656,70909,55675,49817,276080,32454]
["Surrey Heath",16872,12640,24856,16845,15691,86904,11747]
["Sutton",39713,32258,61192,33332,29419,195914,26012]
["Swale",27885,23070,36610,26393,25213,139171,18837]
["Swindon",42765,37057,64600,38254,31361,214037,27919]
["Tameside",43126,38703,60449,41295,37024,220597,28293]
["Tamworth",15242,13436,21407,14583,12489,77157,10264]
["Tandridge",16096,12180,22758,16933,16645,84612,11168]
["Taunton Deane",19982,18164,28043,22104,23823,112116,13692]
["Teignbridge",20476,17059,29801,27166,31499,126001,14315]
["Telford and Wrekin",34430,30708,46263,30660,26391,168452,22972]
["Tendring",22585,18968,29269,28150,39749,138721,15604]
["Test Valley",22119,16804,31527,24187,23735,118372,15225]
["Tewkesbury",15043,11817,22400,16952,18044,84256,10162]
["Thanet",26010,22047,32004,26169,30536,136766,17641]
["Three Rivers",18003,13394,25538,16776,15784,89495,12337]
["Thurrock",35233,28689,48429,26683,21815,160849,23083]
["Tonbridge and Malling",25194,18525,33895,23042,22345,123001,17741]
["Torbay",21823,19553,30463,27182,33054,132075,14764]
["Torridge",10661,8903,14714,14518,16293,65089,7306]
["Tower Hamlets",55060,82764,92316,26140,16610,272890,33898]
["Trafford",47192,35689,66935,41914,38449,230179,32160]
["Tunbridge Wells",23531,17201,32939,21292,20730,115693,16431]
["Uttlesford",16576,11623,22472,16747,15265,82683,11764]
["Vale of White Horse",23517,18764,33703,24032,23630,123646,15951]
["Wakefield",60805,56220,89120,64299,59264,329708,40372]
["Walsall",56826,49399,70980,47016,47940,272161,38104]
["Waltham Forest",57776,56336,87277,37385,27023,265797,35952]
["Wandsworth",53687,74495,116957,37126,28251,310516,31029]
["Warrington",39139,34254,58034,38618,35064,205109,26534]
["Warwick",23880,27424,38171,24526,24461,138462,15969]
["Watford",20007,17289,30248,14329,11863,93736,12680]
["Waveney",19801,17218,26752,22669,29522,115962,13473]
["Waverley",24380,16571,32489,23457,25529,122426,17088]
["Wealden",26701,19726,36418,32218,37515,152578,19203]
["Wellingborough",15459,11680,20845,14343,13631,75958,10233]
["Welwyn Hatfield",20972,26714,29633,18703,18039,114061,13921]
["West Berkshire",31556,22968,44095,30633,26140,155392,21550]
["West Devon",8677,6926,12452,12281,13583,53919,6173]
["West Dorset",15664,12669,21532,22024,28137,100026,11327]
["West Lancashire",19620,19972,26851,22212,22659,111314,13802]
["West Lindsey",15428,12901,22085,19913,20388,90715,10891]
["West Oxfordshire",20098,16321,29760,20837,20973,107989,13407]
["West Somerset",4706,4527,6621,7760,10706,34320,3247]
["Westminster",35674,49082,82885,32825,26375,226841,21925]
["Weymouth and Portland",10739,10123,15811,13617,14844,65134,7397]
["Wigan",59814,54613,88833,60164,56266,319690,40297]
["Wiltshire",91134,74488,126293,94077,93642,479634,62617]
["Winchester",21781,19834,30192,22764,23693,118264,15258]
["Windsor and Maidenhead",29335,21657,42866,26538,25939,146335,20028]
["Wirral",59366,51325,80592,64378,64634,320295,40432]
["Woking",20750,14377,31007,17622,15811,99567,13389]
["Wokingham",32572,22957,45998,30038,26301,157866,22211]
["Wolverhampton",50320,48978,68140,42159,41960,251557,32862]
["Worcester",18735,20625,28126,17212,15707,100405,12268]
["Worthing",18931,15638,28971,19463,23114,106117,12741]
["Wychavon",19959,16393,29416,25616,27354,118738,14056]
["Wycombe",35484,29337,48813,30902,29298,173834,24071]
["Wyre",17099,15799,24683,22519,28136,108236,12122]
["Wyre Forest",16838,14681,24918,19644,22340,98421,11361]
["York",32168,48048,52248,34269,35700,202433,21496]
["England",{"$f":"SUM(B2:B327)","v":10209238},{"$f":"SUM(C2:C327)","v":9913026},14766866,9671508,9305179,53865817,6795108]
["Black Country",{"$f":"MMULT(LAtoLEPConv,B2:H327)","v":235518},210947,309574,197097,199338,1152474,155933]
["Buckinghamshire Thames Valley",104516,78819,142554,98393,91814,516096,71723]
["Cheshire and Warrington",163385,142481,243447,180553,178976,908842,112108]
["Coast to Capital",367824,327560,547114,356698,361628,1960824,246721]
["Cornwall and Isles of Scilly",91636,82185,130497,113255,125997,543570,62679]
["Coventry and Warwickshire",163882,170770,232792,155516,155579,878539,108756]
["Cumbria",82067,75094,124276,106202,110431,498070,56853]
["Derby, Derbyshire, Nottingham and Nottinghamshire",387905,396016,565182,400017,385516,2134636,260925]
["Dorset",123127,120355,186407,146273,178301,754463,84058]
["Enterprise M3",315666,256416,457993,313394,310849,1654318,213599]
["Gloucestershire",107919,97841,159701,119837,120356,605654,73657]
["Greater Birmingham and Solihull",412752,389769,524777,330234,313311,1970843,276686]
["Greater Cambridge and Greater Peterborough",262385,243564,380203,253843,253414,1393409,174315]
["Greater Lincolnshire",184967,173158,262182,210113,222620,1053040,125366]
["Greater Manchester",543975,542693,749638,462520,416118,2714944,358415]
["Heart of the South West",286068,278918,403504,338618,380298,1687406,195138]
["Hertfordshire",229869,189622,330615,203945,186655,1140706,152897]
["Humber",166087,161646,235072,180837,178541,922183,111493]
["Lancashire",274801,263029,376945,278424,275646,1468845,185990]
["Leeds City Region",582121,574677,803978,533555,494568,2988899,387187]
["Leicester and Leicestershire",189749,197337,262640,180825,164836,995387,127937]
["Liverpool City Region",270344,293308,386807,290684,271416,1512559,180940]
["London Enterprise Panel",1700002,1792716,2730806,1232675,960336,8416535,1078721]
["New Anglia",279509,260284,397698,310197,358356,1606044,189262]
["North Eastern",335170,365224,498148,384908,361890,1945340,225887]
["Northamptonshire",141769,116232,199095,132118,117433,706647,94689]
["Oxfordshire",124806,127401,184016,117433,112426,666082,83114]
["Sheffield City Region",320524,333621,458269,324131,315302,1751847,215155]
["Solent",279339,288690,399548,292435,306169,1566181,188683]
["South East",766675,669299,1064426,761536,790135,4052071,521148]
["South East Midlands",364759,302239,506161,316525,267357,1757041,241155]
["Stoke-on-Trent and Staffordshire",198639,191358,291029,214432,211776,1107234,135134]
["Swindon and Wiltshire",133899,111545,190893,132331,125003,693671,90536]
["Tees Valley",127653,121549,169496,128121,118322,665141,85155]
["Thames Valley Berkshire",184904,151762,265065,150603,126097,878431,121385]
["The Marches",118374,105996,168444,133261,137031,663106,81600]
["West of England",199364,225080,296023,185958,186406,1092831,130663]
["Worcestershire",101038,90312,147609,114885,118324,572168,69230]
["York North Yorkshire and East Riding",190303,186179,283439,233815,247453,1141189,132198]
["Active Cumbria",{"$f":"MMULT(LAtoCSPConv,B2:H327)","v":82067},75094,124276,106202,110431,498070,56853]
["Active Devon",191190,196999,273950,228024,259139,1149302,129746]
["Active Dorset",123127,120355,186407,146273,178301,754463,84058]
["Active Essex",332265,286000,473280,327699,333808,1753052,224305]
["Active Gloucestershire",107919,97841,159701,119837,120356,605654,73657]
["Active Norfolk",146306,143032,212208,168290,200310,870146,98519]
["Active Surrey ",224407,177890,327087,214036,208694,1152114,150995]
["Active Sussex",285667,265276,429889,307122,345916,1633870,194300]
["Birmingham Sport & Physical Activity Partnership",250092,248956,291829,158905,142548,1092330,165431]
["Black Country Be Active Partnership",235518,210947,309574,197097,199338,1152474,155933]
["Cornwall Sports Partnership",91636,82185,130497,113255,125997,543570,62679]
["County Durham Sport",88342,92862,131797,103956,99000,515957,59535]
["Coventry Solihull & Warwickshire Sport",203524,203674,286364,195962,197876,1087400,136333]
["Derbyshire Sports Partnership",187337,172788,274045,198681,194732,1027583,127350]
["Energize Shropshire Telford & Wrekin",86664,78101,122632,94563,95059,477019,59781]
["Get Berkshire Active",184904,151762,265065,150603,126097,878431,121385]
["Greater Sport",543975,542693,749638,462520,416118,2714944,358415]
["Herts Sports Partnership",229869,189622,330615,203945,186655,1140706,152897]
["Humber Sports Partnership",116941,103489,166364,136921,140879,664594,80359]
["Kent Sport",342324,306310,462958,326146,326879,1764617,233011]
["Lancashire Sport Partnership",274801,263029,376945,278424,275646,1468845,185990]
["Leap (Bucks & MK Sport and Activity Partnership)",162370,122374,221734,142619,122691,771788,109106]
["Leicestershire & Rutland Sport",196234,203368,271768,188243,173380,1032993,132653]
["Lincolnshire Sports Partnership",123275,117315,178392,145518,159953,724453,83902]
["Living Sport",156409,152369,229821,145385,136484,820468,103022]
["London",1700002,1792716,2730806,1232675,960336,8416535,1078721]
["Merseyside Sport",270344,293308,386807,290684,271416,1512559,180940]
["North Yorkshire Sport",135054,138533,200865,161489,169241,805182,93303]
["Northamptonshire Sport",141769,116232,199095,132118,117433,706647,94689]
["Northumberland Sport",52945,46374,77311,70179,68997,315806,37131]
["Oxfordshire Sports Partnership",124806,127401,184016,117433,112426,666082,83114]
["Somerset Activity & Sports Partnership",94878,81919,129554,110594,121159,538104,65392]
["South Yorkshire Sport",252813,271088,355430,243995,234827,1358153,168818]
["South & West Yorkshire Sport",706034,715120,966416,634735,588040,3610345,468298]
["Sport Across Staffordshire & Stoke On Trent",198639,191358,291029,214432,211776,1107234,135134]
["Sport Cheshire",163385,142481,243447,180553,178976,908842,112108]
["Sport Hampshire & Isle of Wight",351607,346974,507195,357467,362481,1925724,236643]
["Sport Nottinghamshire",200568,223228,291137,201336,190784,1107053,133575]
["Sports Partnership Herefordshire & Worcestershire",132748,118207,193421,153583,160296,758255,91049]
["Suffolk Sport",133203,117252,185490,141907,158046,735898,90743]
["Teams Beds & Luton",132148,115273,179281,110998,96199,633899,87344]
["Tees Valley Sport",127653,121549,169496,128121,118322,665141,85155]
["Tyne & Wear Sport",193883,225988,289040,210773,193893,1113577,129221]
["Wesport",199364,225080,296023,185958,186406,1092831,130663]
["West Yorkshire Sport ",453221,444032,610986,390740,353213,2252192,299480]
["Wiltshire & Swindon Sport",133899,111545,190893,132331,125003,693671,90536]
["Buckinghamshire CC",{"$f":"MMULT(LAtoCountyConv,B2:H327)","v":104516},78819,142554,98393,91814,516096,71723]
["Cambridgeshire CC",115435,116409,175752,114659,109840,632095,77203]
["Cumbria CC",82067,75094,124276,106202,110431,498070,56853]
["Derbyshire CC",187337,172788,274045,198681,194732,1027583,127350]
["Devon CC",123941,119067,177822,155622,181600,758052,85421]
["Dorset CC",67186,56099,93649,87532,112255,416721,47682]
["East Sussex CC",92086,76989,128188,107691,129448,534402,63832]
["Essex CC",263553,228518,375447,269710,279177,1416405,179134]
["Gloucestershire CC",107919,97841,159701,119837,120356,605654,73657]
["Hampshire CC",248209,206562,355584,261431,265944,1337730,169665]
["Hertfordshire CC",229869,189622,330615,203945,186655,1140706,152897]
["Kent CC",287668,252617,388854,278063,286310,1493512,196384]
["Lancashire CC",215151,211121,300306,226235,227263,1180076,146023]
["Leicestershire CC",125087,118961,183294,137214,134625,699181,86686]
["Lincolnshire CC",123275,117315,178392,145518,159953,724453,83902]
["Norfolk CC",146306,143032,212208,168290,200310,870146,98519]
["North Yorkshire CC",102886,90485,148617,127220,133541,602749,71807]
["Northamptonshire CC",141769,116232,199095,132118,117433,706647,94689]
["Nottinghamshire CC",143404,128790,211682,158252,154088,796216,97057]
["Oxfordshire CC",124806,127401,184016,117433,112426,666082,83114]
["Somerset CC",94878,81919,129554,110594,121159,538104,65392]
["Staffordshire CC",149370,141643,224802,170310,170882,857007,103271]
["Suffolk CC",133203,117252,185490,141907,158046,735898,90743]
["Surrey CC",224407,177890,327087,214036,208694,1152114,150995]
["Warwickshire CC",98585,89834,147020,105869,107421,548729,67074]
["West Sussex CC",148373,120442,215978,157288,179275,821356,100536]
["Worcestershire CC",101038,90312,147609,114885,118324,572168,69230]

{"sheet":"LAtoLEPandCSP","index":37,"n_rows":114,"n_cols":326,"rows_kept":114,"cut":false,"hidden":true,"merged":[]}
[0,0,0,0,0,0,0,0,0,0,0,0,0,0,0,0,0,0,0,0,0,0,0,0,0,0,0,0,0,0,0,0,0,0,0,0,0,0,0,0,0,0,0,0,0,0,0,0,0,0,0,0,0,0,0,0,0,0,0,0,0,0,0,0,0,0,0,0,0,0,0,0,0,0,0,0,0,0,0,1,0,0,0,0,0,0,0,0,0,0,0,0,0,0,0,0,0,0,0,0,0,0,0,0,0,0,0,0,0,0,0,0,0,0,0,0,0,0,0,0,0,0,0,0,0,0,0,0,0,0,0,0,0,0,0,0,0,0,0,0,0,0,0,0,0,0,0,0,0,0,0,0,0,0,0,0,0,0,0,0,0,0,0,0,0,0,0,0,0,0,0,0,0,0,0,0,0,0,0,0,0,0,0,0,0,0,0,0,0,0,0,0,0,0,0,0,0,0,0,0,0,0,0,0,0,0,0,0,0,0,0,0,0,0,0,0,0,0,0,0,0,0,0,1,0,0,0,0,0,0,0,0,0,0,0,0,0,0,0,0,0,0,0,0,0,0,0,0,0,0,0,0,0,0,0,0,0,0,0,0,0,0,0,0,0,0,0,0,0,0,0,0,0,0,0,0,0,0,0,0,0,0,0,0,0,0,0,0,0,0,0,1,0,0,0,0,0,0,0,0,0,0,0,0,0,0,0,0,0,0,0,0,0,0,0,0,0,0,1,0,0,0,0,0,0,0]
[0,0,0,0,0,0,1,0,0,0,0,0,0,0,0,0,0,0,0,0,0,0,0,0,0,0,0,0,0,0,0,0,0,0,0,0,0,0,0,0,0,0,0,0,0,0,0,0,0,0,0,0,0,0,0,0,0,1,0,0,0,0,0,0,0,0,0,0,0,0,0,0,0,0,0,0,0,0,0,0,0,0,0,0,0,0,0,0,0,0,0,0,0,0,0,0,0,0,0,0,0,0,0,0,0,0,0,0,0,0,0,0,0,0,0,0,0,0,0,0,0,0,0,0,0,0,0,0,0,0,0,0,0,0,0,0,0,0,0,0,0,0,0,0,0,0,0,0,0,0,0,0,0,0,0,0,0,0,0,0,0,0,0,0,0,0,0,0,0,0,0,0,0,0,0,0,0,0,0,0,0,0,0,0,0,0,0,0,0,0,0,0,0,0,0,0,0,0,0,0,0,0,0,0,0,0,0,0,0,0,0,0,0,0,0,0,0,0,0,0,0,0,0,0,0,0,0,0,0,0,0,0,0,0,1,0,0,0,0,0,0,0,0,0,0,0,0,0,0,0,0,0,0,0,0,0,0,0,0,0,0,0,0,0,0,0,0,0,0,0,0,0,0,0,0,0,0,0,0,0,0,0,0,0,0,0,0,0,0,0,0,0,0,0,0,0,0,0,0,0,0,0,0,0,0,0,0,0,0,0,0,0,0,0,0,0,0,0,0,0,0,0,1,0,0,0]
[0,0,0,0,0,0,0,0,0,0,0,0,0,0,0,0,0,0,0,0,0,0,0,0,0,0,0,0,0,0,0,0,0,0,0,0,0,0,0,0,0,0,0,0,0,0,0,0,0,0,0,0,0,1,1,0,0,0,0,0,0,0,0,0,0,0,0,0,0,0,0,0,0,0,0,0,0,0,0,0,0,0,0,0,0,0,0,0,0,0,0,0,0,0,0,0,0,0,0,0,0,0,0,0,0,0,0,0,0,0,0,0,0,0,0,0,0,0,0,0,0,0,0,0,0,0,0,0,0,0,0,0,0,0,0,0,0,0,0,0,0,0,0,0,0,0,0,0,0,0,0,0,0,0,0,0,0,0,0,0,0,0,0,0,0,0,0,0,0,0,0,0,0,0,0,0,0,0,0,0,0,0,0,0,0,0,0,0,0,0,0,0,0,0,0,0,0,0,0,0,0,0,0,0,0,0,0,0,0,0,0,0,0,0,0,0,0,0,0,0,0,0,0,0,0,0,0,0,0,0,0,0,0,0,0,0,0,0,0,0,0,0,0,0,0,0,0,0,0,0,0,0,0,0,0,0,0,0,0,0,0,0,0,0,0,0,0,0,0,0,0,0,0,0,0,0,0,0,0,0,0,0,0,0,0,0,0,0,0,0,0,0,0,0,1,0,0,0,0,0,0,0,0,0,0,0,0,0,0,0,0,0,0,0,0,0,0,0,0,0,0,0,0,0,0,0]
[1,0,0,1,0,0,0,0,0,0,0,0,0,0,0,0,0,0,0,0,0,0,0,0,0,0,0,0,0,0,0,0,1,0,0,0,0,0,0,0,0,0,0,0,0,0,0,0,0,0,0,0,0,0,0,0,1,0,0,0,0,0,0,0,0,0,0,0,0,1,1,0,0,0,0,0,0,0,0,0,0,0,0,0,0,0,0,0,0,0,0,0,0,0,0,0,1,0,0,0,0,0,0,0,0,0,0,0,0,0,0,0,0,0,0,0,0,0,0,0,0,0,0,0,0,0,0,0,0,0,0,1,0,0,0,0,0,0,0,0,0,0,0,0,0,0,0,0,0,0,1,0,0,0,0,0,0,0,0,0,0,0,0,0,0,0,0,1,0,0,1,0,0,0,0,0,0,0,0,0,0,0,0,0,0,0,0,0,0,0,0,0,0,0,0,0,0,0,0,0,0,0,0,0,0,0,0,1,0,0,0,0,0,0,0,0,0,0,0,0,0,0,0,0,0,0,0,0,0,0,0,0,0,0,0,0,0,0,0,0,0,0,0,0,0,0,0,0,0,0,0,0,0,0,0,0,0,0,0,0,0,0,0,0,0,0,0,0,0,0,0,0,1,0,0,0,0,0,0,0,0,0,0,0,0,0,0,0,0,0,0,0,0,0,0,0,0,0,0,0,0,0,0,0,0,0,0,0,0,0,0,0,0,0,0,0,0,0,0,0,1,0,0,0,0,0]
[0,0,0,0,0,0,0,0,0,0,0,0,0,0,0,0,0,0,0,0,0,0,0,0,0,0,0,0,0,0,0,0,0,0,0,0,0,0,0,0,0,0,0,0,0,0,0,0,0,0,0,0,0,0,0,0,0,0,0,0,0,0,0,0,1,0,0,0,0,0,0,0,0,0,0,0,0,0,0,0,0,0,0,0,0,0,0,0,0,0,0,0,0,0,0,0,0,0,0,0,0,0,0,0,0,0,0,0,0,0,0,0,0,0,0,0,0,0,0,0,0,0,0,0,0,0,0,0,0,0,0,0,0,0,0,0,0,1,0,0,0,0,0,0,0,0,0,0,0,0,0,0,0,0,0,0,0,0,0,0,0,0,0,0,0,0,0,0,0,0,0,0,0,0,0,0,0,0,0,0,0,0,0,0,0,0,0,0,0,0,0,0,0,0,0,0,0,0,0,0,0,0,0,0,0,0,0,0,0,0,0,0,0,0,0,0,0,0,0,0,0,0,0,0,0,0,0,0,0,0,0,0,0,0,0,0,0,0,0,0,0,0,0,0,0,0,0,0,0,0,0,0,0,0,0,0,0,0,0,0,0,0,0,0,0,0,0,0,0,0,0,0,0,0,0,0,0,0,0,0,0,0,0,0,0,0,0,0,0,0,0,0,0,0,0,0,0,0,0,0,0,0,0,0,0,0,0,0,0,0,0,0,0,0,0,0,0,0,0,0,0,0,0,0,0,0]
[0,0,0,0,0,0,0,0,0,0,0,0,0,0,0,0,0,0,0,0,0,0,0,0,0,0,0,0,0,0,0,0,0,0,0,0,0,0,0,0,0,0,0,0,0,0,0,0,0,0,0,0,0,0,0,0,0,0,0,0,0,0,0,0,0,0,0,1,0,0,0,0,0,0,0,0,0,0,0,0,0,0,0,0,0,0,0,0,0,0,0,0,0,0,0,0,0,0,0,0,0,0,0,0,0,0,0,0,0,0,0,0,0,0,0,0,0,0,0,0,0,0,0,0,0,0,0,0,0,0,0,0,0,0,0,0,0,0,0,0,0,0,0,0,0,0,0,0,0,0,0,0,0,0,0,0,0,0,0,0,0,0,0,0,0,0,0,0,0,0,0,0,0,0,0,0,0,0,0,0,0,0,0,0,0,0,1,0,0,0,0,0,1,0,0,0,0,0,0,0,0,0,0,0,0,0,0,0,0,0,0,0,0,0,0,0,1,0,0,0,0,0,0,0,0,0,0,0,0,0,0,0,0,0,0,0,0,0,0,0,0,0,0,0,0,0,0,0,0,0,0,0,0,0,0,0,0,0,0,0,0,0,1,0,0,0,0,0,0,0,0,0,0,0,0,0,0,0,0,0,0,0,0,0,0,0,0,0,0,0,0,0,0,0,0,1,0,0,0,0,0,0,0,0,0,0,0,0,0,0,0,0,0,0,0,0,0,0,0,0,0,0,0,0,0,0]
[0,1,0,0,0,0,0,0,0,0,0,1,0,0,0,0,0,0,0,0,0,0,0,0,0,0,0,0,0,0,0,0,0,0,0,0,0,0,0,0,0,0,0,0,0,0,1,0,0,0,0,0,0,0,0,0,0,0,0,0,0,0,1,0,0,0,0,0,0,0,0,0,0,0,0,0,0,0,0,0,0,0,0,0,0,0,0,0,0,0,0,0,1,0,0,0,0,0,0,0,0,0,0,0,0,0,0,0,0,0,0,0,0,0,0,0,0,0,0,0,0,0,0,0,0,0,0,0,0,0,0,0,0,0,0,0,0,0,0,0,0,0,0,0,0,0,0,0,0,0,0,0,0,0,0,0,0,0,0,0,0,0,0,0,0,0,0,0,0,0,0,0,0,0,0,0,0,0,0,0,0,0,0,0,0,0,0,0,0,0,0,0,0,0,0,0,0,0,0,0,0,0,0,0,0,0,0,0,0,0,0,0,0,0,0,0,0,0,0,0,0,0,0,0,0,0,0,0,0,0,0,0,0,0,0,0,0,0,0,0,0,1,0,0,0,0,0,0,0,0,0,0,0,0,0,0,0,0,0,0,0,0,0,0,0,0,0,0,0,0,0,0,0,0,0,0,0,0,0,0,0,0,0,0,0,0,0,0,0,0,0,0,0,0,0,0,0,0,0,0,0,0,0,0,0,0,0,0,0,0,0,0,0,0,0,0,0,0,0,0,0,0,0,0,0,0]
[0,0,1,0,1,0,0,0,0,0,0,0,0,0,1,0,0,0,0,0,0,0,1,0,0,0,0,0,0,0,0,0,0,0,0,0,0,0,1,0,0,0,0,0,0,0,0,0,0,0,0,0,0,0,0,1,0,0,0,0,0,0,0,0,0,0,0,0,0,0,0,0,0,0,0,1,1,0,0,0,0,0,0,0,0,0,0,0,0,0,0,0,0,0,0,0,0,1,0,0,0,0,0,0,0,1,0,0,0,0,0,0,0,0,0,0,0,0,0,0,0,0,0,0,0,0,0,0,1,0,0,0,0,0,0,0,0,0,0,0,0,0,0,0,0,0,0,0,0,0,0,0,0,0,0,0,0,0,0,0,1,0,0,0,0,0,0,0,0,0,0,0,1,0,0,0,0,0,1,0,0,0,0,0,0,0,0,0,0,0,0,1,0,0,0,0,0,0,0,0,0,0,0,0,0,0,0,0,0,0,0,0,0,0,0,0,0,0,1,0,0,0,0,0,0,0,0,0,0,0,0,0,0,0,0,0,1,0,0,0,0,0,0,0,0,0,0,0,0,0,0,0,0,0,0,0,0,0,0,0,0,0,0,0,0,0,0,0,0,0,0,0,0,0,0,0,0,0,0,0,0,0,0,0,0,0,0,0,0,0,0,0,0,0,0,0,0,0,0,0,0,0,0,0,0,0,0,0,0,0,0,0,0,0,0,0,0,0,0,0,0,0,0,0,0,0]
[0,0,0,0,0,0,0,0,0,0,0,0,0,0,0,0,0,0,0,0,0,0,0,0,0,1,0,0,0,0,0,0,0,0,0,0,0,0,0,0,0,0,0,0,0,0,0,0,0,0,0,0,0,0,0,0,0,0,0,1,0,0,0,0,0,0,0,0,0,0,0,0,0,0,0,0,0,0,0,0,0,0,0,1,0,0,0,0,0,0,0,0,0,0,0,0,0,0,0,0,0,0,0,0,0,0,0,0,0,0,0,0,0,0,0,0,0,0,0,0,0,0,0,0,0,0,0,0,0,0,0,0,0,0,0,0,0,0,0,0,0,0,0,0,0,0,0,0,0,0,0,0,0,0,0,0,0,0,0,0,0,0,0,0,0,0,0,0,0,0,0,0,0,0,0,0,0,1,0,0,0,0,0,0,0,0,0,0,0,0,0,0,0,0,0,0,0,0,0,1,0,0,1,0,0,0,0,0,0,0,0,0,0,0,0,0,0,0,0,0,0,0,0,0,0,0,0,0,0,0,0,0,0,0,0,0,0,0,0,0,0,0,0,0,0,0,0,0,0,0,0,0,0,0,0,0,0,0,0,0,0,0,0,0,0,0,0,0,0,0,0,0,0,0,0,0,0,0,0,0,0,0,0,0,0,0,0,0,0,0,0,0,0,0,0,0,0,0,0,0,0,0,0,0,1,0,0,0,0,0,1,0,0,0,0,0,0,0,0,0,0,0,0,0,0,0]
[0,0,0,0,0,0,0,0,0,0,0,0,0,1,0,0,0,0,0,0,0,0,0,0,0,0,0,0,0,0,0,0,0,0,0,0,0,0,0,0,0,0,0,0,0,0,0,0,0,0,0,0,0,0,0,0,0,0,0,0,0,0,0,0,0,0,0,0,0,0,0,0,0,0,0,0,0,0,0,0,0,0,0,0,1,0,0,0,0,0,0,0,0,1,0,0,0,0,0,0,0,0,0,0,0,0,0,0,0,0,0,1,0,0,0,0,0,0,0,0,0,1,0,0,0,0,0,0,0,0,0,0,0,0,0,0,0,0,0,0,0,0,0,0,0,0,0,0,0,0,0,0,0,0,0,0,0,0,0,0,0,0,0,0,0,0,0,0,0,0,0,1,0,0,0,0,0,0,0,0,0,0,0,0,0,0,0,0,0,0,0,0,0,0,0,0,0,0,0,0,0,0,0,0,0,0,0,0,0,0,0,0,0,0,0,0,0,1,0,1,0,0,0,0,0,0,0,0,0,0,0,0,0,0,0,0,0,0,0,0,0,0,0,0,0,0,0,0,0,0,0,0,1,0,0,0,0,0,0,0,0,0,0,0,0,0,1,0,0,0,0,0,0,0,0,0,0,1,0,0,0,0,0,0,0,0,0,0,0,0,0,0,0,0,0,0,0,0,1,0,0,0,0,0,0,0,0,0,0,0,0,0,0,1,0,0,1,0,0,0,0,0,0,0,0,0]
[0,0,0,0,0,0,0,0,0,0,0,0,0,0,0,0,0,0,0,0,0,0,0,0,0,0,0,0,0,0,0,0,0,0,0,0,0,0,0,0,0,0,0,0,0,0,0,0,0,0,0,1,0,0,0,0,0,0,0,0,0,0,0,0,0,1,0,0,0,0,0,0,0,0,0,0,0,0,0,0,0,0,0,0,0,0,0,0,0,0,0,0,0,0,0,0,0,0,0,0,0,0,1,0,0,0,1,0,0,0,0,0,0,0,0,0,0,0,0,0,0,0,0,0,0,0,0,0,0,0,0,0,0,0,0,0,0,0,0,0,0,0,0,0,0,0,0,0,0,0,0,0,0,0,0,0,0,0,0,0,0,0,0,0,0,0,0,0,0,0,0,0,0,0,0,0,0,0,0,0,0,0,0,0,0,0,0,0,0,0,0,0,0,0,0,0,0,0,0,0,0,0,0,0,0,0,0,0,0,0,0,0,0,0,0,0,0,0,0,0,0,0,0,0,0,0,0,0,0,0,0,0,0,0,0,0,0,0,0,0,0,0,0,0,0,0,0,0,0,0,0,0,0,0,0,0,0,0,0,0,0,0,0,1,0,0,0,0,0,0,0,0,0,0,0,0,0,0,1,0,0,0,0,0,0,0,0,0,0,0,0,0,0,0,0,0,0,0,0,0,0,0,0,0,0,0,0,0,0,0,0,0,0,0,0,0,0,0,0,0,0,0,0,0,0,0]
[0,0,0,0,0,0,0,0,0,0,0,0,0,0,0,0,0,0,1,0,0,0,0,0,0,0,0,0,0,0,0,0,0,0,0,0,1,0,0,0,0,0,0,0,1,0,0,0,0,0,0,0,0,0,0,0,0,0,0,0,0,0,0,0,0,0,0,0,0,0,0,0,0,0,0,0,0,0,0,0,0,0,0,0,0,0,0,0,0,1,0,0,0,0,0,0,0,0,0,0,0,0,0,0,0,0,0,0,0,0,0,0,0,0,0,0,0,0,0,0,0,0,0,0,0,0,0,0,0,0,0,0,0,0,0,0,0,0,0,0,0,0,0,0,0,0,0,0,0,0,0,0,1,0,0,0,0,0,0,0,0,0,0,0,0,0,0,0,0,0,0,0,0,0,0,0,0,0,0,0,0,0,0,0,0,0,0,0,0,0,0,0,0,0,0,0,0,0,0,0,0,0,0,0,0,0,1,0,0,0,0,0,0,0,0,0,0,0,0,0,0,0,0,0,0,0,0,0,0,0,0,0,0,1,0,0,0,0,0,0,0,0,0,0,0,0,0,0,0,0,0,0,0,0,0,0,0,0,0,0,0,0,0,0,0,0,0,0,0,0,0,1,0,0,0,0,0,0,0,0,0,0,0,0,0,0,0,0,0,0,0,0,0,0,0,0,0,0,0,0,0,0,0,0,0,0,0,0,0,0,0,0,0,0,0,0,0,0,0,0,0,0,0,0,1,0]
[0,0,0,0,0,0,0,0,0,0,0,0,0,0,0,0,0,0,0,0,0,0,0,0,0,0,0,0,0,0,0,0,0,0,0,0,0,0,0,0,0,0,1,0,0,0,0,0,0,0,0,0,0,0,0,0,0,0,0,0,0,0,0,0,0,0,0,0,0,0,0,0,0,0,0,0,0,0,0,0,0,1,0,0,0,0,0,0,0,0,0,0,0,0,0,0,0,0,0,0,1,1,0,0,0,0,0,0,0,0,0,0,0,0,0,0,0,0,0,0,0,0,0,0,0,0,0,0,0,0,0,0,0,1,0,0,0,0,0,0,0,1,0,0,0,0,0,0,0,0,0,0,0,0,0,0,0,0,0,0,0,0,0,0,0,0,0,0,0,0,0,0,0,0,0,0,0,0,0,0,1,0,0,0,0,0,0,0,0,0,0,0,0,0,0,0,0,1,0,0,0,0,0,0,0,0,0,0,0,0,0,0,0,0,0,0,0,0,0,0,1,0,0,0,0,0,0,0,0,0,0,0,0,0,0,1,0,0,0,0,0,0,0,0,0,0,0,0,0,0,0,0,0,0,1,0,0,0,0,0,0,0,0,0,0,0,0,0,0,0,0,0,0,0,0,0,0,0,0,0,0,0,0,0,0,0,0,0,1,0,0,0,0,0,0,0,0,0,0,0,0,0,0,0,0,0,0,0,0,0,0,0,0,0,0,0,0,0,0,0,0,0,0,0,0,0]
[0,0,0,0,0,0,0,0,0,0,0,0,0,0,0,0,0,0,0,0,0,0,0,0,1,0,0,0,0,0,0,0,0,0,0,0,0,0,0,0,0,0,0,0,0,0,0,0,0,0,0,0,0,0,0,0,0,0,0,0,0,0,0,0,0,0,0,0,0,0,0,0,0,0,0,0,0,0,0,0,0,0,0,0,0,0,1,0,0,0,0,0,0,0,0,0,0,0,0,0,0,0,0,0,0,0,0,0,0,0,0,0,0,0,0,0,0,0,0,0,0,0,0,0,0,0,0,0,0,0,0,0,0,0,0,0,0,0,0,0,0,0,0,0,0,0,0,0,0,0,0,0,0,1,0,0,0,0,0,0,0,0,0,0,0,0,0,0,0,0,0,0,0,0,0,0,0,0,0,1,0,1,1,0,0,0,0,0,0,0,0,0,0,0,0,0,0,0,0,0,0,0,0,0,0,0,0,0,0,0,0,0,0,0,0,0,0,0,0,0,0,0,0,0,0,0,0,0,0,0,0,0,0,0,0,0,0,0,0,1,1,0,0,0,0,0,0,0,0,0,0,0,0,0,0,0,0,0,0,0,0,0,0,0,0,0,0,0,0,0,0,0,0,0,0,0,0,0,0,0,0,0,0,0,0,0,0,0,0,0,0,0,0,0,0,0,0,0,0,0,0,0,0,0,0,0,1,0,0,0,0,0,0,0,0,0,0,0,0,0,0,0,0,0,0,0]
[0,0,0,0,0,0,0,0,0,0,0,0,0,0,0,0,0,0,0,0,0,0,0,1,0,0,0,0,0,0,0,0,0,0,0,0,0,0,0,0,1,0,0,0,0,0,0,0,0,0,0,0,0,0,0,0,0,0,0,0,0,0,0,0,0,0,0,0,0,0,0,0,0,0,0,0,0,0,0,0,0,0,0,0,0,0,0,0,0,0,0,0,0,0,0,0,0,0,0,0,0,0,0,0,0,0,0,0,0,0,0,0,0,0,0,0,0,0,0,0,0,0,0,0,0,0,0,0,0,0,0,0,0,0,0,0,0,0,0,0,0,0,0,0,0,0,0,0,0,0,0,0,0,0,0,0,0,0,0,1,0,0,0,0,0,0,0,0,0,0,0,0,0,0,0,0,0,0,0,0,0,0,0,0,0,0,0,0,0,0,0,0,0,0,1,0,0,0,0,0,0,0,0,0,0,0,0,0,0,0,0,1,0,0,0,0,0,0,0,0,0,0,1,0,0,0,0,0,0,0,0,0,0,0,0,0,0,0,0,0,0,0,0,0,0,0,0,0,0,0,0,0,0,0,0,0,0,0,0,1,0,0,0,0,0,0,0,0,0,0,1,0,0,0,0,0,0,0,0,0,0,0,0,0,0,0,1,0,0,0,0,0,0,0,0,0,0,0,0,0,0,0,0,0,0,0,0,0,0,0,0,1,0,0,0,0,0,0,0,0,0,0,0,0,0,0]
[0,0,0,0,0,0,0,0,0,0,0,0,0,0,0,0,0,0,0,0,0,0,0,0,0,0,0,0,0,0,0,0,0,0,0,0,0,0,0,0,0,0,0,0,0,0,0,0,0,0,0,0,0,0,0,0,0,0,0,0,0,0,0,0,0,0,0,0,0,0,0,0,0,0,0,0,0,0,0,0,0,0,1,0,0,0,0,0,0,0,0,0,0,0,0,0,0,0,1,0,0,0,0,0,0,0,0,0,0,0,0,0,0,0,0,0,0,0,0,0,0,0,0,0,0,0,0,0,0,0,0,0,0,0,0,0,0,0,0,0,0,0,0,0,0,0,0,0,0,0,0,0,0,0,0,0,0,0,0,0,0,0,0,1,0,1,0,0,0,0,0,0,0,0,0,0,1,0,0,0,0,0,0,0,0,0,0,0,0,0,0,0,0,0,0,0,0,0,1,0,0,0,0,0,0,0,0,0,0,0,0,0,0,0,0,0,0,0,0,0,0,0,0,0,0,1,0,0,0,0,0,0,0,0,0,0,0,0,1,0,0,0,0,0,0,0,1,0,0,0,0,0,0,0,0,0,0,0,0,0,0,0,0,0,0,0,0,0,0,0,0,0,0,1,1,0,0,0,0,0,0,0,0,1,1,0,0,0,0,0,0,0,0,0,0,0,0,0,0,0,0,0,0,1,0,0,0,0,1,0,0,0,0,0,0,0,0,0,0,0,0,0,0,0,0,0]
[0,0,0,0,0,0,0,0,0,0,0,0,0,0,0,0,0,0,0,0,0,0,0,0,0,0,0,0,0,0,0,0,0,0,0,0,0,1,0,0,0,0,0,0,0,0,0,0,0,0,0,0,0,0,0,0,0,0,0,0,0,0,0,0,0,0,0,0,0,0,0,1,0,0,0,0,0,0,0,0,0,0,0,0,0,1,0,0,0,0,0,0,0,0,0,0,0,0,0,0,0,0,0,0,0,0,0,0,0,0,0,0,0,0,0,0,0,0,0,0,0,0,0,0,0,0,0,1,0,0,0,0,0,0,0,0,0,0,0,0,0,0,0,0,0,0,0,0,0,0,0,0,0,0,0,0,0,0,0,0,0,0,0,0,0,0,0,0,0,0,0,0,0,0,0,0,0,0,0,0,1,0,0,0,0,0,0,0,0,0,0,0,0,0,0,0,0,0,0,0,0,0,0,0,0,0,0,0,0,0,0,0,0,0,0,0,0,0,0,0,0,0,0,0,0,0,0,0,0,0,0,0,0,0,0,0,0,0,0,0,0,0,0,0,0,0,0,0,0,0,0,0,0,1,0,0,0,0,1,0,0,0,0,0,0,0,0,0,0,0,0,0,0,0,0,0,0,0,0,0,1,0,0,0,0,0,0,0,0,0,0,0,0,0,0,0,1,0,0,0,0,1,0,0,0,0,0,0,0,0,0,0,0,0,0,0,0,0,0,0,0,0,0,0,0,0]
[0,0,0,0,0,0,0,0,0,0,0,0,0,0,0,0,0,0,0,0,0,0,0,0,0,0,0,0,0,0,0,0,0,0,0,0,0,0,0,0,0,0,0,0,0,0,0,0,0,0,0,0,0,0,0,0,0,0,0,0,0,0,0,0,0,0,0,0,0,0,0,0,0,0,0,0,0,0,0,0,0,0,0,0,0,0,0,0,1,0,0,0,0,0,0,0,0,0,0,0,0,0,0,0,0,0,0,0,0,0,0,0,0,0,0,0,0,0,0,0,0,0,0,0,0,0,0,0,0,0,0,0,0,0,0,0,0,0,0,0,0,0,1,0,0,0,0,0,0,0,0,0,0,0,0,0,0,0,0,0,0,0,0,0,0,0,0,0,0,0,0,0,0,0,0,0,0,0,0,1,0,0,1,0,0,0,0,0,0,0,0,0,0,0,0,0,0,0,0,0,0,0,0,0,0,0,0,0,0,0,0,0,0,0,0,0,0,0,0,0,0,0,0,0,0,0,0,0,0,0,0,0,0,0,0,0,0,0,0,0,0,0,0,0,0,0,0,0,0,0,0,0,0,0,0,0,0,0,0,0,0,0,0,0,0,0,0,0,0,0,0,0,0,0,0,0,0,0,0,0,0,0,0,0,0,0,0,0,0,0,0,0,0,0,0,0,0,0,0,0,0,0,0,0,0,0,0,0,0,0,0,0,0,0,0,0,0,0,0,0,0,0,0,0,0,0]
[0,0,0,0,0,0,0,0,0,0,0,0,0,0,0,0,0,0,0,0,1,1,0,0,0,0,0,0,0,0,0,0,0,0,0,0,0,0,0,1,0,0,0,0,0,0,0,0,0,0,0,0,0,0,0,0,0,0,1,0,0,0,0,0,0,0,0,0,0,0,0,0,0,0,0,0,0,0,0,0,0,0,0,0,0,0,0,0,0,0,0,0,0,0,0,0,0,0,0,0,0,0,0,1,0,0,0,0,0,0,0,0,0,0,0,0,0,0,0,0,0,0,0,0,0,0,0,0,0,0,0,0,0,0,1,0,0,0,0,0,0,0,0,0,0,0,0,1,0,0,0,0,0,0,0,0,0,0,0,0,0,0,0,0,0,0,0,0,0,0,0,0,0,0,0,0,0,0,0,0,0,0,0,0,0,0,0,0,0,0,0,0,0,0,0,0,1,0,0,0,0,1,0,0,0,0,0,0,1,0,0,0,0,1,0,0,0,0,0,0,0,0,0,0,0,0,0,0,0,0,0,0,0,0,0,0,0,0,0,0,0,0,0,0,0,1,0,0,0,0,0,0,0,0,0,0,0,0,0,0,0,0,0,0,0,0,0,0,0,0,0,0,0,0,0,0,0,0,0,0,0,0,0,0,0,0,0,0,0,0,0,0,0,0,0,0,0,0,0,0,0,0,0,0,0,1,0,0,0,0,0,0,0,0,0,0,0,0,0,0,0,0,0,1,0,0]
[0,0,0,0,0,0,0,0,0,0,1,0,0,0,0,0,0,0,0,0,0,0,0,0,0,0,0,1,0,0,0,0,0,0,0,0,0,0,0,0,0,1,0,0,0,0,0,0,0,0,0,0,0,0,0,0,0,0,0,0,0,0,0,0,0,0,0,0,1,0,0,0,0,0,0,0,0,0,0,0,0,0,0,0,0,0,0,0,0,0,0,0,0,0,0,0,0,0,0,0,0,0,0,0,0,0,0,0,0,0,0,0,0,0,0,0,0,0,0,1,0,0,0,0,0,0,0,0,0,0,0,0,0,0,0,0,0,0,0,0,0,0,0,0,1,0,0,0,1,0,0,0,0,0,0,0,0,0,0,0,0,0,0,0,0,0,0,0,0,0,0,0,0,0,0,0,0,0,0,0,0,0,0,0,0,0,0,0,0,0,0,0,0,0,0,0,0,0,0,0,0,0,0,0,0,0,0,0,0,0,0,0,0,0,0,0,0,0,0,0,0,0,0,0,0,0,0,1,0,0,0,0,0,0,0,0,0,0,0,0,0,0,0,0,0,0,0,0,0,0,0,0,0,0,0,0,0,0,0,0,0,0,0,0,0,0,0,0,0,0,0,0,0,0,0,0,0,0,0,0,0,0,0,0,0,0,0,0,0,0,1,0,0,0,0,0,0,0,0,0,0,0,0,0,0,0,0,0,0,0,0,0,0,0,0,0,0,0,0,0,0,0,0,0,0,1]
[0,0,0,0,0,0,0,0,0,0,0,0,0,0,0,0,0,0,0,1,0,0,0,0,0,0,0,0,0,0,0,0,0,0,0,0,0,0,0,0,0,0,0,0,0,0,0,0,0,1,0,0,0,0,0,0,0,0,0,0,0,0,0,0,0,0,0,0,0,0,0,0,0,0,0,0,0,0,0,0,0,0,0,0,0,0,0,0,0,0,0,0,0,0,0,0,0,0,0,0,0,0,0,0,0,0,0,0,0,0,0,0,0,0,0,0,1,0,0,0,0,0,0,0,0,0,0,0,0,0,1,0,0,0,0,0,0,0,0,0,0,0,0,0,0,0,0,0,0,1,0,0,0,0,0,0,0,0,0,0,0,0,1,0,0,0,0,0,0,0,0,0,0,0,0,0,0,0,0,0,0,0,0,0,0,0,0,1,0,0,0,0,0,1,0,0,0,0,0,0,0,0,0,0,0,0,0,0,0,0,0,0,0,0,0,0,0,0,0,0,0,0,0,0,0,0,0,0,0,0,0,0,0,0,0,0,0,0,0,0,0,0,0,0,0,0,0,0,0,0,0,0,0,0,0,0,0,0,0,0,0,0,0,0,0,0,0,0,0,0,0,0,0,0,0,0,0,0,0,0,0,0,0,0,0,0,0,0,0,0,0,0,0,0,0,0,0,0,0,0,0,0,0,0,0,0,0,0,0,0,0,0,0,0,0,0,0,0,0,0,0,0,0,0,0,0]
[0,0,0,0,0,0,0,0,0,0,0,0,0,0,0,0,0,0,0,0,0,0,0,0,0,0,0,0,0,0,0,0,0,0,0,0,0,0,0,0,0,0,0,0,0,0,0,0,0,0,0,0,0,0,0,0,0,0,0,0,0,0,0,0,0,0,0,0,0,0,0,0,0,0,0,0,0,0,0,0,0,0,0,0,0,0,0,0,0,0,0,0,0,0,0,0,0,0,0,0,0,0,0,0,0,0,0,0,0,0,0,0,0,1,0,0,0,0,0,0,0,0,0,0,0,0,0,0,0,0,0,0,0,0,0,0,0,0,0,0,0,0,0,0,0,1,0,0,0,0,0,0,0,0,1,0,0,0,0,0,0,0,0,0,0,0,0,0,0,0,0,0,0,0,0,0,0,0,0,0,0,0,0,0,0,0,0,0,0,0,0,0,0,0,0,0,0,0,0,0,0,0,0,0,0,0,0,0,0,0,0,0,0,0,0,0,0,0,0,0,0,0,0,0,0,0,1,0,0,0,0,0,0,0,0,0,0,0,0,0,0,0,0,0,0,0,0,0,0,0,0,0,0,0,0,1,0,0,0,0,0,0,0,0,0,0,0,0,0,0,0,0,0,0,0,0,0,0,0,0,0,0,0,0,0,0,0,0,0,0,0,0,0,0,0,0,0,0,0,0,0,0,0,0,0,0,0,0,0,0,0,0,0,0,0,1,0,0,0,0,0,0,0,0,0,0]
[0,0,0,0,0,0,0,0,1,1,0,0,0,0,0,0,0,1,0,0,0,0,0,0,0,0,0,0,0,0,1,0,0,0,0,1,0,0,0,0,0,0,0,1,0,0,0,0,0,0,0,0,0,0,0,0,0,0,0,0,1,0,0,0,0,0,0,0,0,0,1,0,0,0,0,0,0,0,0,0,1,0,0,0,0,0,0,0,0,0,0,0,0,0,1,0,0,0,0,0,0,0,0,0,0,0,0,0,0,0,1,0,1,0,0,1,0,1,0,0,1,0,0,0,0,1,0,0,0,1,0,0,1,0,0,0,0,0,1,1,0,0,0,1,0,0,1,0,0,0,0,1,0,0,0,0,0,0,0,0,0,0,0,0,1,0,0,0,0,0,0,0,0,0,0,1,0,0,0,0,0,0,0,0,0,0,0,0,0,0,0,0,0,0,0,0,0,0,0,0,0,0,0,0,1,0,0,0,0,1,0,0,0,0,0,0,0,0,0,0,0,0,0,0,0,0,0,0,0,0,0,0,0,0,0,0,0,0,0,0,0,0,0,0,0,0,0,0,0,0,0,1,0,0,0,0,0,0,0,0,0,0,0,0,0,0,0,1,0,0,0,0,0,0,0,0,0,0,0,0,0,0,0,0,0,1,0,0,0,0,0,0,1,1,0,0,0,0,0,0,0,0,0,0,0,0,0,0,0,1,0,0,0,0,0,0,0,0,0,0,0,0,0,0,0,0]
[0,0,0,0,0,0,0,1,0,0,0,0,0,0,0,0,0,0,0,0,0,0,0,0,0,0,0,0,0,1,0,0,0,0,1,0,0,0,0,0,0,0,0,0,0,0,0,0,0,0,0,0,0,0,0,0,0,0,0,0,0,0,0,0,0,0,0,0,0,0,0,0,0,0,0,0,0,0,0,0,0,0,0,0,0,0,0,0,0,0,0,0,0,0,0,0,0,0,0,0,0,1,0,0,0,0,0,0,0,1,0,0,0,0,0,0,0,0,0,0,0,0,0,0,0,0,0,0,0,0,0,0,0,0,0,1,0,0,0,0,0,1,0,0,0,0,0,0,0,0,0,0,0,0,0,0,0,0,0,0,0,0,0,0,0,0,1,0,0,0,0,0,0,0,0,0,0,0,0,0,0,0,0,1,0,0,0,0,0,0,1,0,0,0,0,0,0,0,0,0,0,0,0,0,0,0,0,0,0,0,0,0,0,0,0,0,0,0,0,0,0,0,0,0,0,0,0,0,0,0,0,0,0,0,0,0,0,0,0,0,0,0,1,0,0,0,0,0,0,0,0,0,0,0,1,0,0,0,0,0,0,0,0,0,1,0,0,0,0,0,0,0,0,0,0,0,0,0,0,0,0,0,0,0,0,0,0,0,0,0,0,0,0,0,0,0,0,1,0,0,0,0,0,0,0,0,0,0,0,0,0,0,0,0,0,0,0,0,0,0,0,0,0,0,0,0]
[0,0,0,0,0,0,0,0,0,0,0,0,0,0,0,0,0,0,0,0,0,0,0,0,0,0,0,0,0,0,0,0,0,0,0,0,0,0,0,0,0,0,0,0,0,0,0,0,0,0,0,0,0,0,0,0,0,0,0,0,0,0,0,0,0,0,1,0,0,0,0,0,0,0,0,0,0,0,0,0,0,0,0,0,0,0,0,0,0,0,0,0,0,0,0,0,0,0,0,0,0,0,0,0,1,0,0,0,0,0,0,0,0,0,0,0,0,0,0,0,0,0,0,0,0,0,0,0,0,0,0,0,0,0,0,0,0,0,0,0,0,0,0,0,0,0,0,0,0,0,0,0,0,0,0,0,0,0,0,0,0,0,0,0,0,0,0,0,0,0,0,0,0,1,0,0,0,0,0,0,0,0,0,0,0,1,0,0,0,1,0,0,0,0,0,0,0,0,0,0,0,0,0,0,0,0,0,0,0,0,0,0,0,0,0,0,0,0,0,0,0,0,0,0,0,0,0,0,0,0,0,0,0,0,0,0,0,0,0,0,0,0,0,0,0,0,0,0,1,0,0,0,0,0,0,0,0,0,0,0,0,0,0,0,0,1,0,0,0,0,0,0,0,0,0,0,0,0,0,0,0,0,0,0,0,0,0,0,0,0,0,0,0,0,0,0,0,0,0,0,0,0,0,0,0,0,0,0,0,0,0,0,0,0,0,0,0,0,0,0,0,0,0,0,0,0]
[0,0,0,0,0,0,0,0,0,0,0,0,0,0,0,0,0,0,0,0,0,0,0,0,0,0,0,0,0,0,0,0,0,0,0,0,0,0,0,0,0,0,0,0,0,0,0,0,0,0,0,0,0,0,0,0,0,0,0,0,0,0,0,1,0,0,0,0,0,0,0,0,0,0,1,0,0,0,0,0,0,0,0,0,0,0,0,1,0,0,0,0,0,0,0,0,0,0,0,0,0,0,0,0,0,0,0,0,0,0,0,0,0,0,0,0,0,0,0,0,0,0,0,0,0,0,0,0,0,0,0,0,0,0,0,0,0,0,0,0,1,0,0,0,0,0,0,0,0,0,0,0,0,0,0,0,0,0,0,0,0,0,0,0,0,0,0,0,0,0,0,0,0,0,0,0,0,0,0,0,0,0,0,0,0,0,0,0,1,0,0,0,0,0,0,0,0,0,0,0,0,0,0,0,0,0,0,0,0,0,0,0,0,0,0,0,0,0,0,0,0,0,0,0,0,0,0,0,0,0,0,0,0,0,0,0,0,0,0,0,0,0,0,1,0,0,0,0,0,0,0,0,0,0,0,0,0,0,0,0,0,0,0,0,0,0,0,0,0,0,0,0,0,0,0,0,0,0,0,0,0,0,0,0,0,0,0,0,0,0,0,0,0,0,0,0,0,0,0,0,1,0,0,0,0,0,0,0,0,0,0,0,0,0,0,0,0,0,0,0,0,0,0,0,0,0]
[0,0,0,0,0,0,0,0,0,0,0,0,0,0,0,0,0,0,0,0,0,0,0,0,0,0,0,0,0,0,0,0,0,0,0,0,0,0,0,0,0,0,0,0,0,0,0,0,0,0,0,0,1,0,0,0,0,0,0,0,0,0,0,0,0,0,0,0,0,0,0,0,0,0,0,0,0,0,0,0,0,0,0,0,0,0,0,0,0,0,0,0,0,0,0,0,0,0,0,0,0,0,0,0,0,0,0,0,0,0,0,0,0,0,0,0,0,0,0,0,0,0,0,0,0,0,0,0,0,0,0,0,0,0,0,0,0,0,0,0,0,0,0,0,0,0,0,0,0,0,0,0,0,0,0,0,0,0,0,0,0,0,0,0,0,0,0,0,0,0,0,0,0,0,0,0,0,0,0,0,0,0,0,0,0,0,0,0,0,0,0,0,0,0,0,1,0,0,0,0,0,0,0,0,0,0,0,0,0,0,0,0,0,0,0,0,0,0,0,0,0,0,0,0,0,0,0,0,0,0,0,0,0,0,0,0,0,0,0,0,0,0,0,0,1,0,0,0,0,0,0,0,0,0,0,0,0,0,0,0,0,0,0,0,0,0,0,0,0,0,0,0,0,0,0,0,0,0,0,0,0,0,0,0,0,0,0,0,0,1,0,0,0,0,0,0,0,0,0,0,0,0,0,0,0,0,0,1,0,0,0,0,0,0,0,0,0,0,0,0,0,0,0,0,0,0]
[0,0,0,0,0,0,0,0,0,0,1,0,0,0,1,0,0,0,0,0,0,0,1,0,0,0,0,0,0,0,0,0,0,0,0,0,0,0,0,0,0,0,0,0,0,0,0,0,0,0,0,0,0,0,0,1,0,0,0,0,0,0,0,0,0,0,0,0,0,0,0,0,0,0,0,0,0,1,0,0,0,0,0,0,0,0,0,0,0,0,0,0,0,0,0,0,0,0,0,0,0,0,0,0,0,0,0,0,0,0,0,0,0,0,0,0,0,0,0,0,0,0,0,0,0,0,0,0,0,0,0,0,0,0,0,0,0,0,0,0,0,0,0,0,0,0,0,0,0,0,0,0,0,0,0,0,0,0,0,0,0,0,0,0,0,0,0,0,0,0,0,0,0,0,0,0,0,0,1,0,0,0,0,0,0,0,0,0,0,0,0,0,0,0,0,0,0,0,0,0,0,0,0,0,0,0,0,0,0,0,0,0,0,0,0,1,0,0,0,0,0,0,0,0,0,0,0,0,0,1,0,0,0,0,0,0,0,0,0,0,0,0,0,0,0,0,0,0,0,0,0,0,0,0,0,0,0,0,0,0,0,0,0,0,0,0,0,0,0,0,0,0,0,0,0,0,0,0,0,0,0,0,0,0,0,0,0,0,0,0,0,0,0,0,0,0,0,0,0,0,0,0,0,0,0,0,0,0,0,0,0,0,0,0,0,0,0,0,0,0,0,0,0,0,0,0]
[0,0,0,0,0,0,0,0,0,0,0,0,0,0,0,0,0,0,0,0,0,0,0,0,0,0,0,0,0,0,0,0,0,0,0,0,0,0,0,0,0,0,0,0,0,0,0,0,0,0,0,0,0,0,0,0,0,0,0,0,0,0,0,0,0,0,0,0,0,0,0,0,0,0,0,0,0,0,0,0,0,0,0,0,1,0,0,0,0,0,0,1,0,0,0,0,0,0,0,1,0,0,0,0,0,0,0,1,0,0,0,0,0,0,0,0,0,0,0,0,0,0,0,0,1,0,0,0,0,0,0,0,0,0,0,0,1,0,0,0,0,0,0,0,0,0,0,0,0,0,0,0,0,0,0,0,0,0,0,0,0,0,0,0,0,0,0,0,0,0,0,1,0,0,0,0,0,0,0,0,0,0,0,0,0,0,0,0,0,0,0,0,0,0,0,0,0,0,0,0,1,0,0,0,0,0,0,0,0,0,0,0,0,0,0,0,0,0,0,0,0,0,0,0,0,0,0,0,0,0,0,0,0,0,0,0,0,0,0,0,0,0,0,0,0,0,0,0,0,1,0,0,0,0,0,0,0,0,0,0,0,0,0,0,0,0,0,0,0,0,0,0,0,0,0,0,0,1,0,0,0,0,0,0,0,0,0,0,0,0,0,0,0,0,0,0,0,0,0,0,0,0,0,0,0,0,0,0,0,0,0,0,0,1,0,0,0,0,0,0,0,0,0,0,0,0]
[0,0,0,0,0,1,0,0,0,0,0,0,1,0,0,0,0,0,0,0,0,0,0,0,0,0,0,0,1,0,0,1,0,0,0,0,0,0,0,0,0,0,0,0,0,1,0,1,0,0,1,0,0,0,0,0,0,0,0,0,0,1,0,0,0,0,0,0,0,0,0,0,0,1,0,0,0,0,1,0,0,0,0,0,0,0,0,0,0,0,1,0,0,0,0,1,0,0,0,0,0,0,0,0,0,0,0,0,1,0,0,0,0,0,0,0,0,0,1,0,0,0,0,1,0,0,0,0,0,0,0,0,0,0,0,0,0,0,0,0,0,0,0,0,0,0,0,0,0,0,1,0,0,0,0,0,1,1,0,0,0,1,0,0,0,0,0,0,0,0,0,0,0,0,0,0,0,0,0,0,0,0,0,0,0,0,0,0,0,0,0,0,0,0,0,0,0,0,0,0,0,0,0,0,0,0,0,0,0,0,0,0,1,0,1,0,0,0,0,0,0,0,0,0,0,0,0,0,1,0,1,0,0,0,0,0,0,0,0,0,0,0,0,0,0,0,0,0,0,0,1,0,0,0,0,0,0,0,0,0,0,0,0,0,0,0,0,0,1,0,0,0,0,0,0,0,1,0,0,1,0,1,1,0,0,0,0,1,1,0,0,0,0,0,0,0,0,0,0,1,0,0,0,0,0,0,0,0,0,0,0,0,0,0,0,0,0,0,0,0,0,0,0,0,0,0]
[0,0,0,0,0,0,1,0,0,0,0,0,0,0,0,0,1,0,0,0,0,0,0,0,0,0,0,0,0,0,0,0,0,0,0,0,0,0,0,0,0,0,0,0,0,0,0,0,1,0,0,0,1,0,0,0,0,0,0,0,0,0,0,1,0,0,0,0,0,0,0,0,0,0,1,0,0,0,0,0,0,0,0,0,0,0,0,0,0,0,0,0,0,0,0,0,0,0,0,0,0,0,0,0,0,0,0,0,0,0,0,0,0,0,0,0,0,0,0,0,0,0,0,0,0,0,0,0,0,0,0,0,0,0,0,0,0,0,0,0,1,0,0,0,0,0,0,0,0,0,0,0,0,0,0,1,0,0,0,0,0,0,0,0,0,0,0,0,0,1,0,0,0,0,0,0,0,0,0,0,0,0,0,0,0,0,0,0,1,0,0,0,0,0,0,0,0,0,0,0,0,0,0,0,0,0,0,0,0,0,0,0,0,0,0,0,0,0,0,0,0,0,0,0,0,0,0,0,0,0,0,0,0,0,0,0,0,0,0,0,0,0,0,1,0,0,0,0,0,0,0,0,0,0,0,0,0,0,0,0,0,0,0,0,0,0,0,0,0,0,0,0,0,0,0,0,0,0,0,0,0,0,0,0,0,0,0,0,0,0,0,0,0,0,0,0,0,0,0,0,0,0,0,0,0,0,0,0,0,0,0,0,0,0,0,0,0,0,0,0,0,0,0,0,0,0]
[0,0,0,0,0,0,0,0,0,0,0,0,0,0,0,0,0,0,0,0,0,0,0,0,0,0,0,0,0,0,0,0,0,0,0,0,0,0,0,0,0,0,0,0,1,0,0,0,0,0,0,0,0,0,0,0,0,0,0,0,0,0,0,0,0,0,0,0,0,0,0,0,0,0,0,0,0,0,0,0,0,0,0,0,0,0,0,0,0,1,0,0,0,0,0,0,0,0,0,0,0,0,0,0,0,0,0,0,0,0,0,0,0,0,0,0,0,0,0,0,0,0,0,0,0,0,0,0,0,0,0,0,0,0,0,0,0,0,0,0,0,0,0,0,0,0,0,0,0,0,0,0,1,0,0,0,0,0,0,0,0,0,0,0,0,0,0,0,0,0,0,0,0,0,1,0,0,0,0,0,0,0,0,0,0,0,0,0,0,0,0,0,0,0,0,0,0,0,0,0,0,0,0,0,0,0,0,0,0,0,0,0,0,0,0,0,0,0,0,0,0,0,0,0,0,0,0,0,0,0,0,0,0,0,0,0,0,0,0,0,0,0,0,0,0,0,0,1,0,0,0,0,0,0,0,0,1,1,0,0,0,1,0,0,0,0,0,0,0,0,0,1,0,0,0,0,0,0,0,0,0,0,0,0,0,0,0,0,0,0,0,0,0,0,0,0,0,0,0,0,0,0,0,0,0,0,0,0,0,0,0,0,0,0,0,0,0,0,0,0,0,0,0,0,0,0]
[0,0,0,0,0,0,0,0,0,0,0,0,0,0,0,0,0,0,0,0,0,0,0,0,0,0,0,0,0,0,0,0,0,0,0,0,0,0,0,0,0,0,0,0,0,0,0,0,0,0,0,0,0,0,0,0,0,0,0,0,0,0,0,0,0,0,0,0,0,0,0,0,0,0,0,0,0,0,0,0,0,0,0,0,0,0,0,0,0,0,0,0,0,0,0,0,0,0,0,0,0,0,0,0,0,0,0,0,0,0,0,0,0,0,0,0,0,0,0,0,0,0,0,0,0,0,0,0,0,0,0,0,0,0,0,0,0,0,0,0,0,0,0,0,0,0,0,0,0,0,0,0,0,0,0,0,0,0,0,0,0,0,0,0,0,0,0,0,0,0,0,0,0,0,0,0,0,0,0,0,0,0,0,0,0,0,0,0,0,0,0,0,0,0,0,0,0,0,0,0,0,0,0,0,0,0,0,0,0,0,0,0,0,0,0,0,0,0,0,0,0,0,0,0,0,0,0,0,0,0,0,0,0,0,0,0,0,0,0,0,0,0,0,0,0,0,0,0,0,0,0,0,0,0,0,0,0,0,0,0,0,0,0,0,0,0,0,0,0,1,0,0,0,0,0,0,0,0,0,0,0,0,0,0,0,0,0,0,0,0,0,0,0,0,0,0,0,0,0,0,0,0,0,0,0,0,0,0,0,0,0,0,1,0,0,0,0,0,0,0,0,0,0,0,0,0]
[0,0,0,0,0,0,0,0,0,0,0,0,0,0,0,0,0,0,0,0,0,0,0,0,0,0,0,0,0,0,0,0,0,0,0,0,0,0,0,0,0,0,0,0,0,0,0,0,0,0,0,0,0,0,0,0,0,0,0,0,0,0,0,0,0,0,0,0,0,0,0,0,1,0,0,0,0,0,0,0,0,0,0,0,0,0,0,0,0,0,0,0,0,0,0,0,0,0,0,0,0,0,0,0,0,0,0,0,0,0,0,0,0,0,0,0,0,0,0,0,0,0,1,0,0,0,0,0,0,0,0,0,0,0,0,0,0,0,0,0,0,0,0,0,0,0,0,0,0,0,0,0,0,0,0,0,0,0,0,0,0,0,0,0,0,0,0,0,1,0,0,0,0,0,0,0,0,0,0,0,0,0,0,0,0,0,0,0,0,0,0,0,0,0,0,0,0,0,0,0,0,0,0,0,0,1,0,0,0,0,0,0,0,0,0,0,0,0,0,0,0,0,0,0,0,0,0,0,0,0,0,0,0,0,0,0,0,0,0,0,0,0,0,0,0,0,0,0,0,0,0,0,0,0,0,0,0,0,0,0,1,0,0,0,0,0,0,0,0,0,0,0,0,0,0,0,0,0,0,0,0,0,0,0,0,0,0,0,0,0,0,0,0,0,0,0,0,0,0,0,0,0,0,0,0,0,0,0,0,0,0,0,0,0,0,0,0,0,0,0,0,0,0,0,0,0]
[0,0,0,0,0,0,0,0,0,0,0,0,0,0,0,0,0,0,0,0,0,0,0,0,0,0,1,0,0,0,0,0,0,0,0,0,0,0,0,0,0,0,0,0,0,0,0,0,0,0,0,0,0,0,0,0,0,0,0,0,0,0,0,0,0,0,0,0,0,0,0,0,0,0,0,0,0,0,0,0,0,0,0,0,0,0,0,0,0,0,0,0,0,0,0,0,0,0,0,0,0,0,0,0,0,0,0,0,0,0,0,0,0,0,0,0,0,0,0,0,0,0,0,0,0,0,0,0,0,0,0,0,0,0,0,0,0,0,0,0,0,0,0,0,0,0,0,0,0,0,0,0,0,0,0,0,0,0,0,0,0,0,0,0,0,0,0,0,0,0,0,0,0,0,0,0,0,0,0,0,0,0,0,0,0,0,0,0,0,0,0,0,0,0,0,0,0,0,0,0,0,0,0,1,0,0,0,0,0,0,0,0,0,0,0,0,0,0,0,0,0,0,0,0,0,0,0,0,0,0,0,0,1,0,0,0,0,0,0,0,0,0,0,0,0,0,0,0,0,0,0,0,0,0,0,0,0,0,0,0,0,0,0,0,0,0,0,0,0,0,0,0,0,0,0,0,0,0,0,0,0,0,0,0,0,0,0,0,0,0,0,0,0,0,0,0,0,0,0,0,0,0,1,0,0,0,0,0,0,0,0,0,0,0,1,0,0,1,0,0,0,0,0,0,0,0]
[0,0,0,0,0,0,0,0,0,0,0,0,0,0,0,0,0,0,0,0,0,0,0,0,0,0,0,0,0,0,0,0,0,0,0,0,0,0,0,0,0,0,0,0,0,0,0,0,0,0,0,0,0,0,0,0,0,0,0,0,0,0,0,0,0,0,0,0,0,0,0,0,0,0,0,0,0,0,0,0,0,0,0,0,0,0,0,0,0,0,0,0,0,0,0,0,0,0,0,0,0,0,0,0,0,0,0,0,0,0,0,0,0,0,0,0,0,0,0,0,0,0,0,0,0,0,1,0,0,0,0,0,0,0,0,0,0,0,0,0,0,0,0,0,0,0,0,0,0,0,0,0,0,0,0,0,0,0,0,0,0,0,0,0,0,0,0,0,0,0,0,0,0,0,0,0,0,0,0,0,0,0,0,0,0,0,0,0,0,0,0,0,0,0,0,0,0,0,0,0,0,0,0,0,0,0,0,0,0,0,0,0,0,0,0,0,0,0,0,0,0,0,0,0,0,0,0,0,0,0,0,1,0,0,0,0,0,0,0,0,0,0,0,0,0,0,0,0,0,0,0,0,0,0,0,0,0,0,0,0,0,0,0,0,0,0,0,0,0,0,0,0,0,0,0,1,0,0,0,0,0,0,0,0,0,0,0,0,0,0,0,0,0,0,0,0,0,0,0,0,0,0,0,0,0,0,0,0,0,0,0,0,0,0,0,0,0,0,0,0,0,0,0,0,0,0]
[0,0,0,0,0,0,0,0,0,0,0,0,0,0,0,1,0,0,0,0,0,0,0,0,0,0,0,0,0,0,0,0,0,1,0,0,0,0,0,0,0,0,0,0,0,0,0,0,0,0,0,0,0,0,0,0,0,0,0,0,0,0,0,0,0,0,0,0,0,0,0,0,0,0,0,0,0,0,0,0,0,0,0,0,0,0,0,0,0,0,0,0,0,0,0,0,0,0,0,0,0,0,0,0,0,0,0,0,0,0,0,0,0,0,0,0,0,0,0,0,0,0,0,0,0,0,0,0,0,0,0,0,0,0,0,0,0,0,0,0,0,0,0,0,0,0,0,0,0,0,0,0,0,0,0,0,0,0,0,0,0,0,0,0,0,0,0,0,0,0,0,0,0,0,0,0,0,0,0,0,0,0,0,0,1,0,0,0,0,0,0,0,0,0,0,0,0,0,0,0,0,0,0,0,0,0,0,0,0,0,0,0,0,0,0,0,0,0,0,0,0,0,0,0,0,0,0,0,0,0,0,0,0,0,0,0,0,1,0,0,0,0,0,0,0,0,0,0,0,0,0,0,0,0,0,0,0,0,0,0,0,0,0,0,0,0,0,0,0,0,0,0,0,0,0,0,0,0,0,0,0,0,0,0,0,0,0,0,0,0,0,0,0,0,0,0,0,0,0,0,0,0,0,0,0,0,0,0,0,0,0,0,0,0,0,0,0,0,0,0,0,0,0,0,0,0]
[0,0,0,0,0,0,0,0,0,0,0,0,0,0,0,0,0,0,0,0,0,0,0,0,0,0,0,0,0,0,0,0,0,0,0,0,1,0,0,0,0,0,0,0,0,0,0,0,0,0,0,0,0,0,0,0,0,0,0,0,0,0,0,0,0,0,0,0,0,0,0,0,0,0,0,0,0,0,0,0,0,0,0,0,0,0,0,0,0,0,0,0,0,0,0,0,0,0,0,0,0,0,0,0,0,0,0,0,0,0,0,0,0,0,0,0,0,0,0,0,0,0,0,0,0,0,0,0,0,0,0,0,0,0,0,0,0,0,0,0,0,0,0,0,0,0,0,0,0,0,0,0,0,0,0,0,0,0,1,0,0,0,0,0,0,0,0,0,0,0,0,0,0,0,0,0,0,0,0,0,0,0,0,0,0,0,0,0,0,0,0,0,0,0,0,0,0,0,0,0,0,0,0,0,0,0,1,0,0,0,0,0,0,0,0,0,0,0,0,0,0,0,0,0,0,0,0,0,0,0,0,0,0,0,0,0,0,0,0,0,0,0,0,0,0,0,0,0,0,0,0,0,0,0,0,0,0,0,0,0,0,0,0,0,0,0,0,0,0,0,0,0,0,0,0,0,0,0,0,0,0,0,0,0,0,0,0,0,0,0,0,0,0,0,0,0,0,0,0,0,0,0,0,0,0,0,0,0,0,0,0,0,0,0,0,0,0,0,0,1,0,1,0,0,1,0]
[0,0,0,0,0,0,0,0,0,0,0,0,0,0,0,0,0,0,0,0,0,0,0,0,0,0,0,0,0,0,0,0,0,0,0,0,0,0,0,0,0,0,0,0,0,0,0,0,0,0,0,0,0,0,0,0,0,0,0,0,0,0,0,0,0,0,0,0,1,0,0,0,0,0,0,0,0,0,0,0,0,0,0,0,0,0,0,0,1,0,0,0,0,0,0,0,0,0,0,0,0,0,0,0,0,0,0,0,0,0,0,0,0,0,1,0,0,0,0,1,0,0,0,0,0,0,0,0,0,0,0,0,0,0,0,0,0,0,0,0,0,0,0,0,0,0,0,0,0,0,0,0,0,0,0,0,0,0,0,0,0,0,0,0,0,0,0,0,0,0,0,0,0,0,0,0,0,0,0,0,0,0,0,0,0,0,0,0,0,0,0,0,0,0,0,0,0,0,0,0,0,0,0,0,0,0,0,0,0,0,1,0,0,0,0,0,0,0,0,0,0,1,0,0,1,0,0,1,0,0,0,0,0,0,0,0,0,0,0,0,0,0,0,0,0,0,0,0,0,0,0,0,0,0,0,0,0,0,0,0,0,0,0,0,0,0,0,0,0,0,0,0,0,0,0,0,0,0,0,0,0,0,0,0,0,0,0,0,0,0,0,0,0,0,0,0,0,0,0,0,0,0,0,0,0,0,0,0,0,0,0,0,0,0,0,0,0,0,0,0,0,0,0,0,0,1]
[]
[0,1,0,0,0,0,0,0,0,0,0,1,0,0,0,0,0,0,0,0,0,0,0,0,0,0,0,0,0,0,0,0,0,0,0,0,0,0,0,0,0,0,0,0,0,0,1,0,0,0,0,0,0,0,0,0,0,0,0,0,0,0,1,0,0,0,0,0,0,0,0,0,0,0,0,0,0,0,0,0,0,0,0,0,0,0,0,0,0,0,0,0,1,0,0,0,0,0,0,0,0,0,0,0,0,0,0,0,0,0,0,0,0,0,0,0,0,0,0,0,0,0,0,0,0,0,0,0,0,0,0,0,0,0,0,0,0,0,0,0,0,0,0,0,0,0,0,0,0,0,0,0,0,0,0,0,0,0,0,0,0,0,0,0,0,0,0,0,0,0,0,0,0,0,0,0,0,0,0,0,0,0,0,0,0,0,0,0,0,0,0,0,0,0,0,0,0,0,0,0,0,0,0,0,0,0,0,0,0,0,0,0,0,0,0,0,0,0,0,0,0,0,0,0,0,0,0,0,0,0,0,0,0,0,0,0,0,0,0,0,0,1,0,0,0,0,0,0,0,0,0,0,0,0,0,0,0,0,0,0,0,0,0,0,0,0,0,0,0,0,0,0,0,0,0,0,0,0,0,0,0,0,0,0,0,0,0,0,0,0,0,0,0,0,0,0,0,0,0,0,0,0,0,0,0,0,0,0,0,0,0,0,0,0,0,0,0,0,0,0,0,0,0,0,0,0]
[0,0,0,0,0,0,0,0,0,0,0,0,0,0,0,0,0,0,0,0,0,0,0,0,0,0,0,0,0,0,0,0,0,0,0,0,0,0,0,0,0,0,0,0,0,0,0,0,0,0,0,0,0,0,0,0,0,0,0,0,0,0,0,0,0,0,0,0,0,0,0,0,0,0,0,0,0,0,0,0,0,0,1,0,0,0,0,0,0,0,0,0,0,0,0,0,0,0,1,0,0,0,0,0,0,0,0,0,0,0,0,0,0,0,0,0,0,0,0,0,0,0,0,0,0,0,0,0,0,0,0,0,0,0,0,0,0,0,0,0,0,0,0,0,0,0,0,0,0,0,0,0,0,0,0,0,0,0,0,0,0,0,0,0,0,1,0,0,0,0,0,0,0,0,0,0,1,0,0,0,0,0,0,0,0,0,0,0,0,0,0,0,0,0,0,0,0,0,1,0,0,0,0,0,0,0,0,0,0,0,0,0,0,0,0,0,0,0,0,0,0,0,0,0,0,0,0,0,0,0,0,0,0,0,0,0,0,0,1,0,0,0,0,0,0,0,0,0,0,0,0,0,0,0,0,0,0,0,0,0,0,0,0,0,0,0,0,0,0,0,0,0,0,0,1,0,0,0,0,0,0,0,0,1,1,0,0,0,0,0,0,0,0,0,0,0,0,0,0,0,0,0,0,1,0,0,0,0,0,0,0,0,0,0,0,0,0,0,0,0,0,0,0,0,0,0]
[0,0,0,0,0,0,0,0,0,0,0,0,0,0,0,0,0,0,0,0,0,0,0,0,0,1,0,0,0,0,0,0,0,0,0,0,0,0,0,0,0,0,0,0,0,0,0,0,0,0,0,0,0,0,0,0,0,0,0,1,0,0,0,0,0,0,0,0,0,0,0,0,0,0,0,0,0,0,0,0,0,0,0,1,0,0,0,0,0,0,0,0,0,0,0,0,0,0,0,0,0,0,0,0,0,0,0,0,0,0,0,0,0,0,0,0,0,0,0,0,0,0,0,0,0,0,0,0,0,0,0,0,0,0,0,0,0,0,0,0,0,0,0,0,0,0,0,0,0,0,0,0,0,0,0,0,0,0,0,0,0,0,0,0,0,0,0,0,0,0,0,0,0,0,0,0,0,1,0,0,0,0,0,0,0,0,0,0,0,0,0,0,0,0,0,0,0,0,0,1,0,0,1,0,0,0,0,0,0,0,0,0,0,0,0,0,0,0,0,0,0,0,0,0,0,0,0,0,0,0,0,0,0,0,0,0,0,0,0,0,0,0,0,0,0,0,0,0,0,0,0,0,0,0,0,0,0,0,0,0,0,0,0,0,0,0,0,0,0,0,0,0,0,0,0,0,0,0,0,0,0,0,0,0,0,0,0,0,0,0,0,0,0,0,0,0,0,0,0,0,0,0,0,0,1,0,0,0,0,0,1,0,0,0,0,0,0,0,0,0,0,0,0,0,0,0]
[0,0,0,0,0,0,0,0,0,0,0,0,1,0,0,0,0,0,0,0,0,0,0,0,0,0,0,0,1,0,0,1,0,0,0,0,0,0,0,0,0,0,0,0,0,0,0,1,0,0,1,0,0,0,0,0,0,0,0,0,0,1,0,0,0,0,0,0,0,0,0,0,0,0,0,0,0,0,0,0,0,0,0,0,0,0,0,0,0,0,0,0,0,0,0,1,0,0,0,0,0,0,0,0,0,0,0,0,0,0,0,0,0,0,0,0,0,0,1,0,0,0,0,0,0,0,0,0,0,0,0,0,0,0,0,0,0,0,0,0,0,0,0,0,0,0,0,0,0,0,0,0,0,0,0,0,0,1,0,0,0,0,0,0,0,0,0,0,0,0,0,0,0,0,0,0,0,0,0,0,0,0,0,0,0,0,0,0,0,0,0,0,0,0,0,0,0,0,0,0,0,0,0,0,0,0,0,0,0,0,0,0,1,0,0,0,0,0,0,0,0,0,0,0,0,0,0,0,0,0,0,0,0,0,0,0,0,0,0,0,0,0,0,0,0,0,0,0,0,0,1,0,0,0,0,0,0,0,0,0,0,0,0,0,0,0,0,0,0,0,0,0,0,0,0,0,1,0,0,0,0,1,0,0,0,0,0,0,1,0,0,0,0,0,0,0,0,0,0,0,0,0,0,0,0,0,0,0,0,0,0,0,0,0,0,0,0,0,0,0,0,0,0,0,0,0]
[0,0,0,0,0,0,0,0,0,0,0,0,0,0,0,0,0,0,0,0,0,0,0,0,0,0,0,0,0,0,0,0,0,0,0,0,0,0,0,0,0,0,0,0,0,0,0,0,0,0,0,1,0,0,0,0,0,0,0,0,0,0,0,0,0,1,0,0,0,0,0,0,0,0,0,0,0,0,0,0,0,0,0,0,0,0,0,0,0,0,0,0,0,0,0,0,0,0,0,0,0,0,1,0,0,0,1,0,0,0,0,0,0,0,0,0,0,0,0,0,0,0,0,0,0,0,0,0,0,0,0,0,0,0,0,0,0,0,0,0,0,0,0,0,0,0,0,0,0,0,0,0,0,0,0,0,0,0,0,0,0,0,0,0,0,0,0,0,0,0,0,0,0,0,0,0,0,0,0,0,0,0,0,0,0,0,0,0,0,0,0,0,0,0,0,0,0,0,0,0,0,0,0,0,0,0,0,0,0,0,0,0,0,0,0,0,0,0,0,0,0,0,0,0,0,0,0,0,0,0,0,0,0,0,0,0,0,0,0,0,0,0,0,0,0,0,0,0,0,0,0,0,0,0,0,0,0,0,0,0,0,0,0,1,0,0,0,0,0,0,0,0,0,0,0,0,0,0,1,0,0,0,0,0,0,0,0,0,0,0,0,0,0,0,0,0,0,0,0,0,0,0,0,0,0,0,0,0,0,0,0,0,0,0,0,0,0,0,0,0,0,0,0,0,0,0]
[0,0,0,0,0,0,0,0,0,0,0,0,0,0,0,0,0,0,0,0,0,0,0,0,0,0,0,0,0,1,0,0,0,0,1,0,0,0,0,0,0,0,0,0,0,0,0,0,0,0,0,0,0,0,0,0,0,0,0,0,0,0,0,0,0,0,0,0,0,0,0,0,0,0,0,0,0,0,0,0,0,0,0,0,0,0,0,0,0,0,0,0,0,0,0,0,0,0,0,0,0,0,0,0,0,0,0,0,0,1,0,0,0,0,0,0,0,0,0,0,0,0,0,0,0,0,0,0,0,0,0,0,0,0,0,0,0,0,0,0,0,1,0,0,0,0,0,0,0,0,0,0,0,0,0,0,0,0,0,0,0,0,0,0,0,0,0,0,0,0,0,0,0,0,0,0,0,0,0,0,0,0,0,1,0,0,0,0,0,0,1,0,0,0,0,0,0,0,0,0,0,0,0,0,0,0,0,0,0,0,0,0,0,0,0,0,0,0,0,0,0,0,0,0,0,0,0,0,0,0,0,0,0,0,0,0,0,0,0,0,0,0,1,0,0,0,0,0,0,0,0,0,0,0,0,0,0,0,0,0,0,0,0,0,0,0,0,0,0,0,0,0,0,0,0,0,0,0,0,0,0,0,0,0,0,0,0,0,0,0,0,0,0,0,0,0,0,0,0,0,0,0,0,0,0,0,0,0,0,0,0,0,0,0,0,0,0,0,0,0,0,0,0,0,0,0]
[0,0,0,0,0,0,0,0,0,0,0,0,0,0,0,0,0,0,0,0,0,0,0,0,0,0,0,0,0,0,0,0,0,0,0,0,0,0,0,0,0,0,0,0,0,0,0,0,0,0,0,0,0,0,0,0,0,0,0,0,0,0,0,0,0,0,0,0,0,0,0,0,0,0,0,0,0,0,0,0,0,0,0,0,0,0,0,0,0,0,0,0,0,1,0,0,1,0,0,0,0,0,0,0,0,0,0,0,0,0,0,1,0,0,0,0,0,0,0,0,0,0,0,0,0,0,0,0,0,0,0,0,0,0,0,0,0,0,0,0,0,0,0,0,0,0,0,0,0,0,0,0,0,0,0,0,0,0,0,0,0,0,0,0,0,0,0,0,0,0,1,0,0,0,0,0,0,0,0,0,0,0,0,0,0,0,0,0,0,0,0,0,0,0,0,0,0,0,0,0,0,0,0,0,0,0,0,1,0,0,0,0,0,0,0,0,0,1,0,0,0,0,0,0,0,0,0,0,0,0,0,0,0,0,0,0,0,0,0,0,0,0,0,0,0,0,0,0,0,0,0,0,1,0,0,0,0,0,0,0,0,0,0,0,0,0,1,0,0,0,0,0,1,0,0,0,0,0,0,0,0,0,0,0,0,0,0,0,0,0,0,0,0,0,0,0,0,0,1,0,0,0,0,0,0,0,0,0,0,0,0,0,0,0,0,0,1,0,0,0,0,0,0,0,0,0]
[1,0,0,1,0,0,0,0,0,0,0,0,0,0,0,0,0,0,0,0,0,0,0,0,0,0,0,0,0,0,0,0,1,0,0,0,0,0,0,0,0,0,0,0,0,0,0,0,0,0,0,0,0,0,0,0,1,0,0,0,0,0,0,0,0,0,0,0,0,1,0,0,0,0,0,0,0,0,0,0,0,0,0,0,0,0,0,0,0,0,1,0,0,0,0,0,0,0,0,0,0,0,0,0,0,0,0,0,0,0,0,0,0,0,0,0,0,0,0,0,0,0,0,1,0,0,0,0,0,0,0,1,0,0,0,0,0,0,0,0,0,0,0,0,0,0,0,0,0,0,1,0,0,0,0,0,0,0,0,0,0,0,0,0,0,0,0,1,0,0,0,0,0,0,0,0,0,0,0,0,0,0,0,0,0,0,0,0,0,0,0,0,0,0,0,0,0,0,0,0,0,0,0,0,0,0,0,0,0,0,0,0,0,0,1,0,0,0,0,0,0,0,0,0,0,0,0,0,0,0,0,0,0,0,0,0,0,0,0,0,0,0,0,0,0,0,0,0,0,0,0,0,0,0,0,0,0,0,0,0,0,0,0,0,0,0,0,0,0,0,0,0,0,0,0,0,0,0,0,0,0,0,0,0,0,0,0,0,0,0,0,0,0,0,0,0,0,0,0,1,0,0,0,0,0,0,0,0,0,0,0,0,0,0,0,0,0,0,0,0,1,0,0,0,0,0]
[0,0,0,0,0,0,0,0,0,0,0,0,0,0,0,0,0,0,1,0,0,0,0,0,0,0,0,0,0,0,0,0,0,0,0,0,0,0,0,0,0,0,0,0,0,0,0,0,0,0,0,0,0,0,0,0,0,0,0,0,0,0,0,0,0,0,0,0,0,0,0,0,0,0,0,0,0,0,0,0,0,0,0,0,0,0,0,0,0,0,0,0,0,0,0,0,0,0,0,0,0,0,0,0,0,0,0,0,0,0,0,0,0,0,0,0,0,0,0,0,0,0,0,0,0,0,0,0,0,0,0,0,0,0,0,0,0,0,0,0,0,0,0,0,0,0,0,0,0,0,0,0,0,0,0,0,0,0,0,0,0,0,0,0,0,0,0,0,0,0,0,0,0,0,0,0,0,0,0,0,0,0,0,0,0,0,0,0,0,0,0,0,0,0,0,0,0,0,0,0,0,0,0,0,0,0,0,0,0,0,0,0,0,0,0,0,0,0,0,0,0,0,0,0,0,0,0,0,0,0,0,0,0,0,0,0,0,0,0,0,0,0,0,0,0,0,0,0,0,0,0,0,0,0,0,0,0,0,0,0,0,0,0,0,0,0,0,0,0,0,0,0,0,0,0,0,0,0,0,0,0,0,0,0,0,0,0,0,0,0,0,0,0,0,0,0,0,0,0,0,0,0,0,0,0,0,0,0,0,0,0,0,0,0,0,0,0,0,0,0,0,0,0,0,0,0]
[0,0,0,0,0,0,0,0,0,0,0,0,0,0,0,0,0,0,0,0,0,0,0,0,0,0,0,0,0,0,0,0,0,0,0,0,0,0,0,0,0,0,0,0,0,0,0,0,0,0,0,0,0,0,0,0,0,0,0,0,0,0,0,0,0,0,0,0,0,0,0,0,0,0,0,0,0,0,0,1,0,0,0,0,0,0,0,0,0,0,0,0,0,0,0,0,0,0,0,0,0,0,0,0,0,0,0,0,0,0,0,0,0,0,0,0,0,0,0,0,0,0,0,0,0,0,0,0,0,0,0,0,0,0,0,0,0,0,0,0,0,0,0,0,0,0,0,0,0,0,0,0,0,0,0,0,0,0,0,0,0,0,0,0,0,0,0,0,0,0,0,0,0,0,0,0,0,0,0,0,0,0,0,0,0,0,0,0,0,0,0,0,0,0,0,0,0,0,0,0,0,0,0,0,0,0,0,0,0,0,0,0,0,0,0,0,0,0,0,0,0,0,0,1,0,0,0,0,0,0,0,0,0,0,0,0,0,0,0,0,0,0,0,0,0,0,0,0,0,0,0,0,0,0,0,0,0,0,0,0,0,0,0,0,0,0,0,0,0,0,0,0,0,0,0,0,0,0,0,0,0,0,0,0,0,0,0,0,0,0,0,1,0,0,0,0,0,0,0,0,0,0,0,0,0,0,0,0,0,0,0,0,0,0,0,0,0,0,1,0,0,0,0,0,0,0]
[0,0,0,0,0,0,0,0,0,0,0,0,0,0,0,0,0,0,0,0,0,0,0,0,0,0,0,0,0,0,0,0,0,0,0,0,0,0,0,0,0,0,0,0,0,0,0,0,0,0,0,0,0,0,0,0,0,0,0,0,0,0,0,0,1,0,0,0,0,0,0,0,0,0,0,0,0,0,0,0,0,0,0,0,0,0,0,0,0,0,0,0,0,0,0,0,0,0,0,0,0,0,0,0,0,0,0,0,0,0,0,0,0,0,0,0,0,0,0,0,0,0,0,0,0,0,0,0,0,0,0,0,0,0,0,0,0,1,0,0,0,0,0,0,0,0,0,0,0,0,0,0,0,0,0,0,0,0,0,0,0,0,0,0,0,0,0,0,0,0,0,0,0,0,0,0,0,0,0,0,0,0,0,0,0,0,0,0,0,0,0,0,0,0,0,0,0,0,0,0,0,0,0,0,0,0,0,0,0,0,0,0,0,0,0,0,0,0,0,0,0,0,0,0,0,0,0,0,0,0,0,0,0,0,0,0,0,0,0,0,0,0,0,0,0,0,0,0,0,0,0,0,0,0,0,0,0,0,0,0,0,0,0,0,0,0,0,0,0,0,0,0,0,0,0,0,0,0,0,0,0,0,0,0,0,0,0,0,0,0,0,0,0,0,0,0,0,0,0,0,0,0,0,0,0,0,0,0,0,0,0,0,0,0,0,0,0,0,0,0,0,0,0,0,0,0]
[0,0,0,0,0,0,0,0,0,0,0,0,0,0,0,0,0,0,0,0,0,0,0,0,0,0,0,0,0,0,0,0,0,0,0,0,0,0,0,0,0,0,0,0,0,0,0,0,0,0,0,0,0,0,0,0,0,0,0,0,0,0,0,0,0,0,1,0,0,0,0,0,0,0,0,0,0,0,0,0,0,0,0,0,0,0,0,0,0,0,0,0,0,0,0,0,0,0,0,0,0,0,0,0,0,0,0,0,0,0,0,0,0,0,0,0,0,0,0,0,0,0,0,0,0,0,0,0,0,0,0,0,0,0,0,0,0,0,0,0,0,0,0,0,0,0,0,0,0,0,0,0,0,0,0,0,0,0,0,0,0,0,0,0,0,0,0,0,0,0,0,0,0,0,0,0,0,0,0,0,0,0,0,0,0,0,0,0,0,0,0,0,0,0,0,0,0,0,0,0,0,0,0,0,0,0,0,0,0,0,0,0,0,0,0,0,0,0,0,0,0,0,0,0,0,0,0,0,0,0,0,0,0,0,0,0,0,0,0,0,0,0,0,0,0,0,0,0,0,0,0,0,0,0,0,0,0,0,0,0,0,0,0,0,0,0,0,0,0,0,0,0,0,0,0,0,0,0,0,0,0,0,0,0,0,0,0,0,0,0,0,0,0,0,0,0,0,0,0,0,0,0,0,0,0,0,0,0,0,0,0,0,0,0,0,0,0,0,0,0,0,0,0,0,0,0]
[0,0,0,0,0,0,0,0,0,0,0,0,0,0,0,0,0,0,0,0,0,0,0,0,0,0,0,0,0,0,0,0,0,0,0,0,0,0,0,0,0,0,0,0,0,0,0,0,0,0,0,0,0,0,0,0,0,0,0,0,0,0,0,0,0,0,0,1,0,0,0,0,0,0,0,0,0,0,0,0,0,0,0,0,0,0,0,0,0,0,0,0,0,0,0,0,0,0,0,0,0,0,0,0,0,0,0,0,0,0,0,0,0,0,0,0,0,0,0,0,0,0,0,0,0,0,0,0,0,0,0,0,0,0,0,0,0,0,0,0,0,0,0,0,0,0,0,0,0,0,0,0,0,0,0,0,0,0,0,0,0,0,0,0,0,0,0,0,0,0,0,0,0,0,0,0,0,0,0,0,0,0,0,0,0,0,1,0,0,0,0,0,1,0,0,0,0,0,0,0,0,0,0,0,0,0,0,0,0,0,0,0,0,0,0,0,1,0,0,0,0,0,0,0,0,0,0,0,0,0,0,0,0,1,0,0,0,0,0,0,0,0,0,0,0,0,0,0,0,0,0,0,0,0,0,0,0,0,0,0,0,0,1,0,0,0,0,0,0,0,0,0,0,0,0,0,0,0,0,0,0,0,0,0,0,0,0,0,0,0,0,0,0,0,0,1,0,0,0,0,0,0,0,0,0,0,0,0,0,0,0,0,0,0,0,0,0,0,0,0,0,0,0,0,0,0]
[0,0,1,0,0,0,0,0,0,0,0,0,0,0,0,0,0,0,0,0,0,0,1,0,0,0,0,0,0,0,0,0,0,0,0,0,0,0,0,0,0,0,0,0,0,0,0,0,0,0,0,0,0,0,0,1,0,0,0,0,0,0,0,0,0,0,0,0,0,0,0,0,0,0,0,1,1,0,0,0,0,0,0,0,0,0,0,0,0,0,0,0,0,0,0,0,0,1,0,0,0,0,0,0,0,0,0,0,0,0,0,0,0,0,0,0,0,0,0,0,0,0,0,0,0,0,0,0,1,0,0,0,0,0,0,0,0,0,0,0,0,0,0,0,0,0,0,0,0,0,0,0,0,0,0,0,0,0,0,0,0,0,0,0,0,0,0,0,0,0,0,0,0,0,0,0,0,0,1,0,0,0,0,0,0,0,0,0,0,0,0,0,0,0,0,0,0,0,0,0,0,0,0,0,0,0,0,0,0,0,0,0,0,0,0,0,0,0,0,0,0,0,0,0,0,0,0,0,0,0,0,0,0,0,0,0,1,0,0,0,0,0,0,0,0,0,0,0,0,0,0,0,0,0,0,0,0,0,0,0,0,0,0,0,0,0,0,0,0,0,0,0,0,0,0,0,0,0,0,0,0,0,0,0,0,0,0,0,0,0,0,0,0,0,0,0,0,0,0,0,0,0,0,0,0,0,0,0,0,0,0,0,0,0,0,0,0,0,0,0,0,0,0,0,0,0]
[0,0,0,0,0,0,0,0,0,0,0,0,0,0,0,0,0,0,0,0,0,0,0,0,0,0,0,0,0,0,0,0,0,0,0,0,0,0,0,0,0,0,0,0,0,0,0,0,0,0,0,0,0,0,0,0,0,0,0,0,0,0,0,0,0,0,0,0,0,0,0,0,0,0,0,0,0,0,0,0,0,0,0,0,0,0,0,0,0,0,0,0,0,0,0,0,0,0,0,0,0,0,0,0,0,0,0,0,0,0,0,0,0,0,0,0,0,0,0,0,0,0,0,0,0,0,0,0,0,0,0,0,0,0,0,0,0,0,0,0,0,0,0,0,0,0,0,0,0,0,0,0,0,0,0,0,0,0,0,0,0,0,0,0,0,0,0,0,0,0,0,0,0,0,0,0,0,0,0,0,0,0,0,0,0,0,0,0,0,0,0,0,0,0,0,0,0,0,0,0,0,0,0,0,0,0,0,0,0,0,0,0,0,0,0,0,0,0,0,0,0,0,0,0,0,0,0,0,0,0,0,1,0,0,0,0,0,0,0,0,0,0,0,0,0,0,0,0,0,0,0,0,0,0,0,0,0,0,0,0,0,0,0,0,0,0,0,0,0,0,0,0,0,0,0,1,0,0,0,0,0,0,0,0,0,0,0,0,0,0,0,0,0,0,0,0,0,0,0,0,0,0,0,0,0,0,0,0,0,0,0,0,0,0,0,0,0,0,0,0,0,0,0,0,0,0]
[0,0,0,0,0,0,0,0,0,0,0,0,0,0,0,0,0,0,0,0,0,0,0,0,0,0,1,0,0,0,0,0,0,0,0,0,0,0,0,0,0,0,0,0,0,0,0,0,0,0,0,0,0,0,0,0,0,0,0,0,0,0,0,0,0,0,0,0,0,0,0,0,0,0,0,0,0,0,0,0,0,0,0,0,0,0,0,0,0,0,0,0,0,0,0,0,0,0,0,0,0,0,0,0,0,0,0,0,0,0,0,0,0,0,0,0,0,0,0,0,0,0,0,0,0,0,0,0,0,0,0,0,0,0,0,0,0,0,0,0,0,0,0,0,0,0,0,0,0,0,0,0,0,0,0,0,0,0,0,0,0,0,0,0,0,0,0,0,0,0,0,0,0,0,0,0,0,0,0,0,0,0,0,0,0,0,0,0,0,0,0,0,0,0,0,0,0,0,0,0,0,0,0,1,0,0,0,0,0,0,0,0,0,0,0,0,0,0,0,0,0,0,0,0,0,0,0,0,0,0,0,0,1,0,0,0,0,0,0,0,0,0,0,0,0,0,0,0,0,0,0,0,0,0,0,0,0,0,0,0,0,0,0,0,0,0,0,0,0,0,0,0,0,0,0,0,0,0,0,0,0,0,0,0,0,0,0,0,0,0,0,0,0,0,0,0,0,0,0,0,0,0,1,0,0,0,0,0,0,0,0,0,0,0,1,0,0,1,0,0,0,0,0,0,0,0]
[0,0,0,0,0,0,0,0,0,0,0,0,0,0,0,0,0,0,0,0,0,0,0,1,0,0,0,0,0,0,0,0,0,0,0,0,0,0,0,0,1,0,0,0,0,0,0,0,0,0,0,0,0,0,0,0,0,0,0,0,0,0,0,0,0,0,0,0,0,0,0,0,0,0,0,0,0,0,0,0,0,0,0,0,0,0,0,0,0,0,0,0,0,0,0,0,0,0,0,0,0,0,0,0,0,0,0,0,0,0,0,0,0,0,0,0,0,0,0,0,0,0,0,0,0,0,0,0,0,0,0,0,0,0,0,0,0,0,0,0,0,0,0,0,0,0,0,0,0,0,0,0,0,0,0,0,0,0,0,1,0,0,0,0,0,0,0,0,0,0,0,0,0,0,0,0,0,0,0,0,0,0,0,0,0,0,0,0,0,0,0,0,0,0,1,0,0,0,0,0,0,0,0,0,0,0,0,0,0,0,0,1,0,0,0,0,0,0,0,0,0,0,1,0,0,0,0,0,0,0,0,0,0,0,0,0,0,0,0,0,0,0,0,0,0,0,0,0,0,0,0,0,0,0,0,0,0,0,0,1,0,0,0,0,0,0,0,0,0,0,1,0,0,0,0,0,0,0,0,0,0,0,0,0,0,0,1,0,0,0,0,0,0,0,0,0,0,0,0,0,0,0,0,0,0,0,0,0,0,0,0,1,0,0,0,0,0,0,0,0,0,0,0,0,0,0]
[0,0,0,0,0,0,0,0,0,0,0,0,0,0,0,0,0,0,0,0,0,0,0,0,0,0,0,0,0,0,0,0,0,0,0,0,0,1,0,0,0,0,0,0,0,0,0,0,0,0,0,0,0,0,0,0,0,0,0,0,0,0,0,0,0,0,0,0,0,0,0,1,0,0,0,0,0,0,0,0,0,0,0,0,0,1,0,0,0,0,0,0,0,0,0,0,0,0,0,0,0,0,0,0,0,0,0,0,0,0,0,0,0,0,0,0,0,0,0,0,0,0,0,0,0,0,0,1,0,0,0,0,0,0,0,0,0,0,0,0,0,0,0,0,0,0,0,0,0,0,0,0,0,0,0,0,0,0,0,0,0,0,0,0,0,0,0,0,0,0,0,0,0,0,0,0,0,0,0,0,1,0,0,0,0,0,0,0,0,0,0,0,0,0,0,0,0,0,0,0,0,0,0,0,0,0,0,0,0,0,0,0,0,0,0,0,0,0,0,0,0,0,0,0,0,0,0,0,0,0,0,0,0,0,0,0,0,0,0,0,0,0,0,0,0,0,0,0,0,0,0,0,0,1,0,0,0,0,1,0,0,0,0,0,0,0,0,0,0,0,0,0,0,0,0,0,0,0,0,0,1,0,0,0,0,0,0,0,0,0,0,0,0,0,0,0,1,0,0,0,0,1,0,0,0,0,0,0,0,0,0,0,0,0,0,0,0,0,0,0,0,0,0,0,0,0]
[0,0,0,0,0,0,0,0,0,0,0,0,0,0,0,0,0,0,0,0,0,0,0,0,0,0,0,0,0,0,0,0,0,0,0,0,0,0,0,0,0,0,0,0,0,0,0,0,0,0,0,0,0,0,0,0,0,0,0,0,0,0,0,0,0,0,0,0,0,0,0,0,0,0,0,0,0,0,0,0,0,0,0,0,0,0,0,0,1,0,0,0,0,0,0,0,0,0,0,0,0,0,0,0,0,0,0,0,0,0,0,0,0,0,0,0,0,0,0,0,0,0,0,0,0,0,0,0,0,0,0,0,0,0,0,0,0,0,0,0,0,0,0,0,0,0,0,0,0,0,0,0,0,0,0,0,0,0,0,0,0,0,0,0,0,0,0,0,0,0,0,0,0,0,0,0,0,0,0,1,0,0,1,0,0,0,0,0,0,0,0,0,0,0,0,0,0,0,0,0,0,0,0,0,0,0,0,0,0,0,0,0,0,0,0,0,0,0,0,0,0,0,0,0,0,0,0,0,0,0,0,0,0,0,0,0,0,0,0,0,0,0,0,0,0,0,0,0,0,0,0,0,0,0,0,0,0,0,0,0,0,0,0,0,0,0,0,0,0,0,0,0,0,0,0,0,0,0,0,0,0,0,0,0,0,0,0,0,0,0,0,0,0,0,0,0,0,0,0,0,0,0,0,0,0,0,0,0,0,0,0,0,0,0,0,0,0,0,0,0,0,0,0,0,0,0]
[0,0,0,0,0,1,0,0,0,0,0,0,0,0,0,0,0,0,0,0,0,0,0,0,0,0,0,0,0,0,0,0,0,0,0,0,0,0,0,0,0,0,0,0,0,1,0,0,0,0,0,0,0,0,0,0,0,0,0,0,0,0,0,0,0,0,0,0,0,0,0,0,0,1,0,0,0,0,1,0,0,0,0,0,0,0,0,0,0,0,0,0,0,0,0,0,0,0,0,0,0,0,0,0,0,0,0,0,1,0,0,0,0,0,0,0,0,0,0,0,0,0,0,0,0,0,0,0,0,0,0,0,0,0,0,0,0,0,0,0,0,0,0,0,0,0,0,0,0,0,0,0,0,0,0,0,1,0,0,0,0,1,0,0,0,0,0,0,0,0,0,0,0,0,0,0,0,0,0,0,0,0,0,0,0,0,0,0,0,0,0,0,0,0,0,0,0,0,0,0,0,0,0,0,0,0,0,0,0,0,0,0,0,0,0,0,0,0,0,0,0,0,0,0,0,0,0,0,1,0,1,0,0,0,0,0,0,0,0,0,0,0,0,0,0,0,0,0,0,0,0,0,0,0,0,0,0,0,0,0,0,0,0,0,0,0,0,0,1,0,0,0,0,0,0,0,0,0,0,1,0,0,1,0,0,0,0,1,0,0,0,0,0,0,0,0,0,0,0,0,0,0,0,0,0,0,0,0,0,0,0,0,0,0,0,0,0,0,0,0,0,0,0,0,0,0]
[0,0,0,0,0,0,0,0,0,0,0,0,0,0,0,0,0,0,0,0,1,1,0,0,0,0,0,0,0,0,0,0,0,0,0,0,0,0,0,1,0,0,0,0,0,0,0,0,0,0,0,0,0,0,0,0,0,0,1,0,0,0,0,0,0,0,0,0,0,0,0,0,0,0,0,0,0,0,0,0,0,0,0,0,0,0,0,0,0,0,0,0,0,0,0,0,0,0,0,0,0,0,0,1,0,0,0,0,0,0,0,0,0,0,0,0,0,0,0,0,0,0,0,0,0,0,0,0,0,0,0,0,0,0,1,0,0,0,0,0,0,0,0,0,0,0,0,1,0,0,0,0,0,0,0,0,0,0,0,0,0,0,0,0,0,0,0,0,0,0,0,0,0,0,0,0,0,0,0,0,0,0,0,0,0,0,0,0,0,0,0,0,0,0,0,0,1,0,0,0,0,1,0,0,0,0,0,0,1,0,0,0,0,1,0,0,0,0,0,0,0,0,0,0,0,0,0,0,0,0,0,0,0,0,0,0,0,0,0,0,0,0,0,0,0,1,0,0,0,0,0,0,0,0,0,0,0,0,0,0,0,0,0,0,0,0,0,0,0,0,0,0,0,0,0,0,0,0,0,0,0,0,0,0,0,0,0,0,0,0,0,0,0,0,0,0,0,0,0,0,0,0,0,0,0,1,0,0,0,0,0,0,0,0,0,0,0,0,0,0,0,0,0,1,0,0]
[0,0,0,0,0,0,1,0,0,0,0,0,0,0,0,0,0,0,0,0,0,0,0,0,0,0,0,0,0,0,0,0,0,0,0,0,0,0,0,0,0,0,0,0,0,0,0,0,0,0,0,0,0,0,0,0,0,1,0,0,0,0,0,0,0,0,0,0,0,0,0,0,0,0,0,0,0,0,0,0,0,0,0,0,0,0,0,0,0,0,0,0,0,0,0,0,0,0,0,0,0,0,0,0,0,0,0,0,0,0,0,0,0,0,0,0,0,0,0,0,0,0,0,0,0,0,0,0,0,0,0,0,0,0,0,0,0,0,0,0,0,0,0,0,0,0,0,0,0,0,0,0,0,0,0,0,0,0,0,0,0,0,0,0,0,0,0,0,0,1,0,0,0,0,0,0,0,0,0,0,0,0,0,0,0,0,0,0,0,0,0,0,0,0,0,0,0,0,0,0,0,0,0,0,0,0,0,0,0,0,0,0,0,0,0,0,0,0,0,0,0,0,0,0,0,0,0,0,0,0,0,0,0,0,1,0,0,0,0,0,0,0,0,0,0,0,0,0,0,0,0,0,0,0,0,0,0,0,0,0,0,0,0,0,0,0,0,0,0,0,0,0,0,0,0,0,0,0,0,0,0,0,0,0,0,0,0,0,0,0,0,0,0,0,0,0,0,0,0,0,0,0,0,0,0,0,0,0,0,0,0,0,0,0,0,0,0,0,0,0,0,0,1,0,0,0]
[0,0,0,0,0,0,0,0,0,0,0,0,0,0,0,0,0,0,0,1,0,0,0,0,0,0,0,0,0,0,0,0,0,0,0,0,0,0,0,0,0,0,0,0,0,0,0,0,0,1,0,0,0,0,0,0,0,0,0,0,0,0,0,0,0,0,0,0,0,0,0,0,0,0,0,0,0,0,0,0,0,0,0,0,0,0,0,0,0,0,0,0,0,0,0,0,0,0,0,0,0,0,0,0,0,0,0,0,0,0,0,0,0,0,0,0,1,0,0,0,0,0,0,0,0,0,0,0,0,0,1,0,0,0,0,0,0,0,0,0,0,0,0,0,0,0,0,0,0,1,0,0,0,0,0,0,0,0,0,0,0,0,1,0,0,0,0,0,0,0,0,0,0,0,0,0,0,0,0,0,0,0,0,0,0,0,0,1,0,0,0,0,0,1,0,0,0,0,0,0,0,0,0,0,0,0,0,0,0,0,0,0,0,0,0,0,0,0,0,0,1,0,0,0,0,0,0,0,0,0,0,0,0,0,0,0,0,0,0,0,0,0,0,0,0,0,0,0,0,0,0,0,0,0,0,0,0,0,0,0,0,0,0,0,0,0,0,0,0,0,0,0,0,0,0,0,0,0,0,0,0,0,0,0,0,0,0,0,0,0,0,0,0,0,0,0,0,0,0,0,0,0,0,0,0,0,0,0,0,0,0,0,0,0,0,0,0,0,0,0,0,0,0,0,0,0]
[0,0,0,0,0,0,0,0,0,0,0,0,0,0,0,0,0,0,0,0,0,0,0,0,1,0,0,0,0,0,0,0,0,0,0,0,0,0,0,0,0,0,0,0,0,0,0,0,0,0,0,0,0,0,0,0,0,0,0,0,0,0,0,0,0,0,0,0,0,0,0,0,0,0,0,0,0,0,0,0,0,0,0,0,0,0,1,0,0,0,0,0,0,0,0,0,0,0,0,0,0,0,0,0,0,0,0,0,0,0,0,0,0,0,0,0,0,0,0,0,0,0,0,0,0,0,0,0,0,0,0,0,0,0,0,0,0,0,0,0,0,0,0,0,0,0,0,0,0,0,0,0,0,1,0,0,0,0,0,0,0,0,0,0,0,0,0,0,0,0,0,0,0,0,0,0,0,0,0,0,0,1,0,0,0,0,0,0,0,0,0,0,0,0,0,0,0,0,0,0,0,0,0,0,0,0,0,0,0,0,0,0,0,0,0,0,0,0,0,0,0,0,0,0,0,0,0,0,0,0,0,0,0,0,0,0,0,0,0,1,1,0,0,0,0,0,0,0,0,0,0,0,0,0,0,0,0,0,0,0,0,0,0,0,0,0,0,0,0,0,0,0,0,0,0,0,0,0,0,0,0,0,0,0,0,0,0,0,0,0,0,0,0,0,0,0,0,0,0,0,0,0,0,0,0,0,1,0,0,0,0,0,0,0,0,0,0,0,0,0,0,0,0,0,0,0]
[0,0,0,0,0,0,0,0,0,0,0,0,0,0,0,0,0,0,0,0,0,0,0,0,0,0,0,0,0,0,0,0,0,0,0,0,0,0,0,0,0,0,1,0,0,0,0,0,0,0,0,0,0,0,0,0,0,0,0,0,0,0,0,0,0,0,0,0,0,0,0,0,0,0,0,0,0,0,0,0,0,1,0,0,0,0,0,0,0,0,0,0,0,0,0,0,0,0,0,0,1,0,0,0,0,0,0,0,0,0,0,0,0,0,0,0,0,0,0,0,0,0,0,0,0,0,0,0,0,0,0,0,0,1,0,0,0,0,0,0,0,0,0,0,0,0,0,0,0,0,0,0,0,0,0,0,0,0,0,0,0,0,0,0,0,0,0,0,0,0,0,0,0,0,0,0,0,0,0,0,0,0,0,0,0,0,0,0,0,0,0,0,0,0,0,0,0,1,0,0,0,0,0,0,0,0,0,0,0,0,0,0,0,0,0,0,0,0,0,0,0,0,0,0,0,0,0,0,0,0,0,0,0,0,0,1,0,0,0,0,0,0,0,0,0,0,0,0,0,0,0,0,0,0,0,0,0,0,0,0,0,0,0,0,0,0,0,0,0,0,0,0,0,0,0,0,0,0,0,0,0,0,0,0,0,0,0,0,0,0,0,0,0,0,0,0,0,0,0,0,0,0,0,0,0,0,0,0,0,0,0,0,0,0,0,0,0,0,0,0,0,0,0,0,0,0]
[0,0,0,0,0,0,0,0,1,1,0,0,0,0,0,0,0,1,0,0,0,0,0,0,0,0,0,0,0,0,1,0,0,0,0,1,0,0,0,0,0,0,0,1,0,0,0,0,0,0,0,0,0,0,0,0,0,0,0,0,1,0,0,0,0,0,0,0,0,0,1,0,0,0,0,0,0,0,0,0,1,0,0,0,0,0,0,0,0,0,0,0,0,0,1,0,0,0,0,0,0,0,0,0,0,0,0,0,0,0,1,0,1,0,0,1,0,1,0,0,1,0,0,0,0,1,0,0,0,1,0,0,1,0,0,0,0,0,1,1,0,0,0,1,0,0,1,0,0,0,0,1,0,0,0,0,0,0,0,0,0,0,0,0,1,0,0,0,0,0,0,0,0,0,0,1,0,0,0,0,0,0,0,0,0,0,0,0,0,0,0,0,0,0,0,0,0,0,0,0,0,0,0,0,1,0,0,0,0,1,0,0,0,0,0,0,0,0,0,0,0,0,0,0,0,0,0,0,0,0,0,0,0,0,0,0,0,0,0,0,0,0,0,0,0,0,0,0,0,0,0,1,0,0,0,0,0,0,0,0,0,0,0,0,0,0,0,1,0,0,0,0,0,0,0,0,0,0,0,0,0,0,0,0,0,1,0,0,0,0,0,0,1,1,0,0,0,0,0,0,0,0,0,0,0,0,0,0,0,1,0,0,0,0,0,0,0,0,0,0,0,0,0,0,0,0]
[0,0,0,0,0,0,0,0,0,0,0,0,0,0,0,0,0,0,0,0,0,0,0,0,0,0,0,0,0,0,0,0,0,0,0,0,0,0,0,0,0,0,0,0,0,0,0,0,0,0,0,0,0,0,0,0,0,0,0,0,0,0,0,0,0,0,0,0,0,0,0,0,0,0,0,0,0,0,0,0,0,0,0,0,0,0,0,0,0,0,0,0,0,0,0,0,0,0,0,0,0,0,0,0,0,0,0,0,0,0,0,0,0,1,0,0,0,0,0,0,0,0,0,0,0,0,0,0,0,0,0,0,0,0,0,0,0,0,0,0,0,0,0,0,0,1,0,0,0,0,0,0,0,0,1,0,0,0,0,0,0,0,0,0,0,0,0,0,0,0,0,0,0,0,0,0,0,0,0,0,0,0,0,0,0,0,0,0,0,0,0,0,0,0,0,0,0,0,0,0,0,0,0,0,0,0,0,0,0,0,0,0,0,0,0,0,0,0,0,0,0,0,0,0,0,0,1,0,0,0,0,0,0,0,0,0,0,0,0,0,0,0,0,0,0,0,0,0,0,0,0,0,0,0,0,1,0,0,0,0,0,0,0,0,0,0,0,0,0,0,0,0,0,0,0,0,0,0,0,0,0,0,0,0,0,0,0,0,0,0,0,0,0,0,0,0,0,0,0,0,0,0,0,0,0,0,0,0,0,0,0,0,0,0,0,1,0,0,0,0,0,0,0,0,0,0]
[0,0,0,0,0,0,0,0,0,0,0,0,0,0,0,0,0,0,0,0,0,0,0,0,0,0,0,0,0,0,0,0,0,0,0,0,0,0,0,0,0,0,0,0,0,0,0,0,0,0,0,0,0,0,0,0,0,0,0,0,0,0,0,0,0,0,0,0,1,0,0,0,0,0,0,0,0,0,0,0,0,0,0,0,0,0,0,0,0,0,0,0,0,0,0,0,0,0,0,0,0,0,0,0,0,0,0,0,0,0,0,0,0,0,1,0,0,0,0,1,0,0,0,0,0,0,0,0,0,0,0,0,0,0,0,0,0,0,0,0,0,0,0,0,0,0,0,0,0,0,0,0,0,0,0,0,0,0,0,0,0,0,0,0,0,0,0,0,0,0,0,0,0,0,0,0,0,0,0,0,0,0,0,0,0,0,0,0,0,0,0,0,0,0,0,0,0,0,0,0,0,0,0,0,0,0,0,0,0,0,1,0,0,0,0,0,0,0,0,0,0,1,0,0,1,0,0,1,0,0,0,0,0,0,0,0,0,0,0,0,0,0,0,0,0,0,0,0,0,0,0,0,0,0,0,0,0,0,0,0,0,0,0,0,0,0,0,0,0,0,0,0,0,0,0,0,0,0,0,0,0,0,0,0,0,0,0,0,0,0,0,0,0,0,0,0,0,0,0,0,0,0,0,0,0,0,0,0,0,0,0,0,0,0,0,0,0,0,0,0,0,0,0,0,0,1]
[0,0,0,0,0,0,0,0,0,0,0,0,0,0,0,0,0,0,0,0,0,0,0,0,0,0,0,0,0,0,0,0,0,0,0,0,0,0,0,0,0,0,0,0,0,0,0,0,0,0,0,0,0,0,0,0,0,0,0,0,0,0,0,1,0,0,0,0,0,0,0,0,0,0,1,0,0,0,0,0,0,0,0,0,0,0,0,1,0,0,0,0,0,0,0,0,0,0,0,0,0,0,0,0,0,0,0,0,0,0,0,0,0,0,0,0,0,0,0,0,0,0,0,0,0,0,0,0,0,0,0,0,0,0,0,0,0,0,0,0,1,0,0,0,0,0,0,0,0,0,0,0,0,0,0,0,0,0,0,0,0,0,0,0,0,0,0,0,0,0,0,0,0,0,0,0,0,0,0,0,0,0,0,0,0,0,0,0,1,0,0,0,0,0,0,0,0,0,0,0,0,0,0,0,0,0,0,0,0,0,0,0,0,0,0,0,0,0,0,0,0,0,0,0,0,0,0,0,0,0,0,0,0,0,0,0,0,0,0,0,0,0,0,1,0,0,0,0,0,0,0,0,0,0,0,0,0,0,0,0,0,0,0,0,0,0,0,0,0,0,0,0,0,0,0,0,0,0,0,0,0,0,0,0,0,0,0,0,0,0,0,0,0,0,0,0,0,0,0,0,1,0,0,0,0,0,0,0,0,0,0,0,0,0,0,0,0,0,0,0,0,0,0,0,0,0]
[0,0,0,0,0,0,0,0,0,0,0,0,0,0,0,0,0,0,0,0,0,0,0,0,0,0,0,0,0,0,0,0,0,0,0,0,0,0,0,0,0,0,0,0,0,0,0,0,0,0,0,0,0,0,0,0,0,0,0,0,0,0,0,0,0,0,0,0,0,0,0,0,0,0,0,0,0,0,0,0,0,0,0,0,0,0,0,0,0,0,0,0,0,0,0,0,0,0,0,0,0,0,0,0,0,0,0,0,0,0,0,0,0,0,0,0,0,0,0,0,0,0,0,0,0,0,0,0,0,0,0,0,0,0,0,0,0,0,0,0,0,0,0,0,0,0,0,0,0,0,0,0,0,0,0,0,0,0,0,0,0,0,0,0,0,0,0,0,0,0,0,0,0,0,0,0,0,0,0,0,0,0,0,0,0,0,0,0,0,1,0,0,0,0,0,0,0,0,0,0,0,0,0,0,0,0,0,0,0,0,0,0,0,0,0,0,0,0,0,0,0,0,0,0,0,0,0,0,0,0,0,0,0,0,0,0,0,0,0,0,0,0,0,0,0,0,0,0,0,0,0,0,0,0,0,0,0,0,0,0,0,0,0,0,0,0,0,0,0,0,0,0,0,0,0,0,0,0,0,0,0,0,0,0,0,0,0,0,0,0,0,0,0,0,0,0,0,0,0,0,0,0,0,0,0,0,0,0,0,0,0,0,0,0,0,0,0,0,0,0,0,0,0,0,0,0]
[0,0,0,0,0,0,0,0,0,0,0,0,0,0,0,0,0,0,0,0,0,0,0,0,0,0,0,0,0,0,0,0,0,0,0,0,0,0,0,0,0,0,0,0,0,0,0,0,0,0,0,0,1,0,0,0,0,0,0,0,0,0,0,0,0,0,0,0,0,0,0,0,0,0,0,0,0,0,0,0,0,0,0,0,0,0,0,0,0,0,0,0,0,0,0,0,0,0,0,0,0,0,0,0,0,0,0,0,0,0,0,0,0,0,0,0,0,0,0,0,0,0,0,0,0,0,0,0,0,0,0,0,0,0,0,0,0,0,0,0,0,0,0,0,0,0,0,0,0,0,0,0,0,0,0,0,0,0,0,0,0,0,0,0,0,0,0,0,0,0,0,0,0,0,0,0,0,0,0,0,0,0,0,0,0,0,0,0,0,0,0,0,0,0,0,1,0,0,0,0,0,0,0,0,0,0,0,0,0,0,0,0,0,0,0,0,0,0,0,0,0,0,0,0,0,0,0,0,0,0,0,0,0,0,0,0,0,0,0,0,0,0,0,0,1,0,0,0,0,0,0,0,0,0,0,0,0,0,0,0,0,0,0,0,0,0,0,0,0,0,0,0,0,0,0,0,0,0,0,0,0,0,0,0,0,0,0,0,0,1,0,0,0,0,0,0,0,0,0,0,0,0,0,0,0,0,0,1,0,0,0,0,0,0,0,0,0,0,0,0,0,0,0,0,0,0]
[0,0,0,0,0,0,0,0,0,0,0,0,0,0,0,0,0,0,0,0,0,0,0,0,0,0,0,0,0,0,0,0,0,0,0,0,0,0,0,0,0,0,0,0,0,0,0,0,0,0,0,0,0,0,0,0,0,0,0,0,0,0,0,0,0,0,0,0,0,0,0,0,0,0,0,0,0,0,0,0,0,0,0,0,0,0,0,0,0,0,0,0,0,0,0,0,0,0,0,0,0,0,0,0,0,0,0,0,0,0,0,0,0,0,0,0,0,0,0,0,0,0,0,0,0,0,0,0,0,0,0,0,0,0,0,0,0,0,0,0,0,0,0,0,0,0,0,0,0,0,0,0,0,0,0,0,0,0,0,0,0,0,0,1,0,0,0,0,0,0,0,0,0,0,0,0,0,0,0,0,0,0,0,0,0,0,0,0,0,0,0,0,0,0,0,0,0,0,0,0,0,0,0,0,0,0,0,0,0,0,0,0,0,0,0,0,0,0,0,0,0,0,0,0,0,1,0,0,0,0,0,0,0,0,0,0,0,0,0,0,0,0,0,0,0,0,1,0,0,0,0,0,0,0,0,0,0,0,0,0,0,0,0,0,0,0,0,0,0,0,0,0,0,1,0,0,0,0,0,0,0,0,0,0,0,0,0,0,0,0,0,0,0,0,0,0,0,0,0,0,0,0,0,0,0,0,0,0,1,0,0,0,0,0,0,0,0,0,0,0,0,0,0,0,0,0]
[0,0,0,0,0,0,0,0,0,0,1,0,0,0,0,0,0,0,0,0,0,0,0,0,0,0,0,0,0,0,0,0,0,0,0,0,0,0,0,0,0,0,0,0,0,0,0,0,0,0,0,0,0,0,0,0,0,0,0,0,0,0,0,0,0,0,0,0,0,0,0,0,0,0,0,0,0,1,0,0,0,0,0,0,0,0,0,0,0,0,0,0,0,0,0,0,0,0,0,0,0,0,0,0,0,0,0,0,0,0,0,0,0,0,0,0,0,0,0,0,0,0,0,0,0,0,0,0,0,0,0,0,0,0,0,0,0,0,0,0,0,0,0,0,0,0,0,0,0,0,0,0,0,0,0,0,0,0,0,0,0,0,0,0,0,0,0,0,0,0,0,0,0,0,0,0,0,0,0,0,0,0,0,0,0,0,0,0,0,0,0,0,0,0,0,0,0,0,0,0,0,0,0,0,0,0,0,0,0,0,0,0,0,0,0,1,0,0,0,0,0,0,0,0,0,0,0,0,0,1,0,0,0,0,0,0,0,0,0,0,0,0,0,0,0,0,0,0,0,0,0,0,0,0,0,0,0,0,0,0,0,0,0,0,0,0,0,0,0,0,0,0,0,0,0,0,0,0,0,0,0,0,0,0,0,0,0,0,0,0,0,0,0,0,0,0,0,0,0,0,0,0,0,0,0,0,0,0,0,0,0,0,0,0,0,0,0,0,0,0,0,0,0,0,0,0]
[{"$f":"IF(OR(A85=1,A73=1),1,0)","v":0},0,0,0,0,0,0,0,0,0,1,0,0,0,0,0,0,0,0,0,0,0,0,0,0,0,0,1,0,0,0,0,0,0,0,0,0,0,0,0,0,1,0,0,0,0,0,0,0,0,0,0,0,0,0,0,0,0,0,0,0,0,0,0,{"$f":"IF(OR(BM85=1,BM73=1),1,0)","v":0},0,0,0,0,0,0,0,0,0,0,0,0,1,0,0,0,0,0,0,0,0,0,0,0,0,0,0,0,0,0,0,0,0,0,0,0,0,0,0,0,0,0,0,0,0,0,0,0,0,0,0,0,0,0,0,0,0,0,0,0,0,0,0,{"$f":"IF(OR(DY85=1,DY73=1),1,0)","v":0},0,0,0,0,0,0,0,0,0,0,0,0,0,0,0,1,0,0,0,1,0,0,0,0,0,0,0,0,0,0,0,0,0,0,0,0,0,0,0,0,0,0,0,0,0,0,0,0,0,0,0,0,0,0,0,0,0,0,0,0,0,0,0,{"$f":"IF(OR(GK85=1,GK73=1),1,0)","v":0},0,0,0,0,0,0,0,0,0,0,0,0,0,0,0,0,0,0,0,0,0,0,1,0,0,0,0,0,0,0,0,0,0,0,0,0,1,0,0,0,0,0,0,0,0,0,0,0,0,0,0,0,0,0,0,0,0,0,0,0,0,0,0,{"$f":"IF(OR(IW85=1,IW73=1),1,0)","v":0},0,0,0,0,0,0,0,0,0,0,0,0,0,0,0,0,0,0,0,0,0,0,0,0,0,0,0,0,0,0,0,0,0,1,0,0,0,0,0,0,0,0,0,0,0,0,0,0,0,0,0,0,0,0,0,0,0,0,0,0,0,0,0,{"$f":"IF(OR(LI85=1,LI73=1),1,0)","v":0},0,0,0,0,0]
[0,0,0,0,0,0,0,0,0,0,0,0,0,0,0,0,0,0,0,0,0,0,0,0,0,0,0,0,0,0,0,0,0,0,0,0,0,0,0,0,0,0,0,0,1,0,0,0,0,0,0,0,0,0,0,0,0,0,0,0,0,0,0,0,0,0,0,0,0,0,0,0,0,0,0,0,0,0,0,0,0,0,0,0,0,0,0,0,0,1,0,0,0,0,0,0,0,0,0,0,0,0,0,0,0,0,0,0,0,0,0,0,0,0,0,0,0,0,0,0,0,0,0,0,0,0,0,0,0,0,0,0,0,0,0,0,0,0,0,0,0,0,0,0,0,0,0,0,0,0,0,0,1,0,0,0,0,0,0,0,0,0,0,0,0,0,0,0,0,0,0,0,0,0,1,0,0,0,0,0,0,0,0,0,0,0,0,0,0,0,0,0,0,0,0,0,0,0,0,0,0,0,0,0,0,0,0,0,0,0,0,0,0,0,0,0,0,0,0,0,0,0,0,0,0,0,0,0,0,0,0,0,0,0,0,0,0,0,0,0,0,0,0,0,0,0,0,1,0,0,0,0,0,0,0,0,1,1,0,0,0,1,0,0,0,0,0,0,0,0,0,1,0,0,0,0,0,0,0,0,0,0,0,0,0,0,0,0,0,0,0,0,0,0,0,0,0,0,0,0,0,0,0,0,0,0,0,0,0,0,0,0,0,0,0,0,0,0,0,0,0,0,0,0,0,0]
[0,0,0,0,0,0,0,0,0,0,0,0,0,0,0,0,0,0,0,0,0,0,0,0,0,0,0,0,0,0,0,0,0,0,0,0,0,0,0,0,0,0,0,0,0,0,0,0,0,0,0,0,0,1,1,0,0,0,0,0,0,0,0,0,0,0,0,0,0,0,0,0,0,0,0,0,0,0,0,0,0,0,0,0,0,0,0,0,0,0,0,0,0,0,0,0,0,0,0,0,0,0,0,0,0,0,0,0,0,0,0,0,0,0,0,0,0,0,0,0,0,0,0,0,0,0,0,0,0,0,0,0,0,0,0,0,0,0,0,0,0,0,0,0,0,0,0,0,0,0,0,0,0,0,0,0,0,0,0,0,0,0,0,0,0,0,0,0,0,0,0,0,0,0,0,0,0,0,0,0,0,0,0,0,0,0,0,0,0,0,0,0,0,0,0,0,0,0,0,0,0,0,0,0,0,0,0,0,0,0,0,0,0,0,0,0,0,0,0,0,0,0,0,0,0,0,0,0,0,0,0,0,0,0,0,0,0,0,0,0,0,0,0,0,0,0,0,0,0,0,0,0,0,0,0,0,0,0,0,0,0,0,0,0,0,0,0,0,0,0,0,0,0,0,0,0,0,0,0,0,0,0,0,0,0,0,0,0,0,0,0,0,0,0,1,0,0,0,0,0,0,0,0,0,0,0,0,0,0,0,0,0,0,0,0,0,0,0,0,0,0,0,0,0,0,0]
[0,0,0,0,0,0,0,0,0,0,0,0,0,1,0,0,0,0,0,0,0,0,0,0,0,0,0,0,0,0,0,0,0,0,0,0,0,0,0,0,0,0,0,0,0,0,0,0,0,0,0,0,0,0,0,0,0,0,0,0,0,0,0,0,0,0,0,0,0,0,0,0,0,0,0,0,0,0,0,0,0,0,0,0,1,0,0,0,0,0,0,1,0,0,0,0,0,0,0,1,0,0,0,0,0,0,0,1,0,0,0,0,0,0,0,0,0,0,0,0,0,1,0,0,1,0,0,0,0,0,0,0,0,0,0,0,1,0,0,0,0,0,0,0,0,0,0,0,0,0,0,0,0,0,0,0,0,0,0,0,0,0,0,0,0,0,0,0,0,0,0,1,0,0,0,0,0,0,0,0,0,0,0,0,0,0,0,0,0,0,0,0,0,0,0,0,0,0,0,0,1,0,0,0,0,0,0,0,0,0,0,0,0,0,0,0,0,0,0,1,0,0,0,0,0,0,0,0,0,0,0,0,0,0,0,0,0,0,0,0,0,0,0,0,0,0,0,0,0,1,0,0,0,0,0,0,0,0,0,0,0,0,0,0,0,0,0,0,0,0,0,0,0,0,0,0,0,1,0,0,0,0,0,0,0,0,0,0,0,0,0,0,0,0,0,0,0,0,0,0,0,0,0,0,0,0,0,0,0,0,0,0,0,1,0,0,0,0,0,0,0,0,0,0,0,0]
[0,0,0,0,1,0,0,0,0,0,0,0,0,0,1,0,0,0,0,0,0,0,0,0,0,0,0,0,0,0,0,0,0,0,0,0,0,0,1,0,0,0,0,0,0,0,0,0,0,0,0,0,0,0,0,0,0,0,0,0,0,0,0,0,0,0,0,0,0,0,0,0,0,0,0,0,0,0,0,0,0,0,0,0,0,0,0,0,0,0,0,0,0,0,0,0,0,0,0,0,0,0,0,0,0,1,0,0,0,0,0,0,0,0,0,0,0,0,0,0,0,0,0,0,0,0,0,0,0,0,0,0,0,0,0,0,0,0,0,0,0,0,0,0,0,0,0,0,0,0,0,0,0,0,0,0,0,0,0,0,1,0,0,0,0,0,0,0,0,0,0,0,1,0,0,0,0,0,0,0,0,0,0,0,0,0,0,0,0,0,0,1,0,0,0,0,0,0,0,0,0,0,0,0,0,0,0,0,0,0,0,0,0,0,0,0,0,0,1,0,0,0,0,0,0,0,0,0,0,0,0,0,0,0,0,0,0,0,0,0,0,0,0,0,0,0,0,0,0,0,0,0,0,0,0,0,0,0,0,0,0,0,0,0,0,0,0,0,0,0,0,0,0,0,0,0,0,0,0,0,0,0,0,0,0,0,0,0,0,0,0,0,0,0,0,0,0,0,0,0,0,0,0,0,0,0,0,0,0,0,0,0,0,0,0,0,0,0,0,0,0,0,0,0,0,0]
[0,0,0,0,0,0,0,0,0,0,0,0,0,0,0,0,0,0,0,0,0,0,0,0,0,0,0,0,0,0,0,0,0,0,0,0,1,0,0,0,0,0,0,0,0,0,0,0,0,0,0,0,0,0,0,0,0,0,0,0,0,0,0,0,0,0,0,0,0,0,0,0,0,0,0,0,0,0,0,0,0,0,0,0,0,0,0,0,0,0,0,0,0,0,0,0,0,0,0,0,0,0,0,0,0,0,0,0,0,0,0,0,0,0,0,0,0,0,0,0,0,0,0,0,0,0,1,0,0,0,0,0,0,0,0,0,0,0,0,0,0,0,0,0,0,0,0,0,0,0,0,0,0,0,0,0,0,0,1,0,0,0,0,0,0,0,0,0,0,0,0,0,0,0,0,0,0,0,0,0,0,0,0,0,0,0,0,0,0,0,0,0,0,0,0,0,0,0,0,0,0,0,0,0,0,0,1,0,0,0,0,0,0,0,0,0,0,0,0,0,0,0,0,0,0,0,0,0,0,0,0,0,0,0,0,0,0,0,0,0,0,0,0,0,0,0,0,0,0,0,0,0,0,0,0,0,0,0,0,0,0,0,0,0,0,0,0,0,0,0,0,0,0,0,0,0,0,0,0,0,0,0,0,0,0,0,0,0,0,0,0,0,0,0,0,0,0,0,0,0,0,0,0,0,0,0,0,0,0,0,0,0,0,0,0,0,0,0,0,1,0,1,0,0,1,0]
[0,0,0,0,0,0,0,1,0,0,0,0,0,0,0,0,0,0,0,0,0,0,0,0,0,0,0,0,0,0,0,0,0,0,0,0,0,0,0,0,0,0,0,0,0,0,0,0,0,0,0,0,0,0,0,0,0,0,0,0,0,0,0,0,0,0,0,0,0,0,0,0,0,0,0,0,0,0,0,0,0,0,0,0,0,0,0,0,0,0,0,0,0,0,0,0,0,0,0,0,0,1,0,0,0,0,0,0,0,0,0,0,0,0,0,0,0,0,0,0,0,0,0,0,0,0,0,0,0,0,0,0,0,0,0,1,0,0,0,0,0,0,0,0,0,0,0,0,0,0,0,0,0,0,0,0,0,0,0,0,0,0,0,0,0,0,1,0,0,0,0,0,0,0,0,0,0,0,0,0,0,0,0,0,0,0,0,0,0,0,0,0,0,0,0,0,0,0,0,0,0,0,0,0,0,0,0,0,0,0,0,0,0,0,0,0,0,0,0,0,0,0,0,0,0,0,0,0,0,0,0,0,0,0,0,0,0,0,0,0,0,0,0,0,0,0,0,0,0,0,0,0,0,0,1,0,0,0,0,0,0,0,0,0,1,0,0,0,0,0,0,0,0,0,0,0,0,0,0,0,0,0,0,0,0,0,0,0,0,0,0,0,0,0,0,0,0,1,0,0,0,0,0,0,0,0,0,0,0,0,0,0,0,0,0,0,0,0,0,0,0,0,0,0,0,0]
[0,0,0,0,0,0,0,0,0,0,0,0,0,0,0,0,1,0,0,0,0,0,0,0,0,0,0,0,0,0,0,0,0,0,0,0,0,0,0,0,0,0,0,0,0,0,0,0,1,0,0,0,0,0,0,0,0,0,0,0,0,0,0,0,0,0,0,0,0,0,0,0,0,0,0,0,0,0,0,0,0,0,0,0,0,0,0,0,0,0,0,0,0,0,0,0,0,0,0,0,0,0,0,0,0,0,0,0,0,0,0,0,0,0,0,0,0,0,0,0,0,0,0,0,0,0,0,0,0,0,0,0,0,0,0,0,0,0,0,0,0,0,0,0,0,0,0,0,0,0,0,0,0,0,0,1,0,0,0,0,0,0,0,0,0,0,0,0,0,0,0,0,0,0,0,0,0,0,0,0,0,0,0,0,0,0,0,0,0,0,0,0,0,0,0,0,0,0,0,0,0,0,0,0,0,0,0,0,0,0,0,0,0,0,0,0,0,0,0,0,0,0,0,0,0,0,0,0,0,0,0,0,0,0,0,0,0,0,0,0,0,0,0,0,0,0,0,0,0,0,0,0,0,0,0,0,0,0,0,0,0,0,0,0,0,0,0,0,0,0,0,0,0,0,0,0,0,0,0,0,0,0,0,0,0,0,0,0,0,0,0,0,0,0,0,0,0,0,0,0,0,0,0,0,0,0,0,0,0,0,0,0,0,0,0,0,0,0,0,0,0,0,0,0,0,0]
[0,0,0,0,0,0,0,0,0,0,0,0,0,0,0,0,0,0,0,0,0,0,0,0,0,0,0,0,0,0,0,0,0,0,0,0,0,0,0,0,0,0,0,0,0,0,0,0,0,0,0,0,0,0,0,0,0,0,0,0,0,0,0,0,0,0,0,0,0,0,0,0,1,0,0,0,0,0,0,0,0,0,0,0,0,0,0,0,0,0,0,0,0,0,0,0,0,0,0,0,0,0,0,0,0,0,0,0,0,0,0,0,0,0,0,0,0,0,0,0,0,0,1,0,0,0,0,0,0,0,0,0,0,0,0,0,0,0,0,0,0,0,0,0,0,0,0,0,0,0,0,0,0,0,0,0,0,0,0,0,0,0,0,0,0,0,0,0,1,0,0,0,0,0,0,0,0,0,0,0,0,0,0,0,0,0,0,0,0,0,0,0,0,0,0,0,0,0,0,0,0,0,0,0,0,1,0,0,0,0,0,0,0,0,0,0,0,0,0,0,0,0,0,0,0,0,0,0,0,0,0,0,0,0,0,0,0,0,0,0,0,0,0,0,0,0,0,0,0,0,0,0,0,0,0,0,0,0,0,0,1,0,0,0,0,0,0,0,0,0,0,0,0,0,0,0,0,0,0,0,0,0,0,0,0,0,0,0,0,0,0,0,0,0,0,0,0,0,0,0,0,0,0,0,0,0,0,0,0,0,0,0,0,0,0,0,0,0,0,0,0,0,0,0,0,0]
[0,0,0,0,0,0,0,0,0,0,0,0,0,0,0,0,0,0,0,0,0,0,0,0,0,0,0,0,0,0,0,0,0,0,0,0,0,0,0,0,0,0,0,0,0,0,0,0,0,0,0,0,0,0,0,0,0,0,0,0,0,0,0,0,0,0,0,0,0,0,0,0,0,0,0,0,0,0,0,0,0,0,0,0,0,0,0,0,0,0,0,0,0,0,0,0,0,0,0,0,0,0,0,0,1,0,0,0,0,0,0,0,0,0,0,0,0,0,0,0,0,0,0,0,0,0,0,0,0,0,0,0,0,0,0,0,0,0,0,0,0,0,0,0,0,0,0,0,0,0,0,0,0,0,0,0,0,0,0,0,0,0,0,0,0,0,0,0,0,0,0,0,0,1,0,0,0,0,0,0,0,0,0,0,0,1,0,0,0,0,0,0,0,0,0,0,0,0,0,0,0,0,0,0,0,0,0,0,0,0,0,0,0,0,0,0,0,0,0,0,0,0,0,0,0,0,0,0,0,0,0,0,0,0,0,0,0,0,0,0,0,0,0,0,0,0,0,0,1,0,0,0,0,0,0,0,0,0,0,0,0,0,0,0,0,1,0,0,0,0,0,0,0,0,0,0,0,0,0,0,0,0,0,0,0,0,0,0,0,0,0,0,0,0,0,0,0,0,0,0,0,0,0,0,0,0,0,0,0,0,0,0,0,0,0,0,0,0,0,0,0,0,0,0,0,0]
[0,0,0,0,0,0,0,0,0,0,0,0,0,0,0,1,0,0,0,0,0,0,0,0,0,0,0,0,0,0,0,0,0,1,0,0,0,0,0,0,0,0,0,0,0,0,0,0,0,0,0,0,0,0,0,0,0,0,0,0,0,0,0,0,0,0,0,0,0,0,0,0,0,0,0,0,0,0,0,0,0,0,0,0,0,0,0,0,0,0,0,0,0,0,0,0,0,0,0,0,0,0,0,0,0,0,0,0,0,0,0,0,0,0,0,0,0,0,0,0,0,0,0,0,0,0,0,0,0,0,0,0,0,0,0,0,0,0,0,0,0,0,0,0,0,0,0,0,0,0,0,0,0,0,0,0,0,0,0,0,0,0,0,0,0,0,0,0,0,0,0,0,0,0,0,0,0,0,0,0,0,0,0,0,1,0,0,0,0,0,0,0,0,0,0,0,0,0,0,0,0,0,0,0,0,0,0,0,0,0,0,0,0,0,0,0,0,0,0,0,0,0,0,0,0,0,0,0,0,0,0,0,0,0,0,0,0,1,0,0,0,0,0,0,0,0,0,0,0,0,0,0,0,0,0,0,0,0,0,0,0,0,0,0,0,0,0,0,0,0,0,0,0,0,0,0,0,0,0,0,0,0,0,0,0,0,0,0,0,0,0,0,0,0,0,0,0,0,0,0,0,0,0,0,0,0,0,0,0,0,0,0,0,0,0,0,0,0,0,0,0,0,0,0,0,0]
[0,0,0,0,0,0,0,0,0,0,0,0,0,0,0,0,0,0,0,0,0,0,0,0,0,0,0,1,0,0,0,0,0,0,0,0,0,0,0,0,0,1,0,0,0,0,0,0,0,0,0,0,0,0,0,0,0,0,0,0,0,0,0,0,0,0,0,0,0,0,0,0,0,0,0,0,0,0,0,0,0,0,0,0,0,0,0,0,0,0,0,0,0,0,0,0,0,0,0,0,0,0,0,0,0,0,0,0,0,0,0,0,0,0,0,0,0,0,0,0,0,0,0,0,0,0,0,0,0,0,0,0,0,0,0,0,0,0,0,0,0,0,0,0,1,0,0,0,1,0,0,0,0,0,0,0,0,0,0,0,0,0,0,0,0,0,0,0,0,0,0,0,0,0,0,0,0,0,0,0,0,0,0,0,0,0,0,0,0,0,0,0,0,0,0,0,0,0,0,0,0,0,0,0,0,0,0,0,0,0,0,0,0,0,0,0,0,0,0,0,0,0,0,0,0,0,0,0,0,0,0,0,0,0,0,0,0,0,0,0,0,0,0,0,0,0,0,0,0,0,0,0,0,0,0,0,0,0,0,0,0,0,0,0,0,0,0,0,0,0,0,0,0,0,0,0,0,0,0,0,0,0,0,0,0,0,0,0,0,0,1,0,0,0,0,0,0,0,0,0,0,0,0,0,0,0,0,0,0,0,0,0,0,0,0,0,0,0,0,0,0,0,0,0,0,0]
[0,0,0,0,0,0,0,0,0,0,0,0,0,0,0,0,0,0,0,0,0,0,0,0,0,0,0,0,0,0,0,0,0,0,0,0,0,0,0,0,0,0,0,0,0,0,0,0,0,0,0,0,0,0,0,0,0,0,0,0,0,0,0,0,0,0,0,0,0,0,0,0,0,0,0,0,0,0,0,0,0,0,0,0,0,0,0,0,0,0,0,0,0,0,0,0,0,0,0,0,0,0,0,0,0,0,0,0,0,0,0,0,0,0,0,0,0,0,0,0,0,0,0,0,0,0,0,0,0,0,0,0,0,0,0,0,0,0,0,0,0,0,0,0,0,0,0,0,0,0,0,0,0,0,0,0,0,0,0,0,0,0,0,0,0,0,0,0,0,0,0,0,0,0,0,0,0,0,0,0,0,0,0,0,0,0,0,0,0,0,0,0,0,0,0,0,0,0,0,0,0,0,0,0,0,0,0,0,0,0,0,0,0,0,0,0,0,0,0,0,0,0,0,0,0,0,0,0,0,0,0,0,0,0,0,0,0,0,0,0,0,0,0,0,0,0,0,0,0,0,0,0,0,0,0,0,0,0,0,0,0,0,0,0,0,0,0,0,0,1,0,0,0,0,0,0,0,0,0,0,0,0,0,0,0,0,0,0,0,0,0,0,0,0,0,0,0,0,0,0,0,0,0,0,0,0,0,0,0,0,0,0,1,0,0,0,0,0,0,0,0,0,0,0,0,0]
[]
[0,0,0,0,0,0,1,0,0,0,0,0,0,0,0,0,0,0,0,0,0,0,0,0,0,0,0,0,0,0,0,0,0,0,0,0,0,0,0,0,0,0,0,0,0,0,0,0,0,0,0,0,0,0,0,0,0,1,0,0,0,0,0,0,0,0,0,0,0,0,0,0,0,0,0,0,0,0,0,0,0,0,0,0,0,0,0,0,0,0,0,0,0,0,0,0,0,0,0,0,0,0,0,0,0,0,0,0,0,0,0,0,0,0,0,0,0,0,0,0,0,0,0,0,0,0,0,0,0,0,0,0,0,0,0,0,0,0,0,0,0,0,0,0,0,0,0,0,0,0,0,0,0,0,0,0,0,0,0,0,0,0,0,0,0,0,0,0,0,0,0,0,0,0,0,0,0,0,0,0,0,0,0,0,0,0,0,0,0,0,0,0,0,0,0,0,0,0,0,0,0,0,0,0,0,0,0,0,0,0,0,0,0,0,0,0,0,0,0,0,0,0,0,0,0,0,0,0,0,0,0,0,0,0,1,0,0,0,0,0,0,0,0,0,0,0,0,0,0,0,0,0,0,0,0,0,0,0,0,0,0,0,0,0,0,0,0,0,0,0,0,0,0,0,0,0,0,0,0,0,0,0,0,0,0,0,0,0,0,0,0,0,0,0,0,0,0,0,0,0,0,0,0,0,0,0,0,0,0,0,0,0,0,0,0,0,0,0,0,0,0,0,1,0,0,0]
[0,0,0,0,0,0,0,0,0,0,0,0,0,0,0,0,0,0,0,0,0,0,0,0,0,0,0,0,0,0,0,0,0,0,0,0,0,0,0,0,0,0,1,0,0,0,0,0,0,0,0,0,0,0,0,0,0,0,0,0,0,0,0,0,0,0,0,0,0,0,0,0,0,0,0,0,0,0,0,0,0,1,0,0,0,0,0,0,0,0,0,0,0,0,0,0,0,0,0,0,1,0,0,0,0,0,0,0,0,0,0,0,0,0,0,0,0,0,0,0,0,0,0,0,0,0,0,0,0,0,0,0,0,1,0,0,0,0,0,0,0,0,0,0,0,0,0,0,0,0,0,0,0,0,0,0,0,0,0,0,0,0,0,0,0,0,0,0,0,0,0,0,0,0,0,0,0,0,0,0,0,0,0,0,0,0,0,0,0,0,0,0,0,0,0,0,0,0,0,0,0,0,0,0,0,0,0,0,0,0,0,0,0,0,0,0,0,0,0,0,0,0,0,0,0,0,0,0,0,0,0,0,0,0,0,1,0,0,0,0,0,0,0,0,0,0,0,0,0,0,0,0,0,0,0,0,0,0,0,0,0,0,0,0,0,0,0,0,0,0,0,0,0,0,0,0,0,0,0,0,0,0,0,0,0,0,0,0,0,0,0,0,0,0,0,0,0,0,0,0,0,0,0,0,0,0,0,0,0,0,0,0,0,0,0,0,0,0,0,0,0,0,0,0,0,0]
[0,1,0,0,0,0,0,0,0,0,0,1,0,0,0,0,0,0,0,0,0,0,0,0,0,0,0,0,0,0,0,0,0,0,0,0,0,0,0,0,0,0,0,0,0,0,1,0,0,0,0,0,0,0,0,0,0,0,0,0,0,0,1,0,0,0,0,0,0,0,0,0,0,0,0,0,0,0,0,0,0,0,0,0,0,0,0,0,0,0,0,0,1,0,0,0,0,0,0,0,0,0,0,0,0,0,0,0,0,0,0,0,0,0,0,0,0,0,0,0,0,0,0,0,0,0,0,0,0,0,0,0,0,0,0,0,0,0,0,0,0,0,0,0,0,0,0,0,0,0,0,0,0,0,0,0,0,0,0,0,0,0,0,0,0,0,0,0,0,0,0,0,0,0,0,0,0,0,0,0,0,0,0,0,0,0,0,0,0,0,0,0,0,0,0,0,0,0,0,0,0,0,0,0,0,0,0,0,0,0,0,0,0,0,0,0,0,0,0,0,0,0,0,0,0,0,0,0,0,0,0,0,0,0,0,0,0,0,0,0,0,1,0,0,0,0,0,0,0,0,0,0,0,0,0,0,0,0,0,0,0,0,0,0,0,0,0,0,0,0,0,0,0,0,0,0,0,0,0,0,0,0,0,0,0,0,0,0,0,0,0,0,0,0,0,0,0,0,0,0,0,0,0,0,0,0,0,0,0,0,0,0,0,0,0,0,0,0,0,0,0,0,0,0,0,0]
[0,0,1,0,0,0,0,0,0,0,0,0,0,0,0,0,0,0,0,0,0,0,1,0,0,0,0,0,0,0,0,0,0,0,0,0,0,0,0,0,0,0,0,0,0,0,0,0,0,0,0,0,0,0,0,1,0,0,0,0,0,0,0,0,0,0,0,0,0,0,0,0,0,0,0,1,1,0,0,0,0,0,0,0,0,0,0,0,0,0,0,0,0,0,0,0,0,1,0,0,0,0,0,0,0,0,0,0,0,0,0,0,0,0,0,0,0,0,0,0,0,0,0,0,0,0,0,0,1,0,0,0,0,0,0,0,0,0,0,0,0,0,0,0,0,0,0,0,0,0,0,0,0,0,0,0,0,0,0,0,0,0,0,0,0,0,0,0,0,0,0,0,0,0,0,0,0,0,1,0,0,0,0,0,0,0,0,0,0,0,0,0,0,0,0,0,0,0,0,0,0,0,0,0,0,0,0,0,0,0,0,0,0,0,0,0,0,0,0,0,0,0,0,0,0,0,0,0,0,0,0,0,0,0,0,0,1,0,0,0,0,0,0,0,0,0,0,0,0,0,0,0,0,0,0,0,0,0,0,0,0,0,0,0,0,0,0,0,0,0,0,0,0,0,0,0,0,0,0,0,0,0,0,0,0,0,0,0,0,0,0,0,0,0,0,0,0,0,0,0,0,0,0,0,0,0,0,0,0,0,0,0,0,0,0,0,0,0,0,0,0,0,0,0,0,0]
[0,0,0,0,0,0,0,0,0,0,0,0,0,0,0,0,0,0,0,0,0,0,0,0,0,0,0,0,0,0,0,0,0,0,0,0,0,0,0,0,0,0,0,0,0,0,0,0,0,0,0,0,0,0,0,0,0,0,0,0,0,0,0,0,0,0,0,0,0,0,0,0,0,0,0,0,0,0,0,0,0,0,1,0,0,0,0,0,0,0,0,0,0,0,0,0,0,0,1,0,0,0,0,0,0,0,0,0,0,0,0,0,0,0,0,0,0,0,0,0,0,0,0,0,0,0,0,0,0,0,0,0,0,0,0,0,0,0,0,0,0,0,0,0,0,0,0,0,0,0,0,0,0,0,0,0,0,0,0,0,0,0,0,0,0,1,0,0,0,0,0,0,0,0,0,0,1,0,0,0,0,0,0,0,0,0,0,0,0,0,0,0,0,0,0,0,0,0,0,0,0,0,0,0,0,0,0,0,0,0,0,0,0,0,0,0,0,0,0,0,0,0,0,0,0,0,0,0,0,0,0,0,0,0,0,0,0,0,1,0,0,0,0,0,0,0,0,0,0,0,0,0,0,0,0,0,0,0,0,0,0,0,0,0,0,0,0,0,0,0,0,0,0,0,1,0,0,0,0,0,0,0,0,0,1,0,0,0,0,0,0,0,0,0,0,0,0,0,0,0,0,0,0,1,0,0,0,0,0,0,0,0,0,0,0,0,0,0,0,0,0,0,0,0,0,0]
[0,0,0,0,0,0,0,0,0,0,0,0,0,0,0,0,0,0,0,0,0,0,0,0,0,0,0,0,0,0,0,0,0,0,0,0,0,0,0,0,0,0,0,0,0,0,0,0,0,0,0,0,0,0,0,0,0,0,0,1,0,0,0,0,0,0,0,0,0,0,0,0,0,0,0,0,0,0,0,0,0,0,0,1,0,0,0,0,0,0,0,0,0,0,0,0,0,0,0,0,0,0,0,0,0,0,0,0,0,0,0,0,0,0,0,0,0,0,0,0,0,0,0,0,0,0,0,0,0,0,0,0,0,0,0,0,0,0,0,0,0,0,0,0,0,0,0,0,0,0,0,0,0,0,0,0,0,0,0,0,0,0,0,0,0,0,0,0,0,0,0,0,0,0,0,0,0,1,0,0,0,0,0,0,0,0,0,0,0,0,0,0,0,0,0,0,0,0,0,0,0,0,1,0,0,0,0,0,0,0,0,0,0,0,0,0,0,0,0,0,0,0,0,0,0,0,0,0,0,0,0,0,0,0,0,0,0,0,0,0,0,0,0,0,0,0,0,0,0,0,0,0,0,0,0,0,0,0,0,0,0,0,0,0,0,0,0,0,0,0,0,0,0,0,0,0,0,0,0,0,0,0,0,0,0,0,0,0,0,0,0,0,0,0,0,0,0,0,0,0,0,0,0,0,1,0,0,0,0,0,1,0,0,0,0,0,0,0,0,0,0,0,0,0,0,0]
[0,0,0,0,0,0,0,0,0,0,0,0,0,0,0,0,0,0,0,0,0,0,0,0,0,0,0,0,0,0,0,0,0,0,0,0,0,0,0,0,0,0,0,0,0,0,0,0,0,0,0,0,0,0,0,0,0,0,0,0,0,0,0,0,0,0,0,0,0,0,0,0,0,0,0,0,0,0,0,0,0,0,0,0,0,0,0,0,0,0,1,0,0,0,0,0,0,0,0,0,0,0,0,0,0,0,0,0,0,0,0,0,0,0,0,0,0,0,0,0,0,0,0,1,0,0,0,0,0,0,0,0,0,0,0,0,0,0,0,0,0,0,0,0,0,0,0,0,0,0,1,0,0,0,0,0,0,0,0,0,0,0,0,0,0,0,0,0,0,0,0,0,0,0,0,0,0,0,0,0,0,0,0,0,0,0,0,0,0,0,0,0,0,0,0,0,0,0,0,0,0,0,0,0,0,0,0,0,0,0,0,0,0,0,1,0,0,0,0,0,0,0,0,0,0,0,0,0,0,0,0,0,0,0,0,0,0,0,0,0,0,0,0,0,0,0,0,0,0,0,0,0,0,0,0,0,0,0,0,0,0,0,0,0,0,0,0,0,0,0,0,0,0,0,0,0,0,0,0,0,0,0,0,0,0,0,0,0,0,0,0,0,0,0,0,0,0,0,0,1,0,0,0,0,0,0,0,0,0,0,0,0,0,0,0,0,0,0,0,0,0,0,0,0,0,0]
[0,0,0,0,0,0,0,0,0,0,0,0,1,0,0,0,0,0,0,0,0,0,0,0,0,0,0,0,1,0,0,1,0,0,0,0,0,0,0,0,0,0,0,0,0,0,0,1,0,0,1,0,0,0,0,0,0,0,0,0,0,1,0,0,0,0,0,0,0,0,0,0,0,0,0,0,0,0,0,0,0,0,0,0,0,0,0,0,0,0,0,0,0,0,0,1,0,0,0,0,0,0,0,0,0,0,0,0,0,0,0,0,0,0,0,0,0,0,1,0,0,0,0,0,0,0,0,0,0,0,0,0,0,0,0,0,0,0,0,0,0,0,0,0,0,0,0,0,0,0,0,0,0,0,0,0,0,1,0,0,0,0,0,0,0,0,0,0,0,0,0,0,0,0,0,0,0,0,0,0,0,0,0,0,0,0,0,0,0,0,0,0,0,0,0,0,0,0,0,0,0,0,0,0,0,0,0,0,0,0,0,0,1,0,0,0,0,0,0,0,0,0,0,0,0,0,0,0,0,0,0,0,0,0,0,0,0,0,0,0,0,0,0,0,0,0,0,0,0,0,0,0,0,0,0,0,0,0,0,0,0,0,0,0,0,0,0,0,0,0,0,0,0,0,0,0,1,0,0,0,0,0,0,0,0,0,0,0,1,0,0,0,0,0,0,0,0,0,0,0,0,0,0,0,0,0,0,0,0,0,0,0,0,0,0,0,0,0,0,0,0,0,0,0,0,0]
[0,0,0,0,0,0,0,0,0,0,0,0,0,0,0,0,0,0,0,0,0,0,0,0,0,0,0,0,0,0,0,0,0,0,0,0,0,0,0,0,0,0,0,0,0,0,0,0,0,0,0,1,0,0,0,0,0,0,0,0,0,0,0,0,0,1,0,0,0,0,0,0,0,0,0,0,0,0,0,0,0,0,0,0,0,0,0,0,0,0,0,0,0,0,0,0,0,0,0,0,0,0,1,0,0,0,1,0,0,0,0,0,0,0,0,0,0,0,0,0,0,0,0,0,0,0,0,0,0,0,0,0,0,0,0,0,0,0,0,0,0,0,0,0,0,0,0,0,0,0,0,0,0,0,0,0,0,0,0,0,0,0,0,0,0,0,0,0,0,0,0,0,0,0,0,0,0,0,0,0,0,0,0,0,0,0,0,0,0,0,0,0,0,0,0,0,0,0,0,0,0,0,0,0,0,0,0,0,0,0,0,0,0,0,0,0,0,0,0,0,0,0,0,0,0,0,0,0,0,0,0,0,0,0,0,0,0,0,0,0,0,0,0,0,0,0,0,0,0,0,0,0,0,0,0,0,0,0,0,0,0,0,0,1,0,0,0,0,0,0,0,0,0,0,0,0,0,0,1,0,0,0,0,0,0,0,0,0,0,0,0,0,0,0,0,0,0,0,0,0,0,0,0,0,0,0,0,0,0,0,0,0,0,0,0,0,0,0,0,0,0,0,0,0,0,0]
[0,0,0,0,0,0,0,0,0,0,0,0,0,1,0,0,0,0,0,0,0,0,0,0,0,0,0,0,0,0,0,0,0,0,0,0,0,0,0,0,0,0,0,0,0,0,0,0,0,0,0,0,0,0,0,0,0,0,0,0,0,0,0,0,0,0,0,0,0,0,0,0,0,0,0,0,0,0,0,0,0,0,0,0,1,0,0,0,0,0,0,1,0,0,0,0,0,0,0,1,0,0,0,0,0,0,0,1,0,0,0,0,0,0,0,0,0,0,0,0,0,1,0,0,1,0,0,0,0,0,0,0,0,0,0,0,0,0,0,0,0,0,0,0,0,0,0,0,0,0,0,0,0,0,0,0,0,0,0,0,0,0,0,0,0,0,0,0,0,0,0,1,0,0,0,0,0,0,0,0,0,0,0,0,0,0,0,0,0,0,0,0,0,0,0,0,0,0,0,0,0,0,0,0,0,0,0,0,0,0,0,0,0,0,0,0,0,0,0,1,0,0,0,0,0,0,0,0,0,0,0,0,0,0,0,0,0,0,0,0,0,0,0,0,0,0,0,0,0,0,0,0,0,0,0,0,0,0,0,0,0,0,0,0,0,0,0,0,0,0,0,0,0,0,0,0,0,1,0,0,0,0,0,0,0,0,0,0,0,0,0,0,0,0,0,0,0,0,0,0,0,0,0,0,0,0,0,0,0,0,0,0,0,1,0,0,0,0,0,0,0,0,0,0,0,0]
[0,0,0,0,0,0,0,0,0,0,0,0,0,0,0,0,0,0,0,0,0,0,0,0,0,0,0,0,0,0,0,0,0,0,0,0,0,1,0,0,0,0,0,0,0,0,0,0,0,0,0,0,0,0,0,0,0,0,0,0,0,0,0,0,0,0,0,0,0,0,0,1,0,0,0,0,0,0,0,0,0,0,0,0,0,1,0,0,0,0,0,0,0,0,0,0,0,0,0,0,0,0,0,0,0,0,0,0,0,0,0,0,0,0,0,0,0,0,0,0,0,0,0,0,0,0,0,1,0,0,0,0,0,0,0,0,0,0,0,0,0,0,0,0,0,0,0,0,0,0,0,0,0,0,0,0,0,0,0,0,0,0,0,0,0,0,0,0,0,0,0,0,0,0,0,0,0,0,0,0,1,0,0,0,0,0,0,0,0,0,0,0,0,0,0,0,0,0,0,0,0,0,0,0,0,0,0,0,0,0,0,0,0,0,0,0,0,0,0,0,0,0,0,0,0,0,0,0,0,0,0,0,0,0,0,0,0,0,0,0,0,0,0,0,0,0,0,0,0,0,0,0,0,1,0,0,0,0,1,0,0,0,0,0,0,0,0,0,0,0,0,0,0,0,0,0,0,0,0,0,1,0,0,0,0,0,0,0,0,0,0,0,0,0,0,0,1,0,0,0,0,1,0,0,0,0,0,0,0,0,0,0,0,0,0,0,0,0,0,0,0,0,0,0,0,0]
[0,0,0,0,0,1,0,0,0,0,0,0,0,0,0,0,0,0,0,0,0,0,0,0,0,0,0,0,0,0,0,0,0,0,0,0,0,0,0,0,0,0,0,0,0,1,0,0,0,0,0,0,0,0,0,0,0,0,0,0,0,0,0,0,0,0,0,0,0,0,0,0,0,1,0,0,0,0,1,0,0,0,0,0,0,0,0,0,0,0,0,0,0,0,0,0,0,0,0,0,0,0,0,0,0,0,0,0,1,0,0,0,0,0,0,0,0,0,0,0,0,0,0,0,0,0,0,0,0,0,0,0,0,0,0,0,0,0,0,0,0,0,0,0,0,0,0,0,0,0,0,0,0,0,0,0,1,0,0,0,0,0,0,0,0,0,0,0,0,0,0,0,0,0,0,0,0,0,0,0,0,0,0,0,0,0,0,0,0,0,0,0,0,0,0,0,0,0,0,0,0,0,0,0,0,0,0,0,0,0,0,0,0,0,0,0,0,0,0,0,0,0,0,0,0,0,0,0,1,0,1,0,0,0,0,0,0,0,0,0,0,0,0,0,0,0,0,0,0,0,0,0,0,0,0,0,0,0,0,0,0,0,0,0,0,0,0,0,1,0,0,0,0,0,0,0,0,0,0,1,0,0,1,0,0,0,0,1,0,0,0,0,0,0,0,0,0,0,0,0,0,0,0,0,0,0,0,0,0,0,0,0,0,0,0,0,0,0,0,0,0,0,0,0,0,0]
[0,0,0,0,0,0,0,0,0,0,0,0,0,0,0,0,0,0,0,0,0,0,0,0,0,0,0,0,0,0,0,0,0,0,0,0,0,0,0,1,0,0,0,0,0,0,0,0,0,0,0,0,0,0,0,0,0,0,1,0,0,0,0,0,0,0,0,0,0,0,0,0,0,0,0,0,0,0,0,0,0,0,0,0,0,0,0,0,0,0,0,0,0,0,0,0,0,0,0,0,0,0,0,1,0,0,0,0,0,0,0,0,0,0,0,0,0,0,0,0,0,0,0,0,0,0,0,0,0,0,0,0,0,0,1,0,0,0,0,0,0,0,0,0,0,0,0,1,0,0,0,0,0,0,0,0,0,0,0,0,0,0,0,0,0,0,0,0,0,0,0,0,0,0,0,0,0,0,0,0,0,0,0,0,0,0,0,0,0,0,0,0,0,0,0,0,1,0,0,0,0,1,0,0,0,0,0,0,1,0,0,0,0,1,0,0,0,0,0,0,0,0,0,0,0,0,0,0,0,0,0,0,0,0,0,0,0,0,0,0,0,0,0,0,0,1,0,0,0,0,0,0,0,0,0,0,0,0,0,0,0,0,0,0,0,0,0,0,0,0,0,0,0,0,0,0,0,0,0,0,0,0,0,0,0,0,0,0,0,0,0,0,0,0,0,0,0,0,0,0,0,0,0,0,0,1,0,0,0,0,0,0,0,0,0,0,0,0,0,0,0,0,0,1,0,0]
[0,0,0,0,0,0,0,0,0,0,0,0,0,0,0,0,0,0,0,1,0,0,0,0,0,0,0,0,0,0,0,0,0,0,0,0,0,0,0,0,0,0,0,0,0,0,0,0,0,1,0,0,0,0,0,0,0,0,0,0,0,0,0,0,0,0,0,0,0,0,0,0,0,0,0,0,0,0,0,0,0,0,0,0,0,0,0,0,0,0,0,0,0,0,0,0,0,0,0,0,0,0,0,0,0,0,0,0,0,0,0,0,0,0,0,0,1,0,0,0,0,0,0,0,0,0,0,0,0,0,1,0,0,0,0,0,0,0,0,0,0,0,0,0,0,0,0,0,0,0,0,0,0,0,0,0,0,0,0,0,0,0,1,0,0,0,0,0,0,0,0,0,0,0,0,0,0,0,0,0,0,0,0,0,0,0,0,1,0,0,0,0,0,1,0,0,0,0,0,0,0,0,0,0,0,0,0,0,0,0,0,0,0,0,0,0,0,0,0,0,1,0,0,0,0,0,0,0,0,0,0,0,0,0,0,0,0,0,0,0,0,0,0,0,0,0,0,0,0,0,0,0,0,0,0,0,0,0,0,0,0,0,0,0,0,0,0,0,0,0,0,0,0,0,0,0,0,0,0,0,0,0,0,0,0,0,0,0,0,0,0,0,0,0,0,0,0,0,0,0,0,0,0,0,0,0,0,0,0,0,0,0,0,0,0,0,0,0,0,0,0,0,0,0,0,0]
[0,0,0,0,0,0,0,0,0,0,0,0,0,0,0,0,0,0,0,0,0,0,0,0,1,0,0,0,0,0,0,0,0,0,0,0,0,0,0,0,0,0,0,0,0,0,0,0,0,0,0,0,0,0,0,0,0,0,0,0,0,0,0,0,0,0,0,0,0,0,0,0,0,0,0,0,0,0,0,0,0,0,0,0,0,0,1,0,0,0,0,0,0,0,0,0,0,0,0,0,0,0,0,0,0,0,0,0,0,0,0,0,0,0,0,0,0,0,0,0,0,0,0,0,0,0,0,0,0,0,0,0,0,0,0,0,0,0,0,0,0,0,0,0,0,0,0,0,0,0,0,0,0,1,0,0,0,0,0,0,0,0,0,0,0,0,0,0,0,0,0,0,0,0,0,0,0,0,0,0,0,1,0,0,0,0,0,0,0,0,0,0,0,0,0,0,0,0,0,0,0,0,0,0,0,0,0,0,0,0,0,0,0,0,0,0,0,0,0,0,0,0,0,0,0,0,0,0,0,0,0,0,0,0,0,0,0,0,0,1,1,0,0,0,0,0,0,0,0,0,0,0,0,0,0,0,0,0,0,0,0,0,0,0,0,0,0,0,0,0,0,0,0,0,0,0,0,0,0,0,0,0,0,0,0,0,0,0,0,0,0,0,0,0,0,0,0,0,0,0,0,0,0,0,0,0,1,0,0,0,0,0,0,0,0,0,0,0,0,0,0,0,0,0,0,0]
[0,0,0,0,0,0,0,0,0,0,0,0,0,0,0,0,0,0,0,0,0,0,0,0,0,0,0,0,0,1,0,0,0,0,1,0,0,0,0,0,0,0,0,0,0,0,0,0,0,0,0,0,0,0,0,0,0,0,0,0,0,0,0,0,0,0,0,0,0,0,0,0,0,0,0,0,0,0,0,0,0,0,0,0,0,0,0,0,0,0,0,0,0,0,0,0,0,0,0,0,0,0,0,0,0,0,0,0,0,1,0,0,0,0,0,0,0,0,0,0,0,0,0,0,0,0,0,0,0,0,0,0,0,0,0,0,0,0,0,0,0,1,0,0,0,0,0,0,0,0,0,0,0,0,0,0,0,0,0,0,0,0,0,0,0,0,0,0,0,0,0,0,0,0,0,0,0,0,0,0,0,0,0,1,0,0,0,0,0,0,1,0,0,0,0,0,0,0,0,0,0,0,0,0,0,0,0,0,0,0,0,0,0,0,0,0,0,0,0,0,0,0,0,0,0,0,0,0,0,0,0,0,0,0,0,0,0,0,0,0,0,0,1,0,0,0,0,0,0,0,0,0,0,0,0,0,0,0,0,0,0,0,0,0,0,0,0,0,0,0,0,0,0,0,0,0,0,0,0,0,0,0,0,0,0,0,0,0,0,0,0,0,0,0,0,0,0,0,0,0,0,0,0,0,0,0,0,0,0,0,0,0,0,0,0,0,0,0,0,0,0,0,0,0,0,0]
[0,0,0,0,0,0,0,0,0,0,0,0,0,0,0,0,0,0,0,0,0,0,0,0,0,0,0,0,0,0,0,0,0,0,0,0,0,0,0,0,0,0,0,0,0,0,0,0,0,0,0,0,0,0,0,0,0,0,0,0,0,0,0,0,0,0,0,0,1,0,0,0,0,0,0,0,0,0,0,0,0,0,0,0,0,0,0,0,0,0,0,0,0,0,0,0,0,0,0,0,0,0,0,0,0,0,0,0,0,0,0,0,0,0,1,0,0,0,0,1,0,0,0,0,0,0,0,0,0,0,0,0,0,0,0,0,0,0,0,0,0,0,0,0,0,0,0,0,0,0,0,0,0,0,0,0,0,0,0,0,0,0,0,0,0,0,0,0,0,0,0,0,0,0,0,0,0,0,0,0,0,0,0,0,0,0,0,0,0,0,0,0,0,0,0,0,0,0,0,0,0,0,0,0,0,0,0,0,0,0,1,0,0,0,0,0,0,0,0,0,0,1,0,0,1,0,0,1,0,0,0,0,0,0,0,0,0,0,0,0,0,0,0,0,0,0,0,0,0,0,0,0,0,0,0,0,0,0,0,0,0,0,0,0,0,0,0,0,0,0,0,0,0,0,0,0,0,0,0,0,0,0,0,0,0,0,0,0,0,0,0,0,0,0,0,0,0,0,0,0,0,0,0,0,0,0,0,0,0,0,0,0,0,0,0,0,0,0,0,0,0,0,0,0,0,0]
[0,0,0,0,0,0,0,0,0,0,0,0,0,0,0,0,0,0,0,0,0,0,0,0,0,0,0,0,0,0,0,0,0,0,0,0,0,0,0,0,0,0,0,0,0,0,0,0,0,0,0,0,0,0,0,0,0,0,0,0,0,0,0,1,0,0,0,0,0,0,0,0,0,0,1,0,0,0,0,0,0,0,0,0,0,0,0,1,0,0,0,0,0,0,0,0,0,0,0,0,0,0,0,0,0,0,0,0,0,0,0,0,0,0,0,0,0,0,0,0,0,0,0,0,0,0,0,0,0,0,0,0,0,0,0,0,0,0,0,0,1,0,0,0,0,0,0,0,0,0,0,0,0,0,0,0,0,0,0,0,0,0,0,0,0,0,0,0,0,0,0,0,0,0,0,0,0,0,0,0,0,0,0,0,0,0,0,0,1,0,0,0,0,0,0,0,0,0,0,0,0,0,0,0,0,0,0,0,0,0,0,0,0,0,0,0,0,0,0,0,0,0,0,0,0,0,0,0,0,0,0,0,0,0,0,0,0,0,0,0,0,0,0,1,0,0,0,0,0,0,0,0,0,0,0,0,0,0,0,0,0,0,0,0,0,0,0,0,0,0,0,0,0,0,0,0,0,0,0,0,0,0,0,0,0,0,0,0,0,0,0,0,0,0,0,0,0,0,0,0,1,0,0,0,0,0,0,0,0,0,0,0,0,0,0,0,0,0,0,0,0,0,0,0,0,0]
[0,0,0,0,1,0,0,0,0,0,0,0,0,0,1,0,0,0,0,0,0,0,0,0,0,0,0,0,0,0,0,0,0,0,0,0,0,0,1,0,0,0,0,0,0,0,0,0,0,0,0,0,0,0,0,0,0,0,0,0,0,0,0,0,0,0,0,0,0,0,0,0,0,0,0,0,0,0,0,0,0,0,0,0,0,0,0,0,0,0,0,0,0,0,0,0,0,0,0,0,0,0,0,0,0,1,0,0,0,0,0,0,0,0,0,0,0,0,0,0,0,0,0,0,0,0,0,0,0,0,0,0,0,0,0,0,0,0,0,0,0,0,0,0,0,0,0,0,0,0,0,0,0,0,0,0,0,0,0,0,1,0,0,0,0,0,0,0,0,0,0,0,1,0,0,0,0,0,0,0,0,0,0,0,0,0,0,0,0,0,0,0,0,0,0,0,0,0,0,0,0,0,0,0,0,0,0,0,0,0,0,0,0,0,0,0,0,0,1,0,0,0,0,0,0,0,0,0,0,0,0,0,0,0,0,0,0,0,0,0,0,0,0,0,0,0,0,0,0,0,0,0,0,0,0,0,0,0,0,0,0,0,0,0,0,0,0,0,0,0,0,0,0,0,0,0,0,0,0,0,0,0,0,0,0,0,0,0,0,0,0,0,0,0,0,0,0,0,0,0,0,0,0,0,0,0,0,0,0,0,0,0,0,0,0,0,0,0,0,0,0,0,0,0,0,0]
[0,0,0,0,0,0,0,0,0,0,0,0,0,0,0,0,0,0,0,0,0,0,0,0,0,0,0,0,0,0,0,0,0,0,0,0,0,0,0,0,0,0,0,0,0,0,0,0,0,0,0,0,1,0,0,0,0,0,0,0,0,0,0,0,0,0,0,0,0,0,0,0,0,0,0,0,0,0,0,0,0,0,0,0,0,0,0,0,0,0,0,0,0,0,0,0,0,0,0,0,0,0,0,0,0,0,0,0,0,0,0,0,0,0,0,0,0,0,0,0,0,0,0,0,0,0,0,0,0,0,0,0,0,0,0,0,0,0,0,0,0,0,0,0,0,0,0,0,0,0,0,0,0,0,0,0,0,0,0,0,0,0,0,0,0,0,0,0,0,0,0,0,0,0,0,0,0,0,0,0,0,0,0,0,0,0,0,0,0,0,0,0,0,0,0,1,0,0,0,0,0,0,0,0,0,0,0,0,0,0,0,0,0,0,0,0,0,0,0,0,0,0,0,0,0,0,0,0,0,0,0,0,0,0,0,0,0,0,0,0,0,0,0,0,1,0,0,0,0,0,0,0,0,0,0,0,0,0,0,0,0,0,0,0,0,0,0,0,0,0,0,0,0,0,0,0,0,0,0,0,0,0,0,0,0,0,0,0,0,1,0,0,0,0,0,0,0,0,0,0,0,0,0,0,0,0,0,1,0,0,0,0,0,0,0,0,0,0,0,0,0,0,0,0,0,0]
[0,0,0,0,0,0,0,0,0,0,0,0,0,0,0,0,0,0,0,0,0,0,0,0,0,0,0,0,0,0,0,0,0,0,0,0,0,0,0,0,0,0,0,0,0,0,0,0,0,0,0,0,0,0,0,0,0,0,0,0,0,0,0,0,0,0,0,0,0,0,0,0,0,0,0,0,0,0,0,0,0,0,0,0,0,0,0,0,0,0,0,0,0,0,0,0,0,0,0,0,0,0,0,0,0,0,0,0,0,0,0,0,0,0,0,0,0,0,0,0,0,0,0,0,0,0,0,0,0,0,0,0,0,0,0,0,0,0,0,0,0,0,0,0,0,0,0,0,0,0,0,0,0,0,0,0,0,0,0,0,0,0,0,1,0,0,0,0,0,0,0,0,0,0,0,0,0,0,0,0,0,0,0,0,0,0,0,0,0,0,0,0,0,0,0,0,0,0,0,0,0,0,0,0,0,0,0,0,0,0,0,0,0,0,0,0,0,0,0,0,0,0,0,0,0,1,0,0,0,0,0,0,0,0,0,0,0,0,0,0,0,0,0,0,0,0,1,0,0,0,0,0,0,0,0,0,0,0,0,0,0,0,0,0,0,0,0,0,0,0,0,0,0,1,0,0,0,0,0,0,0,0,0,0,0,0,0,0,0,0,0,0,0,0,0,0,0,0,0,0,0,0,0,0,0,0,0,0,1,0,0,0,0,0,0,0,0,0,0,0,0,0,0,0,0,0]
[0,0,0,0,0,0,0,0,0,0,0,0,0,0,0,0,0,0,0,0,0,0,0,0,0,0,0,0,0,0,0,0,0,0,0,0,0,0,0,0,0,0,0,0,1,0,0,0,0,0,0,0,0,0,0,0,0,0,0,0,0,0,0,0,0,0,0,0,0,0,0,0,0,0,0,0,0,0,0,0,0,0,0,0,0,0,0,0,0,1,0,0,0,0,0,0,0,0,0,0,0,0,0,0,0,0,0,0,0,0,0,0,0,0,0,0,0,0,0,0,0,0,0,0,0,0,0,0,0,0,0,0,0,0,0,0,0,0,0,0,0,0,0,0,0,0,0,0,0,0,0,0,1,0,0,0,0,0,0,0,0,0,0,0,0,0,0,0,0,0,0,0,0,0,1,0,0,0,0,0,0,0,0,0,0,0,0,0,0,0,0,0,0,0,0,0,0,0,0,0,0,0,0,0,0,0,0,0,0,0,0,0,0,0,0,0,0,0,0,0,0,0,0,0,0,0,0,0,0,0,0,0,0,0,0,0,0,0,0,0,0,0,0,0,0,0,0,1,0,0,0,0,0,0,0,0,1,1,0,0,0,0,0,0,0,0,0,0,0,0,0,1,0,0,0,0,0,0,0,0,0,0,0,0,0,0,0,0,0,0,0,0,0,0,0,0,0,0,0,0,0,0,0,0,0,0,0,0,0,0,0,0,0,0,0,0,0,0,0,0,0,0,0,0,0,0]
[0,0,0,0,0,0,0,1,0,0,0,0,0,0,0,0,0,0,0,0,0,0,0,0,0,0,0,0,0,0,0,0,0,0,0,0,0,0,0,0,0,0,0,0,0,0,0,0,0,0,0,0,0,0,0,0,0,0,0,0,0,0,0,0,0,0,0,0,0,0,0,0,0,0,0,0,0,0,0,0,0,0,0,0,0,0,0,0,0,0,0,0,0,0,0,0,0,0,0,0,0,1,0,0,0,0,0,0,0,0,0,0,0,0,0,0,0,0,0,0,0,0,0,0,0,0,0,0,0,0,0,0,0,0,0,1,0,0,0,0,0,0,0,0,0,0,0,0,0,0,0,0,0,0,0,0,0,0,0,0,0,0,0,0,0,0,1,0,0,0,0,0,0,0,0,0,0,0,0,0,0,0,0,0,0,0,0,0,0,0,0,0,0,0,0,0,0,0,0,0,0,0,0,0,0,0,0,0,0,0,0,0,0,0,0,0,0,0,0,0,0,0,0,0,0,0,0,0,0,0,0,0,0,0,0,0,0,0,0,0,0,0,0,0,0,0,0,0,0,0,0,0,0,0,1,0,0,0,0,0,0,0,0,0,1,0,0,0,0,0,0,0,0,0,0,0,0,0,0,0,0,0,0,0,0,0,0,0,0,0,0,0,0,0,0,0,0,1,0,0,0,0,0,0,0,0,0,0,0,0,0,0,0,0,0,0,0,0,0,0,0,0,0,0,0,0]
[0,0,0,0,0,0,0,0,0,0,0,0,0,0,0,0,0,0,0,0,0,0,0,0,0,0,0,0,0,0,0,0,0,0,0,0,0,0,0,0,0,0,0,0,0,0,0,0,0,0,0,0,0,0,0,0,0,0,0,0,0,0,0,0,0,0,0,0,0,0,0,0,0,0,0,0,0,0,0,0,0,0,0,0,0,0,0,0,0,0,0,0,0,1,0,0,1,0,0,0,0,0,0,0,0,0,0,0,0,0,0,1,0,0,0,0,0,0,0,0,0,0,0,0,0,0,0,0,0,0,0,0,0,0,0,0,0,0,0,0,0,0,0,0,0,0,0,0,0,0,0,0,0,0,0,0,0,0,0,0,0,0,0,0,0,0,0,0,0,0,1,0,0,0,0,0,0,0,0,0,0,0,0,0,0,0,0,0,0,0,0,0,0,0,0,0,0,0,0,0,0,0,0,0,0,0,0,1,0,0,0,0,0,0,0,0,0,1,0,0,0,0,0,0,0,0,0,0,0,0,0,0,0,0,0,0,0,0,0,0,0,0,0,0,0,0,0,0,0,0,0,0,1,0,0,0,0,0,0,0,0,0,0,0,0,0,1,0,0,0,0,0,1,0,0,0,0,0,0,0,0,0,0,0,0,0,0,0,0,0,0,0,0,0,0,0,0,0,1,0,0,0,0,0,0,0,0,0,0,0,0,0,0,0,0,0,1,0,0,0,0,0,0,0,0,0]
[0,0,0,0,0,0,0,0,0,0,0,0,0,0,0,0,0,0,0,0,0,0,0,0,0,0,0,0,0,0,0,0,0,0,0,0,0,0,0,0,0,0,0,0,0,0,0,0,0,0,0,0,0,0,0,0,0,0,0,0,0,0,0,0,0,0,0,0,0,0,0,0,0,0,0,0,0,0,0,0,0,0,0,0,0,0,0,0,0,0,0,0,0,0,0,0,0,0,0,0,0,0,0,0,0,0,0,0,0,0,0,0,0,0,0,0,0,0,0,0,0,0,0,0,0,0,0,0,0,0,0,0,0,0,0,0,0,0,0,0,0,0,0,0,0,0,0,0,0,0,0,0,0,0,0,0,0,0,0,0,0,0,0,0,0,0,0,0,0,0,0,0,0,0,0,0,0,0,0,0,0,0,0,0,0,0,1,0,0,0,0,0,1,0,0,0,0,0,0,0,0,0,0,0,0,0,0,0,0,0,0,0,0,0,0,0,1,0,0,0,0,0,0,0,0,0,0,0,0,0,0,0,0,0,0,0,0,0,0,0,0,0,0,0,0,0,0,0,0,0,0,0,0,0,0,0,0,0,0,0,0,0,1,0,0,0,0,0,0,0,0,0,0,0,0,0,0,0,0,0,0,0,0,0,0,0,0,0,0,0,0,0,0,0,0,1,0,0,0,0,0,0,0,0,0,0,0,0,0,0,0,0,0,0,0,0,0,0,0,0,0,0,0,0,0,0]
[1,0,0,1,0,0,0,0,0,0,0,0,0,0,0,0,0,0,0,0,0,0,0,0,0,0,0,0,0,0,0,0,0,0,0,0,0,0,0,0,0,0,0,0,0,0,0,0,0,0,0,0,0,0,0,0,1,0,0,0,0,0,0,0,0,0,0,0,0,1,0,0,0,0,0,0,0,0,0,0,0,0,0,0,0,0,0,0,0,0,0,0,0,0,0,0,0,0,0,0,0,0,0,0,0,0,0,0,0,0,0,0,0,0,0,0,0,0,0,0,0,0,0,0,0,0,0,0,0,0,0,1,0,0,0,0,0,0,0,0,0,0,0,0,0,0,0,0,0,0,0,0,0,0,0,0,0,0,0,0,0,0,0,0,0,0,0,1,0,0,0,0,0,0,0,0,0,0,0,0,0,0,0,0,0,0,0,0,0,0,0,0,0,0,0,0,0,0,0,0,0,0,0,0,0,0,0,0,0,0,0,0,0,0,0,0,0,0,0,0,0,0,0,0,0,0,0,0,0,0,0,0,0,0,0,0,0,0,0,0,0,0,0,0,0,0,0,0,0,0,0,0,0,0,0,0,0,0,0,0,0,0,0,0,0,0,0,0,0,0,0,0,0,0,0,0,0,0,0,0,0,0,0,0,0,0,0,0,0,0,0,0,0,0,0,0,0,0,0,0,0,0,0,0,0,0,0,0,0,0,0,0,0,0,0,0,0,0,0,0,1,0,0,0,0,0]
[0,0,0,0,0,0,0,0,0,0,0,0,0,0,0,0,0,0,0,0,0,0,0,0,0,0,0,0,0,0,0,0,0,0,0,0,1,0,0,0,0,0,0,0,0,0,0,0,0,0,0,0,0,0,0,0,0,0,0,0,0,0,0,0,0,0,0,0,0,0,0,0,0,0,0,0,0,0,0,0,0,0,0,0,0,0,0,0,0,0,0,0,0,0,0,0,0,0,0,0,0,0,0,0,0,0,0,0,0,0,0,0,0,0,0,0,0,0,0,0,0,0,0,0,0,0,0,0,0,0,0,0,0,0,0,0,0,0,0,0,0,0,0,0,0,0,0,0,0,0,0,0,0,0,0,0,0,0,1,0,0,0,0,0,0,0,0,0,0,0,0,0,0,0,0,0,0,0,0,0,0,0,0,0,0,0,0,0,0,0,0,0,0,0,0,0,0,0,0,0,0,0,0,0,0,0,1,0,0,0,0,0,0,0,0,0,0,0,0,0,0,0,0,0,0,0,0,0,0,0,0,0,0,0,0,0,0,0,0,0,0,0,0,0,0,0,0,0,0,0,0,0,0,0,0,0,0,0,0,0,0,0,0,0,0,0,0,0,0,0,0,0,0,0,0,0,0,0,0,0,0,0,0,0,0,0,0,0,0,0,0,0,0,0,0,0,0,0,0,0,0,0,0,0,0,0,0,0,0,0,0,0,0,0,0,0,0,0,0,1,0,1,0,0,1,0]

{"sheet":"TOURISM DATA","index":38,"n_rows":441,"n_cols":30,"rows_kept":441,"cut":false,"hidden":true,"merged":[[0,24,0,25],[0,28,0,29],[0,20,0,21],[0,16,0,17],[0,5,0,6],[0,11,0,12],[0,8,0,9]]}
["Tourism data",null,null,null,null,"Overnight",null,null,"Overnight",null,null,"Day visits (all 3+ visits)",null,null,null,null,"Day visits (all 3+ visits)",null,null,null,"Overnight",null,null,null,"Overnight",null,null,null,"Overnight"]
[null,"Base: All trips","Watching a live football match (not on TV)","Watching other live sport (not on TV)","% Sport related Trips","Holiday Trips","Holiday Spend",null,"Holiday Trips","Holiday Spend",null," Holiday Trips 2011-13 Millions","Holiday Spend 2011-13 £ millions",null,null,null," Holiday Trips 2011-13 thousands","Holiday Spend 2011-13 millions",null,"Raw GBTS data"," Holiday Trips 2011-13 thousands","Holiday Spend 2011-13 millions",null,null,"Holiday Trips 2010-12 thousands","Holiday Spend 2010-12 millions",null,null,"Total Trips 2010-12 thousands","Total Spend 2010-12 millions"]
["Adur",null,null,null,null,{"$f":"VLOOKUP($A3,$T$3:$V$364,2,FALSE)","v":1},{"$f":"VLOOKUP($A3,$T$3:$V$396,3,FALSE)","v":0.16666666666666666},null,{"$f":"F3","v":1},{"$f":"G3","v":0.16666666666666666},{"$f":"J3*1000/I3","v":166.66666666666666},{"$f":"F3/F$329*L$329","v":5.2041932942309375E-2},{"$f":"G3/G$329*M$329","v":1.0227571428571427},{"$f":"M3/L3","v":19.65255871627426},null,"Allerdale",4.4000000000000004,115.38,null,"Adur",1,{"$f":"AD3/AC3*U3","v":0.16666666666666666},null," Adur",6," *",null," Adur",24,4]
["Allerdale",null,null,null,null,585,127,null,{"$f":"F4","v":585},{"$f":"G4","v":127},217.09401709401709,{"$f":"VLOOKUP(A4,$P$3:$R$318,2,FALSE)","v":4.4000000000000004},{"$f":"VLOOKUP(A4,$P$3:$R$318,3,FALSE)","v":115.38},{"$f":"M4/L4","v":26.222727272727269},null,"Amber Valley",3.13,46.86,null,"Allerdale",585,127,null," Allerdale",609,128,null," Allerdale",788,150]
["Amber Valley",null,null,null,null,25,3,null,25,3,120,{"$f":"VLOOKUP(A5,$P$3:$R$318,2,FALSE)","v":3.13},{"$f":"VLOOKUP(A5,$P$3:$R$318,3,FALSE)","v":46.86},14.971246006389777,null,"Arun",5.71,103.2,null,"Amber Valley",25,3,null," Amber Valley",31,3,null," Amber Valley",131,14]
["Arun",null,null,null,null,259,54,null,259,54,208.49420849420849,{"$f":"VLOOKUP(A6,$P$3:$R$318,2,FALSE)","v":5.71},{"$f":"VLOOKUP(A6,$P$3:$R$318,3,FALSE)","v":103.2},18.073555166374781,null,"Ashford",5.63,203.78,null,"Arun",259,54,null," Arun",221,46,null," Arun",339,66]
["Ashfield",null,null,null,null,15,3,null,15,3,200,{"$f":"F7/F$329*L$329","v":0.78062899413464071},{"$f":"G7/G$329*M$329","v":18.409628571428573},23.583070459529118,null,"Aylesbury Vale",4.51,60.56,null,"Ashfield",15,3,null," Ashfield",11,1,null," Ashfield",26,5]
["Ashford",null,null,null,null,93,22,null,93,22,236.55913978494624,{"$f":"VLOOKUP(A8,$P$3:$R$318,2,FALSE)","v":5.63},{"$f":"VLOOKUP(A8,$P$3:$R$318,3,FALSE)","v":203.78},36.195381882770874,null,"Babergh",3.58,68.489999999999995,null,"Ashford",93,22,null," Ashford",84,20,null," Ashford",191,31]
["Aylesbury Vale",null,null,null,null,78,7,null,78,7,89.743589743589737,4.51,60.56,13.427937915742795,null,"Barking and Dagenham",7.02,383.58,null,"Aylesbury Vale",78,7,null," Aylesbury Vale",51,6,null," Aylesbury Vale",221,21]
["Babergh",null,null,null,null,62,13,null,62,13,209.67741935483872,3.58,68.489999999999995,19.131284916201114,null,"Barnet",8.2899999999999991,167.63,null,"Babergh",62,13,null," Babergh",74,14,null," Babergh",159,23]
["Barking and Dagenham",null,null,null,null,35,4,null,35,4,114.28571428571429,7.02,383.58,54.641025641025642,null,"Barnsley",5.84,103.46,null,"Barking and Dagenham",35,4,null," Barking and Dagenham",37,4,null," Barking and Dagenham",132,20]
["Barnet",null,null,null,null,52,8,null,52,8,153.84615384615384,8.2899999999999991,167.63,20.22074788902292,null,"Basildon",4.7699999999999996,123.62,null,"Barnet",52,8,null," Barnet",29,5,null," Barnet",198,28]
["Barnsley",null,null,null,null,37,5,null,37,5,135.13513513513513,5.84,103.46,17.715753424657535,null,"Basingstoke and Deane",6.64,170.27,null,"Barnsley",37,5,null," Barnsley",36,5,null," Barnsley",185,14]
["Barrow-in-Furness",null,null,null,null,27,4,null,27,4,148.14814814814815,{"$f":"F14/F$329*L$329","v":1.4051321894423532},{"$f":"G14/G$329*M$329","v":24.546171428571427},17.468941081132677,null,"Bassetlaw",4.75,128.43,null,"Barrow-in-Furness",27,4,null," Barrow-in-Furness",30,6,null," Barrow-in-Furness",76,13]
["Basildon",null,null,null,null,23,2,null,23,2,86.956521739130437,{"$f":"VLOOKUP(A15,$P$3:$R$318,2,FALSE)","v":4.7699999999999996},{"$f":"VLOOKUP(A15,$P$3:$R$318,3,FALSE)","v":123.62},25.916142557651995,null,"Bath and North East Somerset",10.02,245.8,null,"Basildon",23,2,null," Basildon",20,1,null," Basildon",160,13]
["Basingstoke and Deane",null,null,null,null,23,3,null,23,3,130.43478260869566,6.64,170.27,25.643072289156628,null,"Bedford",6.56,111.41,null,"Basingstoke and Deane",23,3,null," Basingstoke and Deane",30,5,null," Basingstoke and Deane",164,18]
["Bassetlaw",null,null,null,null,65,9,null,65,9,138.46153846153845,4.75,128.43,27.037894736842105,null,"Bexley",6.61,109.7,null,"Bassetlaw",65,9,null," Bassetlaw",60,9,null," Bassetlaw",187,21]
["Bath and North East Somerset",null,null,null,null,379,105,null,379,105,277.04485488126647,10.02,245.8,24.530938123752499,null,"Birmingham",47.55,1260.3699999999999,null,"Bath and North East Somerset",379,105,null," Bath and North East Somerset",397,102,null," Bath and North East Somerset",783,148]
["Bedford",null,null,null,null,40,6,null,40,6,150,6.56,111.41,16.983231707317074,null,"Blaby",3.14,30.2,null,"Bedford",40,6,null," Bedford",38,5,null," Bedford",220,29]
["Bexley",null,null,null,null,22,4,null,22,4,181.81818181818181,6.61,109.7,16.59606656580938,null,"Blackburn with Darwen",4.96,191.51,null,"Bedfordshire (LAA unspecified)"," -"," -",null," Bedfordshire (LAA unspecified)"," -"," -",null," Bedfordshire (LAA unspecified)"," -"," -"]
["Birmingham",null,null,null,null,595,116,null,595,116,194.9579831932773,47.55,1260.3699999999999,26.5062039957939,null,"Blackpool",13.05,510.28,null,"Berksire (LAA unspecified)"," -"," -",null," Berksire (LAA unspecified)"," -"," -",null," Berksire (LAA unspecified)"," -"," -"]
["Blaby",null,null,null,null,13,1,null,13,1,76.92307692307692,3.14,30.2,9.6178343949044578,null,"Bolsover",1.26,15.42,null,"Bexley",22,4,null," Bexley",37,7,null," Bexley",241,21]
["Blackburn with Darwen",null,null,null,null,11,2,null,11,2,181.81818181818181,4.96,191.51,38.610887096774192,null,"Bolton",9.48,190.25,null,"Birmingham",595,116,null," Birmingham",549,103,null," Birmingham",2279,381]
["Blackpool",null,null,null,null,1138,239,null,1138,239,210.01757469244288,13.05,510.28,39.101915708812257,null,"Boston",3.59,57.4,null,"Blaby",13,1,null," Blaby",10,1,null," Blaby",64,7]
["Bolsover",null,null,null,null,13,2,null,13,2,153.84615384615384,1.26,15.42,12.238095238095237,null,"Bournemouth",6.98,172.39,null,"Blackburn with Darwen",11,2,null," Blackburn with Darwen",10,2,null," Blackburn with Darwen",67,8]
["Bolton",null,null,null,null,24,4,null,24,4,166.66666666666666,9.48,190.25,20.06856540084388,null,"Bracknell Forest",1.8,37.979999999999997,null,"Blackpool",1138,239,null," Blackpool",1193,255,null," Blackpool",1478,278]
["Boston",null,null,null,null,18,2,null,18,2,111.11111111111111,3.59,57.4,15.988857938718663,null,"Bradford",17.57,306.91000000000003,null,"Bolsover",13,2,null," Bolsover",12,2,null," Bolsover",54,8]
["Bournemouth",null,null,null,null,591,129,null,591,129,218.2741116751269,6.98,172.39,24.697707736389681,null,"Braintree",6.59,84.35,null,"Bolton",24,4,null," Bolton",21,4,null," Bolton",161,20]
["Bracknell Forest",null,null,null,null,23,4,null,23,4,173.91304347826087,1.8,37.979999999999997,21.099999999999998,null,"Breckland",5.97,86.2,null,"Boston",18,2,null," Boston",28,4,null," Boston",102,10]
["Bradford",null,null,null,null,116,17,null,116,17,146.55172413793105,17.57,306.91000000000003,17.467842914058053,null,"Brent",8.2200000000000006,177.53,null,"Bournemouth",591,129,null," Bournemouth",564,126,null," Bournemouth",963,180]
["Braintree",null,null,null,null,22,2,null,22,2,90.909090909090907,6.59,84.35,12.799696509863429,null,"Brentwood",2.04,40.119999999999997,null,"Bracknell Forest",23,4,null," Bracknell Forest",20,4,null," Bracknell Forest",108,23]
["Breckland",null,null,null,null,137,26,null,137,26,189.78102189781021,5.97,86.2,14.438860971524289,null,"Brighton and Hove",17.760000000000002,637.13,null,"Bradford",116,17,null," Bradford",119,21,null," Bradford",480,65]
["Brent",null,null,null,null,62,14,null,62,14,225.80645161290323,8.2200000000000006,177.53,21.597323600973233,null,"Bristol",27,754.05,null,"Braintree",22,2,null," Braintree",22,2,null," Braintree",150,13]
["Brentwood",null,null,null,null,20,3,null,20,3,150,2.04,40.119999999999997,19.666666666666664,null,"Broadland",4.33,60.01,null,"Breckland",137,26,null," Breckland",146,26,null," Breckland",234,35]
["Brighton and Hove",null,null,null,null,425,101,null,425,101,237.64705882352942,17.760000000000002,637.13,35.874436936936931,null,"Bromley",11.32,199.41,null,"Brent",62,14,null," Brent",57,14,null," Brent",208,38]
["Bristol",null,null,null,null,358,70,null,358,70,195.53072625698323,27,754.05,27.927777777777777,null,"Bromsgrove",3.88,82.31,null,"Brentwood",20,3,null," Brentwood",26,3,null," Brentwood",75,9]
["Broadland",null,null,null,null,126,42,null,126,42,333.33333333333331,4.33,60.01,13.859122401847575,null,"Broxbourne",2,43.13,null,"Brighton and Hove",425,101,null," Brighton and Hove",429,101,null," Brighton and Hove",1014,186]
["Bromley",null,null,null,null,30,3,null,30,3,100,11.32,199.41,17.615724381625441,null,"Broxtowe",2.1,50.7,null,"Bristol",358,70,null," Bristol",334,61,null," Bristol",1331,252]
["Bromsgrove",null,null,null,null,39,2,null,39,2,51.282051282051285,3.88,82.31,21.213917525773198,null,"Burnley",5.17,197.01,null,"Broadland",126,42,null," Broadland",106,30,null," Broadland",145,43]
["Broxbourne",null,null,null,null,10,1,null,10,1,100,2,43.13,21.565000000000001,null,"Bury",6.36,105.91,null,"Bromley",30,3,null," Bromley",30,2,null," Bromley",251,27]
["Broxtowe",null,null,null,null,22,6,null,22,6,272.72727272727275,2.1,50.7,24.142857142857142,null,"Calderdale",9.43,141.49,null,"Bromsgrove",39,2,null," Bromsgrove",12,1,null," Bromsgrove",56,9]
["Burnley",null,null,null,null,11,2,null,11,2,181.81818181818181,5.17,197.01,38.106382978723403,null,"Cambridge",9.43,275.98,null,"Broxbourne",10,1,null," Broxbourne",7,1,null," Broxbourne",37,4]
["Bury",null,null,null,null,25,6,null,25,6,240,6.36,105.91,16.65251572327044,null,"Camden",17.63,612.91,null,"Broxtowe",22,6,null," Broxtowe",23,4,null," Broxtowe",97,17]
["Calderdale",null,null,null,null,55,8,null,55,8,145.45454545454547,9.43,141.49,15.004241781548252,null,"Cannock Chase",4.0999999999999996,119.06,null,"Buckinghamshire (LAA unspecified)"," -"," -",null," Buckinghamshire (LAA unspecified)"," -"," -",null," Buckinghamshire (LAA unspecified)"," -"," -"]
["Cambridge",null,null,null,null,158,27,null,158,27,170.8860759493671,9.43,275.98,29.266171792152708,null,"Canterbury",7.91,201.33,null,"Burnley",11,2,null," Burnley",9,2,null," Burnley",54,9]
["Camden",null,null,null,null,213,60,null,213,60,281.6901408450704,17.63,612.91,34.765173000567216,null,"Carlisle",5.54,213.58,null,"Bury",25,6,null," Bury",35,9,null," Bury",112,13]
["Cannock Chase",null,null,null,null,26,4,null,26,4,153.84615384615384,4.0999999999999996,119.06,29.039024390243906,null,"Castle Point",2.23,40.86,null,"Calderdale",55,8,null," Calderdale",49,7,null," Calderdale",199,20]
["Canterbury",null,null,null,null,200,45,null,200,45,225,7.91,201.33,25.452591656131482,null,"Central Bedfordshire",9.3800000000000008,106.04,null,"Cambridge",158,27,null," Cambridge",132,28,null," Cambridge",596,88]
["Carlisle",null,null,null,null,149,30,null,149,30,201.34228187919464,5.54,213.58,38.552346570397113,null,"Charnwood",5.44,70.069999999999993,null,"Cambridgeshire (LAA unspecified)"," -"," -",null," Cambridgeshire (LAA unspecified)"," -"," -",null," Cambridgeshire (LAA unspecified)"," -"," -"]
["Castle Point",null,null,null,null,2,0.26,null,2,0.26,130,2.23,40.86,18.32286995515695,null,"Chelmsford",8.56,207.83,null,"Camden",213,60,null," Camden",220,65,null," Camden",568,133]
["Central Bedfordshire",null,null,null,null,{"$f":"VLOOKUP($A51,$T$3:$V$364,2,FALSE)","v":53},{"$f":"VLOOKUP($A51,$T$3:$V$396,3,FALSE)","v":19},null,53,19,358.49056603773585,9.3800000000000008,106.04,11.304904051172707,null,"Cheltenham",6.55,209.11,null,"Cannock Chase",26,4,null," Cannock Chase",23,2,null," Cannock Chase",109,10]
["Charnwood",null,null,null,null,38,4,null,38,4,105.26315789473684,5.44,70.069999999999993,12.880514705882351,null,"Cherwell",4.4000000000000004,144.03,null,"Canterbury",200,45,null," Canterbury",186,45,null," Canterbury",383,65]
["Chelmsford",null,null,null,null,47,6,null,47,6,127.65957446808511,8.56,207.83,24.279205607476637,null,"Cheshire East",15.38,399.9,null,"Carlisle",149,30,null," Carlisle",137,29,null," Carlisle",286,48]
["Cheltenham",null,null,null,null,187,35,null,187,35,187.16577540106951,6.55,209.11,31.925190839694661,null,"Cheshire West and Chester",19.93,621.91,null,"Castle Point"," -"," -",null," Castle Point",2," *",null," Castle Point",23,3]
["Cherwell",null,null,null,null,73,14,null,73,14,191.78082191780823,4.4000000000000004,144.03,32.734090909090909,null,"Chesterfield",5.55,109.97,null,"Central Bedfordshire",53,19,null," Central Bedfordshire",53,18,null," Central Bedfordshire",204,32]
["Cheshire East",null,null,null,null,170,30,null,170,30,176.47058823529412,15.38,399.9,26.001300390117031,null,"Chichester",6.44,160.97999999999999,null,"Charnwood",38,4,null," Charnwood",35,4,null," Charnwood",184,24]
["Cheshire West and Chester",null,null,null,null,407,84,null,407,84,206.38820638820638,19.93,621.91,31.204716507777221,null,"Chiltern",1.93,50.67,null,"Chelmsford",47,6,null," Chelmsford",45,6,null," Chelmsford",182,27]
["Chesterfield",null,null,null,null,26,4,null,26,4,153.84615384615384,5.55,109.97,19.814414414414415,null,"Chorley",3.96,43.11,null,"Cheltenham",187,35,null," Cheltenham",184,35,null," Cheltenham",489,74]
["Chichester",null,null,null,null,256,59,null,256,59,230.46875,6.44,160.97999999999999,24.996894409937884,null,"City of London",51.27,2885.24,null,"Cherwell",73,14,null," Cherwell",76,14,null," Cherwell",256,38]
["Chiltern",null,null,null,null,11,1,null,11,1,90.909090909090907,1.93,50.67,26.253886010362695,null,"Colchester",9.1999999999999993,229.3,null,"Cheshire (LAA unspecified)"," -"," -",null," Cheshire (LAA unspecified)"," -"," -",null," Cheshire (LAA unspecified)"," -"," -"]
["Chorley",null,null,null,null,38,27,null,38,27,710.52631578947364,3.96,43.11,10.886363636363637,null,"Copeland",1.53,36.01,null,"Cheshire East",170,30,null," Cheshire East",168,33,null," Cheshire East",469,67]
["Christchurch",null,null,null,null,63,13,null,63,13,206.34920634920636,{"$f":"F62/F$329*L$329","v":3.2786417753654908},{"$f":"G62/G$329*M$329","v":79.775057142857136},24.331739363006228,null,"Cornwall",35.22,1031,null,"Cheshire West and Chester",407,84,null," Cheshire West and Chester",357,79,null," Cheshire West and Chester",755,141]
["City of London",null,null,null,null,1400,447,null,1400,447,319.28571428571428,{"$f":"VLOOKUP(A63,$P$3:$R$318,2,FALSE)","v":51.27},{"$f":"VLOOKUP(A63,$P$3:$R$318,3,FALSE)","v":2885.24},56.275404720109215,null,"Cotswold",4.18,219.15,null,"Chesterfield",26,4,null," Chesterfield",29,4,null," Chesterfield",170,24]
["Colchester",null,null,null,null,76,7,null,76,7,92.10526315789474,{"$f":"VLOOKUP(A64,$P$3:$R$318,2,FALSE)","v":9.1999999999999993},{"$f":"VLOOKUP(A64,$P$3:$R$318,3,FALSE)","v":229.3},24.923913043478265,null,"County Durham",15.31,319.36,null,"Chichester",256,59,null," Chichester",257,54,null," Chichester",405,82]
["Copeland",null,null,null,null,144,27,null,144,27,187.5,{"$f":"VLOOKUP(A65,$P$3:$R$318,2,FALSE)","v":1.53},{"$f":"VLOOKUP(A65,$P$3:$R$318,3,FALSE)","v":36.01},23.535947712418299,null,"Coventry",12.9,356.71,null,"Chiltern",11,1,null," Chiltern",17,1,null," Chiltern",79,6]
["Corby",null,null,null,null,25,3,null,25,3,120,{"$f":"F66/F$329*L$329","v":1.3010483235577344},{"$f":"G66/G$329*M$329","v":18.409628571428573},14.149842275717472,null,"Craven",4.59,107.7,null,"Chorley",38,27,null," Chorley",42,25,null," Chorley",111,37]
["Cornwall",null,null,null,null,2972,971,null,2972,971,{"$f":"J67*1000/I67","v":326.71601615074024},{"$f":"VLOOKUP(A67,$P$3:$R$318,2,FALSE)","v":35.22},{"$f":"VLOOKUP(A67,$P$3:$R$318,3,FALSE)","v":1031},29.273140261215218,null,"Crawley",4.49,159.01,null,"Christchurch",63,13,null," Christchurch",66,14,null," Christchurch",118,18]
["Cotswold",null,null,null,null,214,49,null,{"$f":"F68","v":214},{"$f":"G68","v":49},228.97196261682242,4.18,219.15,{"$f":"M68/L68","v":52.428229665071775},null,"Croydon",11.68,282.89999999999998,null,"City of London",1400,447,null," City of London",1442,441,null," City of London",3274,990]
["County Durham",null,null,null,null,311,60,null,311,60,192.92604501607718,15.31,319.36,20.859568909209667,null,"Dacorum",4.22,68.099999999999994,null,"Colchester",76,7,null," Colchester",99,10,null," Colchester",262,37]
["Coventry",null,null,null,null,155,25,null,155,25,161.29032258064515,12.9,356.71,27.651937984496122,null,"Darlington",4.79,90.86,null,"Copeland",144,27,null," Copeland",143,26,null," Copeland",207,33]
["Craven",null,null,null,null,255,51,null,255,51,200,4.59,107.7,23.464052287581701,null,"Dartford",3.45,143.93,null,"Corby",25,3,null," Corby",14,2,null," Corby",76,11]
["Crawley",null,null,null,null,159,27,null,159,27,169.81132075471697,4.49,159.01,35.414253897550111,null,"Daventry",2.96,92.7,null,"Cornwall",2972,971,null," Cornwall",2872,903,null," Cornwall",3899,1124]
["Croydon",null,null,null,null,48,9,null,48,9,187.5,11.68,282.89999999999998,24.220890410958901,null,"Derby",12.79,273.10000000000002,null,"Cotswold",214,49,null," Cotswold",200,44,null," Cotswold",341,64]
["Dacorum",null,null,null,null,40,5,null,40,5,125,4.22,68.099999999999994,16.137440758293838,null,"Derbyshire Dales",7.26,146.88999999999999,null,"County Durham",311,60,null," County Durham",295,61,null," County Durham",648,98]
["Darlington",null,null,null,null,54,8,null,54,8,148.14814814814815,4.79,90.86,18.968684759916492,null,"Doncaster",12.91,219.49,null,"Coventry",155,25,null," Coventry",131,22,null," Coventry",531,84]
["Dartford",null,null,null,null,20,3,null,20,3,150,3.45,143.93,41.718840579710147,null,"Dover",5.27,135.59,null,"Craven",255,51,null," Craven",234,47,null," Craven",367,62]
["Daventry",null,null,null,null,56,7,null,56,7,125,2.96,92.7,31.317567567567568,null,"Dudley",9.74,368.87,null,"Crawley",159,27,null," Crawley",168,28,null," Crawley",326,53]
["Derby",null,null,null,null,113,20,null,113,20,176.99115044247787,12.79,273.10000000000002,21.352619233776391,null,"Ealing",6.05,252.7,null,"Croydon",48,9,null," Croydon",46,8,null," Croydon",307,34]
["Derbyshire Dales",null,null,null,null,358,72,null,358,72,201.11731843575419,7.26,146.88999999999999,20.232782369146005,null,"East Cambridgeshire",3.25,79.7,null,"Cumbria (LAA unspecified)"," -"," -",null," Cumbria (LAA unspecified)"," -"," -",null," Cumbria (LAA unspecified)"," -"," -"]
["Doncaster",null,null,null,null,83,9,null,83,9,108.43373493975903,12.91,219.49,17.001549186676996,null,"East Devon",6.1,163.24,null,"Dacorum",40,5,null," Dacorum",29,3,null," Dacorum",198,28]
["Dover",null,null,null,null,164,22,null,164,22,134.14634146341464,5.27,135.59,25.728652751423152,null,"East Hampshire",2.88,40.200000000000003,null,"Darlington",54,8,null," Darlington",45,6,null," Darlington",157,22]
["Dudley",null,null,null,null,19,2,null,19,2,105.26315789473684,9.74,368.87,37.871663244353179,null,"East Hertfordshire",6.33,131.31,null,"Dartford",20,3,null," Dartford",18,2,null," Dartford",198,32]
["Ealing",null,null,null,null,{"$f":"VLOOKUP($A83,$T$3:$V$364,2,FALSE)","v":42},{"$f":"VLOOKUP($A83,$T$3:$V$396,3,FALSE)","v":10},null,42,10,238.0952380952381,6.05,252.7,41.768595041322314,null,"East Lindsey",10.35,404.19,null,"Daventry",56,7,null," Daventry",59,9,null," Daventry",146,16]
["East Cambridgeshire",null,null,null,null,39,6,null,39,6,153.84615384615384,3.25,79.7,24.523076923076925,null,"East Northamptonshire",2.79,53.67,null,"Derby",113,20,null," Derby",119,22,null," Derby",436,55]
["East Devon",null,null,null,null,362,105,null,362,105,290.0552486187845,6.1,163.24,26.760655737704923,null,"East Riding of Yorkshire",15.22,261.82,null,"Derbyshire (LAA unspecified)"," -"," -",null," Derbyshire (LAA unspecified)"," -"," -",null," Derbyshire (LAA unspecified)"," -"," -"]
["East Dorset",null,null,null,null,30,5,null,30,5,166.66666666666666,{"$f":"F86/F$329*L$329","v":1.5612579882692814},{"$f":"G86/G$329*M$329","v":30.682714285714283},19.65255871627426,null,"East Staffordshire",3.54,76.66,null,"Derbyshire Dales",358,72,null," Derbyshire Dales",346,72,null," Derbyshire Dales",501,89]
["East Hampshire",null,null,null,null,32,6,null,32,6,187.5,{"$f":"VLOOKUP(A87,$P$3:$R$318,2,FALSE)","v":2.88},{"$f":"VLOOKUP(A87,$P$3:$R$318,3,FALSE)","v":40.200000000000003},13.958333333333336,null,"Eastbourne",7.89,241.48,null,"Devon (LAA unspecified)"," -"," -",null," Devon (LAA unspecified)"," -"," -",null," Devon (LAA unspecified)"," -"," -"]
["East Hertfordshire",null,null,null,null,36,3,null,36,3,83.333333333333329,6.33,131.31,20.744075829383885,null,"Eastleigh",3.47,80.36,null,"Doncaster",83,9,null," Doncaster",95,12,null," Doncaster",400,33]
["East Lindsey",null,null,null,null,1244,224,null,1244,224,180.06430868167203,10.35,404.19,39.052173913043482,null,"Eden",2.74,53.8,null,"Dorset (LAA unspecified)"," -"," -",null," Dorset (LAA unspecified)"," -"," -",null," Dorset (LAA unspecified)"," -"," -"]
["East Northamptonshire",null,null,null,null,14,1,null,14,1,71.428571428571431,2.79,53.67,19.236559139784948,null,"Elmbridge",3.06,22.01,null,"Dover",164,22,null," Dover",154,20,null," Dover",270,40]
["East Riding of Yorkshire",null,null,null,null,519,74,null,519,74,142.58188824662813,15.22,261.82,17.202365308804204,null,"Enfield",10.55,213.36,null,"Dudley",19,2,null," Dudley",13,4,null," Dudley",120,15]
["East Staffordshire",null,null,null,null,53,9,null,53,9,169.81132075471697,3.54,76.66,21.655367231638415,null,"Epping Forest",2.58,43.36,null,"Durham (LAA unspecified)"," -"," -",null," Durham (LAA unspecified)"," -"," -",null," Durham (LAA unspecified)"," -"]
["Eastbourne",null,null,null,null,225,50,null,225,50,222.22222222222223,7.89,241.48,30.605830164765525,null,"Epsom and Ewell",2.08,56.22,null,"Ealing",42,10,null," Ealing",41,5,null," Ealing",201,41]
["Eastleigh",null,null,null,null,13,1,null,13,1,76.92307692307692,3.47,80.36,23.158501440922187,null,"Erewash",4.28,112.89,null,"East Cambridgeshire",39,6,null," East Cambridgeshire",28,5,null," East Cambridgeshire",97,12]
["Eden",null,null,null,null,474,117,null,474,117,246.83544303797467,2.74,53.8,19.635036496350363,null,"Exeter",10.95,303.64999999999998,null,"East Devon",362,105,null," East Devon",391,91,null," East Devon",616,131]
["Elmbridge",null,null,null,null,20,4,null,20,4,200,3.06,22.01,7.1928104575163401,null,"Fareham",3.28,79.7,null,"East Dorset",30,5,null," East Dorset",42,8,null," East Dorset",108,10]
["Enfield",null,null,null,null,18,5,null,18,5,277.77777777777777,10.55,213.36,20.223696682464453,null,"Fenland",2.2799999999999998,47.66,null,"East Hampshire",32,6,null," East Hampshire",45,6,null," East Hampshire",191,23]
["Epping Forest",null,null,null,null,20,5,null,20,5,250,2.58,43.36,16.806201550387595,null,"Forest Heath",3.44,112.69,null,"East Hertfordshire",36,3,null," East Hertfordshire",27,2,null," East Hertfordshire",116,14]
["Epsom and Ewell",null,null,null,null,5,0.72727272727272729,null,5,0.72727272727272729,145.45454545454544,2.08,56.22,27.028846153846153,null,"Forest of Dean",3.26,48.55,null,"East Lindsey",1244,224,null," East Lindsey",1363,241,null," East Lindsey",1597,249]
["Erewash",null,null,null,null,11,1,null,11,1,90.909090909090907,4.28,112.89,26.376168224299064,null,"Fylde",2.79,64.84,null,"East Northamptonshire",14,1,null," East Northamptonshire",12,1,null," East Northamptonshire",73,5]
["Exeter",null,null,null,null,192,33,null,192,33,171.875,10.95,303.64999999999998,27.730593607305934,null,"Gateshead",8.2899999999999991,220.19,null,"East Riding of Yorkshire",519,74,null," East Riding of Yorkshire",543,77,null," East Riding of Yorkshire",848,100]
["Fareham",null,null,null,null,18,3,null,18,3,166.66666666666666,3.28,79.7,24.29878048780488,null,"Gedling",1.9,18.23,null,"East Staffordshire",53,9,null," East Staffordshire",50,7,null," East Staffordshire",139,18]
["Fenland",null,null,null,null,28,1,null,28,1,35.714285714285715,2.2799999999999998,47.66,20.903508771929825,null,"Gloucester",5.37,160.46,null,"East Sussex (LAA unspecified)"," -"," -",null," East Sussex (LAA unspecified)"," -"," -",null," East Sussex (LAA unspecified)"," -"," -"]
["Forest Heath",null,null,null,null,87,27,null,87,27,310.34482758620692,3.44,112.69,32.758720930232556,null,"Gosport",2.88,25.56,null,"Eastbourne",225,50,null," Eastbourne",230,54,null," Eastbourne",363,69]
["Forest of Dean",null,null,null,null,116,26,null,116,26,224.13793103448276,3.26,48.55,14.892638036809815,null,"Gravesham",3.6,51.36,null,"Eastleigh",13,1,null," Eastleigh",16,1,null," Eastleigh",72,5]
["Fylde",null,null,null,null,77,18,null,77,18,233.76623376623377,2.79,64.84,23.240143369175627,null,"Great Yarmouth",7.13,260.67,null,"Eden",474,117,null," Eden",463,116,null," Eden",582,132]
["Gateshead",null,null,null,null,21,4,null,21,4,190.47619047619048,8.2899999999999991,220.19,26.560916767189386,null,"Greenwich",12.96,450.62,null,"Elmbridge",20,4,null," Elmbridge",14,3,null," Elmbridge",167,25]
["Gedling",null,null,null,null,6,0.4337349397590361,null,6,0.4337349397590361,72.289156626506013,1.9,18.23,9.594736842105263,null,"Guildford",6.35,185.91,null,"Enfield",18,5,null," Enfield",25,5,null," Enfield",199,27]
["Gloucester",null,null,null,null,68,10,null,68,10,147.05882352941177,5.37,160.46,29.880819366852887,null,"Hackney",8.65,373.35,null,"Epping Forest",20,5,null," Epping Forest",32,5,null," Epping Forest",104,10]
["Gosport",null,null,null,null,9,1,null,9,1,111.11111111111111,2.88,25.56,8.875,null,"Halton",4.95,89.76,null,"Epsom and Ewell",5,{"$f":"AD110/AC110*U110","v":0.72727272727272729},null," Epsom and Ewell",2," *",null," Epsom and Ewell",55,8]
["Gravesham",null,null,null,null,17,2,null,17,2,117.64705882352941,3.6,51.36,14.266666666666666,null,"Hambleton",4.26,52.45,null,"Erewash",11,1,null," Erewash",8,1,null," Erewash",54,5]
["Great Yarmouth",null,null,null,null,530,119,null,530,119,224.52830188679246,7.13,260.67,36.559607293127634,null,"Hammersmith and Fulham",8.81,276.75,null,"Essex (LAA unspecified)"," -"," -",null," Essex (LAA unspecified)"," -"," -",null," Essex (LAA unspecified)"," -"," -"]
["Greenwich",null,null,null,null,86,26,null,86,26,302.32558139534882,12.96,450.62,34.770061728395056,null,"Harborough",1.57,29.35,null,"Exeter",192,33,null," Exeter",163,31,null," Exeter",451,82]
["Guildford",null,null,null,null,36,7,null,36,7,194.44444444444446,6.35,185.91,29.277165354330709,null,"Haringey",6.25,148.88999999999999,null,"Fareham",18,3,null," Fareham",14,3,null," Fareham",105,14]
["Hackney",null,null,null,null,{"$f":"VLOOKUP($A115,$T$3:$V$364,2,FALSE)","v":36},{"$f":"VLOOKUP($A115,$T$3:$V$396,3,FALSE)","v":7},null,36,7,194.44444444444446,8.65,373.35,43.161849710982658,null,"Harlow",2.94,56.1,null,"Fenland",28,1,null," Fenland",12,1,null," Fenland",55,6]
["Halton",null,null,null,null,11,1,null,11,1,90.909090909090907,4.95,89.76,18.133333333333333,null,"Harrogate",6.39,166.6,null,"Forest Heath",87,27,null," Forest Heath",90,26,null," Forest Heath",137,30]
["Hambleton",null,null,null,null,87,17,null,87,17,195.40229885057471,4.26,52.45,12.312206572769954,null,"Harrow",10.18,358.69,null,"Forest of Dean",116,26,null," Forest of Dean",112,25,null," Forest of Dean",166,32]
["Hammersmith and Fulham",null,null,null,null,42,12,null,42,12,285.71428571428572,8.81,276.75,31.413166855845628,null,"Hart",2.31,30.49,null,"Fylde",77,18,null," Fylde",95,21,null," Fylde",137,24]
["Harborough",null,null,null,null,36,5,null,36,5,138.88888888888889,{"$f":"VLOOKUP(A119,$P$3:$R$318,2,FALSE)","v":1.57},{"$f":"VLOOKUP(A119,$P$3:$R$318,3,FALSE)","v":29.35},18.694267515923567,null,"Hartlepool",1.64,25.62,null,"Gateshead",21,4,null," Gateshead",19,4,null," Gateshead",63,10]
["Haringey",null,null,null,null,35,8,null,35,8,228.57142857142858,6.25,148.88999999999999,23.822399999999998,null,"Hastings",4.1500000000000004,121.99,null,"Gedling",6,{"$f":"AD120/AC120*U120","v":0.4337349397590361},null," Gedling",9,2,null," Gedling",83,6]
["Harlow",null,null,null,null,12,2,null,12,2,166.66666666666666,2.94,56.1,19.081632653061224,null,"Havant",2.67,51.4,null,"Gloucester",68,10,null," Gloucester",75,12,null," Gloucester",250,33]
["Harrogate",null,null,null,null,342,76,null,342,76,222.22222222222223,6.39,166.6,26.071987480438185,null,"Havering",7.12,167.56,null,"Gloucestershire (LAA unspecified)"," -"," -",null," Gloucestershire (LAA unspecified)"," -"," -",null," Gloucestershire (LAA unspecified)"," -"," -"]
["Harrow",null,null,null,null,8,1,null,8,1,125,10.18,358.69,35.234774066797641,null,"Herefordshire",7.76,182.29,null,"Gosport",9,1,null," Gosport",11,1,null," Gosport",53,13]
["Hart",null,null,null,null,13,3,null,13,3,230.76923076923077,2.31,30.49,13.199134199134198,null,"Hertsmere",1.9,31.57,null,"Gravesham",17,2,null," Gravesham",17,2,null," Gravesham",180,10]
["Hartlepool",null,null,null,null,8,2,null,8,2,250,1.64,25.62,15.621951219512196,null,"High Peak",3.26,54,null,"Great Yarmouth",530,119,null," Great Yarmouth",562,134,null," Great Yarmouth",670,130]
["Hastings",null,null,null,null,105,23,null,105,23,219.04761904761904,4.1500000000000004,121.99,29.395180722891563,null,"Hillingdon",8.56,239.83,null,"Greenwich",86,26,null," Greenwich",83,20,null," Greenwich",241,60]
["Havant",null,null,null,null,72,13,null,72,13,180.55555555555554,2.67,51.4,19.250936329588015,null,"Hinckley and Bosworth",4.4800000000000004,85.7,null,"Guildford",36,7,null," Guildford",34,8,null," Guildford",250,35]
["Havering",null,null,null,null,11,1,null,11,1,90.909090909090907,7.12,167.56,23.533707865168541,null,"Horsham",3.7,78.45,null,"Hackney",36,7,null," Hackney",31,6,null," Hackney",176,26]
["Herefordshire",null,null,null,null,269,54,null,269,54,200.74349442379182,7.76,182.29,23.490979381443299,null,"Hounslow",6.74,300.08999999999997,null,"Halton",11,1,null," Halton",11,1,null," Halton",75,12]
["Hertsmere",null,null,null,null,35,7,null,35,7,200,1.9,31.57,16.615789473684213,null,"Huntingdonshire",6.98,140.66999999999999,null,"Hambleton",87,17,null," Hambleton",75,12,null," Hambleton",208,31]
["High Peak",null,null,null,null,223,41,null,223,41,{"$f":"J131*1000/I131","v":183.85650224215246},3.26,54,16.564417177914113,null,"Hyndburn",1.64,16.309999999999999,null,"Hammersmith and Fulham",42,12,null," Hammersmith and Fulham",43,11,null," Hammersmith and Fulham",174,36]
["Hillingdon",null,null,null,null,100,20,null,{"$f":"F132","v":100},{"$f":"G132","v":20},200,8.56,239.83,{"$f":"M132/L132","v":28.017523364485982},null,"Ipswich",8.14,198.93,null,"Hampshire (LAA unspecified)"," -"," -",null," Hampshire (LAA unspecified)"," -"," -",null," Hampshire (LAA unspecified)"," -"," -"]
["Hinckley and Bosworth",null,null,null,null,39,5,null,39,5,128.2051282051282,4.4800000000000004,85.7,19.129464285714285,null,"Isle of Wight",7.01,173.98,null,"Harborough",36,5,null," Harborough",22,4,null," Harborough",95,16]
["Horsham",null,null,null,null,43,4,null,43,4,93.023255813953483,3.7,78.45,21.202702702702702,null,"Islington",14.75,431.76,null,"Haringey",35,8,null," Haringey",44,9,null," Haringey",136,26]
["Hounslow",null,null,null,null,83,11,null,83,11,132.53012048192772,6.74,300.08999999999997,44.523738872403555,null,"Kensington and Chelsea",12.98,615.95000000000005,null,"Harlow",12,2,null," Harlow",6,1,null," Harlow",81,5]
["Huntingdonshire",null,null,null,null,41,4,null,41,4,97.560975609756099,6.98,140.66999999999999,20.153295128939824,null,"Kettering",3.55,106.38,null,"Harrogate",342,76,null," Harrogate",344,73,null," Harrogate",617,119]
["Hyndburn",null,null,null,null,2,0.30769230769230771,null,2,0.30769230769230771,153.84615384615387,1.64,16.309999999999999,9.9451219512195124,null,"King`s Lynn and West Norfolk",8.6199999999999992,196.23,null,"Harrow",8,1,null," Harrow",13,1,null," Harrow",89,16]
["Ipswich",null,null,null,null,49,8,null,49,8,163.26530612244898,8.14,198.93,24.438574938574938,null,"Kingston upon Hull",12.42,235.48,null,"Hart",13,3,null," Hart",9,3,null," Hart",86,9]
["Isle of Wight",null,null,null,null,691,190,null,691,190,274.96382054992762,7.01,173.98,24.8188302425107,null,"Kingston upon Thames",7.88,240.33,null,"Hartlepool",8,2,null," Hartlepool",13,2,null," Hartlepool",95,22]
["Isles of Scilly",null,null,null,null,{"$f":"VLOOKUP($A140,$T$3:$V$364,2,FALSE)","v":66},{"$f":"VLOOKUP($A140,$T$3:$V$396,3,FALSE)","v":31},null,66,31,469.69696969696969,{"$f":"F140/F$329*L$329","v":3.4347675741924188},{"$f":"G140/G$329*M$329","v":190.23282857142857},55.384483654954742,null,"Kirklees",15.32,221.99,null,"Hastings",105,23,null," Hastings",115,20,null," Hastings",236,39]
["Islington",null,null,null,null,{"$f":"VLOOKUP($A141,$T$3:$V$364,2,FALSE)","v":56},{"$f":"VLOOKUP($A141,$T$3:$V$396,3,FALSE)","v":15},null,56,15,267.85714285714283,{"$f":"VLOOKUP(A141,$P$3:$R$318,2,FALSE)","v":14.75},{"$f":"VLOOKUP(A141,$P$3:$R$318,3,FALSE)","v":431.76},29.27186440677966,null,"Knowsley",1.62,22.82,null,"Havant",72,13,null," Havant",77,13,null," Havant",129,21]
["Kensington and Chelsea",null,null,null,null,{"$f":"VLOOKUP($A142,$T$3:$V$364,2,FALSE)","v":249},{"$f":"VLOOKUP($A142,$T$3:$V$396,3,FALSE)","v":96},null,249,96,385.54216867469881,12.98,615.95000000000005,47.453775038520803,null,"Lambeth",9.6300000000000008,235.43,null,"Havering",11,1,null," Havering",7," *",null," Havering",95,9]
["Kettering",null,null,null,null,{"$f":"VLOOKUP($A143,$T$3:$V$364,2,FALSE)","v":39},{"$f":"VLOOKUP($A143,$T$3:$V$396,3,FALSE)","v":5},null,39,5,128.2051282051282,3.55,106.38,29.966197183098593,null,"Lancaster",5.4,124.22,null,"Herefordshire",269,54,null," Herefordshire, County of",289,52,null," Herefordshire, County of",582,83]
["King`s Lynn and West Norfolk",null,null,null,null,302,48,null,302,48,158.94039735099338,8.6199999999999992,196.23,22.764501160092809,null,"Leeds",38.61,894.79,null,"Hertfordshire (LAA unspecified)"," -"," -",null," Hertfordshire (LAA unspecified)"," -"," -",null," Hertfordshire (LAA unspecified)"," -"," -"]
["Kingston upon Hull",null,null,null,null,{"$f":"VLOOKUP($A145,$T$3:$V$364,2,FALSE)","v":58.909090909090914},{"$f":"VLOOKUP($A145,$T$3:$V$396,3,FALSE)","v":8},null,58.909090909090914,8,135.80246913580245,12.42,235.48,18.9597423510467,null,"Leicester",13.96,363.15,null,"Hertsmere",35,7,null," Hertsmere",38,7,null," Hertsmere",95,15]
["Kingston upon Thames",null,null,null,null,37,7,null,37,7,189.18918918918919,7.88,240.33,30.498730964467008,null,"Lewes",2.31,40.31,null,"High Peak",223,41,null," High Peak",242,39,null," High Peak",365,59]
["Kirklees",null,null,null,null,101,15,null,101,15,148.51485148514851,15.32,221.99,14.490208877284596,null,"Lewisham",9.14,126.9,null,"Hillingdon",100,20,null," Hillingdon",123,20,null," Hillingdon",382,61]
["Knowsley",null,null,null,null,4,1,null,4,1,250,1.62,22.82,14.086419753086419,null,"Lichfield",4.45,86.54,null,"Hinckley and Bosworth",39,5,null," Hinckley and Bosworth",51,5,null," Hinckley and Bosworth",86,10]
["Lambeth",null,null,null,null,77,18,null,77,18,233.76623376623377,9.6300000000000008,235.43,24.447559709241951,null,"Lincoln",9.1,331.14,null,"Horsham",43,4,null," Horsham",53,5,null," Horsham",164,24]
["Lancaster",null,null,null,null,260,44,null,260,44,169.23076923076923,5.4,124.22,23.003703703703703,null,"Liverpool",25.79,809.22,null,"Hounslow",83,11,null," Hounslow",102,13,null," Hounslow",338,51]
["Leeds",null,null,null,null,467,90,null,467,90,192.71948608137046,38.61,894.79,23.175084175084173,null,"Luton",5.13,90.26,null,"Huntingdonshire",41,4,null," Huntingdonshire",62,5,null," Huntingdonshire",219,22]
["Leicester",null,null,null,null,87,12,null,87,12,137.93103448275863,13.96,363.15,26.013610315186241,null,"Maidstone",10.25,278.33999999999997,null,"Hyndburn",2,{"$f":"AD152/AC152*U152","v":0.30769230769230771},null," Hyndburn",2," *",null," Hyndburn",13,2]
["Lewes",null,null,null,null,34,7,null,34,7,205.88235294117646,2.31,40.31,17.450216450216452,null,"Maldon",2.0299999999999998,19.38,null,"Ipswich",49,8,null," Ipswich",53,9,null," Ipswich",264,34]
["Lewisham",null,null,null,null,7,1,null,7,1,142.85714285714286,9.14,126.9,13.884026258205688,null,"Malvern Hills",5.15,99.37,null,"Isles of Scilly",66,31,null," Isles of Scilly",71,31,null," Isles of Scilly",93,35]
["Lichfield",null,null,null,null,32,5,null,32,5,156.25,4.45,86.54,19.447191011235955,null,"Manchester",46.25,1800.46,null,"Islington",56,15,null," Islington",52,10,null," Islington",167,38]
["Lincoln",null,null,null,null,108,18,null,108,18,166.66666666666666,9.1,331.14,36.389010989010991,null,"Mansfield",4.1500000000000004,61.46,null,"Kensington and Chelsea",249,96,null," Kensington and Chelsea",271,100,null," Kensington and Chelsea",541,176]
["Liverpool",null,null,null,null,624,122,null,624,122,195.51282051282053,25.79,809.22,31.377278014734394,null,"Medway",7.81,168.84,null,"Kent (LAA unspecified)"," -"," -",null," Kent (LAA unspecified)"," -"," -",null," Kent (LAA unspecified)"," -"," -"]
["Luton",null,null,null,null,58,9,null,58,9,155.17241379310346,5.13,90.26,17.594541910331387,null,"Melton",3.24,149.47999999999999,null,"Kettering",39,5,null," Kettering",34,5,null," Kettering",150,21]
["Maidstone",null,null,null,null,113,14,null,113,14,123.89380530973452,10.25,278.33999999999997,27.15512195121951,null,"Mendip",3.46,88.35,null,"King`s Lynn and West Norfolk",null," -",null," King's Lynn and West Norfolk"," -"," -",null," King's Lynn and West Norfolk"," -"]
["Maldon",null,null,null,null,31,3,null,31,3,96.774193548387103,2.0299999999999998,19.38,9.5467980295566512,null,"Merton",4.63,112.97,null,"Kingston upon Hull",{"$f":"V160/Z160*Y160","v":58.909090909090914},8,null," Kingston upon Hull, City of",81,11,null," Kingston upon Hull, City of",371,45]
["Malvern Hills",null,null,null,null,82,16,null,82,16,195.1219512195122,5.15,99.37,19.29514563106796,null,"Mid Devon",3.46,61.15,null,"Kingston upon Thames",37,7,null," Kingston upon Thames",32,6,null," Kingston upon Thames",147,20]
["Manchester",null,null,null,null,963,199,null,963,199,206.64589823468327,46.25,1800.46,38.928864864864863,null,"Mid Suffolk",3.42,40.69,null,"Kirklees",101,15,null," Kirklees",87,11,null," Kirklees",305,38]
["Mansfield",null,null,null,null,24,3,null,24,3,125,4.1500000000000004,61.46,14.809638554216866,null,"Mid Sussex",3.92,75.819999999999993,null,"Knowsley",4,1,null," Knowsley",7,1,null," Knowsley",26,2]
["Medway",null,null,null,null,59,9,null,59,9,152.54237288135593,7.81,168.84,21.618437900128043,null,"Middlesbrough",6.86,122.78,null,"Lambeth",77,18,null," Lambeth",70,15,null," Lambeth",267,48]
["Melton",null,null,null,null,51,11,null,51,11,215.68627450980392,3.24,149.47999999999999,46.135802469135797,null,"Milton Keynes",10.88,453.75,null,"Lancashire (LAA unspecified)"," -"," -",null," Lancashire (LAA unspecified)"," -"," -",null," Lancashire (LAA unspecified)"," -"," -"]
["Mendip",null,null,null,null,142,29,null,142,29,204.22535211267606,3.46,88.35,25.534682080924853,null,"Mole Valley",2.74,39.880000000000003,null,"Lancaster",260,44,null," Lancaster",220,36,null," Lancaster",445,73]
["Merton",null,null,null,null,38,6,null,38,6,157.89473684210526,4.63,112.97,24.399568034557237,null,"New Forest",6.81,170.63,null,"Leeds",467,90,null," Leeds",463,92,null," Leeds",1470,263]
["Mid Devon",null,null,null,null,64,13,null,64,13,203.125,3.46,61.15,17.673410404624278,null,"Newark and Sherwood",4.79,117.76,null,"Leicester",87,12,null," Leicester",68,10,null," Leicester",433,64]
["Mid Suffolk",null,null,null,null,31,6,null,31,6,193.54838709677421,3.42,40.69,11.897660818713449,null,"Newcastle upon Tyne",20.84,827.18,null,"Leicestershire (LAA unspecified)"," -"," -",null," Leicestershire (LAA unspecified)"," -"," -",null," Leicestershire (LAA unspecified)"," -"," -"]
["Mid Sussex",null,null,null,null,49,7,null,49,7,142.85714285714286,3.92,75.819999999999993,19.341836734693874,null,"Newcastle-under-Lyme",3.77,84.27,null,"Lewes",34,7,null," Lewes",41,8,null," Lewes",118,13]
["Middlesbrough",null,null,null,null,33,10,null,33,10,303.030303030303,6.86,122.78,17.897959183673468,null,"Newham",11.07,334.59,null,"Lewisham",7,1,null," Lewisham",10,2,null," Lewisham",116,14]
["Milton Keynes",null,null,null,null,91,13,null,91,13,142.85714285714286,10.88,453.75,41.704963235294116,null,"North Devon",6.37,146.35,null,"Lichfield",32,5,null," Lichfield",45,7,null," Lichfield",98,11]
["Mole Valley",null,null,null,null,25,3,null,25,3,120,{"$f":"VLOOKUP(A173,$P$3:$R$318,2,FALSE)","v":2.74},{"$f":"VLOOKUP(A173,$P$3:$R$318,3,FALSE)","v":39.880000000000003},14.554744525547445,null,"North Dorset",1.35,41.34,null,"Lincoln",108,18,null," Lincoln",74,13,null," Lincoln",340,46]
["New Forest",null,null,null,null,414,67,null,414,67,161.83574879227052,6.81,170.63,25.055800293685756,null,"North East Derbyshire",2.09,37.97,null,"Lincolnshire (LAA unspecified)"," -"," -",null," Lincolnshire (LAA unspecified)"," -"," -",null," Lincolnshire (LAA unspecified)"," -"]
["Newark and Sherwood",null,null,null,null,136,26,null,136,26,191.1764705882353,4.79,117.76,24.584551148225472,null,"North East Lincolnshire",7.68,182.42,null,"Liverpool",624,122,null," Liverpool",537,104,null," Liverpool",1276,256]
["Newcastle upon Tyne",null,null,null,null,365,91,null,365,91,249.31506849315068,20.84,827.18,39.691938579654511,null,"North Hertfordshire",6.05,93.03,null,"Luton",58,9,null," Luton",54,6,null," Luton",225,32]
["Newcastle-under-Lyme",null,null,null,null,25,7,null,25,7,280,3.77,84.27,22.352785145888593,null,"North Kesteven",3.91,39,null,"Maidstone",113,14,null," Maidstone",111,15,null," Maidstone",377,43]
["Newham",null,null,null,null,30,4,null,30,4,133.33333333333334,11.07,334.59,30.224932249322489,null,"North Lincolnshire",5.51,83.72,null,"Maldon",31,3,null," Maldon",30,2,null," Maldon",66,5]
["North Devon",null,null,null,null,690,169,null,690,169,244.92753623188406,6.37,146.35,22.974882260596544,null,"North Norfolk",8.82,130.13,null,"Malvern Hills",82,16,null," Malvern Hills",78,15,null," Malvern Hills",164,26]
["North Dorset",null,null,null,null,78,17,null,78,17,217.94871794871796,1.35,41.34,30.622222222222224,null,"North Somerset",7.01,130.81,null,"Manchester",963,199,null," Manchester",862,170,null," Manchester",2526,532]
["North East Derbyshire",null,null,null,null,33,4,null,33,4,121.21212121212122,2.09,37.97,18.167464114832537,null,"North Tyneside",6.68,103.06,null,"Mansfield",24,3,null," Mansfield",36,6,null," Mansfield",121,9]
["North East Lincolnshire",null,null,null,null,119,17,null,119,17,142.85714285714286,7.68,182.42,23.752604166666664,null,"North Warwickshire",2.5499999999999998,68.47,null,"Medway",59,9,null," Medway",72,9,null," Medway",312,33]
["North Hertfordshire",null,null,null,null,39,7,null,39,7,179.48717948717947,6.05,93.03,15.376859504132232,null,"North West Leicestershire",3.36,44.69,null,"Melton",51,11,null," Melton",57,12,null," Melton",135,25]
["North Kesteven",null,null,null,null,39,4,null,39,4,102.56410256410257,3.91,39,9.9744245524296673,null,"Northampton",9.93,236.97,null,"Mendip",142,29,null," Mendip",147,36,null," Mendip",325,47]
["North Lincolnshire",null,null,null,null,31,3,null,31,3,96.774193548387103,5.51,83.72,15.194192377495463,null,"Northumberland",16.84,416.63,null,"Merseyside (LAA unspecified)"," -"," -",null," Merseyside (LAA unspecified)"," -"," -",null," Merseyside (LAA unspecified)"," -"," -"]
["North Norfolk",null,null,null,null,540,141,null,540,141,261.11111111111109,8.82,130.13,14.753968253968253,null,"Norwich",22.59,716.92,null,"Merton",38,6,null," Merton",39,6,null," Merton",165,22]
["North Somerset",null,null,null,null,226,39,null,226,39,172.56637168141592,7.01,130.81,18.660485021398003,null,"Nottingham",21.06,884.53,null,"Mid Devon",64,13,null," Mid Devon",63,15,null," Mid Devon",162,24]
["North Tyneside",null,null,null,null,45,10,null,45,10,222.22222222222223,6.68,103.06,15.428143712574851,null,"Nuneaton and Bedworth",3.45,38.590000000000003,null,"Mid Suffolk",31,6,null," Mid Suffolk",37,6,null," Mid Suffolk",101,11]
["North Warwickshire",null,null,null,null,29,2,null,29,2,68.965517241379317,2.5499999999999998,68.47,26.850980392156863,null,"Oldham",6.21,108.92,null,"Mid Sussex",49,7,null," Mid Sussex",51,7,null," Mid Sussex",154,19]
["North West Leicestershire",null,null,null,null,49,5,null,49,5,102.04081632653062,3.36,44.69,13.300595238095237,null,"Oxford",8.17,230.26,null,"Middlesbrough",33,10,null," Middlesbrough",26,5,null," Middlesbrough",143,26]
["Northampton",null,null,null,null,81,11,null,81,11,135.80246913580248,9.93,236.97,23.86404833836858,null,"Pendle",2.37,29.8,null,"Milton Keynes",91,13,null," Milton Keynes",101,16,null," Milton Keynes",479,67]
["Northumberland",null,null,null,null,898,199,null,898,199,221.60356347438753,16.84,416.63,24.740498812351543,null,"Peterborough",9.2200000000000006,269.72000000000003,null,"Mole Valley",25,3,null," Mole Valley",21,5,null," Mole Valley",113,15]
["Norwich",null,null,null,null,{"$f":"VLOOKUP($A193,$T$3:$V$364,2,FALSE)","v":198},{"$f":"VLOOKUP($A193,$T$3:$V$396,3,FALSE)","v":35},null,198,35,176.76767676767676,22.59,716.92,31.73616644532979,null,"Plymouth",15.9,570.35,null,"New Forest",414,67,null," New Forest",423,70,null," New Forest",617,83]
["Nottingham",null,null,null,null,420,{"$f":"VLOOKUP($A194,$T$3:$V$396,3,FALSE)","v":109},null,420,109,259.52380952380952,21.06,884.53,42.00047483380817,null,"Poole",3.33,77.349999999999994,null,"Newark and Sherwood",136,26,null," Newark and Sherwood",103,18,null," Newark and Sherwood",217,39]
["Nuneaton and Bedworth",null,null,null,null,13,{"$f":"VLOOKUP($A195,$T$3:$V$396,3,FALSE)","v":1},null,13,1,{"$f":"J195*1000/I195","v":76.92307692307692},3.45,38.590000000000003,11.185507246376812,null,"Portsmouth",11.52,442.62,null,"Newcastle upon Tyne",365,91,null," Newcastle upon Tyne",368,85,null," Newcastle upon Tyne",1212,239]
["Oadby and Wigston",null,null,null,null,3,0,null,{"$f":"F196","v":3},{"$f":"G196","v":0},0,{"$f":"F196/F$329*L$329","v":0.15612579882692815},{"$f":"G196/G$329*M$329","v":0},{"$f":"M196/L196","v":0},null,"Preston",6.91,163.92,null,"Newcastle-under-Lyme",25,7,null," Newcastle-under-Lyme",40,9,null," Newcastle-under-Lyme",97,15]
["Oldham",null,null,null,null,9,{"$f":"VLOOKUP($A197,$T$3:$V$396,3,FALSE)","v":4},null,9,4,444.44444444444446,{"$f":"VLOOKUP(A197,$P$3:$R$318,2,FALSE)","v":6.21},{"$f":"VLOOKUP(A197,$P$3:$R$318,3,FALSE)","v":108.92},17.539452495974235,null,"Reading",7.54,256.35000000000002,null,"Newham",30,4,null," Newham",21,3,null," Newham",128,17]
["Oxford",null,null,null,null,249,60,null,249,60,240.96385542168676,8.17,230.26,28.18359853121175,null,"Redbridge",5.36,95.88,null,"Norfolk (LAA unspecified)"," -"," -",null," Norfolk (LAA unspecified)"," -"," -",null," Norfolk (LAA unspecified)"," -"," -"]
["Pendle",null,null,null,null,7,1,null,7,1,142.85714285714286,2.37,29.8,12.573839662447257,null,"Redcar and Cleveland",3.22,31.83,null,"North Devon",690,169,null," North Devon",686,162,null," North Devon",866,196]
["Peterborough",null,null,null,null,78,11,null,78,11,141.02564102564102,9.2200000000000006,269.72000000000003,29.253796095444688,null,"Redditch",2.67,45.42,null,"North Dorset",78,17,null," North Dorset",93,13,null," North Dorset",223,29]
["Plymouth",null,null,null,null,167,26,null,167,26,155.68862275449101,15.9,570.35,35.871069182389938,null,"Reigate and Banstead",4.51,76.64,null,"North East Derbyshire",33,4,null," North East Derbyshire",40,6,null," North East Derbyshire",90,7]
["Poole",null,null,null,null,209,38,null,209,38,181.81818181818181,3.33,77.349999999999994,23.228228228228225,null,"Ribble Valley",5.36,91.01,null,"North East Lincolnshire",119,17,null," North East Lincolnshire",156,24,null," North East Lincolnshire",312,35]
["Portsmouth",null,null,null,null,254,54,null,254,54,212.5984251968504,11.52,442.62,38.421875,null,"Richmond upon Thames",8.3000000000000007,331.08,null,"North Hertfordshire",39,7,null," North Hertfordshire",32,7,null," North Hertfordshire",119,18]
["Preston",null,null,null,null,71,12,null,71,12,169.01408450704224,6.91,163.92,23.722141823444282,null,"Richmondshire",2.14,58.89,null,"North Kesteven",39,4,null," North Kesteven",40,4,null," North Kesteven",88,9]
["Purbeck",null,null,null,null,220,46,null,220,46,209.09090909090909,{"$f":"F205/F$329*L$329","v":11.449225247308064},{"$f":"G205/G$329*M$329","v":282.28097142857143},24.655028207689529,null,"Rochdale",4.0599999999999996,84.08,null,"North Lincolnshire",31,3,null," North Lincolnshire",35,7,null," North Lincolnshire",156,20]
["Reading",null,null,null,null,120,21,null,120,21,175,{"$f":"VLOOKUP(A206,$P$3:$R$318,2,FALSE)","v":7.54},{"$f":"VLOOKUP(A206,$P$3:$R$318,3,FALSE)","v":256.35000000000002},33.99867374005305,null,"Rochford",3.22,36.26,null,"North Norfolk",540,141,null," North Norfolk",583,153,null," North Norfolk",743,155]
["Redbridge",null,null,null,null,13,2,null,13,2,153.84615384615384,5.36,95.88,17.888059701492537,null,"Rother",4.22,99.39,null,"North Somerset",226,39,null," North Somerset",214,36,null," North Somerset",395,64]
["Redcar and Cleveland",null,null,null,null,42,5,null,42,5,119.04761904761905,3.22,31.83,9.8850931677018625,null,"Rotherham",7.14,167.39,null,"North Tyneside",45,10,null," North Tyneside",51,11,null," North Tyneside",121,18]
["Redditch",null,null,null,null,8,1,null,8,1,125,2.67,45.42,17.011235955056179,null,"Rugby",3.94,69.400000000000006,null,"North Warwickshire",29,2,null," North Warwickshire",17,1,null," North Warwickshire",51,8]
["Reigate and Banstead",null,null,null,null,23,3,null,23,3,130.43478260869566,4.51,76.64,16.993348115299337,null,"Runnymede",1.8,49.27,null,"North West Leicestershire",49,5,null," North West Leicestershire",41,8,null," North West Leicestershire",131,18]
["Ribble Valley",null,null,null,null,58,9,null,58,9,155.17241379310346,5.36,91.01,16.979477611940297,null,"Rushcliffe",2.46,37.799999999999997,null,"North Yorkshire (LAA unspecified)"," -"," -",null," North Yorkshire (LAA unspecified)"," -"," -",null," North Yorkshire (LAA unspecified)"," -"," -"]
["Richmond upon Thames",null,null,null,null,81,18,null,81,18,222.22222222222223,8.3000000000000007,331.08,39.889156626506022,null,"Rushmoor",2.81,32.65,null,"Northampton",81,11,null," Northampton",82,13,null," Northampton",336,45]
["Richmondshire",null,null,null,null,231,47,null,231,47,203.46320346320346,2.14,58.89,27.518691588785046,null,"Rutland",2.25,43.73,null,"Northamptonshire (LAA unspecified)"," -"," -",null," Northamptonshire (LAA unspecified)"," -"," -",null," Northamptonshire (LAA unspecified)"," -"," -"]
["Rochdale",null,null,null,null,10,3,null,10,3,300,4.0599999999999996,84.08,20.709359605911331,null,"Ryedale",3.02,59.88,null,"Northumberland (LAA unspecified)"," -"," -",null," Northumberland (LAA unspecified)"," -"," -",null," Northumberland (LAA unspecified)"," -"," -"]
["Rochford",null,null,null,null,3,0.42857142857142855,null,3,0.42857142857142855,142.85714285714286,3.22,36.26,11.260869565217391,null,"Salford",4.18,80.87,null,"Norwich",198,35,null," Norwich",235,44,null," Norwich",629,101]
["Rossendale",null,null,null,null,6,0.42857142857142855,null,6,0.42857142857142855,71.428571428571431,{"$f":"F216/F$329*L$329","v":0.31225159765385629},{"$f":"G216/G$329*M$329","v":2.6299469387755101},8.4225251641175394,null,"Sandwell",4.34,59.61,null,"Nottingham",420,109,null," Nottingham",364,103,null," Nottingham",912,184]
["Rother",null,null,null,null,191,34,null,191,34,178.01047120418849,{"$f":"VLOOKUP(A217,$P$3:$R$318,2,FALSE)","v":4.22},{"$f":"VLOOKUP(A217,$P$3:$R$318,3,FALSE)","v":99.39},23.552132701421801,null,"Scarborough",10.220000000000001,424.72,null,"Nottinghamshire (LAA unspecified)"," -"," -",null," Nottinghamshire (LAA unspecified)"," -"," -",null," Nottinghamshire (LAA unspecified)"," -"," -"]
["Rotherham",null,null,null,null,24,6,null,24,6,250,7.14,167.39,23.443977591036415,null,"Sedgemoor",2.37,54.84,null,"Nuneaton and Bedworth",13,1,null," Nuneaton and Bedworth",8,1,null," Nuneaton and Bedworth",63,4]
["Rugby",null,null,null,null,33,3,null,33,3,90.909090909090907,3.94,69.400000000000006,17.614213197969544,null,"Sefton",11.44,223.15,null,"Oadby and Wigston",3,{"$f":"AD219/AC219*U219","v":{"$error":"#VALUE!"}},null," Oadby and Wigston",3," *",null," Oadby and Wigston",7," *"]
["Runnymede",null,null,null,null,25,4,null,25,4,160,1.8,49.27,27.372222222222224,null,"Selby",3.14,58.97,null,"Oldham",9,4,null," Oldham",8,4,null," Oldham",65,14]
["Rushcliffe",null,null,null,null,18,1,null,18,1,55.555555555555557,2.46,37.799999999999997,15.365853658536585,null,"Sevenoaks",3.94,116.54,null,"Oxford",249,60,null," Oxford",237,56,null," Oxford",658,116]
["Rushmoor",null,null,null,null,10,2,null,10,2,200,2.81,32.65,11.619217081850532,null,"Sheffield",27.3,831.84,null,"Oxfordshire (LAA unspecified)",null," -",null," Oxfordshire (LAA unspecified)"," -"," -",null," Oxfordshire (LAA unspecified)"," -"," -"]
["Rutland",null,null,null,null,40,6,null,40,6,150,2.25,43.73,19.435555555555553,null,"Shepway",4.66,120.68,null,"Pendle",7,1,null," Pendle",5,1,null," Pendle",33,6]
["Ryedale",null,null,null,null,267,52,null,267,52,194.75655430711612,3.02,59.88,19.827814569536425,null,"Shropshire",14.84,385.59,null,"Peterborough",78,11,null," Peterborough",91,13,null," Peterborough",339,40]
["Salford",null,null,null,null,{"$f":"VLOOKUP($A225,$T$3:$V$364,2,FALSE)","v":24},6,null,24,6,250,4.18,80.87,19.346889952153113,null,"Slough",1.83,34.04,null,"Plymouth",167,26,null," Plymouth",193,32,null," Plymouth",649,85]
["Sandwell",null,null,null,null,9,0.62068965517241381,null,9,0.62068965517241381,68.965517241379317,4.34,59.61,13.735023041474655,null,"Solihull",7.97,471.4,null,"Poole",209,38,null," Poole",191,33,null," Poole",342,61]
["Scarborough",null,null,null,null,1369,268,null,1369,268,195.76333089846602,10.220000000000001,424.72,41.557729941291583,null,"South Bucks",2.0699999999999998,40.880000000000003,null,"Portsmouth",254,54,null," Portsmouth",232,48,null," Portsmouth",672,113]
["Sedgemoor",null,null,null,null,332,59,null,332,59,177.71084337349399,2.37,54.84,23.139240506329113,null,"South Cambridgeshire",3.28,118.61,null,"Preston",71,12,null," Preston",83,13,null," Preston",326,40]
["Sefton",null,null,null,null,208,{"$f":"VLOOKUP($A229,$T$3:$V$396,3,FALSE)","v":31},null,208,31,149.03846153846155,11.44,223.15,19.506118881118883,null,"South Derbyshire",2.2000000000000002,54.79,null,"Purbeck",220,46,null," Purbeck",220,48,null," Purbeck",280,54]
["Selby",null,null,null,null,33,7,null,33,7,212.12121212121212,3.14,58.97,18.780254777070063,null,"South Gloucestershire",5.41,81.599999999999994,null,"Reading",120,21,null," Reading",123,18,null," Reading",537,88]
["Sevenoaks",null,null,null,null,41,6,null,41,6,146.34146341463415,3.94,116.54,29.578680203045689,null,"South Hams",4.49,75.84,null,"Redbridge",13,2,null," Redbridge",19,1,null," Redbridge",89,9]
["Sheffield",null,null,null,null,211,36,null,211,36,170.61611374407582,27.3,831.84,30.470329670329672,null,"South Holland",2.97,65.16,null,"Redcar and Cleveland",42,5,null," Redcar and Cleveland",32,4,null," Redcar and Cleveland",95,14]
["Shepway",null,null,null,null,219,34,null,219,34,155.25114155251143,4.66,120.68,25.896995708154506,null,"South Kesteven",6.76,179.06,null,"Redditch",8,1,null," Redditch",10,1,null," Redditch",100,14]
["Shropshire",null,null,null,null,337,62,null,337,62,183.97626112759644,14.84,385.59,25.983153638814013,null,"South Lakeland",10.07,316.33,null,"Reigate and Banstead",23,3,null," Reigate and Banstead",26,5,null," Reigate and Banstead",143,18]
["Slough",null,null,null,null,20,5,null,20,5,250,1.83,34.04,18.601092896174862,null,"South Lanarkshire",9.34,234.59,null,"Ribble Valley",58,9,null," Ribble Valley",53,7,null," Ribble Valley",100,15]
["Solihull",null,null,null,null,15,3,null,15,3,200,7.97,471.4,59.146800501882055,null,"South Norfolk",4.59,73.77,null,"Richmond upon Thames",81,18,null," Richmond upon Thames",90,21,null," Richmond upon Thames",259,40]
["South Bucks",null,null,null,null,13,3,null,13,3,230.76923076923077,2.0699999999999998,40.880000000000003,19.748792270531403,null,"South Northamptonshire",3.4,106.67,null,"Richmondshire",231,47,null," Richmondshire",211,42,null," Richmondshire",344,63]
["South Cambridgeshire",null,null,null,null,36,5,null,36,5,138.88888888888889,3.28,118.61,36.161585365853661,null,"South Oxfordshire",3.75,58.26,null,"Rochdale",10,3,null," Rochdale",13,2,null," Rochdale",98,6]
["South Derbyshire",null,null,null,null,21,3,null,21,3,142.85714285714286,2.2000000000000002,54.79,24.904545454545453,null,"South Ribble",1.41,23.21,null,"Rochford",3,{"$f":"AD239/AC239*U239","v":0.42857142857142855},null," Rochford",2," *",null," Rochford",14,2]
["South Gloucestershire",null,null,null,null,24,6,null,24,6,250,5.41,81.599999999999994,15.083179297597042,null,"South Somerset",3.87,95.5,null,"Rossendale",6,{"$f":"AD240/AC240*U240","v":0.42857142857142855},null," Rossendale",7,3,null," Rossendale",28,2]
["South Hams",null,null,null,null,392,121,null,392,121,308.67346938775512,4.49,75.84,16.890868596881958,null,"South Staffordshire",3.42,53.5,null,"Rother",191,34,null," Rother",191,32,null," Rother",262,43]
["South Holland",null,null,null,null,30,4,null,30,4,133.33333333333334,2.97,65.16,21.939393939393938,null,"South Tyneside",2.84,45.19,null,"Rotherham",24,6,null," Rotherham",32,10,null," Rotherham",119,14]
["South Kesteven",null,null,null,null,80,19,null,80,19,237.5,6.76,179.06,26.488165680473372,null,"Southampton",12.85,355.09,null,"Rugby",33,3,null," Rugby",28,3,null," Rugby",214,19]
["South Lakeland",null,null,null,null,1323,328,null,1323,328,247.92139077853363,10.07,316.33,31.413108242303871,null,"Southend-on-Sea",4.41,102.8,null,"Runnymede",25,4,null," Runnymede",19,3,null," Runnymede",84,18]
["South Norfolk",null,null,null,null,36,12,null,36,12,333.33333333333331,4.59,73.77,16.071895424836601,null,"Southwark",15.35,282.24,null,"Rushcliffe",18,1,null," Rushcliffe",14,1,null," Rushcliffe",121,6]
["South Northamptonshire",null,null,null,null,81,19,null,81,19,234.5679012345679,3.4,106.67,31.373529411764707,null,"Spelthorne",2.4500000000000002,49.75,null,"Rushmoor",10,2,null," Rushmoor",12,2,null," Rushmoor",110,13]
["South Oxfordshire",null,null,null,null,67,13,null,67,13,194.02985074626866,3.75,58.26,15.536,null,"St Albans",2.19,63.7,null,"Rutland",40,6,null," Rutland",40,7,null," Rutland",112,14]
["South Ribble",null,null,null,null,3,0.24489795918367346,null,3,0.24489795918367346,81.632653061224488,1.41,23.21,16.460992907801419,null,"St Edmundsbury",3.25,62.82,null,"Ryedale",267,52,null," Ryedale",262,48,null," Ryedale",357,61]
["South Somerset",null,null,null,null,131,35,null,131,35,267.17557251908397,{"$f":"VLOOKUP(A249,$P$3:$R$318,2,FALSE)","v":3.87},{"$f":"VLOOKUP(A249,$P$3:$R$318,3,FALSE)","v":95.5},24.677002583979327,null,"St Helens",2.69,56.41,null,"Salford",24,6,null," Salford",23,5,null," Salford",88,19]
["South Staffordshire",null,null,null,null,26,2,null,26,2,76.92307692307692,3.42,53.5,15.64327485380117,null,"Stafford",5.71,196.16,null,"Sandwell",9,{"$f":"AD250/AC250*U250","v":0.62068965517241381},null," Sandwell",3," *",null," Sandwell",29,2]
["South Tyneside",null,null,null,null,15,1,null,15,1,66.666666666666671,2.84,45.19,15.911971830985916,null,"Staffordshire Moorlands",4.2699999999999996,155.85,null,"Scarborough",1369,268,null," Scarborough",1362,263,null," Scarborough",1640,334]
["Southampton",null,null,null,null,267,51,null,267,51,191.01123595505618,12.85,355.09,27.633463035019453,null,"Stevenage",4.38,60.36,null,"Sedgemoor",332,59,null," Sedgemoor",320,57,null," Sedgemoor",452,74]
["Southend-on-Sea",null,null,null,null,78,11,null,78,11,141.02564102564102,4.41,102.8,23.310657596371879,null,"Stockport",8.59,183.25,null,"Sefton",208,31,null," Sefton",185,29,null," Sefton",296,54]
["Southwark",null,null,null,null,35,10,null,35,10,285.71428571428572,15.35,282.24,18.386970684039088,null,"Stockton-on-Tees",2.4900000000000002,24.04,null,"Selby",33,7,null," Selby",40,3,null," Selby",111,11]
["Spelthorne",null,null,null,null,15,3,null,15,3,200,2.4500000000000002,49.75,20.30612244897959,null,"Stoke-on-Trent",4.9800000000000004,127.71,null,"Sevenoaks",41,6,null," Sevenoaks",24,3,null," Sevenoaks",192,21]
["St Albans",null,null,null,null,15,1,null,15,1,66.666666666666671,2.19,63.7,29.086757990867582,null,"Stratford-on-Avon",6.33,156.53,null,"Sheffield",211,36,null," Sheffield",193,30,null," Sheffield",1064,133]
["St Edmundsbury",null,null,null,null,61,16,null,61,16,262.29508196721309,3.25,62.82,19.329230769230769,null,"Stroud",3.55,54.58,null,"Shepway",219,34,null," Shepway",167,27,null," Shepway",298,54]
["St Helens",null,null,null,null,22,3,null,22,3,136.36363636363637,2.69,56.41,20.970260223048328,null,"Suffolk Coastal",6.22,106,null,"Shropshire",337,62,null," Shropshire",305,49,null," Shropshire",694,99]
["Stafford",null,null,null,null,{"$f":"VLOOKUP($A259,$T$3:$V$364,2,FALSE)","v":75},{"$f":"VLOOKUP($A259,$T$3:$V$396,3,FALSE)","v":10},null,75,10,{"$f":"J259*1000/I259","v":133.33333333333334},5.71,196.16,34.353765323992995,null,"Sunderland",6.06,153.6,null,"Shropshire (LAA unspecified)"," -"," -",null," Shropshire (LAA unspecified)"," -"," -",null," Shropshire (LAA unspecified)"," -"," -"]
["Staffordshire Moorlands",null,null,null,null,171,33,null,{"$f":"F260","v":171},{"$f":"G260","v":33},192.98245614035088,4.2699999999999996,155.85,{"$f":"M260/L260","v":36.498829039812648},null,"Surrey Heath",2.79,65.34,null,"Slough",20,5,null," Slough",34,6,null," Slough",206,38]
["Stevenage",null,null,null,null,18,3,null,18,3,166.66666666666666,4.38,60.36,13.78082191780822,null,"Sutton",6.15,146.91999999999999,null,"Solihull",15,3,null," Solihull",21,4,null," Solihull",180,23]
["Stockport",null,null,null,null,20,1,null,20,1,50,8.59,183.25,21.332945285215366,null,"Swale",3.61,48.04,null,"Somerset (LAA unspecified)"," -"," -",null," Somerset (LAA unspecified)"," -"," -",null," Somerset (LAA unspecified)"," -"," -"]
["Stockton-on-Tees",null,null,null,null,31,4,null,31,4,129.03225806451613,2.4900000000000002,24.04,9.6546184738955816,null,"Swindon",6.48,171.5,null,"South Bucks",13,3,null," South Bucks",16,4,null," South Bucks",97,19]
["Stoke-on-Trent",null,null,null,null,70,10,null,70,10,142.85714285714286,4.9800000000000004,127.71,25.64457831325301,null,"Tameside",4.84,88.79,null,"South Cambridgeshire",36,5,null," South Cambridgeshire",34,4,null," South Cambridgeshire",147,16]
["Stratford-on-Avon",null,null,null,null,289,64,null,289,64,221.45328719723184,6.33,156.53,24.728278041074251,null,"Tamworth",3.58,91.34,null,"South Derbyshire",21,3,null," South Derbyshire",16,2,null," South Derbyshire",41,6]
["Stroud",null,null,null,null,39,6,null,39,6,153.84615384615384,3.55,54.58,15.374647887323944,null,"Tandridge",2.58,53.31,null,"South Gloucestershire",24,6,null," South Gloucestershire",38,6,null," South Gloucestershire",188,18]
["Suffolk Coastal",null,null,null,null,167,39,null,167,39,233.53293413173654,6.22,106,17.041800643086816,null,"Taunton Deane",4.3899999999999997,145.83000000000001,null,"South Hams",392,121,null," South Hams",361,110,null," South Hams",563,155]
["Sunderland",null,null,null,null,40,6,null,40,6,150,6.06,153.6,25.346534653465348,null,"Teignbridge",5.67,124.82,null,"South Holland",30,4,null," South Holland",25,3,null," South Holland",103,12]
["Surrey Heath",null,null,null,null,33,8,null,33,8,242.42424242424244,2.79,65.34,23.41935483870968,null,"Telford and Wrekin",4.5599999999999996,116.81,null,"South Kesteven",80,19,null," South Kesteven",87,17,null," South Kesteven",252,39]
["Sutton",null,null,null,null,6,0.339622641509434,null,6,0.339622641509434,56.603773584905667,6.15,146.91999999999999,23.889430894308941,null,"Tendring",5.17,71.900000000000006,null,"South Lakeland",1323,328,null," South Lakeland",1339,331,null," South Lakeland",1684,375]
["Swale",null,null,null,null,48,6,null,48,6,125,3.61,48.04,13.307479224376731,null,"Test Valley",4.68,114.79,null,"South Norfolk",36,12,null," South Norfolk",50,11,null," South Norfolk",116,18]
["Swindon",null,null,null,null,61,11,null,61,11,180.32786885245901,6.48,171.5,26.466049382716047,null,"Tewkesbury",1.89,104.2,null,"South Northamptonshire",81,19,null," South Northamptonshire",64,15,null," South Northamptonshire",152,27]
["Tameside",null,null,null,null,11,1,null,11,1,90.909090909090907,4.84,88.79,18.345041322314053,null,"Thanet",5.58,154.99,null,"South Oxfordshire",67,13,null," South Oxfordshire",75,12,null," South Oxfordshire",275,38]
["Tamworth",null,null,null,null,49,6,null,49,6,122.44897959183673,3.58,91.34,25.513966480446928,null,"Three Rivers",1.1000000000000001,13.89,null,"South Ribble",3,{"$f":"AD274/AC274*U274","v":0.24489795918367346},null," South Ribble",5,1,null," South Ribble",49,4]
["Tandridge",null,null,null,null,21,2,null,21,2,95.238095238095241,2.58,53.31,20.662790697674421,null,"Thurrock",3.69,155.63,null,"South Somerset",131,35,null," South Somerset",116,25,null," South Somerset",321,55]
["Taunton Deane",null,null,null,null,66,11,null,66,11,166.66666666666666,4.3899999999999997,145.83000000000001,33.218678815489753,null,"Tonbridge and Malling",3.12,50.3,null,"South Staffordshire",26,2,null," South Staffordshire",27,2,null," South Staffordshire",72,3]
["Teignbridge",null,null,null,null,204,42,null,204,42,205.88235294117646,5.67,124.82,22.01410934744268,null,"Torbay",8.7200000000000006,188.69,null,"South Tyneside",15,1,null," South Tyneside",15,2,null," South Tyneside",43,6]
["Telford and Wrekin",null,null,null,null,108,16,null,108,16,148.14814814814815,4.5599999999999996,116.81,25.616228070175442,null,"Torridge",3.6,67.900000000000006,null,"South Yorkshire (LAA unspecified)"," -"," -",null," South Yorkshire (LAA unspecified)"," -"," -",null," South Yorkshire (LAA unspecified)"," -"," -"]
["Tendring",null,null,null,null,197,27,null,197,27,137.05583756345177,5.17,71.900000000000006,13.907156673114121,null,"Tower Hamlets",9.6999999999999993,251.86,null,"Southampton",267,51,null," Southampton",232,45,null," Southampton",724,136]
["Test Valley",null,null,null,null,60,12,null,60,12,200,4.68,114.79,24.527777777777782,null,"Trafford",4.8499999999999996,82,null,"Southend-on-Sea",78,11,null," Southend-on-Sea",67,8,null," Southend-on-Sea",262,39]
["Tewkesbury",null,null,null,null,88,13,null,88,13,147.72727272727272,{"$f":"VLOOKUP(A281,$P$3:$R$318,2,FALSE)","v":1.89},{"$f":"VLOOKUP(A281,$P$3:$R$318,3,FALSE)","v":104.2},55.13227513227514,null,"Tunbridge Wells",5.46,99.16,null,"Southwark",35,10,null," Southwark",30,5,null," Southwark",191,27]
["Thanet",null,null,null,null,109,22,null,109,22,201.83486238532109,5.58,154.99,27.775985663082437,null,"Uttlesford",3.12,39.71,null,"Spelthorne",15,3,null," Spelthorne",22,5,null," Spelthorne",107,11]
["Three Rivers",null,null,null,null,4,0.46511627906976744,null,4,0.46511627906976744,116.27906976744185,1.1000000000000001,13.89,12.627272727272727,null,"Vale of White Horse",3.26,86.38,null,"St Albans",15,1,null," St Albans",18,4,null," St Albans",215,25]
["Thurrock",null,null,null,null,4,2,null,4,2,500,3.69,155.63,42.176151761517616,null,"Wakefield",11.81,226.03,null,"St Edmundsbury",61,16,null," St Edmundsbury",62,14,null," St Edmundsbury",234,29]
["Tonbridge and Malling",null,null,null,null,38,8,null,38,8,210.52631578947367,3.12,50.3,16.121794871794869,null,"Walsall",6.54,119.44,null,"St Helens"," -"," -",null," St. Helens"," -"," -",null," St. Helens"," -"," -"]
["Torbay",null,null,null,null,678,171,null,678,171,252.21238938053096,8.7200000000000006,188.69,21.638761467889907,null,"Waltham Forest",4.29,106.83,null,"Stafford",75,10,null," Stafford",76,10,null," Stafford",213,27]
["Torridge",null,null,null,null,133,45,null,133,45,338.34586466165416,3.6,67.900000000000006,18.861111111111111,null,"Wandsworth",10.17,240.95,null,"Staffordshire (LAA unspecified)"," -"," -",null," Staffordshire (LAA unspecified)"," -"," -",null," Staffordshire (LAA unspecified)"," -"," -"]
["Tower Hamlets",null,null,null,null,38,15,null,38,15,394.73684210526318,9.6999999999999993,251.86,25.964948453608251,null,"Warrington",7.22,231.51,null,"Staffordshire Moorlands",171,33,null," Staffordshire Moorlands",117,19,null," Staffordshire Moorlands",187,40]
["Trafford",null,null,null,null,45,10,null,45,10,222.22222222222223,4.8499999999999996,82,16.907216494845361,null,"Warwick",7.73,173.54,null,"Stevenage",18,3,null," Stevenage",13,1,null," Stevenage",82,9]
["Tunbridge Wells",null,null,null,null,67,8,null,67,8,119.40298507462687,5.46,99.16,18.161172161172161,null,"Watford",3.55,83.47,null,"Stockport",20,1,null," Stockport",16,1,null," Stockport",184,20]
["Uttlesford",null,null,null,null,{"$f":"VLOOKUP($A291,$T$3:$V$364,2,FALSE)","v":62},{"$f":"VLOOKUP($A291,$T$3:$V$396,3,FALSE)","v":5},null,62,5,80.645161290322577,3.12,39.71,12.727564102564102,null,"Waveney",7.46,128.97999999999999,null,"Stockton-on-Tees",31,4,null," Stockton-on-Tees",27,3,null," Stockton-on-Tees",120,12]
["Vale of White Horse",null,null,null,null,26,5,null,26,5,192.30769230769232,3.26,86.38,26.496932515337424,null,"Waverley",4.72,180.75,null,"Stoke-on-Trent",70,10,null," Stoke-on-Trent",61,15,null," Stoke-on-Trent",185,25]
["Wakefield",null,null,null,null,45,9,null,45,9,200,11.81,226.03,19.138865368331921,null,"Wealden",5.81,112.95,null,"Stratford-on-Avon",289,64,null," Stratford-on-Avon",291,70,null," Stratford-on-Avon",550,96]
["Walsall",null,null,null,null,19,1,null,19,1,52.631578947368418,6.54,119.44,18.262996941896024,null,"Wellingborough",3.11,29.03,null,"Stroud",39,6,null," Stroud",41,12,null," Stroud",223,25]
["Waltham Forest",null,null,null,null,27,3,null,27,3,111.11111111111111,4.29,106.83,24.9020979020979,null,"Welwyn Hatfield",2.57,61.79,null,"Suffolk (LAA unspecified)"," -"," -",null," Suffolk (LAA unspecified)"," -"," -",null," Suffolk (LAA unspecified)"," -"," -"]
["Wandsworth",null,null,null,null,84,19,null,84,19,226.1904761904762,10.17,240.95,23.692232055063911,null,"West Berkshire",4.5,70.45,null,"Suffolk Coastal",167,39,null," Suffolk Coastal",170,36,null," Suffolk Coastal",292,52]
["Warrington",null,null,null,null,63,10,null,63,10,158.73015873015873,7.22,231.51,32.06509695290859,null,"West Devon",3.59,73.42,null,"Sunderland",40,6,null," Sunderland",51,6,null," Sunderland",201,27]
["Warwick",null,null,null,null,138,19,null,138,19,137.68115942028984,7.73,173.54,22.450194049159119,null,"West Dorset",3.35,139.13999999999999,null,"Surrey (LAA unspecified)"," -"," -",null," Surrey (LAA unspecified)"," -"," -",null," Surrey (LAA unspecified)"," -"," -"]
["Watford",null,null,null,null,38,11,null,38,11,289.4736842105263,3.55,83.47,23.51267605633803,null,"West Lindsey",3.09,29.1,null,"Surrey Heath",33,8,null," Surrey Heath",39,8,null," Surrey Heath",129,16]
["Waveney",null,null,null,null,255,49,null,255,49,192.15686274509804,7.46,128.97999999999999,17.289544235924932,null,"West Oxfordshire",3.95,79.599999999999994,null,"Sutton",6,{"$f":"AD300/AC300*U300","v":0.339622641509434},null," Sutton",9," *",null," Sutton",106,6]
["Waverley",null,null,null,null,26,5,null,26,5,192.30769230769232,4.72,180.75,38.29449152542373,null,"West Somerset",2.0299999999999998,59.19,null,"Swale",48,6,null," Swale",47,5,null," Swale",165,21]
["Wealden",null,null,null,null,56,12,null,56,12,214.28571428571428,5.81,112.95,19.440619621342513,null,"Westminster",33.44,1848.13,null,"Swindon",61,11,null," Swindon",45,7,null," Swindon",247,39]
["Wellingborough",null,null,null,null,22,1,null,22,1,45.454545454545453,3.11,29.03,9.334405144694534,null,"Weymouth and Portland",2.93,130.08000000000001,null,"Tameside",11,1,null," Tameside",9,1,null," Tameside",41,3]
["Welwyn Hatfield",null,null,null,null,19,4,null,19,4,210.52631578947367,2.57,61.79,24.042801556420233,null,"Wigan",8.44,169.51,null,"Tamworth",49,6,null," Tamworth",57,6,null," Tamworth",111,13]
["West Berkshire",null,null,null,null,53,19,null,53,19,358.49056603773585,4.5,70.45,15.655555555555557,null,"Wiltshire",19.670000000000002,399.48,null,"Tandridge",21,2,null," Tandridge",15,1,null," Tandridge",52,10]
["West Devon",null,null,null,null,125,25,null,125,25,200,3.59,73.42,20.451253481894152,null,"Winchester",6.01,137.19999999999999,null,"Taunton Deane",66,11,null," Taunton Deane",78,15,null," Taunton Deane",334,37]
["West Dorset",null,null,null,null,383,112,null,383,112,292.42819843342039,3.35,139.13999999999999,41.534328358208953,null,"Windsor and Maidenhead",5.15,146.03,null,"Teignbridge",204,42,null," Teignbridge",255,50,null," Teignbridge",399,59]
["West Lancashire",null,null,null,null,28,3,null,28,3,107.14285714285714,{"$f":"F308/F$329*L$329","v":1.4571741223846626},{"$f":"G308/G$329*M$329","v":18.409628571428573},12.633787746176314,null,"Wirral",11.5,172.1,null,"Telford and Wrekin",108,16,null," Telford and Wrekin",130,18,null," Telford and Wrekin",326,41]
["West Lindsey",null,null,null,null,25,5,null,25,5,200,{"$f":"VLOOKUP(A309,$P$3:$R$318,2,FALSE)","v":3.09},{"$f":"VLOOKUP(A309,$P$3:$R$318,3,FALSE)","v":29.1},9.4174757281553401,null,"Woking",3.69,70.010000000000005,null,"Tendring",197,27,null," Tendring",177,23,null," Tendring",317,41]
["West Oxfordshire",null,null,null,null,104,22,null,104,22,211.53846153846155,3.95,79.599999999999994,20.151898734177212,null,"Wokingham",2.2799999999999998,72.72,null,"Test Valley",60,12,null," Test Valley",46,8,null," Test Valley",161,22]
["West Somerset",null,null,null,null,315,75,null,315,75,238.0952380952381,2.0299999999999998,59.19,29.157635467980299,null,"Wolverhampton",8.92,293.89999999999998,null,"Tewkesbury",88,13,null," Tewkesbury",90,15,null," Tewkesbury",175,23]
["Westminster",null,null,null,null,398,152,null,398,152,381.90954773869345,33.44,1848.13,55.26704545454546,null,"Worcester",4.51,104.9,null,"Thanet",109,22,null," Thanet",76,15,null," Thanet",245,45]
["Weymouth and Portland",null,null,null,null,359,89,null,359,89,247.9108635097493,2.93,130.08000000000001,44.395904436860071,null,"Worthing",3.95,57.08,null,"Three Rivers",4,{"$f":"AD313/AC313*U313","v":0.46511627906976744},null," Three Rivers",8," *",null," Three Rivers",43,5]
["Wigan",null,null,null,null,23,3,null,23,3,130.43478260869566,8.44,169.51,20.084123222748815,null,"Wychavon",4.99,176.06,null,"Thurrock",4,2,null," Thurrock",4,2,null," Thurrock",68,9]
["Wiltshire",null,null,null,null,470,145,null,470,145,308.51063829787233,19.670000000000002,399.48,20.309100152516521,null,"Wycombe",6.83,230.01,null,"Tonbridge and Malling",38,8,null," Tonbridge and Malling",27,5,null," Tonbridge and Malling",155,17]
["Winchester",null,null,null,null,98,14,null,98,14,142.85714285714286,6.01,137.19999999999999,22.828618968386021,null,"Wyre",4.05,64.45,null,"Torbay",678,171,null," Torbay",699,165,null," Torbay",961,213]
["Windsor and Maidenhead",null,null,null,null,439,63,null,439,63,143.50797266514806,5.15,146.03,28.355339805825242,null,"Wyre Forest",4.47,93.68,null,"Torridge",133,45,null," Torridge",140,45,null," Torridge",258,61]
["Wirral",null,null,null,null,32,3,null,32,3,93.75,11.5,172.1,14.965217391304348,null,"York",14.79,458.75,null,"Tower Hamlets",38,15,null," Tower Hamlets",47,14,null," Tower Hamlets",137,26]
["Woking",null,null,null,null,10,1,null,10,1,100,3.69,70.010000000000005,18.972899728997291,null,null,null,null,null,"Trafford",45,10,null," Trafford",36,7,null," Trafford",106,16]
["Wokingham",null,null,null,null,18,2,null,18,2,111.11111111111111,2.2799999999999998,72.72,31.894736842105264,null,null,null,null,null,"Tunbridge Wells",67,8,null," Tunbridge Wells",44,6,null," Tunbridge Wells",180,15]
["Wolverhampton",null,null,null,null,35,7,null,35,7,200,8.92,293.89999999999998,32.948430493273541,null,null,null,null,null,"Tyne and Wear (LAA unspecified)"," -"," -",null," Tyne and Wear (LAA unspecified)"," -"," -",null," Tyne and Wear (LAA unspecified)"," -"," -"]
["Worcester",null,null,null,null,65,13,null,65,13,200,4.51,104.9,23.259423503325944,null,null,null,null,null,"Uttlesford",62,5,null," Uttlesford",41,4,null," Uttlesford",134,18]
["Worthing",null,null,null,null,{"$f":"VLOOKUP($A323,$T$3:$V$364,2,FALSE)","v":9},{"$f":"VLOOKUP($A323,$T$3:$V$396,3,FALSE)","v":2},null,9,2,{"$f":"J323*1000/I323","v":222.22222222222223},3.95,57.08,14.450632911392404,null,null,null,null,null,"Vale of White Horse",26,5,null," Vale of White Horse",40,5,null," Vale of White Horse",199,15]
["Wychavon",null,null,null,null,61,10,null,{"$f":"F324","v":61},10,163.9344262295082,4.99,176.06,{"$f":"M324/L324","v":35.282565130260522},null,null,null,null,null,"Wakefield",45,9,null," Wakefield",33,8,null," Wakefield",250,29]
["Wycombe",null,null,null,null,45,5,null,45,5,111.11111111111111,6.83,230.01,33.676427525622252,null,null,null,null,null,"Walsall",19,1,null," Walsall",16,1,null," Walsall",97,11]
["Wyre",null,null,null,null,67,8,null,67,8,119.40298507462687,4.05,64.45,15.913580246913583,null,null,null,null,null,"Waltham Forest",27,3,null," Waltham Forest",26,2,null," Waltham Forest",118,10]
["Wyre Forest",null,null,null,null,89,10,null,89,10,112.35955056179775,4.47,93.68,20.95749440715884,null,null,null,null,null,"Wandsworth",84,19,null," Wandsworth",65,14,null," Wandsworth",286,72]
["York",null,null,null,null,695,194,null,695,194,279.136690647482,14.79,458.75,31.017579445571332,null,null,null,null,null,"Warrington",63,10,null," Warrington",51,8,null," Warrington",208,31]
["England",null,null,null,null,45692,10500,null,45692,10500,{"$f":"J329*1000/I329","v":229.79952726954392},2377.9,64433.7,27.096892215820681,null,null,null,null,null,"Warwick",138,19,null," Warwick",86,15,null," Warwick",303,52]
["Black Country",null,null,null,null,null,null,null,{"$f":"MMULT(LAtoLEPConv,I3:J328)","v":82},10.620689655172413,null,{"$f":"MMULT(LAtoLEPConv,L3:M328)","v":29.54},841.82,null,null,null,null,null,null,"Warwickshire (LAA unspecified)"," -"," -",null," Warwickshire (LAA unspecified)"," -"," -",null," Warwickshire (LAA unspecified)"," -"," -"]
["Buckinghamshire Thames Valley",null,null,null,null,null,null,null,147,16,null,15.34,382.12,null,null,null,null,null,null,"Watford",38,11,null," Watford",31,7,null," Watford",160,24]
["Cheshire and Warrington",null,null,null,null,null,null,null,640,124,null,42.53,1253.32,null,null,null,null,null,null,"Waveney",255,49,null," Waveney",234,40,null," Waveney",335,65]
["Coast to Capital",null,null,null,null,null,null,null,1357,278.89393939393938,null,71.922041932942321,1821.9527571428571,null,null,null,null,null,null,"Waverley",26,5,null," Waverley",29,5,null," Waverley",169,19]
["Cornwall and Isles of Scilly",null,null,null,null,null,null,null,3038,1002,null,38.654767574192419,1221.2328285714286,null,null,null,null,null,null,"Wealden",56,12,null," Wealden",56,7,null," Wealden",157,22]
["Coventry and Warwickshire",null,null,null,null,null,null,null,657,114,null,36.900000000000006,863.2399999999999,null,null,null,null,null,null,"Wellingborough",22,1,null," Wellingborough",25,1,null," Wellingborough",75,11]
["Cumbria",null,null,null,null,null,null,null,2702,633,null,25.685132189442353,759.64617142857139,null,null,null,null,null,null,"Welwyn Hatfield",19,4,null," Welwyn Hatfield",19,4,null," Welwyn Hatfield",115,15]
["Derby, Derbyshire, Nottingham and Nottinghamshire",null,null,null,null,null,null,null,1529,307.43373493975901,null,83.810628994134632,2169.2096285714288,null,null,null,null,null,null,"West Berkshire",53,19,null," West Berkshire",59,16,null," West Berkshire",212,37]
["Dorset",null,null,null,null,null,null,null,1933,449,null,34.229125010942838,953.03874285714289,null,null,null,null,null,null,"West Devon",125,25,null," West Devon",128,24,null," West Devon",233,36]
["Enterprise M3",null,null,null,null,null,null,null,815,139,null,56.999999999999993,1319.27,null,null,null,null,null,null,"West Dorset",383,112,null," West Dorset",359,87,null," West Dorset",563,144]
["Gloucestershire",null,null,null,null,null,null,null,712,139,null,24.8,796.05000000000007,null,null,null,null,null,null,"West Lancashire",28,3,null," West Lancashire",17,1,null," West Lancashire",60,6]
["Greater Birmingham and Solihull",null,null,null,null,null,null,null,906,156,null,82.21,2326.7799999999997,null,null,null,null,null,null,"West Lindsey",25,5,null," West Lindsey",42,4,null," West Lindsey",98,8]
["Greater Cambridge and Greater Peterborough",null,null,null,null,null,null,null,971,163,null,61.169999999999995,1480.5499999999997,null,null,null,null,null,null,"West Midlands (LAA unspecified)",null," -",null," West Midlands (LAA unspecified)"," -"," -",null," West Midlands (LAA unspecified)"," -"," -"]
["Greater Lincolnshire",null,null,null,null,null,null,null,1694,296,null,52.959999999999994,1371.1899999999998,null,null,null,null,null,null,"West Oxfordshire",104,22,null," West Oxfordshire",103,20,null," West Oxfordshire",273,37]
["Greater Manchester",null,null,null,null,null,null,null,1154,237,null,103.25999999999999,2894.04,null,null,null,null,null,null,"West Somerset",315,75,null," West Somerset",349,68,null," West Somerset",407,92]
["Heart of the South West",null,null,null,null,null,null,null,3993,959,null,84.97,2219.12,null,null,null,null,null,null,"West Sussex (LAA unspecified)"," -"," -",null," West Sussex (LAA unspecified)"," -"," -",null," West Sussex (LAA unspecified)"," -"," -"]
["Hertfordshire",null,null,null,null,null,null,null,254,42.465116279069768,null,34.29,650.34999999999991,null,null,null,null,null,null,"West Yorkshire (LAA unspecified)"," -"," -",null," West Yorkshire (LAA unspecified)"," -"," -",null," West Yorkshire (LAA unspecified)"," -"," -"]
["Humber",null,null,null,null,null,null,null,727.90909090909088,102,null,40.83,763.43999999999994,null,null,null,null,null,null,"Westminster",398,152,null," Westminster City of",393,137,null," Westminster City of",935,291]
["Lancashire",null,null,null,null,null,null,null,1777,365.98116169544744,null,58.839425720038513,1540.7095755102041,null,null,null,null,null,null,"Weymouth and Portland",359,89,null," Weymouth and Portland",390,84,null," Weymouth and Portland",554,109]
["Leeds City Region",null,null,null,null,null,null,null,2146,472,null,127.49000000000001,2686.69,null,null,null,null,null,null,"Wigan",23,3,null," Wigan",28,4,null," Wigan",121,13]
["Leicester and Leicestershire",null,null,null,null,null,null,null,316,43,null,35.346125798826932,772.6400000000001,null,null,null,null,null,null,"Wiltshire",470,145,null," Wiltshire",532,122,null," Wiltshire",1133,214]
["Liverpool City Region",null,null,null,null,null,null,null,901,161,null,57.989999999999995,1373.46,null,null,null,null,null,null,"Wiltshire (LAA unspecified)"," -"," -",null," Wiltshire (LAA unspecified)"," -"," -",null," Wiltshire (LAA unspecified)"," -"," -"]
["London Enterprise Panel",null,null,null,null,null,null,null,3499,1016.3396226415094,null,370.75000000000011,13002.560000000001,null,null,null,null,null,null,"Winchester",98,14,null," Winchester",74,13,null," Winchester",326,43]
["New Anglia",null,null,null,null,null,null,null,2581,581,null,97.56,2242.5300000000002,null,null,null,null,null,null,"Windsor and Maidenhead",439,63,null," Windsor and Maidenhead",359,46,null," Windsor and Maidenhead",629,111]
["North Eastern",null,null,null,null,null,null,null,1695,371,null,76.86,2085.21,null,null,null,null,null,null,"Wirral",32,3,null," Wirral",47,5,null," Wirral",193,12]
["Northamptonshire",null,null,null,null,null,null,null,318,47,null,27.041048323557732,643.82962857142854,null,null,null,null,null,null,"Woking",10,1,null," Woking",11,1,null," Woking",94,11]
["Oxfordshire",null,null,null,null,null,null,null,519,114,null,23.529999999999998,598.53,null,null,null,null,null,null,"Wokingham",18,2,null," Wokingham",29,4,null," Wokingham",86,9]
["Sheffield City Region",null,null,null,null,null,null,null,492,75,null,66.84,1613.97,null,null,null,null,null,null,"Wolverhampton",35,7,null," Wolverhampton",42,8,null," Wolverhampton",187,25]
["Solent",null,null,null,null,null,null,null,1928,412,null,64.06,1671.5299999999997,null,null,null,null,null,null,"Worcester",65,13,null," Worcester",40,7,null," Worcester",157,28]
["South East",null,null,null,null,null,null,null,2396,402.68857142857144,null,155.22,3640.2200000000003,null,null,null,null,null,null,"Worthing",9,2,null," Worthing",12,3,null," Worthing",86,14]
["South East Midlands",null,null,null,null,null,null,null,675,113,null,62.00104832355774,1527.1796285714288,null,null,null,null,null,null,"Wychavon",61,10,null," Wychavon",59,10,null," Wychavon",162,20]
["Stoke-on-Trent and Staffordshire",null,null,null,null,null,null,null,527,86,null,37.82,991.09,null,null,null,null,null,null,"Wycombe",45,5,null," Wycombe",45,5,null," Wycombe",250,27]
["Swindon and Wiltshire",null,null,null,null,null,null,null,531,156,null,26.150000000000002,570.98,null,null,null,null,null,null,"Wyre",67,8,null," Wyre",77,12,null," Wyre",127,13]
["Tees Valley",null,null,null,null,null,null,null,168,29,null,19,295.13,null,null,null,null,null,null,"Wyre Forest",89,10,null," Wyre Forest",83,8,null," Wyre Forest",139,17]
["Thames Valley Berkshire",null,null,null,null,null,null,null,673,114,null,23.1,617.57000000000005,null,null,null,null,null,null,"York",695,194,null," York",717,173,null," York",1247,272]
["The Marches",null,null,null,null,null,null,null,714,132,null,27.16,684.69]
["West of England",null,null,null,null,null,null,null,987,220,null,49.44,1212.2599999999998]
["Worcestershire",null,null,null,null,null,null,null,344,52,null,25.67,601.74]
["York North Yorkshire and East Riding",null,null,null,null,null,null,null,3798,786,null,63.77,1649.78]
["Active Cumbria",null,null,null,null,null,null,null,{"$f":"MMULT(LAtoCSPConv,I3:J328)","v":2702},633,null,{"$f":"MMULT(LAtoCSPConv,L3:M328)","v":25.685132189442353},759.64617142857139]
["Active Devon",null,null,null,null,null,null,null,3007,750,null,68.850000000000009,1775.41]
["Active Dorset",null,null,null,null,null,null,null,1933,449,null,34.229125010942838,953.03874285714289]
["Active Essex",null,null,null,null,null,null,null,597,75.688571428571422,null,60.54999999999999,1251.2199999999998]
["Active Gloucestershire",null,null,null,null,null,null,null,712,139,null,24.8,796.05000000000007]
["Active Norfolk",null,null,null,null,null,null,null,1869,423,null,62.05,1523.9299999999998]
["Active Surrey ",null,null,null,null,null,null,null,239,40.727272727272727,null,36.769999999999996,849.08999999999992]
["Active Sussex",null,null,null,null,null,null,null,1812,380.16666666666663,null,70.402041932942325,1888.8127571428572]
["Birmingham Sport & Physical Activity Partnership",null,null,null,null,null,null,null,595,116,null,47.55,1260.3699999999999]
["Black Country Be Active Partnership",null,null,null,null,null,null,null,82,10.620689655172413,null,29.54,841.82]
["Cornwall Sports Partnership",null,null,null,null,null,null,null,3038,1002,null,38.654767574192419,1221.2328285714286]
["County Durham Sport",null,null,null,null,null,null,null,311,60,null,15.31,319.36]
["Coventry Solihull & Warwickshire Sport",null,null,null,null,null,null,null,672,117,null,44.870000000000005,1334.6399999999999]
["Derbyshire Sports Partnership",null,null,null,null,null,null,null,823,150,null,41.819999999999993,851.89]
["Energize Shropshire Telford & Wrekin",null,null,null,null,null,null,null,445,78,null,19.399999999999999,502.4]
["Get Berkshire Active",null,null,null,null,null,null,null,673,114,null,23.1,617.57000000000005]
["Greater Sport",null,null,null,null,null,null,null,1154,237,null,103.25999999999999,2894.04]
["Herts Sports Partnership",null,null,null,null,null,null,null,254,42.465116279069768,null,34.29,650.34999999999991]
["Humber Sports Partnership",null,null,null,null,null,null,null,669,94,null,28.409999999999997,527.96]
["Kent Sport",null,null,null,null,null,null,null,1188,201,null,70.289999999999992,1772.8799999999999]
["Lancashire Sport Partnership",null,null,null,null,null,null,null,1777,365.98116169544744,null,58.839425720038513,1540.7095755102041]
["Leap (Bucks & MK Sport and Activity Partnership)",null,null,null,null,null,null,null,238,29,null,26.22,835.87]
["Leicestershire & Rutland Sport",null,null,null,null,null,null,null,356,49,null,37.596125798826932,816.37000000000012]
["Lincolnshire Sports Partnership",null,null,null,null,null,null,null,1544,276,null,39.769999999999996,1105.05]
["Living Sport",null,null,null,null,null,null,null,380,54,null,34.44,932.34]
["London",null,null,null,null,null,null,null,3499,1016.3396226415094,null,370.75000000000011,13002.560000000001]
["Merseyside Sport",null,null,null,null,null,null,null,901,161,null,57.989999999999995,1373.46]
["North Yorkshire Sport",null,null,null,null,null,null,null,3279,712,null,48.55,1387.96]
["Northamptonshire Sport",null,null,null,null,null,null,null,318,47,null,27.041048323557732,643.82962857142854]
["Northumberland Sport",null,null,null,null,null,null,null,898,199,null,16.84,416.63]
["Oxfordshire Sports Partnership",null,null,null,null,null,null,null,519,114,null,23.529999999999998,598.53]
["Somerset Activity & Sports Partnership",null,null,null,null,null,null,null,986,209,null,16.12,443.71]
["South Yorkshire Sport",null,null,null,null,null,null,null,355,56,null,53.19,1322.18]
["South & West Yorkshire Sport",null,null,null,null,null,null,null,1139,195,null,145.93,3113.3900000000003]
["Sport Across Staffordshire & Stoke On Trent",null,null,null,null,null,null,null,527,86,null,37.82,991.09]
["Sport Cheshire",null,null,null,null,null,null,null,640,124,null,42.53,1253.32]
["Sport Hampshire & Isle of Wight",null,null,null,null,null,null,null,1974,420,null,75.820000000000007,1904.94]
["Sport Nottinghamshire",null,null,null,null,null,null,null,706,157.43373493975903,null,41.990628994134646,1317.3196285714284]
["Sports Partnership Herefordshire & Worcestershire",null,null,null,null,null,null,null,613,106,null,33.43,784.0300000000002]
["Suffolk Sport",null,null,null,null,null,null,null,712,158,null,35.51,718.6]
["Teams Beds & Luton",null,null,null,null,null,null,null,151,34,null,21.07,307.70999999999998]
["Tees Valley Sport",null,null,null,null,null,null,null,168,29,null,19,295.13]
["Tyne & Wear Sport",null,null,null,null,null,null,null,486,112,null,44.710000000000008,1349.2199999999998]
["Wesport",null,null,null,null,null,null,null,987,220,null,49.44,1212.2599999999998]
["West Yorkshire Sport ",null,null,null,null,null,null,null,784,139,null,92.740000000000009,1791.21]
["Wiltshire & Swindon Sport",null,null,null,null,null,null,null,531,156,null,26.150000000000002,570.98]
["Buckinghamshire CC",null,null,null,null,null,null,null,{"$f":"MMULT(LAtoCountyConv,I3:J328)","v":147},16,null,{"$f":"MMULT(LAtoCountyConv,L3:M328)","v":15.34},382.12]
["Cambridgeshire CC",null,null,null,null,null,null,null,302,43,null,25.22,662.62]
["Cumbria CC",null,null,null,null,null,null,null,2702,633,null,25.685132189442353,759.64617142857139]
["Derbyshire CC",null,null,null,null,null,null,null,823,150,null,41.819999999999993,851.89]
["Devon CC",null,null,null,null,null,null,null,2162,553,null,44.230000000000004,1016.3699999999999]
["Dorset CC",null,null,null,null,null,null,null,1133,282,null,23.919125010942835,703.29874285714288]
["East Sussex CC",null,null,null,null,null,null,null,611,126,null,24.38,616.12]
["Essex CC",null,null,null,null,null,null,null,515,62.688571428571422,null,52.449999999999996,992.79]
["Gloucestershire CC",null,null,null,null,null,null,null,712,139,null,24.8,796.05000000000007]
["Hampshire CC",null,null,null,null,null,null,null,762,125,null,44.439999999999991,933.25]
["Hertfordshire CC",null,null,null,null,null,null,null,254,42.465116279069768,null,34.29,650.34999999999991]
["Kent CC",null,null,null,null,null,null,null,1129,192,null,62.47999999999999,1604.04]
["Lancashire CC",null,null,null,null,null,null,null,628,124.98116169544741,null,40.829425720038515,838.91957551020425]
["Leicestershire CC",null,null,null,null,null,null,null,269,37,null,23.636125798826928,453.21999999999997]
["Lincolnshire CC",null,null,null,null,null,null,null,1544,276,null,39.769999999999996,1105.05]
["Norfolk CC",null,null,null,null,null,null,null,1869,423,null,62.05,1523.9299999999998]
["North Yorkshire CC",null,null,null,null,null,null,null,2584,518,null,33.76,929.21]
["Northamptonshire CC",null,null,null,null,null,null,null,318,47,null,27.041048323557732,643.82962857142854]
["Nottinghamshire CC",null,null,null,null,null,null,null,286,48.433734939759034,null,20.930628994134644,432.78962857142858]
["Oxfordshire CC",null,null,null,null,null,null,null,519,114,null,23.529999999999998,598.53]
["Somerset CC",null,null,null,null,null,null,null,986,209,null,16.12,443.71]
["Staffordshire CC",null,null,null,null,null,null,null,457,76,null,32.840000000000003,863.38]
["Suffolk CC",null,null,null,null,null,null,null,712,158,null,35.51,718.6]
["Surrey CC",null,null,null,null,null,null,null,239,40.727272727272727,null,36.769999999999996,849.08999999999992]
["Warwickshire CC",null,null,null,null,null,null,null,502,89,null,24,506.53]
["West Sussex CC",null,null,null,null,null,null,null,776,153.16666666666666,null,28.262041932942306,635.56275714285709]
["Worcestershire CC",null,null,null,null,null,null,null,344,52,null,25.67,601.74]

{"sheet":"INSTRUCTIONS","index":39,"n_rows":45,"n_cols":3,"rows_kept":45,"cut":false,"hidden":true,"merged":[[39,2,39,11],[41,2,42,11],[44,1,45,12],[32,2,32,11],[33,2,33,11],[34,2,34,11],[35,2,35,11],[36,2,36,11],[37,2,38,11],[4,1,10,12],[13,1,17,12],[20,1,21,12],[25,1,27,12],[30,1,31,12]]}
[]
[null,"Instructions"]
[null,"Brief guide to basic operations of the spreadsheet"]
[null,"Copying and pasting"]
[null,"1. Select the chart or table that you want to copy to a Word or PowerPoint document.\n2. On the home tab, in the clipboard group, click 'copy'.\n3. In the Word or PowerPoint document, click where you want to paste the copied chart.\n4. On the home tab, in the clipboard group, click 'paste'.\n\nWhen pasting a chart, you may wish to click 'paste options' next to the char. To paste the chart as a static picture, click 'paste as picture'."]
[]
[]
[]
[]
[]
[]
[]
[null,"Exporting to PDF and excel formats"]
[null,"The key results in this workbook can be exported into a seperate excel workbook and the main charts and graphics can be exported to PDF . To export the tables and charts, on the page of the results or chart you wih to export there will be an 'Export Results' button. Please note that for this button to work correctly, Excel 2007 or 2010 is required and Excel macros must be enabled (please see below for details).  "]
[]
[]
[]
[]
[]
[null,"Enabling macros to allow print to PDF functionality (Excel 2007/2010/2013 only)"]
[null,"If you currently have the trust settings in Excel set to ‘Disable Macros with Notification’, you should see the following bar at the top of Excel. If \nyou don't, then please follow the ‘changing the macro security settings’ instructions below. \n"]
[]
[]
[]
[]
[null,"If you see this bar, then click on ’Options…’ and then click ’Enable this content’. The macros will now be activated and the button on the will now function. "]
[]
[]
[]
[null,"Changing the macro security settings (trust settings)"]
[null,"If you don’t see the bar above, then you may need to change the macro security settings (now known as the trust center) so that you can \nchoose when to allow macros. Please follow the instructions below:"]
[]
[null,"1.","Click on the 'Office' (Excel 2007) or the 'File' button (Excel 2010) in the top left of the screen."]
[null,"2.","Click 'Excel Options' (Excel 2007) or the 'Options' button (Excel 2010)."]
[null,"3.","In the left hand menu, click on 'Trust Center'."]
[null,"4.","Select 'Trust Center settings'."]
[null,"5.","In the left hand menu, click on 'Macro Settings'"]
[null,"6.","Set the macro settings to 'Disable all macros with notification'. This means that for each workbook that contains macros, you can choose whether to enable them or not."]
[]
[null,"7.","Click the 'Ok' button to apply the settings and then click 'Ok' again to close the options menu."]
[null,"8.","Close down Microsoft Excel and then re-open the local sport profiles tab."]
[null,"9.","You should see a bar at the top of Excel (like in the picture above). Click on 'Options…' and then select 'Enable this content'. The macros that allow print to PDF functionality will now be activated."]
[]
[]
[null,"If macros still do not work in any version of Excel, then you may need to contact your network administrator as some network profiles can be configured to disallow the running of macros."]

{"sheet":"FAQ","index":40,"n_rows":92,"n_cols":2,"rows_kept":92,"cut":false,"hidden":false,"merged":[]}
[]
[null,"Frequently Asked Questions"]
[null,"Provides the simple answers to common questions "]
[]
[null,"FUNCTION"]
[]
[null,"Q: How do I navigate between the levels?"]
[null,"A: From the results page, click 'Home' in the top left hand corner of the screen to return to the homepage, and select a new level."]
[null,"Q: How do I save my refinements?"]
[null,"A: To save the model, click 'File' 'Save As' and give the file a memorable name. We recommend doing this and then returning to the original version of the model to avoid losing any results that you may later need."]
[null,"Q: How do I export the data and/or charts?"]
[null,"A: Where applicable you will find a button in the top right hand corner labelled \"Export Results\", \"Export to PDF\" or \"Export to XLS\". This will allow you to export the data or charts in the relevant format."]
[null,"Q: Why have the figures changed to a red/green font?"]
[null,"A: The refinement that you have entered has adjusted the figure up (green) or down (red)."]
[null,"Q: Does the tool work on Macs/Ipads?"]
[null,"A: The spreadsheet will work with Macs that have Microsoft Office for Mac installed. However it will not work with Numbers. The software does not work with iPads, iPhones or Android phones and tablets."]
[]
[]
[null,"DEFINITIONS"]
[]
[null,"Q: What is GVA?"]
[null,"A: Gross Value Added (GVA) is the sum of wages paid to employees and profits generated by businesses operating in the sports sector within the local area. It is a measure of economic value."]
[null,"Q: What is participation and what is non-participation?"]
[null,"A: Participation is the sports goods and services produced to meet demand from people participating in sports.  This includes the manufacture for example of tennis racquets, footballs, golf clubs, that are used for sport; the “added value” of the shops that sell these goods, and of the services and facilities that people use to participate in sports.\nNon-participation covers the manufacture and retails of sports equipment and clothes that are not for sports use.  It also includes the added value generated by sports clubs that generate income from selling tickets to spectators, TV income or sponsorship, the value added of sports gambling services and of businesses that produce sports television services."]
[null,"Q: What is non-participation sports equipment?"]
[null,"A: There are three components – the largest component is boats (89.1% for leisure purposes rather than sport) followed by a small proportion of bikes not used for sport (7.5%) and finally camping and open-air recreation goods (3.3%)."]
[null,"Q: Where it says £0m does that mean there is no contribution in my area?"]
[null,"A: All figures are rounded to the nearest £100,000; so a £0m is a value less than £50,000 (up to and including £0)."]
[null,"Q: Does ‘spectator sports’ include events that are staged / hosted within the area that are not necessarily in a facility (i.e. city centre events, triathlons etc)?"]
[null,"A: Yes, spectator sports events include any events that are held within a local area, regardless of facility use."]
[null,"Q: What is a SIC code?"]
[null,"A: SIC stands for Standard Industrial Classification. SIC codes are used to identify specific sectors within an economy. For example, SIC code 93 is 'Sports activities and amusement and recreation activities'."]
[null,"Q: Are the jobs FTE?"]
[null,"A: Employment estimates are the total number of jobs only.  It is not possible to disaggregate this into full and part-time posts."]
[null,"Q: Where do dog tracks and horse racing tracks fit in – gambling or spectator sports?"]
[null,"A: The activity surrounding the running of dog tracks and horse racing as included as part of spectator sports, while the gambling element (including on-site book makers) are included within gambling."]
[null,"Q: Do Local Authority employees for example Chief Leisure Officer, Head of Sport within Local Authorities  count in the sports services?"]
[null,"A: The official classification used includes all sports services employees. However, on a practical basis measurement is likely to be limited to frontline staff, while Local Authority staff are likely to be included elsewhere."]
[null,"Q: Are parking fees included in the wider spend of spectators and participants ?"]
[null,"A: Yes. Any spending undertaken during a trip by spectators or participants is included."]
[null,"Q: Does the construction section of level 3 include major refurbishments as well as new builds?"]
[null,"A: Yes, major refurbishments can be modelled using level 3."]
[null,"Q: Does the construction figure include supply chain GVA and Jobs (e.g, sportshall flooring)?"]
[null,"A: No. As with all other parts of the model, the construction element only considers the direct impact (of construction sector GVA and employment). This both for the sake of consistency and because while it is likely that construction jobs can be sourced locally within a given local area, supply chains are very likely to extend outside of the local area, which is beyond the scope of this model to capture."]
[null,"Q: Is HE/FE GVA and Jobs included in the model?"]
[null,"A: They are not in the Level 1 snapshot. However within Level 2 there is the option to add this (through HE/FE enrollments and/or jobs)."]
[null,"Q: If my event is a free should it still be entered in?"]
[null,"A: Free events should still be entered into the Level 2 Spectator Sports refinements, as these are used to calculate the number of sports-related tourist trips (used to calculate wider spending). Spectator/events numbers should be added as normal, with a ticket price of zero."]
[]
[]
[null,"METHODOLOGY AND DATA"]
[]
[null,"Q: Are the figures for one year only?"]
[null,"A: Yes, the figures produce an estimate for the value (or impact) in a single year, 2013."]
[null,"Q: What year is the data based on?"]
[null,"A: 2013 (BRES) but APS7&8 (Oct12 - Oct14)."]
[null,"Q: Is this based on the latest Active People Survey results?"]
[null,"A: This model uses APS7&8 data (Oct 12-Oct 14) "]
[null,"Q: How do we treat additionality and displacement?"]
[null,"A: The inputs to level 3 should already take these issues into account. The model only considers additional participants who would otherwise not be active.  People who move from one facility to another, or who would otherwise have travelled further to participate in sport elsewhere do not represent additional sports activity. User inputs to level 3 should therefore build certain levels of additionality and displacement into their assumptions. Please note there is further information on this within the user guidance document."]
[null,"Q: Has this model been peer reviewed?"]
[null,"A: The model methodology was reviewed and tested by Dr Peter Dawson of the University of East Anglia in May 2014."]
[null,"Q: Has the model got support from other organisations?"]
[null,"A: As part of the model development, Sport England consulted Public Health England (PHE), the Chief Economic Development Officers Association (CEDOS) and the Local Government Association (LGA) who are in support of the tool."]
[null,"Q: Who helped develop the model?"]
[null,"A: Sheffield City Council, Stoke-on-Trent City Council and Walsall Council helped shape the model and test it to ensure it had the greatest impact for local partners to make the case for sport. Sport England also consulted with a number of other local authorities, county sport partnerships and local enterprise partnerships."]
[null,"Q: What if I don't have any data to refine the numbers, are they still robust?"]
[null,"A: Level 1 uses a consistent methodology, and the best available data, to calculate an estimate of the economic value of sport in a local area. This estimate uses what is known about employment and sports participation; it therefore reflects some of the specificities of the local area, but should be taken as indicative rather than an absolute figure."]
[null,"Q: What APS data is used, does this include all activity?"]
[null,"A: The model uses our '1x30' measure, so all adults aged 16+ playing sport at lease once a week, at moderate intensity for at least 30 minutes. For further guidance on what sports are included or not included please refer to our Active People Survey "]
[null,"http://www.sportengland.org/research/about-our-research/active-people-survey/"]
[null,"Q: I have no volunteering figure?"]
[null,"A: For volunteering in some local areas, the sample size is insufficient to produce a reliable estimate. In these cases, the economic value of volunteering is not calculated. However, if users have their own estimates for volunteering, this can be added in the refined snapshot to produce an economic value of volunteering. "]
[]
[null,"HEALTH MODELLING"]
[]
[null,"Q: The health numbers look quite big, how has this been calculated?"]
[null,"A: The health data is built up using DCMS' CASE data, which provides treatment costs saved and a value for the human life saved by participating in sport (based upon a reduced liklihood of contracting one of four diseases linked to inactivity). The model combines this data with the participation data from the APS to calculate the saved treatment costs and the overall value attributed to the additional life expectancy of participants."]
[null,"Q: What is the health sector's view of the health figures in this model?"]
[null,"A:The assumptions and calculations that have been used to develop the model follow a logical and evidence-based approach and have been developed in collaboration with Public Health England."]
[null,"Q: What is a QALY?"]
[null,"A: QALYs provide a common currency in the health sector, to assess the extent of the benefits gained from different interventions ( e.g  sport and physical activity, or prescribing drugs) in terms of health related quality of life. It measures the state of health of a person in which the benefits, in terms of length of life, are adjusted to reflect the quality of life (e.g. freedom from pain and mental disturbance). One QALY is equal to 1 year of life in perfect health. According to NICE guidance 1 QALY has a cost effectiveness value of £20-30,000. If a new drug is worth less than £30,000 per QALY then it can be considered for funding in the NHS. The same theory hold's true for physical activity/sport interventions."]
[null,"Q: How are QALYs used within the model?"]
[null,"A: In our Value of Sport – Local Model we use CASE (DCMS) research that has worked out how many QALYs are gained by participating regularly in a selection of different sports at different ages . Using the NICE guidance we then monetised this figure and multiply it by the number of people participating in the selected sports according to the latest APS figures for the area. This gives us a monetised (£s) value for the life expectancy gained in the area through participating in sport."]
[null,"Q: Is the QALY figure the lifetime value or for one year only?"]
[null,"A: The health benefits are estimated for one year; the lifetime value is reduced by applying the average life expentancy of different cohorts of participants and a discount rate."]
[null,"Q: What conditions are the treatment costs saved relevant to?"]
[null,"A: The four conditions with the strongest evidence - Coronary Heart Disease, Stroke, Type II Diabetes and Colon Cancer."]
[null,"Q: Who would be seeing the health cost savings (if there's an increase in participation)?"]
[null,"A: The model estimates total savings from an increase in participation, leading to a reduction in the number of cases of five major inactivity-related diseases and therefore a reduction in total treatment costs for these diseases (or vice versa if participation decreases). However that does not mean that this burden is solely born by the NHS; it could fall on other departments. However, insufficient data exists to formalise the precise savings/costs to each department."]
[null,"Q: What do I do if my sport not listed in the 'sport services' and 'health' section?"]
[null,"A: The CASE model looked at the ten most engaged sports according to the Taking Part (DCMS) survey 2008. If your sport is not represented on this list you should allocate participants to the sport on the list that most reflects the intensity of physical activity of your sport. "]